<?xml version="1.0"?>
<metadata xml:lang="en">
	<Esri>
		<CreaDate>20080729</CreaDate>
		<CreaTime>15414300</CreaTime>
		<SyncOnce>FALSE</SyncOnce>
		<SyncDate>20080418</SyncDate>
		<SyncTime>13103500</SyncTime>
		<ModDate>20080729</ModDate>
		<ModTime>15271700</ModTime>
		<MetaID>{59F7F13B-9009-4262-8BED-D9F985054CB6}</MetaID></Esri>
	<idinfo>
		<native Sync="TRUE">Microsoft Windows XP Version 5.1 (Build 2600) Service Pack 2; ESRI ArcCatalog 9.2.2.1350</native>
		<descript>
			<langdata Sync="TRUE">en</langdata>
			<abstract>A submerged topography elevation map (also known as a Digital Elevation Model or DEM) of a portion of the U.S. Virgin Islands was produced from remotely sensed, geographically referenced elevation measurements cooperatively by the U.S. Geological Survey (USGS), National Aeronautics and Space Administration (NASA), and National Park Service (NPS). Elevation measurements were collected over the area using the NASA Experimental Advanced Airborne Research Lidar (EAARL), a pulsed laser ranging system mounted onboard an aircraft to measure ground elevation, vegetation canopy, and coastal topography. The system uses high frequency laser beams directed at the Earth's surface through an opening in the bottom of the aircraft's fuselage. The laser system records the time difference between emission of the laser beam and the reception of the reflected laser signal in the aircraft. The plane travels over the target area at approximately 50 meters per second at an elevation of approximately 300 meters. The EAARL, developed by NASA at Wallops Flight Facility in Virginia, measures ground elevation with a vertical resolution of 15 centimeters. A sampling rate of 3 kilohertz or higher results in an extremely dense spatial elevation dataset. Over 100 kilometers of coastline can be easily surveyed within a 3- to 4-hour mission time period. When subsequent elevation maps for an area are analyzed, they provide a useful tool to make management decisions regarding land development.</abstract>
			<purpose>The purpose of this project was to produce a highly detailed and accurate submerged topography digital elevation map of a portion of the U.S. Virgin Islands.</purpose>
			<supplinf>Raw Lidar data are not in a format that is generally usable by Park Service resource managers and scientists for scientific analysis. Converting dense Lidar elevation data into a readily usable format without loss of essential information requires specialized processing. The U.S. Geological Survey converts raw Lidar data into a GIS-compatible map product to be provided to National Park Service GIS specialists, managers, and scientists. The primary tool used in the conversion process is Airborne Lidar Processing System (ALPS), a multi-tiered processing system developed by a USGS-NASA collaborative project. Specialized processing algorithms are used to convert raw waveform Lidar data acquired by the EAARL to georeferenced spot (x,y,z) returns for "first surface" and "bare earth" topography. These data are represented in the WGS84 coordinate system, with an ITRF reference system. Each file contains data located in a 2 km by 2 km tile, where the upper left bound can be quickly assessed through the file name.  The first 3 numbers in the filename represent the left-most UTM easting coordinate (e###000) in meters, the next 4 numbers represent the top-most UTM northing coordinate (n####000) in meters, and the last 2 numbers (##) represent the UTM zone in which the tile is located (ex. ba_e123_n4567_20).

The development of custom software for creating these data products has been supported by the USGS CMG Program's 'Decision Support for Coastal Parks, Sanctuaries, and Preserves' project. Processed data products are used by the USGS CMG Program's 'National Assessments of Coastal Change Hazards Project' to quantify the vulnerability of shorelines to coastal change hazards such as severe storms, sea-level rise, and shoreline erosion and retreat.</supplinf>
		</descript>
		<citation>
			<citeinfo>
				<ftname Sync="TRUE"/>
				<geoform Sync="TRUE">remote-sensing image</geoform>
				<pubdate>2008</pubdate>
				<origin>U.S. Geological Survey</origin>
				<pubtime>Unknown</pubtime><title>EAARL Submerged Topography–U.S. Virgin Islands 2003</title><edition>first</edition><serinfo><sername>U.S. Geological Survey Data Series</sername><issue>395</issue></serinfo><pubinfo><pubplace>Saint Petersburg, FL</pubplace><publish>U.S. Geological Survey</publish></pubinfo><onlink Sync="TRUE">\\IGSAFPESWS025\H$\Data Series\USVI\BA_metadata_temp</onlink></citeinfo>
		</citation>
		<timeperd>
			<current>ground condition</current>
			<timeinfo>
				<mdattim><sngdate><caldate>20030421</caldate></sngdate><sngdate><caldate>20030423</caldate></sngdate><sngdate><caldate>20030430</caldate></sngdate><sngdate><caldate>20030502</caldate></sngdate><sngdate><caldate>20030614</caldate></sngdate><sngdate><caldate>20030617</caldate></sngdate></mdattim>
			</timeinfo>
		</timeperd>
		<status>
			<progress>Complete</progress>
			<update>None planned</update>
		</status>
		<spdom>
			<bounding/>
			<lboundng>
				<leftbc Sync="TRUE">312000</leftbc>
				<rightbc Sync="TRUE">310000</rightbc>
				<bottombc Sync="TRUE">2030000</bottombc>
				<topbc Sync="TRUE">2032000</topbc>
			</lboundng>
		</spdom>
		<keywords>
			<theme>
				<themekt>http://remotesensing.usgs.gov</themekt>
				<themekey>Airborne Lidar Processing System</themekey>
				<themekey>ALPS</themekey>
				<themekey>bathymetry</themekey>
				<themekey>DEM</themekey>
				<themekey>Digital Elevation Model</themekey>
				<themekey>EAARL</themekey>
				<themekey>Experimental Advanced Airborne Research Lidar</themekey>
				<themekey>laser altimetry</themekey>
				<themekey>Lidar</themekey>
				<themekey>remote sensing</themekey>
				<themekey>submerged topography</themekey>
			</theme>
			<place>
				<placekt>http://nationalmap.gov</placekt>
				<placekey>Buck Island</placekey><placekey>St. Croix</placekey><placekey>St. John</placekey><placekey>U.S. Virgin Islands</placekey></place>
			<stratum><stratkt>http://lidar.cr.usgs.gov/</stratkt><stratkey>Bathymetry</stratkey></stratum><temporal><tempkt>http://www.esri.com/news/arcuser/1104/temporal.html</tempkt><tempkey>2003</tempkey></temporal></keywords>
		<accconst>None</accconst>
		<natvform Sync="TRUE">Raster Dataset</natvform>
		<ptcontac>
			<cntinfo>
				<cntaddr>
					<addrtype>mailing and physical address</addrtype>
					<address>600 4th Street South</address>
					<city>Saint Petersburg</city>
					<state>Florida</state>
					<postal>33701</postal>
					<country>USA</country>
				</cntaddr>
				<cntvoice>727-803-8747 (x3026)</cntvoice>
				<hours>M-F, 8:00-5:00 EST</hours>
				<cntperp><cntper>Amar Nayegandhi</cntper><cntorg>Jacobs Technology, U.S. Geological Survey, FISC, St. Petersburg, FL</cntorg></cntperp><cntemail>anayegandhi@usgs.gov</cntemail><cntfax>727-803-2031</cntfax><cntpos>Computer Scientist</cntpos></cntinfo>
		</ptcontac>
		<datacred>Acknowledgement of the U.S. Geological Survey, Florida Integrated Science Center, as a data source would be appreciated in products developed from these data, and such acknowledgement as is standard for citation and legal practices for data source is expected by users of this data. Sharing new data layers developed directly from these data would also be appreciated by the U.S. Geological Survey staff. Users should be aware that comparisons with other datasets for the same area from other time periods may be inaccurate due to inconsistencies resulting from changes in photointerpretation, mapping conventions, and digital processes over time. These data are not legal documents and are not to be used as such.</datacred>
		<useconst>The U.S. Geological Survey, National Park Service, and National Aeronautics and Space Administration request to be acknowledged as originators of this data in future products or derivative research.</useconst><secinfo><secsys>Unclassified</secsys><secclass>Unclassified</secclass><sechandl>None</sechandl></secinfo></idinfo>
	<dataIdInfo>
		<envirDesc Sync="TRUE">Microsoft Windows XP Version 5.1 (Build 2600) Service Pack 2; ESRI ArcCatalog 9.2.2.1350</envirDesc>
		<dataLang>
			<languageCode Sync="TRUE" value="en"/>
		</dataLang>
		<idCitation>
			<resTitle Sync="TRUE"/>
			<presForm>
				<PresFormCd Sync="TRUE" value="005"/>
			</presForm>
		</idCitation>
		<spatRpType>
			<SpatRepTypCd Sync="TRUE" value="002"/>
		</spatRpType>
		<dataExt>
			<geoEle>
				<GeoBndBox esriExtentType="native">
					<westBL Sync="TRUE">312000</westBL>
					<eastBL Sync="TRUE">310000</eastBL>
					<northBL Sync="TRUE">2032000</northBL>
					<southBL Sync="TRUE">2030000</southBL>
					<exTypeCode Sync="TRUE">1</exTypeCode>
				</GeoBndBox>
			</geoEle>
		</dataExt>
		<geoBox esriExtentType="decdegrees">
			<westBL Sync="TRUE">-64.7792150624558</westBL>
			<eastBL Sync="TRUE">-64.7983231798449</eastBL>
			<northBL Sync="TRUE">18.3696212387948</northBL>
			<southBL Sync="TRUE">18.3513757551865</southBL>
			<exTypeCode Sync="TRUE">1</exTypeCode>
		</geoBox>
	</dataIdInfo>
	<metainfo>
		<langmeta Sync="TRUE">en</langmeta>
		<metstdn Sync="TRUE">FGDC Content Standards for Digital Geospatial Metadata</metstdn>
		<metstdv Sync="TRUE">FGDC-STD-001-1998</metstdv>
		<mettc Sync="TRUE">local time</mettc>
		<metc>
			<cntinfo>
				<cntaddr>
					<addrtype>mailing and physical address</addrtype>
					<city>Saint Petersburg</city>
					<state>Florida</state>
					<postal>33701</postal>
					<address>600 4th Street South</address>
					<country>USA</country>
				</cntaddr>
				<cntvoice>727-803-8747 </cntvoice>
				<cntperp>
					<cntper>Metadata Specialist</cntper>
					<cntorg>U.S. Geological Survey</cntorg>
				</cntperp>
				<cntpos>Metadata Specialist</cntpos><hours>M-F, 8:00-5:00 EST</hours></cntinfo>
		</metc>
		<metextns>
			<onlink Sync="TRUE">http://www.esri.com/metadata/esriprof80.html</onlink>
			<metprof Sync="TRUE">ESRI Metadata Profile</metprof>
		</metextns>
		<metd Sync="TRUE">20080729</metd>
	</metainfo>
	<mdLang>
		<languageCode Sync="TRUE" value="en"/>
	</mdLang>
	<mdStanName Sync="TRUE">ISO 19115 Geographic Information - Metadata</mdStanName>
	<mdStanVer Sync="TRUE">DIS_ESRI1.0</mdStanVer>
	<mdChar>
		<CharSetCd Sync="TRUE" value="004"/>
	</mdChar>
	<mdHrLv>
		<ScopeCd Sync="TRUE" value="005"/>
	</mdHrLv>
	<mdHrLvName Sync="TRUE">dataset</mdHrLvName>
	<distInfo>
		<distributor>
			<distorTran>
				<transSize Sync="TRUE">0.000</transSize>
			</distorTran>
			<distorFormat>
				<formatName Sync="TRUE">Raster Dataset</formatName>
			</distorFormat>
		</distributor>
	</distInfo>
	<distinfo>
		<stdorder>
			<fees>Vary</fees>
			<ordering>Contact U.S. Geological Survey.</ordering><turnarnd>Vary</turnarnd><digform><digtinfo><formname>GeoTIFF</formname><formspec>GeoTIFF</formspec></digtinfo><digtopt><offoptn><offmedia>DVD</offmedia><recfmt>DVD</recfmt></offoptn></digtopt></digform></stdorder>
		<distrib>
			<cntinfo>
				<cntorgp>
					<cntorg>U.S. Geological Survey</cntorg>
					<cntper>Project Manager</cntper></cntorgp>
				<cntaddr>
					<address>600 4th Street South</address>
					<city>Saint Petersburg</city>
					<state>Florida</state>
					<postal>33701</postal>
					<country>USA</country>
					<addrtype>mailing and physical address</addrtype>
				</cntaddr>
				<cntvoice>727-803-8747</cntvoice>
				<cntpos>Project Manager</cntpos><hours>M-F, 8:00-5:00 EST</hours></cntinfo>
		</distrib>
		<distliab>This DVD publication was prepared by an agency of the United States Government. Although these data have been processed successfully on a computer system at the U.S. Geological Survey, no warranty expressed or implied is made regarding the display or utility of the data on any other system, nor shall the act of distribution imply any such warranty. The U.S. Geological Survey shall not be held liable for improper or incorrect use of the data described and (or) contained herein. Reference herin to any specific commercial product, process, or service by trade name, trademark, manufacturer, or otherwise does not constitute or imply its endorsement, recommendation, or favoring by the United States Government or any agency thereof.</distliab>
		<custom>Contact U.S. Geological Survey for details.</custom>
		<resdesc>DS 395</resdesc>
	</distinfo>
	<spdoinfo>
		<direct Sync="TRUE">Raster</direct>
		<rastinfo>
			<rasttype Sync="TRUE">Pixel</rasttype>
			<rowcount Sync="TRUE">2001</rowcount>
			<colcount Sync="TRUE">2001</colcount>
			<rastxsz Sync="TRUE">1.000000</rastxsz>
			<rastysz Sync="TRUE">1.000000</rastysz>
			<rastbpp Sync="TRUE">32</rastbpp>
			<vrtcount Sync="TRUE">1</vrtcount>
			<rastorig Sync="TRUE">Upper Left</rastorig>
			<rastcmap Sync="TRUE">FALSE</rastcmap>
			<rastcomp Sync="TRUE">None</rastcomp>
			<rastband Sync="TRUE">1</rastband>
			<rastdtyp Sync="TRUE">pixel RGB</rastdtyp>
			<rastplyr Sync="TRUE">TRUE</rastplyr>
			<rastnodt>-32767</rastnodt><rastifor>GeoTIFF</rastifor><rastxu>meters</rastxu><rastyu>meters</rastyu></rastinfo>
		<indspref>Tiling Index</indspref></spdoinfo>
	<spref>
		<horizsys>
			<cordsysn>
				<geogcsn>GCS_WGS_1984</geogcsn>
				<projcsn>WGS_1984_UTM_Zone_20</projcsn>
			</cordsysn>
			<planar>
				<planci>
					<plance Sync="TRUE">row and column</plance>
					<plandu Sync="TRUE">meters</plandu>
					<coordrep>
						<absres Sync="TRUE">1.000000</absres>
						<ordres Sync="TRUE">1.000000</ordres>
					</coordrep>
				</planci>
				<gridsys>
					<gridsysn Sync="TRUE">Universal Transverse Mercator</gridsysn>
					<utm>
						<transmer/>
						<utmzone>20</utmzone></utm>
				</gridsys>
			</planar>
			<geodetic>
				<horizdn>D_WGS_1984</horizdn>
				<ellips>WGS_1984</ellips>
				<semiaxis Sync="TRUE">6378137.000000</semiaxis>
				<denflat Sync="TRUE">298.257224</denflat>
			</geodetic>
		</horizsys>
		<vertdef>
			<altsys>
				<altdatum>D_WGS_1984</altdatum>
				<altres>0.15 m</altres>
				<altunits>meters</altunits>
				<altenc>Attribute values</altenc>
			</altsys>
		</vertdef>
	</spref>
	<refSysInfo>
		<RefSystem>
			<refSysID>
				<identCode Sync="TRUE">NAD_1983_UTM_Zone_20</identCode>
			</refSysID>
		</RefSystem>
	</refSysInfo>
	<spatRepInfo>
		<GridSpatRep>
			<numDims Sync="TRUE">2</numDims>
			<cellGeo>
				<CellGeoCd Sync="TRUE" value="002"/>
			</cellGeo>
			<tranParaAv Sync="TRUE">1</tranParaAv>
			<axDimProps>
				<Dimen>
					<dimName>
						<DimNameTypCd Sync="TRUE" value="002"/>
					</dimName>
					<dimSize Sync="TRUE">2001</dimSize>
					<dimResol>
						<value Sync="TRUE">1</value>
						<uom>
							<UomLength>
								<uomName Sync="TRUE">Meter</uomName>
								<conversionToISOstandardUnit Sync="TRUE">1 Meter = 1 Meter(s)</conversionToISOstandardUnit>
							</UomLength>
						</uom>
					</dimResol>
				</Dimen>
				<Dimen>
					<dimName>
						<DimNameTypCd Sync="TRUE" value="001"/>
					</dimName>
					<dimSize Sync="TRUE">2001</dimSize>
					<dimResol>
						<value Sync="TRUE">1</value>
						<uom>
							<UomLength>
								<uomName Sync="TRUE">Meter</uomName>
								<conversionToISOstandardUnit Sync="TRUE">1 Meter = 1 Meter(s)</conversionToISOstandardUnit>
							</UomLength>
						</uom>
					</dimResol>
				</Dimen>
			</axDimProps>
		</GridSpatRep>
	</spatRepInfo>
	<mdDateSt Sync="TRUE">20080729</mdDateSt>
	<dataqual>
		<attracc>
			<attraccr>The expected accuracy of the measured variables is as follows: attitude within 0.07 degree, 3 cm nominal ranging accuracy, and vertical elevation accuracy of +/-15 cm for the topographic surface. Quality checks are built into the data-processing software.</attraccr></attracc>
		<posacc>
			<horizpa>
				<horizpar>Raw elevation measurements have been determined to be within 1 meter horizontal accuracy.</horizpar>
			</horizpa>
			<vertacc>
				<vertaccr>Elevations of the DEM are vertically consistent with the point elevation data, +/-15 cm.</vertaccr>
			</vertacc>
		</posacc>
		<lineage>
			<procstep>
				<procdesc>The data are collected using a Cessna 310 aircraft. The NASA Experimental Advanced Airborne Research Lidar (EAARL) laser scanner collects the data using a green (532-nm) raster scanning laser, while a digital camera acquires a visual record of the flight. The data are stored on hard drives and archived at the U.S. Geological Survey office in St. Petersburg, Florida and the NASA office at Wallops Flight Facility in Virginia. The navigational data are processed at Wallops Flight Facility. The navigational and raw data are then downloaded into the Airborne Lidar Processing System (ALPS). Data are converted from units of time to x,y,z points for elevation. The derived surface data can then be converted into raster data (GeoTIFFs).</procdesc>
				<procsv>Airborne Lidar Processing System</procsv>
				<proccont><cntinfo><cntperp><cntper>Amar Nayegandhi</cntper><cntorg>Jacobs Technology, U.S. Geological Survey, FISC, St. Petersburg, FL</cntorg></cntperp><cntpos>Computer Scientist</cntpos><cntaddr><addrtype>mailing and physical address</addrtype><address>600 4th Street South</address><city>Saint Petersburg</city><state>Florida</state><postal>33701</postal><country>USA</country></cntaddr><cntvoice>727-803-8747 (x3026)</cntvoice><cntemail>anayegandhi@usgs.gov</cntemail><hours>M-F, 8:00-5:00 EST</hours><cntfax>727-803-2031</cntfax></cntinfo></proccont><procdate>20030421 - 20080729</procdate></procstep>
			<procstep><date Sync="TRUE">20080722</date><time Sync="TRUE">15103800</time><procdesc>Metadata imported into ArcCatalog from XML file.</procdesc><proccont><cntinfo><cntperp><cntper>Metadata Specialist</cntper><cntorg>U.S. Geological Survey, FISC, St. Petersburg, FL</cntorg></cntperp><cntpos>Metadata Specialist</cntpos><cntaddr><addrtype>mailing and physical address</addrtype><address>600 4th Street South</address><city>Saint Petersburg</city><state>Florida</state><postal>33701</postal><country>USA</country></cntaddr><cntvoice>727-803-8747</cntvoice><hours>M-F, 8:00-5:00 EST</hours></cntinfo></proccont><procsv>ESRI ArcCatalog 9.2.2.1350</procsv><procdate>20080729</procdate></procstep><srcinfo><srcscale>1</srcscale><typesrc>Point elevation measurements collected by the EAARL sensor.</typesrc><srccitea>None</srccitea><srccontr>None</srccontr><srccite><citeinfo><origin>U.S. Geological Survey</origin><pubdate>2008</pubdate><pubtime>Unknown</pubtime><title>EAARL Submerged Topography–U.S. Virgin Islands 2003</title><edition>first</edition><geoform>remote-sensing image</geoform><serinfo><sername>U.S. Geological Survey Data Series</sername><issue>395</issue></serinfo><pubinfo><pubplace>Saint Petersburg, FL</pubplace><publish>U.S. Geological Survey</publish></pubinfo></citeinfo></srccite><srctime><timeinfo><mdattim><sngdate><caldate>20030421</caldate></sngdate><sngdate><caldate>20030423</caldate></sngdate><sngdate><caldate>20030430</caldate></sngdate><sngdate><caldate>20030502</caldate></sngdate><sngdate><caldate>20030614</caldate></sngdate><sngdate><caldate>20030617</caldate></sngdate></mdattim></timeinfo></srctime></srcinfo><procstep><procdesc Sync="TRUE">Dataset copied.</procdesc><srcused Sync="TRUE">H:\Data Series\USVI\ba_w84_1mres_geotiff</srcused><date Sync="TRUE">20080729</date><time Sync="TRUE">15405800</time></procstep><procstep><procdesc Sync="TRUE">Dataset copied.</procdesc><srcused Sync="TRUE">H:\Data Series\USVI\BA_metadata_temp</srcused><date Sync="TRUE">20080729</date><time Sync="TRUE">15414300</time></procstep></lineage>
		<logic>Each file contains data located in a 2 km by 2 km tile, where the upper left bound can be quickly assessed through the file name. The first 3 numbers in the filename represent the left-most UTM easting coordinate (e###000) in meters, the next 4 numbers represent the top-most UTM northing coordinate (n####000) in meters, and the last 2 numbers (##) represent the UTM zone in which the tile is located (ex. ba_e123_n4567_20).</logic><complete>Several regions of the dataset are labeled as "No Data", which corresponds to a cell value of -32767 m in the GeoTIFF file. These "No Data" areas are a result of the survey not covering a particular region, optical water depth of greater than 1.5 Secchi disc depths, or the manual removal of lidar processing artifacts.</complete></dataqual>
	<eainfo>
		<overview>
			<eadetcit>The variables measured by EAARL are distance between aircraft and GPS satellites (m), attitude information (roll, pitch, heading in degrees), scan angle (degrees), second of the epoch (sec), and 1-ns time-resolved return intensity waveform (digital counts). Z value is referenced to orthometric elevations derived from National Geodetic Survey Geoid Model, Geoid03.</eadetcit>
			<dsoverv>This raster represents Lidar-derived elevations.</dsoverv><eaover>Each pixel of the encoded GeoTIFF has an explicit elevation value associated with it.  The GeoTIFF grid is encoded with a 1 meter resolution.</eaover></overview>
	</eainfo>
</metadata>
