<?xml version="1.0"?>
<!DOCTYPE metadata SYSTEM "http://www.fgdc.gov/metadata/fgdc-std-001-1998.dtd">
<metadata>
	<idinfo>
		<citation>
			<citeinfo>
				<origin>U.S. Geological Survey</origin>
				<pubdate>2009</pubdate>
				<title>EAARL Coastal Topography--Western Florida, Post-Hurricane Charley, 2004: Seamless (Bare Earth and Submerged)</title>
				<edition>first</edition>
				<geoform Sync="TRUE">remote-sensing image</geoform>
				<serinfo>
					<sername>U.S. Geological Survey Data Series</sername>
					<issue>482</issue>
				</serinfo>
				<pubinfo>
					<pubplace>St. Petersburg, FL</pubplace>
					<publish>U.S. Geological Survey</publish>
				</pubinfo>
			</citeinfo>
		</citation>
		<descript>
			<abstract>A seamless (bare earth and submerged) elevation map (also known as a Digital Elevation Model, or DEM) of a portion of western Florida, post-Hurricane Charley was produced from remotely sensed, geographically referenced elevation measurements cooperatively by the U.S. Geological Survey (USGS) and the National Aeronautics and Space Administration (NASA). Elevation measurements were collected over the area using the NASA Experimental Advanced Airborne Research Lidar (EAARL), a pulsed laser ranging system mounted onboard an aircraft to measure ground elevation, vegetation canopy, and coastal topography. The system uses high-frequency laser beams directed at the Earth's surface through an opening in the bottom of the aircraft's fuselage. The laser system records the time difference between emission of the laser beam and the reception of the reflected laser signal in the aircraft. The plane travels over the target area at approximately 50 meters per second at an elevation of approximately 300 meters. The EAARL, developed by NASA at Wallops Flight Facility in Virginia, measures ground elevation with a vertical resolution of +/-15 centimeters. A sampling rate of 3 kilohertz or higher results in an extremely dense spatial elevation dataset. Over 100 kilometers of coastline can be surveyed easily within a 3- to 4-hour mission. When subsequent elevation maps for an area are analyzed, they provide a useful tool to make management decisions regarding land development.</abstract>
			<purpose>The purpose of this project was to produce a highly detailed and accurate seamless (bare earth and submerged) elevation map of a portion of western Florida, post-Hurricane Charley for use as a management tool and to make these data available to natural-resource managers and research scientists.</purpose>
			<supplinf>Raw lidar data are not in a format that is generally usable by resource managers and scientists for scientific analysis. Converting dense lidar elevation data into a readily usable format without loss of essential information requires specialized processing. The U.S. Geological Survey's Coastal and Marine Geology Program (CMGP) has developed custom software to convert raw lidar data into a GIS-compatible map product to be provided to GIS specialists, managers, and scientists. The primary tool used in the conversion process is Airborne Lidar Processing System (ALPS), a multi-tiered processing system developed by a USGS-NASA collaborative project. Specialized processing algorithms are used to convert raw waveform lidar data acquired by the EAARL to georeferenced spot (x,y,z) returns for "first surface" and "bare earth" topography. The zero crossing of the second derivative (i.e., detection of local maxima) is used to detect "first surface" topography, while the trailing edge algorithm (i.e., the algorithm searches for the location prior to the last return where direction changes along the trailing edge) is used to detect the range to the last return or "bare earth". Statistical filtering, known as the Random Consensus Filter (RCF), is used to remove false bottom returns and other outliers from the EAARL topography data. The filter uses a grid of non-overlapping square cells (buffer) of user-defined size overlaid onto the original point cloud. The user also defines the vertical tolerance (vertical width) based on the topographic complexity and point sampling density of the data. The maximum allowable elevation range within a cell is established by this vertical tolerance. An iterative process searches for the maximum concentration of points within the vertical tolerance, and removes those points outside of the tolerance (Nayegandhi and others, 2009). These data are then converted to the North American Datum of 1983 and the North American Vertical Datum of 1988 (using the GEOID03 model). Each file contains data located in a 2-kilometer by 2-kilometer tile, where the upper-left bound can be assessed quickly through the filename.  The first 3 numbers in the filename represent the left-most UTM easting coordinate (e###000) in meters, the next 4 numbers represent the top-most UTM northing coordinate (n####000) in meters, and the last 2 numbers (##) represent the UTM zone in which the tile is located (for example, sm_e123_n4567_17).

The development of custom software for creating these data products has been supported by the U.S. Geological Survey CMG Program's Decision Support for Coastal Parks, Sanctuaries, and Preserves Project. Processed data products are used by the U.S. Geological Survey CMG Program's National Assessments of Coastal Change Hazards Project to quantify the vulnerability of shorelines to coastal change hazards such as severe storms, sea-level rise, and shoreline erosion and retreat.</supplinf>
		</descript>
		<timeperd>
			<timeinfo>
				<mdattim>
					<sngdate>
						<caldate>20040817</caldate>
					</sngdate>
					<sngdate>
						<caldate>20040818</caldate>
					</sngdate>
				</mdattim>
			</timeinfo>
			<current>ground condition</current>
		</timeperd>
		<status>
			<progress>Complete</progress>
			<update>None planned</update>
		</status>
		<keywords>
			<theme>
				<themekt>ISO 19115 Topic Category</themekt>
				<themekey>elevation</themekey>
				<themekt>None</themekt>
				<themekey>http://remotesensing.usgs.gov/</themekey>
				<themekey>Airborne Lidar Processing System</themekey>
				<themekey>ALPS</themekey>
				<themekey>Digital Elevation Model</themekey>
				<themekey>DEM</themekey>
				<themekey>EAARL</themekey>
				<themekey>Experimental Advanced Airborne Research Lidar</themekey>
				<themekey>laser altimetry</themekey>
				<themekey>lidar</themekey>
				<themekey>remote sensing</themekey>
				<themekey>topography</themekey>
			</theme>
			<place>
				<placekt>http://nationalmap.gov/</placekt>
				<placekey>western Florida</placekey>
				<placekey>Hurricane Charley</placekey>
			</place>
			<stratum>
				<stratkt>http://lidar.cr.usgs.gov/</stratkt>
				<stratkey>seamless (bare earth and submerged)</stratkey>
			</stratum>
			<temporal>
				<tempkt>http://www.esri.com/news/arcuser/1104/temporal.html</tempkt>
				<tempkey>2004</tempkey>
			</temporal>
		</keywords>
		<accconst>None</accconst>
		<useconst>The U.S. Geological Survey and the National Aeronautics and Space Administration request to be acknowledged as originators of these data in future products or derivative research.</useconst>
		<ptcontac>
			<cntinfo>
				<cntperp>
					<cntper>Amar Nayegandhi</cntper>
					<cntorg>Jacobs Technology, U.S. Geological Survey, CMGP, St. Petersburg, FL</cntorg>
				</cntperp>
				<cntpos>Computer Scientist</cntpos>
				<cntaddr>
					<addrtype>mailing and physical address</addrtype>
					<address>600 4th Street South</address>
					<city>St. Petersburg</city>
					<state>FL</state>
					<postal>33701</postal>
					<country>USA</country>
				</cntaddr>
				<cntvoice>727 803-8747 (x3026)</cntvoice>
				<cntfax>727 803-2031</cntfax>
				<cntemail>anayegandhi@usgs.gov</cntemail>
				<hours>M-F, 8:30-5:00 EST</hours>
			</cntinfo>
		</ptcontac>
		<datacred>Acknowledgment of the U.S. Geological Survey, Coastal and Marine Geology Program, as a data source would be appreciated in products developed from these data, and such acknowledgment as is standard for citation and legal practices for data source is expected. Sharing of new data layers developed directly from these data would also be appreciated by the U.S. Geological Survey staff. Users should be aware that comparisons with other datasets for the same area from other time periods may be inaccurate due to inconsistencies resulting from changes in photointerpretation, mapping conventions, and digital processes over time. These data are not legal documents and are not to be used as such.</datacred>
		<secinfo>
			<secsys>Unclassified</secsys>
			<secclass>Unclassified</secclass>
			<sechandl>None</sechandl>
		</secinfo>
		<native Sync="TRUE">Microsoft Windows XP Version 5.1 (Build 2600) Service Pack 3; ESRI ArcCatalog 9.3.1.1850</native>
		<spdom><bounding><westbc Sync="TRUE">3.6600 E+5</westbc><eastbc Sync="TRUE">3.6400 E+5</eastbc><northbc Sync="TRUE">2.98200 E+6</northbc><southbc Sync="TRUE">2.98000 E+6</southbc></bounding><lboundng><leftbc Sync="TRUE">3.6600 E+5</leftbc><rightbc Sync="TRUE">3.6400 E+5</rightbc><bottombc Sync="TRUE">2.98000 E+6</bottombc><topbc Sync="TRUE">2.98200 E+6</topbc></lboundng></spdom><crossref><citeinfo><origin>Nayegandhi, A., Brock, J.C., and Wright, C.W.</origin><pubdate>2009</pubdate><title>Small footprint, waveform-resolving lidar estimation of submerged and sub-canopy topography in coastal environments</title><serinfo><sername>International Journal of Remote Sensing</sername><issue>30(4), p. 861-878</issue></serinfo></citeinfo></crossref></idinfo>
	<dataqual>
		<attracc>
			<attraccr>The expected accuracy of the measured variables is as follows: attitude within 0.07 degree, 3 centimeters nominal ranging accuracy, and vertical elevation accuracy of +/-15 centimeters for the topographic surface. Quality checks are built into the data-processing software.</attraccr>
		</attracc>
		<logic>Each file contains data located in a 2-kilometer by 2-kilometer tile where the upper-left bound can be assessed quickly through the filename.  The first 3 numbers in the filename represent the left-most UTM easting coordinate (e###000) in meters, the next 4 numbers represent the top-most UTM northing coordinate (n####000) in meters, and the last 2 numbers (##) represent the UTM zone in which the tile is located (for example, sm_e123_n4567_17).</logic>
		<complete>Several regions of the dataset are labeled as "No Data," which corresponds to a cell value of -32767 meters in the GeoTIFF file. These "No Data" areas are a result of the survey not covering a particular region (for example, behind the beachface), optical water depth of greater than 1.5 Secchi disc depths, or the manual removal of lidar processing artifacts. The presence of "No Data" values does not necessarily indicate an absence of land, rather, an absence of survey coverage.</complete>
		<posacc>
			<horizpa>
				<horizpar>Raw elevation measurements have been determined to be within 1 meter in horizontal accuracy.</horizpar>
			</horizpa>
			<vertacc>
				<vertaccr>Elevations are vertically consistent with the point elevation data, +/-15 centimeters.</vertaccr>
			</vertacc>
		</posacc>
		<lineage>
			<procstep>
				<procdesc>The data are collected using a Cessna 310 aircraft. The NASA Experimental Advanced Airborne Research Lidar (EAARL) laser scanner collects the data using a green (532-nanometers) raster scanning laser, while a digital camera acquires a visual record of the flight. The data are stored on hard drives and archived at the U.S. Geological Survey office in St. Petersburg, Florida and the NASA office at Wallops Flight Facility in Virginia. The navigational data are processed at Wallops Flight Facility. The navigational and raw data are then downloaded into the Airborne Lidar Processing System (ALPS). Data are converted from units of time to x,y,z points for elevation. The derived surface data can then be converted into raster data (GeoTIFFs).</procdesc>
				<procdate>20040817 through 20090821</procdate>
				<proccont>
					<cntinfo>
						<cntperp>
							<cntper>Amar Nayegandhi</cntper>
							<cntorg>Jacobs Technology, U.S. Geological Survey, CMGP, St. Petersburg, FL</cntorg>
						</cntperp>
						<cntpos>Computer Scientist</cntpos>
						<cntaddr>
							<addrtype>mailing and physical address</addrtype>
							<address>600 4th Street South</address>
							<city>St. Petersburg</city>
							<state>FL</state>
							<postal>33701</postal>
							<country>USA</country>
						</cntaddr>
						<cntvoice>727 803-8747 (x3026)</cntvoice>
						<cntemail>anayegandhi@usgs.gov</cntemail>
						<hours>M-F, 8:30-5:00 EST</hours>
					</cntinfo>
				</proccont>
			</procstep>
			<procstep>
				<procdesc>Metadata imported into ArcCatalog from XML file.</procdesc>
				<procdate>20091103</procdate>
				<proccont>
					<cntinfo>
						<cntperp>
							<cntper>Xan Yates</cntper>
							<cntorg>Jacobs Technology, U.S. Geological Survey, CMGP, St. Petersburg, FL</cntorg>
						</cntperp>
						<cntpos>Geologist/GIS Analyst/Metadata Specialist</cntpos>
						<cntaddr>
							<addrtype>mailing and physical address</addrtype>
							<address>600 4th Street South</address>
							<city>St. Petersburg</city>
							<state>FL</state>
							<postal>33701</postal>
							<country>USA</country>
						</cntaddr>
						<cntvoice>727 803-8747 (x3086)</cntvoice>
						<hours>M-F, 9:00-5:30 EST</hours>
					</cntinfo>
				</proccont>
			</procstep>
		</lineage>
	</dataqual>
	<spdoinfo>
		<indspref>Tiling Index</indspref>
		<direct Sync="TRUE">Raster</direct>
		<rastinfo>
			<rasttype Sync="TRUE">Pixel</rasttype>
			<rowcount Sync="TRUE">1683</rowcount>
			<colcount Sync="TRUE">882</colcount>
			<vrtcount Sync="TRUE">1</vrtcount>
		</rastinfo>
	</spdoinfo>
	<spref>
		<horizsys>
			<planar>
				<planci>
					<plance Sync="TRUE">row and column</plance>
					<coordrep>
						<absres Sync="TRUE">1.000000</absres>
						<ordres Sync="TRUE">1.000000</ordres>
					</coordrep>
					<plandu Sync="TRUE">meters</plandu>
				</planci>
				<gridsys><gridsysn Sync="TRUE">Universal Transverse Mercator</gridsysn><utm><utmzone Sync="TRUE">17</utmzone><transmer><sfctrmer Sync="TRUE">0.999600</sfctrmer><longcm Sync="TRUE">-81.000000</longcm><latprjo Sync="TRUE">0.000000</latprjo><feast Sync="TRUE">500000.000000</feast><fnorth Sync="TRUE">0.000000</fnorth></transmer></utm></gridsys></planar>
			<geodetic>
				<horizdn Sync="TRUE">North American Datum of 1983</horizdn>
				<ellips Sync="TRUE">Geodetic Reference System 80</ellips>
				<semiaxis Sync="TRUE">6378137.000000</semiaxis>
				<denflat Sync="TRUE">298.257222101</denflat>
			</geodetic>
		</horizsys>
		<vertdef>
			<altsys>
				<altdatum>North American Vertical Datum of 1988</altdatum>
				<altres>0.15</altres>
				<altunits>meters</altunits>
				<altenc>Explicit elevation coordinate included with horizontal coordinates</altenc>
			</altsys>
		</vertdef>
	</spref>
	<eainfo>
		<overview>
			<eaover>Each pixel of the encoded GeoTIFF has an explicit elevation value associated with it. The GeoTIFF grid is encoded with a 1-meter resolution. The input parameters for the random consensus filter (RCF) were: grid cell size (buffer) = 7 meters x 7 meters; vertical tolerance (vertical width) = 50 centimeters.</eaover>
			<eadetcit>https://pubs.usgs.gov/of/2009/1078/</eadetcit>
		</overview>
	</eainfo>
	<distinfo>
		<distrib>
			<cntinfo>
				<cntorgp>
					<cntorg>Jacobs Technology, U.S. Geological Survey, CMGP, St. Petersburg, FL</cntorg>
					<cntper>Amar Nayegandhi</cntper>
				</cntorgp>
				<cntpos>Project Manager</cntpos>
				<cntaddr>
					<addrtype>mailing and physical address</addrtype>
					<address>600 4th Street South</address>
					<city>St. Petersburg</city>
					<state>FL</state>
					<postal>33701</postal>
					<country>USA</country>
				</cntaddr>
				<cntvoice>727 803-8747 (x3026)</cntvoice>
				<hours>M-F, 8:30-5:00 EST</hours>
			</cntinfo>
		</distrib>
		<resdesc>DS 482</resdesc>
		<distliab>This DVD publication was prepared by an agency of the United States Government. Although these data have been processed successfully on a computer system at the U.S. Geological Survey, no warranty expressed or implied is made regarding the display or utility of the data on any other system, nor shall the act of distribution imply any such warranty. The U.S. Geological Survey shall not be held liable for improper or incorrect use of the data described and (or) contained herein. Reference herein to any specific commercial product, process, or service by trade name, trademark, manufacturer, or otherwise does not constitute or imply its endorsement, recommendation, or favoring by the United States Government or any agency thereof.</distliab>
		<stdorder>
			<digform>
				<digtinfo>
					<formname>GeoTIFF</formname>
					<formspec>GeoTIFF</formspec>
					<formvern>2</formvern></digtinfo>
				<digtopt>
					<offoptn>
						<offmedia>DVD</offmedia>
						<recfmt>DVD</recfmt>
					</offoptn>
				</digtopt>
			</digform>
			<fees>Vary</fees>
			<ordering>Contact U.S. Geological Survey.</ordering>
			<turnarnd>Vary</turnarnd>
		</stdorder>
		<custom>Contact U.S. Geological Survey for details.</custom>
		<availabl>
			<timeinfo>
				<mdattim>
					<sngdate>
						<caldate>20040817</caldate>
					</sngdate>
					<sngdate>
						<caldate>20040818</caldate>
					</sngdate>
				</mdattim>
			</timeinfo>
		</availabl>
	</distinfo>
	<metainfo>
		<metd Sync="TRUE">20091103</metd>
		<metc>
			<cntinfo>
				<cntperp>
					<cntper>Xan Yates</cntper>
					<cntorg>Jacobs Technology, U.S. Geological Survey, CMGP, St. Petersburg, FL</cntorg>
				</cntperp>
				<cntpos>Geologist/GIS Analyst/Metadata Specialist</cntpos>
				<cntaddr>
					<addrtype>mailing and physical address</addrtype>
					<address>600 4th Street South</address>
					<city>St. Petersburg</city>
					<state>FL</state>
					<postal>33701</postal>
					<country>USA</country>
				</cntaddr>
				<cntvoice>727 803-8747 (x3086)</cntvoice>
				<hours>M-F, 9:00-5:30 EST</hours>
			</cntinfo>
		</metc>
		<metstdn Sync="TRUE">FGDC Content Standards for Digital Geospatial Metadata</metstdn>
		<metstdv Sync="TRUE">FGDC-STD-001-1998</metstdv>
		<mettc Sync="TRUE">local time</mettc>
		<metextns>
			<onlink>http://www.esri.com/metadata/esriprof80.html</onlink>
			<metprof>ESRI Metadata Profile</metprof>
		</metextns>
	</metainfo>
</metadata>
