1.05808694472557
0.00000000000000
0.00000000000000
-1.05808694472557
345606.70481229247525
6843173.40850385464728
