250.00000000000000
0.00000000000000
0.00000000000000
-250.00000000000000
-678163.8800000000000
3097832.63600000000
