0.00012196859262
0.00000000000000
0.00000000000000
-0.00009032906527
-70.59993939882988
42.79995558173552
