0.00030078239931
0.00000000000000
0.00000000000000
-0.00022751543759
-70.59985189984123
42.79988990911128
