6.00000000000000
0.00000000000000
0.00000000000000
-6.00000000000000
537272.69989745796000
5288912.22292772210000
