31.51996483445633
0.00000000000000
0.00000000000000
-31.51996483445633
251535.07926848391000
4765182.93297796420000
