0.000334195866
0.000000000000
0.000000000000
-0.000270370135
-114.996437888889
36.746968861111
