50.000
0.000
0.000
-50.000
384334.070
3996224.820
