0.000025810416
0.000000000000
0.000000000000
-0.000017994121
-120.691392522781
45.816027788884
