15.00000000000000
0.00000000000000
0.00000000000000
-15.00000000000000
251313.78200000001000
3800756.81499999990000
