19.99999909991
0.0
0.0
-19.9999990999
531969.2449831
3292169.244123
