2.1502990000
0.0000000000
0.0000000000
-2.1502990000
282759.0751495000
824855.9102105000
