2.1276500000
0.0000000000
0.0000000000
-2.1276500000
293401.3941268781
833249.3031065703
