2.150153346233509
-4.0317793474310591e-006
-2.7590959373773562e-007
-2.1501528766196363
307517.91491124284
788237.67202355235
