2.1374760000000008
0.0
0.0
-2.1374760000000133
241088.06873800000
833838.95448200009
