2.1554690000
0.0000000000
0.0000000000
-2.1554690000
272306.0777345000
834063.1614494999
