2.1353490000000002
0.0
0.0
-2.1353490000000002
230570.48567450000
820052.99032549991
