2.1583530000
0.0000000000
0.0000000000
-2.1583530000
86398.0791765000
918060.4658235001
