2.1483900000
0.0000000000
0.0000000000
-2.1483900000
95876.0741950000
889948.1718050001
