2.1527360000000009
0.0
0.0
-2.1527359999999955
96888.076367999995
931625.43041599996
