2.1399380000
0.0000000000
0.0000000000
-2.1399380000
117212.0699690000
917486.8842770001
