2.1365950000000042
6.51922724060551e-014
4.9501818614381502e-015
-2.1365950000000278
147756.07833986549
875584.89096013433
