2.1274880000000027
0
-0
-2.1274880000000009
158268.06374400001
917067.79871999996
