2.1310979999999971
0
-0
-2.1310979999999899
137518.06554899999
903398.91919899988
