<?xml version="1.0" encoding="ISO-8859-1"?>
<metadata>
	<idinfo>
		<citation>
			<citeinfo>
				<origin>United States Geological Survey FISC St. Petersburg, 600 4th Street South, St. Petersburg, FL 33701</origin>
				<pubdate>Fall 2007</pubdate>
				<title>EAARL Topography-Cape Cod National Seashore</title>
				<serinfo>
					<sername>Open File Report</sername>
					<issue>2007-1375</issue>
				</serinfo>
				<pubinfo>
					<pubplace>St. Petersburg, FL</pubplace>
					<publish>USGS</publish>
				</pubinfo>
				<othercit>The USGS, in cooperation with the National Park Service (NPS) and the National Aeronautics and Space Administration (NASA), is to provide the coastal management community with usable, useful digital elevation products.  The USGS processes aircraft lidar data (provided by NASA), develops software tools and algorithms to use and analyze the data and make products available to the coastal management community through a variety of media, including the internet, CD-ROMs, DVDs and data reports.</othercit>
				<onlink>\\</onlink>
				<lworkcit>
					<citeinfo>
						<serinfo></serinfo>
						<pubinfo></pubinfo>
					</citeinfo>
				</lworkcit>
				<ftname Sync="TRUE">be_e422_n4616_z19.tif</ftname><geoform Sync="TRUE">remote-sensing image</geoform></citeinfo>
		</citation>
		<descript>
			<abstract>Elevation maps (also known as Digital Elevation Models or DEMs) of Cape Cod National Seashore were produced from remotely-sensed, geographically-referenced elevation measurements in cooperation with NASA and NPS. Point data in ascii text files were interpolated in a GIS to create a grid or digital elevation model (DEM) of each beach surface. Elevation measurements were collected in Massachusetts, over Cape Cod National Seashore using the NASA Experimental Advanced Airborne Research LiDAR (EAARL), a pulsed laser ranging system mounted onboard an aircraft to measure ground elevation and coastal topography. The system uses high frequency laser beams directed at the earth's surface through an opening in the bottom of the aircraft's fuselage. The laser system records the time difference between emission of the laser beam and the reception of the reflected laser signal in the aircraft. The plane travels over the beach at approximately 60 meters per second while surveying from the low-water line to the landward base of the sand dunes. The EAARL, developed by the National Aeronautics and Space Administration (NASA) located at Wallops Flight Facility in Virginia, measures ground elevation with a vertical resolution of 15 centimeters. A sampling rate of 3 kHz or higher results in an extremely dense spatial elevation data set. Over 100 kilometers of coastline can be easily surveyed within a 3- to 4-hour mission time period. The ability to sample large areas rapidly and accurately is especially useful in morphologically dynamic areas such as barrier beaches. Quick assessment of topographic change can be made following storms comparing measurements against baseline data. When subsequent elevation maps for an area are analyzed, they provide a useful tool to make management decisions regarding coastal development.</abstract>
			<purpose>One goal of the project is to produce highly detailed and accurate digital elevation maps of National Seashores and coastal parks for use as a management tool and to make these maps available to natural resource managers within the parks.</purpose>
			<supplinf>Raw LiDAR data is not in a format that is generally usable by Park Service resource managers and scientists for scientific analysis.  Converting dense LiDAR elevation data into a readily usable format without loss of essential information requires specialized processing.  The USGS converts raw LiDAR data into a GIS-compatible map product to be provided to Park Service GIS specialists, managers, and scientists.  The primary tool used in the conversion process is Airborne Lidar Processing System (ALPS), a multitiered processing system developed by a USGS/NASA collaborative for the use of topographic LiDAR in coastal change assessment.  Specialized processing algorithms are used to convert raw waveform LiDAR data acquired by the EAARL to georeferenced spot (x,y,z) returns for "first surface" and "bare earth" topography.  These data are then converted to the NAD83 horizontal and NAVD88 vertical datum (using the Geoid 99 model). The final products are 2x2-km map tiles written out in a standard geotiff format with associated metadata information. These tiles are created for visual interpretation and regional quantitative analysis. Metadata files include the standard FGDC format.</supplinf>
			<langdata>en</langdata>
		</descript>
		<timeperd>
			<timeinfo>
				<sngdate>
					<caldate>20050504</caldate>
				</sngdate>
			</timeinfo>
			<current>ground condition</current>
		</timeperd>
		<status>
			<progress>Complete</progress>
			<update>Unknown</update>
		</status>
		<spdom>
			<bounding><westbc Sync="TRUE">-69.937305</westbc><eastbc Sync="TRUE">-69.913007</eastbc><northbc Sync="TRUE">41.692161</northbc><southbc Sync="TRUE">41.673946</southbc></bounding>
			<lboundng><leftbc Sync="TRUE">422001.000000</leftbc><rightbc Sync="TRUE">424002.000000</rightbc><bottombc Sync="TRUE">4614000.000000</bottombc><topbc Sync="TRUE">4616001.000000</topbc></lboundng></spdom>
		<keywords>
			<theme>
				<themekt>NONE</themekt>
				<themekey>LiDAR</themekey>
				<themekey>Experimental Advanced Airborne Research Lidar</themekey>
				<themekey>digital elevation model</themekey>
				<themekey>elevation change</themekey>
				<themekey>laser altimetry</themekey>
				<themekey>derived surface</themekey>
				<themekey>resource management</themekey>
				<themekey>bare earth elevation</themekey>
				<themekey>ALPS</themekey>
				<themekey>Airborne Lidar Processing System</themekey>
			</theme>
			<place>
				<placekey>Cape Cod National Seashore</placekey>
				<placekey>Atlantic Coast</placekey>
				<placekey>Massachusetts</placekey>
				<placekey>United States East Coast</placekey>
			</place>
			<stratum>
				<stratkey>Bare earth topography</stratkey>
			</stratum>
			<temporal>
				<tempkey>20050504</tempkey>
			</temporal>
		</keywords>
		<accconst>Any use of these data signifies a user's agreement to comprehension and compliance of the USGS Standard Disclaimer.  Ensure all portions of metadata are read and clearly understood before using these data in order to protect both user and USGS interests.  See section 6.3 Distribution Liability.</accconst>
		<useconst>
Although the USGS is making these data sets available to others who may find the data of value, the USGS does not warrant, endorse, or recommend the use of these data setse for any given purpose.  The user assumes the entire risk related to the use of these data.  These data sets are not for navigational purposes.  The USGS is providing these data "as is", and the USGS disclaims any and all warranties, whether expressed or implied, including (without limitation) any implied warranties of merchantability or fitness for a particular purpose.  In no event will the USGS be liable to you or to any third party for any direct, indirect, incidental, consequential, special, or exemplary damages or lost profits resulting from any use or misuse of these data.

Acknowledgement of the U.S. Geological Survey, FISC St. Petersburg office, as a data source would be appreciated in products developed from these data, and such acknowledgement as is standard for citation and legal practices for data source is expected by users of this data.  Sharing new data layers developed directly from these data would also be appreciated by the USGS staff.  Users should be aware that comparisons with other data sets for the same area from other time periods may be inaccurate due to inconsistencies resulting from changes in photo interpretation, mapping conventions, and digital processes over time.  These data are not legal documents and are not to be used as such.
</useconst>
		<ptcontac>
			<cntinfo>
				<cntorgp>
					<cntorg>United States Geological Survey, FISC St. Petersburg</cntorg>
					<cntper>Dr. John C. Brock</cntper>
				</cntorgp>
				<cntpos>Physical Oceanographer</cntpos>
				<cntaddr>
					<addrtype>mailing and physical address</addrtype>
					<address>600 4th Street South</address>
					<city>St. Petersburg</city>
					<state>FL</state>
					<postal>33701</postal>
					<country>USA</country>
				</cntaddr>
				<cntvoice>727 803-8747 ext3088</cntvoice>
				<cntfax>727 803-2031</cntfax>
				<cntemail>jbrock@usgs.gov</cntemail>
				<hours>Monday-Friday, 8-5, EST</hours>
			</cntinfo>
		</ptcontac>
		<browse>
			<browsed>PNG format-Small format data gridplot showing extent coverage of dataset.</browsed>
			<browset>PNG</browset>
		</browse>
		<datacred>The USGS FISC St. Petersburg office, would like to acknowledge NASA Goddard Space Flight Center for their cooperation and assistance in the development of the data.  The USGS would also like to acknowledge park management and personnel at Cape Cod National Seashore.</datacred>
		<secinfo>
			<secclass>Unclassified</secclass>
		</secinfo>
		<native>Microsoft Windows XP Version 5.1 (Build 2600) Service Pack 2; ESRI ArcMap 9.1.0.722; ERDAS Imagine 8.7; ESRI ArcCatalog 9.1.0.722</native>
		<crossref>
			<citeinfo>
				<origin>Brock, J.C.; Wright, C.W.; Sallenger, A.H; Krabill, W.B., and Swift, R.N</origin>
				<pubdate>2002</pubdate>
				<title>Basis and Methods of NASA Ariborne Topographic Mapper Lidar Surveys for Coastal Studies</title>
				<geoform>journal article</geoform>
				<serinfo>
					<sername>Journal of Coastal Research</sername>
					<issue>Vol. 18, No. 1, pp.1-13</issue>
				</serinfo>
				<pubinfo>
					<pubplace>West Palm Beach, FL</pubplace>
					<publish>Journal of Coastal Research</publish>
				</pubinfo>
			</citeinfo>
		</crossref>
		<crossref>
			<citeinfo>
				<origin>John Brock and Asbury Sallenger, US Geological Survey</origin>
				<pubdate>2001</pubdate>
				<title>Airborne Topographic Lidar Mapping for Coastal Science and Resource Management</title>
				<geoform>USGS Open File Report</geoform>
				<pubinfo>
					<pubplace>St. Petersburg, FL</pubplace>
					<publish>US Geological Survey</publish>
				</pubinfo>
			</citeinfo>
		</crossref>
		<natvform Sync="TRUE">Raster Dataset</natvform></idinfo>
	<dataqual>
		<attracc>
			<attraccr>The expected accuracy of the measured variables is as follows: attitude within 0.07 degree, 3-cm nominal ranging accuracy, and verticle elevation accuracy of +/- 15cm (bare earth).  Quality checks are built into the data-processing software.</attraccr>
		</attracc>
		<complete>unknown</complete>
		<posacc>
			<horizpa>
				<horizpar>Raw elevation measurements have been determined to be within 1.5 meter horizontal accuracy. Processing steps (grid interpolation) may introduce additional error which has not been tested at the time of this publication.</horizpar>
			</horizpa>
			<vertacc>
				<vertaccr>Elevations of the DEM are vertically consistent with the point elevation data, +/- 15cm.</vertaccr>
			</vertacc>
		</posacc>
		<lineage>
			<srcinfo>
				<typesrc>computer program</typesrc>
				<srctime>
					<timeinfo>
						<sngdate>
							<caldate>20050504</caldate>
						</sngdate>
					</timeinfo>
					<srccurr>ground condition</srccurr>
				</srctime>
			</srcinfo>
			<procstep>
				<procdesc>The data are collected using a Cessna 310 aircraft.  The NASA Experimental Advanced Airborne Research Lidar (EAARL) laser scanner collects the data using a green (532nm) raster scanning laser, while a digital camera acquires a visual record of the flight.  The data are stored on hard drives and archived at the USGS St. Petersburg office and the NASA Wallops office.  The navigational data are processed at Wallops.  The navigational and raw data are then downloaded into the Airborne Lidar Processing System (ALPS).  Data are converted from units of time to x,y,z points for elevation. The derived surface data can then be converted into raster data (geotiffs).</procdesc>
				<procdate>20050504</procdate>
				<proccont>
					<cntinfo>
						<cntorgp>
							<cntorg>United States Geological Survey, FISC St. Petersburg</cntorg>
							<cntper>Amar Nayegandhi</cntper>
						</cntorgp>
						<cntpos>Computer Scientist</cntpos>
						<cntaddr>
							<addrtype>mailing and physical address</addrtype>
							<address>600 4th Street South</address>
							<city>St. Petersburg</city>
							<state>FL</state>
							<postal>33701</postal>
							<country>USA</country>
						</cntaddr>
						<cntvoice>727-803-8747</cntvoice>
						<hours>8:00am to 5:00pm Monday thru Friday, EST</hours>
						<cntinst>Call Survey for Details</cntinst>
					</cntinfo>
				</proccont>
			</procstep>
			<procstep>
				<procdesc>The raster dataset was opened in ERDAS IMAGINE for editing. An Area of Interest (AOI) polygon was drawn around regions of poor data quality. Poor data quality was determined visually by locating gaps in the data as well as artifacts (e.g. spikes, large facets) of the lidar processing. Pixels within the AOI polygons were given a raster value of -100 to correspond with the classification of 'No Data'</procdesc>
				<procdate>January 2007</procdate>
				<proccont>
					<cntinfo>
						<cntorgp>
							<cntorg>United States Geological Survey-FISC St. Petersburg</cntorg>
						</cntorgp>
						<cntaddr>
							<addrtype>mailing and physical address</addrtype>
							<address>600 4th Street South</address>
							<city>St. Petersburg</city>
							<state>FL</state>
							<postal>33701</postal>
							<country>USA</country>
						</cntaddr>
						<cntvoice>727-803-8747</cntvoice>
						<hours>8:30-5:00 M-F  EST</hours>
					</cntinfo>
				</proccont>
			</procstep>
			<procstep>
				<procdesc>Metadata imported into ArcCatalog from XML file.</procdesc>
				<procdate>May 2007</procdate>
				<proccont>
					<cntinfo>
						<cntorgp>
							<cntorg>United States Geological Survey FISC St. Petersburg</cntorg>
						</cntorgp>
						<cntaddr>
							<addrtype>mailing and physical address</addrtype>
							<address>600 4th Street South</address>
							<city>St. Petersburg</city>
							<state>FL</state>
							<postal>33701</postal>
							<country>USA</country>
						</cntaddr>
						<cntvoice>727 803-8747</cntvoice>
						<hours>8:30-5:00 M-F EST</hours>
					</cntinfo>
				</proccont>
			</procstep>
		</lineage>
	</dataqual>
	<spdoinfo>
		<direct>Raster</direct>
		<rastinfo>
			<rasttype>Pixel</rasttype>
			<rowcount>2000</rowcount>
			<colcount>2000</colcount>
			<vrtcount>1</vrtcount>
			<rastxsz Sync="TRUE">1.000000</rastxsz><rastysz Sync="TRUE">1.000000</rastysz><rastbpp Sync="TRUE">32</rastbpp><rastorig Sync="TRUE">Upper Left</rastorig><rastcmap Sync="TRUE">FALSE</rastcmap><rastcomp Sync="TRUE">None</rastcomp><rastband Sync="TRUE">1</rastband><rastdtyp Sync="TRUE">pixel RGB</rastdtyp><rastplyr Sync="TRUE">TRUE</rastplyr><rastifor Sync="TRUE">TIFF</rastifor></rastinfo>
	</spdoinfo>
	<spref>
		<horizsys>
			<planar>
				<planci>
					<plance>row and column</plance>
					<coordrep>
						<absres>1.000000</absres>
						<ordres>1.000000</ordres>
					</coordrep>
					<plandu>meters</plandu>
				</planci>
				<gridsys><gridsysn Sync="TRUE">Universal Transverse Mercator</gridsysn><utm><utmzone Sync="TRUE">19</utmzone><transmer><sfctrmer Sync="TRUE">0.999600</sfctrmer><longcm Sync="TRUE">-69.000000</longcm><latprjo Sync="TRUE">0.000000</latprjo><feast Sync="TRUE">500000.000000</feast><fnorth Sync="TRUE">0.000000</fnorth></transmer></utm></gridsys></planar>
			<geodetic>
				<horizdn>North American Datum of 1983</horizdn>
				<ellips>Geodetic Reference System 80</ellips>
				<semiaxis>6378137.000000</semiaxis>
				<denflat>298.257222</denflat>
			</geodetic>
			<cordsysn><geogcsn Sync="TRUE">GCS_North_American_1983</geogcsn><projcsn Sync="TRUE">NAD_1983_UTM_Zone_19N</projcsn></cordsysn></horizsys>
		<vertdef>
			<altsys>
				<altdatum>North American Vertical Datum of 1988</altdatum>
				<altres>.15</altres>
				<altunits>meters</altunits>
				<altenc>Explicit elevation coordinate included with horizontal coordinates</altenc>
			</altsys>
		</vertdef>
	</spref>
	<eainfo>
		<overview>
			<eaover>The attributes measured are as follows: variables measured by EAARL - distance between aircraft and GPS satellites (m), attitude information (roll, pitch, heading in degrees), scan angle (degrees), second of the epoch (sec), 1-ns time-resolved return intensity waveform (digital counts), and co-registered digital aerial photography.  For derived variables, WGS84, NAD83 or other UTM eastings and northings (m), NAVD88 elevations (m), and peak amplitude (intensity). For derived surfaces, bare-earth elevations, and first-return elevations.</eaover>
		</overview>
	</eainfo>
	<distinfo>
		<distrib>
			<cntinfo>
				<cntorgp>
					<cntorg>United States Geological Survey, FISC St. Petersburg</cntorg>
				</cntorgp>
				<cntaddr>
					<addrtype>mailing and physical address</addrtype>
					<address>600 4th Street South</address>
					<city>St. Petersburg</city>
					<state>FL</state>
					<postal>33701</postal>
					<country>USA</country>
				</cntaddr>
				<cntvoice>727-803-8747</cntvoice>
				<hours>8:30-5:00 M-F EST</hours>
				<cntinst>Call USGS for Details</cntinst>
			</cntinfo>
		</distrib>
		<resdesc>OFR_2007-1375</resdesc>
		<distliab>
The United States Geological Survey shall not be held liable for improper or incorrect use of the data described and/or contained herein. These data and related graphics are not legal documents and are not intended to be used as such.

The information contained in these data is dynamic and may change over time. The data are not better than the original sources from which they were derived. It is the responsibility of the data user to use the data appropriately and consistent within the limitations of geospatial data in general and these data in particular. The related graphics are intended to aid the data user in acquiring relevant data; it is not appropriate to use the related graphics as data.

The United States Geological Survey gives no warranty, expressed or implied, as to the accuracy, reliability, or completeness of these data. It is strongly recommended that these data are directly acquired from a USGS server and not indirectly through other sources which may have changed the data in some way. Although these data have been processed successfully on a computer system at the United States Geological Survey, no warranty expressed or implied is made regarding the utility of the data on another system or for general or scientific purposes, nor shall the act of distribution constitute any such warranty. This disclaimer applies both to individual use of the data and aggregate use with other data.
</distliab>
		<stdorder>
			<digform>
				<digtinfo>
					<transize>0.000</transize>
					<dssize Sync="TRUE">0.000</dssize></digtinfo>
			</digform>
			<ordering>Call USGS for Details</ordering>
		</stdorder>
		<custom>Call USGS for Details</custom>
		<availabl>
			<timeinfo>
				<sngdate>
					<caldate>20050504</caldate>
				</sngdate>
			</timeinfo>
		</availabl>
	</distinfo>
	<metainfo>
		<metd Sync="TRUE">20070517</metd>
		<metc>
			<cntinfo>
				<cntorgp>
					<cntorg>United States Geological Survey, FISC St. Petersburg</cntorg>
					<cntper>REQUIRED: The person responsible for the metadata information.</cntper></cntorgp>
				<cntaddr>
					<addrtype>mailing and physical address</addrtype>
					<address>600 4th Street South</address>
					<city>St. Petersburg</city>
					<state>FL</state>
					<postal>33701</postal>
					<country>USA</country>
				</cntaddr>
				<cntvoice>727-803-8747</cntvoice>
				<hours>8:30-5:00 M-F EST</hours>
				<cntinst>Call Survey for Details</cntinst>
			</cntinfo>
		</metc>
		<metstdn>FGDC Content Standards for Digital Geospatial Metadata</metstdn>
		<metstdv>FGDC-STD-001-1998</metstdv>
		<mettc>local time</mettc>
		<metsi>
			<metsc>Unclassified</metsc>
		</metsi>
		<langmeta Sync="TRUE">en</langmeta><metextns><onlink Sync="TRUE">http://www.esri.com/metadata/esriprof80.html</onlink><metprof Sync="TRUE">ESRI Metadata Profile</metprof></metextns></metainfo>
	<distInfo>
		<distributor>
			<distorTran>
				<onLineSrc>
					<linkage Sync="TRUE">file://\\IGSAFPESWS114\D$\Science_Support_PC\L_Travers\J_Brock\CACO\LiDAR\be_e422_n4616\be_e422_n4616_z19.tif</linkage>
					<protocol Sync="TRUE">Local Area Network</protocol>
					<orDesc Sync="TRUE">002</orDesc></onLineSrc>
				<transSize Sync="TRUE">0.000</transSize></distorTran>
			<distorFormat><formatName Sync="TRUE">Raster Dataset</formatName></distorFormat></distributor>
	</distInfo>
	<Esri>
		<ModDate>20070517</ModDate>
		<ModTime>09550300</ModTime>
		<SyncOnce>FALSE</SyncOnce>
		<CreaDate>20070517</CreaDate>
		<CreaTime>09545500</CreaTime>
		<MetaID>{68A8F915-3EC9-478F-AD99-95FD97CAC23B}</MetaID><SyncDate>20070517</SyncDate><SyncTime>09545500</SyncTime></Esri>
	<mdDateSt Sync="TRUE">20070517</mdDateSt>
	<dataIdInfo><envirDesc Sync="TRUE">Microsoft Windows XP Version 5.1 (Build 2600) Service Pack 2; ESRI ArcCatalog 9.1.0.722</envirDesc><dataLang><languageCode Sync="TRUE" value="en"></languageCode></dataLang><idCitation><resTitle Sync="TRUE">be_e422_n4616_z19.tif</resTitle><presForm><PresFormCd Sync="TRUE" value="005"></PresFormCd></presForm></idCitation><spatRpType><SpatRepTypCd Sync="TRUE" value="002"></SpatRepTypCd></spatRpType><dataExt><geoEle><GeoBndBox esriExtentType="native"><westBL Sync="TRUE">422001</westBL><eastBL Sync="TRUE">424002</eastBL><northBL Sync="TRUE">4616001</northBL><southBL Sync="TRUE">4614000</southBL><exTypeCode Sync="TRUE">1</exTypeCode></GeoBndBox></geoEle></dataExt><geoBox esriExtentType="decdegrees"><westBL Sync="TRUE">-69.937305</westBL><eastBL Sync="TRUE">-69.913007</eastBL><northBL Sync="TRUE">41.692161</northBL><southBL Sync="TRUE">41.673946</southBL><exTypeCode Sync="TRUE">1</exTypeCode></geoBox></dataIdInfo><mdLang><languageCode Sync="TRUE" value="en"></languageCode></mdLang><mdStanName Sync="TRUE">ISO 19115 Geographic Information - Metadata</mdStanName><mdStanVer Sync="TRUE">DIS_ESRI1.0</mdStanVer><mdChar><CharSetCd Sync="TRUE" value="004"></CharSetCd></mdChar><mdHrLv><ScopeCd Sync="TRUE" value="005"></ScopeCd></mdHrLv><mdHrLvName Sync="TRUE">dataset</mdHrLvName><refSysInfo><RefSystem><refSysID><identCode Sync="TRUE">NAD_1983_UTM_Zone_19N</identCode></refSysID></RefSystem></refSysInfo><spatRepInfo><GridSpatRep><numDims Sync="TRUE">2</numDims><cellGeo><CellGeoCd Sync="TRUE" value="002"></CellGeoCd></cellGeo><tranParaAv Sync="TRUE">1</tranParaAv><axDimProps><Dimen><dimName><DimNameTypCd Sync="TRUE" value="002"></DimNameTypCd></dimName><dimSize Sync="TRUE">2001</dimSize><dimResol><value Sync="TRUE">1</value><uom><UomLength><uomName Sync="TRUE">Meter</uomName><conversionToISOstandardUnit Sync="TRUE">1 Meter = 1 Meter(s)</conversionToISOstandardUnit></UomLength></uom></dimResol></Dimen><Dimen><dimName><DimNameTypCd Sync="TRUE" value="001"></DimNameTypCd></dimName><dimSize Sync="TRUE">2001</dimSize><dimResol><value Sync="TRUE">1</value><uom><UomLength><uomName Sync="TRUE">Meter</uomName><conversionToISOstandardUnit Sync="TRUE">1 Meter = 1 Meter(s)</conversionToISOstandardUnit></UomLength></uom></dimResol></Dimen></axDimProps></GridSpatRep></spatRepInfo></metadata>
