<?xml version="1.0"?>
<metadata>
	<idinfo>
		<citation>
			<citeinfo>
				<origin>U.S. Geological Survey</origin>
				<pubdate>2009</pubdate>
				<title>MOSAIC2 - Composite sidescan-sonar mosaic collected by the U.S. Geological Survey offshore of the Chandeleur Islands, LA, 2006 (UTM Zone 16N GeoTIFF)</title>
				<edition>1.0</edition>
				<geoform Sync="TRUE">remote-sensing image</geoform>
				<serinfo>
					<sername>Open-File Report</sername>
					<issue>2008-1195</issue>
				</serinfo>
				<pubinfo>
					<pubplace>Woods Hole Science Center, Woods Hole, MA</pubplace>
					<publish>U.S. Geological Survey, Coastal and Marine Geology Program</publish>
				</pubinfo>
				<onlink>http://pubs.usgs.gov/of/2008/1195/GIS_catalog/Sidescan/mosaic2.zip</onlink>
				<lworkcit>
					<citeinfo>
						<serinfo>
							<sername>Open-File Report</sername>
							<issue>2008-1195</issue>
						</serinfo>
						<pubinfo>
							<pubplace>Woods Hole Science Center, Woods Hole, MA</pubplace>
							<publish>U.S. Geological Survey</publish>
						</pubinfo>
						<origin>Wayne E. Baldwin</origin>
						<origin>Elizabeth A. Pendleton</origin>
						<origin>David C. Twichell</origin>
						<pubdate>2009</pubdate>
						<title>Geophysical Data from offshore of the Chandeleur Islands, Eastern Mississippi Delta</title>
						<onlink>http://pubs.usgs.gov/of/2008/1195/</onlink>
						<edition>1.0</edition>
					</citeinfo>
				</lworkcit>
				<ftname Sync="TRUE">mosaic2.tif</ftname>
			</citeinfo>
		</citation>
		<descript>
			<abstract>In 2006 and 2007, the U.S. Geological Survey, in partnership with Louisiana Department of Natural Resources and the University of New Orleans, conducted geologic mapping to characterize the sea floor and shallow subsurface stratigraphy offshore of the Chandeleur Islands in Eastern Louisiana. The mapping was carried out during two cruises on the R/V Acadiana. Data were acquired with the following equipment: an SEA Ltd SwathPlus interferometric sonar (234 kHz), Klein 3000 dual frequency sidescan sonar, and an Edgetech 512i chirp subbottom profiling system. The long-term goal of this mapping effort is to produce high-quality geologic maps and geophysical interpretations that can be utilized to investigate the impact of Hurricane Katrina in 2005 and to identify sand resources within the region.</abstract>
			<purpose>This GeoTIFF (Tagged Image File Format) contains approximately 82 square-km of sidescan sonar data that were collected in 2006. These data are used to define the sea-floor morphology offshore of the Chandeleur Islands in Eastern Louisiana.</purpose>
			<langdata Sync="TRUE">en</langdata>
		</descript>
		<timeperd>
			<timeinfo>
				<rngdates>
					<begdate>20060708</begdate>
					<enddate>20060719</enddate>
				</rngdates>
			</timeinfo>
			<current>ground condition</current>
		</timeperd>
		<status>
			<progress>Complete</progress>
			<update>None planned</update>
		</status>
		<spdom>
			<bounding>
				<westbc Sync="TRUE">-88.831394</westbc>
				<eastbc Sync="TRUE">-88.746072</eastbc>
				<northbc Sync="TRUE">29.972280</northbc>
				<southbc Sync="TRUE">29.831341</southbc>
			</bounding>
			<lboundng>
				<leftbc Sync="TRUE">323300.000000</leftbc>
				<rightbc Sync="TRUE">331300.000000</rightbc>
				<bottombc Sync="TRUE">3301500.000000</bottombc>
				<topbc Sync="TRUE">3317000.000000</topbc>
			</lboundng>
		</spdom>
		<keywords>
			<theme>
				<themekt>General</themekt>
				<themekey>U.S. Geological Survey</themekey>
				<themekey>USGS</themekey>
				<themekey>Woods Hole Science Center</themekey>
				<themekey>WHSC</themekey>
				<themekey>Coastal and Marine Geology Program</themekey>
				<themekey>CMGP</themekey>
				<themekey>sidescan-sonar</themekey>
				<themekey>sidescan</themekey>
				<themekey>side scan sonar</themekey>
				<themekey>backscatter</themekey>
				<themekey>GeoTIFF image</themekey>
				<themekey>grey scale</themekey>
				<themekey>composite image</themekey>
				<themekey>WHSC field activity report number 06015</themekey>
				<themekey>mosaic</themekey>
			</theme>
			<theme>
				<themekt>ISO 19115 Topic Category</themekt>
				<themekey>oceans</themekey>
				<themekey>oceans and coastal</themekey>
				<themekey>oceans and estuaries</themekey>
				<themekey>geoscientificInformation</themekey>
				<themekey>imageryBaseMapsEarthCover</themekey>
			</theme>
			<place>
				<placekt>General</placekt>
				<placekey>Louisiana</placekey>
				<placekey>Chandeleur Islands</placekey>
				<placekey>Breton Island</placekey>
				<placekey>Gosier Island</placekey>
				<placekey>Curlew Island</placekey>
				<placekey>MRGO</placekey>
				<placekey>New Harbor Islands</placekey>
				<placekey>North Islands</placekey>
				<placekey>North-Central Gulf Coast</placekey>
				<placekey>United States</placekey>
				<placekey>Gulf of Mexico</placekey>
				<placekey>Mississippi River Gulf Outlet</placekey>
			</place>
		</keywords>
		<accconst>None</accconst>
		<useconst>Public domain data from the U.S. Government are freely redistributable with proper metadata and source attribution. Please recognize the U.S. Geological Survey as the originator of the dataset.</useconst>
		<ptcontac>
			<cntinfo>
				<cntpos>Geologist</cntpos>
				<cntaddr>
					<addrtype>mailing and physical address</addrtype>
					<address>384 Woods Hole Road</address>
					<city>Woods Hole</city>
					<state>MA</state>
					<postal>02543-1598</postal>
					<country>USA</country>
				</cntaddr>
				<cntvoice>508-548-8700 x2266</cntvoice>
				<cntfax>508-457-2310</cntfax>
				<cntemail>dtwichell@usgs.gov</cntemail>
				<cntperp>
					<cntper>David C. Twichell</cntper>
					<cntorg>U.S. Geological Survey</cntorg>
				</cntperp>
			</cntinfo>
		</ptcontac>
		<browse>
			<browsen>http://pubs.usgs.gov/of/2008/1195/images/mosaic2.jpg</browsen>
			<browsed>grey scale image of sidescan-sonar mosaic</browsed>
			<browset>JPEG</browset>
		</browse>
		<native>Microsoft Windows XP Professional x64 Edition Version 2003 Service Pack 2; ESRI ArcCatalog 9.2.4.1420</native>
		<natvform Sync="TRUE">Raster Dataset</natvform>
		<crossref>
			<citeinfo>
				<title>USGS image processing system:  near real-time mosaicking of high-resolution sidescan-sonar data</title>
				<origin>W.W. Danforth</origin>
				<origin>T.F. O'Brien</origin>
				<origin>W.C. Schwab</origin>
				<pubdate>1991</pubdate>
				<serinfo>
					<issue>Jan. 1991</issue>
				</serinfo>
				<pubinfo>
					<publish>Sea Technology</publish>
				</pubinfo>
			</citeinfo>
		</crossref>
		<crossref>
			<citeinfo>
				<title>XSonar/ShowImage: A complete system for rapid sidescan-sonar processing and display.</title>
				<origin>William W. Danforth</origin>
				<pubdate>1997</pubdate>
				<serinfo>
					<sername>Open-File Report</sername>
					<issue>97-686</issue>
				</serinfo>
				<pubinfo>
					<publish>U.S. Geological Survey</publish>
				</pubinfo>
			</citeinfo>
		</crossref>
		<crossref>
			<citeinfo>
				<title>Processing of SeaMARC swath sonar data.</title>
				<origin>A. Malinverno</origin>
				<origin>M. Edwards</origin>
				<origin>W.B.F. Ryan</origin>
				<pubdate>1990</pubdate>
				<serinfo>
					<issue>15</issue>
				</serinfo>
				<pubinfo>
					<publish>Journal of Oceanic Engineering</publish>
				</pubinfo>
			</citeinfo>
		</crossref>
		<crossref>
			<citeinfo>
				<title>MAPIT: An improved method for mapping digital sidescan sonar data using the Woods Hole Image Processing System (WHIPS) Software</title>
				<origin>V.F. Paskevich</origin>
				<pubdate>1996</pubdate>
				<serinfo>
					<sername>Open-File Report</sername>
					<issue>96-281</issue>
				</serinfo>
				<pubinfo>
					<publish>U.S. Geological Survey</publish>
				</pubinfo>
			</citeinfo>
		</crossref>
	</idinfo>
	<dataqual>
		<attracc></attracc>
		<complete>All available data were used to create the backscatter mosaic.</complete>
		<posacc>
			<horizpa>
				<horizpar>These data were navigated with a Differential Global Positioning System (DGPS) mounted above the interferometric sonar head. Unless noted, all DGPS data are referenced to WGS84. The layback distance between towed sidescan sonar fish and the mounted GPS antennae were measured on the ship and corrected for these navigation data.</horizpar>
				<qhorizpa>
					<horizpav>&lt; 10 meters</horizpav>
					<horizpae>The differential GPS is accurate within 1 to 2 meters. The layback of the towfish adds additional uncertainty due to changes in angle and scope of the tow cable in response to sea state and vessel speed</horizpae>
				</qhorizpa>
			</horizpa>
			<vertacc>
				<qvertpa/>
			</vertacc>
		</posacc>
		<lineage>
			<srcinfo>
				<srctime>
					<timeinfo>
						<rngdates>
							<begdate>20060708</begdate>
							<enddate>20060719</enddate>
						</rngdates>
					</timeinfo>
					<srccurr>ground condition</srccurr>
				</srctime>
				<srccite>
					<citeinfo>
						<origin>U.S. Geological Survey</origin>
					</citeinfo>
				</srccite>
				<srccontr>Data acquisition at sea: 
These sidescan-sonar data were collected with a Klein 3000 dual frequency sidescan sonar towed 3 meters astern of the R/V Acadiana. These data were acquired using SonarPro Software (version: none) during a cruise in July 2006. Data were collected along tracklines spaced 100 to 125 m apart at a speed of 1.5 to 2.5 m/s. The dual frequencies of the sonar system are 100 and 500 kHz . Navigation was by means of differential GPS. All sidescan-sonar data were logged digitally at a sample rate resulting in a 0.18-m pixel size in the across-track direction and approximately 0.14-m in the along-track direction following the methodology outlined in Danforth and others (1991) and Danforth (1997).</srccontr>
				<typesrc>disc</typesrc>
			</srcinfo>
			<procstep>
				<procdesc>Within XSonar Software (version: none) a median filtering routine (Malinverno and others, 1990) was applied to the raw sidescan-sonar data (.xtf) to remove speckle noise; the filter was 8 pixels across track by 1 pixel along track. The data were further processed to correct for fish altitude, slant and beam artifacts, and then merged with the navigation (Danforth, 1997). Odd and even sidescan sonar lines were mapped seperately out of XSonar at 1 meter/pixel resolution. Sidescan areas were defined within the cruise domain such that the sonar images mapped in XSonar would be no larger than 200 Mb.</procdesc>
				<proccont>
					<cntinfo>
						<cntperp>
							<cntper>William W. Danforth</cntper>
							<cntorg>U.S. Geological Survey</cntorg>
						</cntperp>
						<cntpos>Geologist</cntpos>
						<cntaddr>
							<addrtype>mailing and physical address</addrtype>
							<address>384 Woods Hole Rd.</address>
							<city>Woods Hole</city>
							<state>MA</state>
							<postal>02543-1598</postal>
						</cntaddr>
						<cntvoice>(508) 548-8700x2274</cntvoice>
						<cntfax>(508) 457-2310</cntfax>
						<cntemail>bdanforth@usgs.gov</cntemail>
					</cntinfo>
				</proccont>
				<procsv>XSonar (version: none)</procsv>
				<procdate>2006</procdate>
			</procstep>
			<procstep>
				<procdesc>The odd and even area files were imported into PCI Geomatica Software (version 10.1) to be digitally mosaicked together using PCI's OrthoEngine and procedures described in Paskevich (1996). The mosaicking process produces an enhanced, geographically correct, sidescan-sonar mosaic with 1 meter/pixel resolution. The composite mosaic was exported as a GeoTIFF image.</procdesc>
				<proccont>
					<cntinfo>
						<cntperp>
							<cntper>Elizabeth A. Pendleton</cntper>
							<cntorg>U.S. Geological Survey</cntorg>
						</cntperp>
						<cntpos>Geologist</cntpos>
						<cntaddr>
							<addrtype>mailing and physical address</addrtype>
							<address>384 Woods Hole Rd.</address>
							<city>Woods Hole</city>
							<state>MA</state>
							<postal>02543-1598</postal>
						</cntaddr>
						<cntvoice>(508) 548-8700x2259</cntvoice>
						<cntfax>(508) 457-2310</cntfax>
						<cntemail>ependleton@usgs.gov</cntemail>
					</cntinfo>
				</proccont>
				<procsv>PCI Geomatica (version 10.1)</procsv>
				<procdate>2007</procdate>
			</procstep>
		</lineage>
	</dataqual>
	<spdoinfo>
		<direct Sync="TRUE">Raster</direct>
		<rastinfo>
			<rasttype Sync="TRUE">Pixel</rasttype>
			<rowcount Sync="TRUE">15500</rowcount>
			<colcount Sync="TRUE">8000</colcount>
			<vrtcount Sync="TRUE">1</vrtcount>
			<rastxsz Sync="TRUE">1.000000</rastxsz>
			<rastysz Sync="TRUE">1.000000</rastysz>
			<rastbpp Sync="TRUE">8</rastbpp>
			<rastorig Sync="TRUE">Upper Left</rastorig>
			<rastcmap Sync="TRUE">FALSE</rastcmap>
			<rastcomp Sync="TRUE">None</rastcomp>
			<rastband Sync="TRUE">1</rastband>
			<rastdtyp Sync="TRUE">pixel codes</rastdtyp>
			<rastplyr Sync="TRUE">FALSE</rastplyr>
		</rastinfo>
	</spdoinfo>
	<spref>
		<horizsys>
			<geodetic>
				<horizdn Sync="TRUE">D_WGS_1984</horizdn>
				<ellips Sync="TRUE">WGS_1984</ellips>
				<semiaxis Sync="TRUE">6378137.000000</semiaxis>
				<denflat Sync="TRUE">298.257224</denflat>
			</geodetic>
			<cordsysn>
				<geogcsn Sync="TRUE">GCS_WGS_1984</geogcsn>
				<projcsn Sync="TRUE">WGS_1984_UTM_Zone_16N</projcsn>
			</cordsysn>
			<planar>
				<planci>
					<plance Sync="TRUE">row and column</plance>
					<coordrep>
						<absres Sync="TRUE">1.000000</absres>
						<ordres Sync="TRUE">1.000000</ordres>
					</coordrep>
					<plandu Sync="TRUE">meters</plandu>
				</planci>
				<gridsys><gridsysn Sync="TRUE">Universal Transverse Mercator</gridsysn><utm><utmzone Sync="TRUE">16</utmzone><transmer><sfctrmer Sync="TRUE">0.999600</sfctrmer><longcm Sync="TRUE">-87.000000</longcm><latprjo Sync="TRUE">0.000000</latprjo><feast Sync="TRUE">500000.000000</feast><fnorth Sync="TRUE">0.000000</fnorth></transmer></utm></gridsys></planar>
		</horizsys>
	</spref>
	<distinfo>
		<distrib>
			<cntinfo>
				<cntperp>
					<cntper>Wayne E. Baldwin</cntper>
					<cntorg>U.S. Geological Survey</cntorg>
				</cntperp>
				<cntpos>Geologist</cntpos>
				<cntaddr>
					<addrtype>mailing and physical address</addrtype>
					<address>384 Woods Hole Rd.</address>
					<city>Woods Hole</city>
					<state>MA</state>
					<postal>02543-1598</postal>
				</cntaddr>
				<cntvoice>(508) 548-8700x2226</cntvoice>
				<cntfax>(508) 457-2310</cntfax>
				<cntemail>wbaldwin@usgs.gov</cntemail>
			</cntinfo>
		</distrib>
		<resdesc>Downloadable Data</resdesc>
		<distliab>Neither the U.S. Government, the Department of the Interior, nor the USGS, nor any of their employees, contractors, or subcontractors, make any warranty, express or implied, nor assume any legal liability or responsibility for the accuracy, completeness, or usefulness of any information, apparatus, product, or process disclosed, nor represent that its use would not infringe on privately owned rights. The act of distribution shall not constitute any such warranty, and no responsibility is assumed by the U.S. Geological Survey in the use of these data or related materials. Any use of trade, product, or firm names is for descriptive purposes only and does not imply endorsement by the U.S. Government.</distliab>
		<stdorder>
			<digform>
				<digtinfo>
					<formname>WinZip</formname>
					<formvern>9.0</formvern>
					<formcont>This WinZip file contains a geographic GeoTIFF image of side-scan sonar data collected offshore of the Chandeleur Islands, LA, and associated metadata.</formcont>
					<filedec>use WinZip or pkUnzip</filedec>
					<transize Sync="TRUE">0.000</transize>
					<dssize Sync="TRUE">0.000</dssize>
				</digtinfo>
				<digtopt>
					<onlinopt>
						<computer>
							<networka>
								<networkr>http://pubs.usgs.gov/of/2008/1195/GIS_catalog/Sidescan/mosaic2.zip</networkr>
							</networka>
						</computer>
						<accinstr>Data can be downloaded via the World Wide Web (WWW)</accinstr>
					</onlinopt>
					<offoptn>
						<offmedia>DVD-ROM</offmedia>
						<reccap>
							<recden>4.75</recden>
							<recdenu>Gbytes</recdenu>
						</reccap>
						<recfmt>UDF</recfmt>
					</offoptn>
				</digtopt>
			</digform>
			<fees>none</fees>
		</stdorder>
		<techpreq>This zip file contains a GeoTIFF image with an accompanying world file. To utilize this data, the user must have an image viewer, image processing or GIS software package capable of importing a GeoTIFF image.</techpreq>
	</distinfo>
	<metainfo>
		<metd Sync="TRUE">20090128</metd>
		<metc>
			<cntinfo>
				<cntperp>
					<cntper>Elizabeth A. Pendleton</cntper>
					<cntorg>U.S. Geological Survey</cntorg>
				</cntperp>
				<cntpos>Geologist</cntpos>
				<cntaddr>
					<addrtype>mailing and physical address</addrtype>
					<address>384 Woods Hole Rd.</address>
					<city>Woods Hole</city>
					<state>MA</state>
					<postal>02543-1598</postal>
				</cntaddr>
				<cntvoice>(508) 548-8700x2259</cntvoice>
				<cntfax>(508) 457-2310</cntfax>
				<cntemail>ependleton@usgs.gov</cntemail>
			</cntinfo>
		</metc>
		<metstdn Sync="TRUE">FGDC Content Standards for Digital Geospatial Metadata</metstdn>
		<metstdv Sync="TRUE">FGDC-STD-001-1998</metstdv>
		<mettc Sync="TRUE">local time</mettc>
		<metac>None</metac>
		<metuc>None</metuc>
		<metextns>
			<onlink>http://www.esri.com/metadata/esriprof80.html</onlink>
			<metprof>ESRI Metadata Profile</metprof>
		</metextns>
		<langmeta Sync="TRUE">en</langmeta>
		<metextns><onlink Sync="TRUE">http://www.esri.com/metadata/esriprof80.html</onlink><metprof Sync="TRUE">ESRI Metadata Profile</metprof></metextns></metainfo>
	<dataIdInfo>
		<envirDesc Sync="TRUE">Microsoft Windows XP Version 5.1 (Build 2600) Service Pack 2; ESRI ArcCatalog 9.2.4.1420</envirDesc>
		<dataLang>
			<languageCode Sync="TRUE" value="en"></languageCode>
		</dataLang>
		<idCitation>
			<resTitle Sync="TRUE">mosaic2.tif</resTitle>
			<presForm>
				<PresFormCd Sync="TRUE" value="005"></PresFormCd>
			</presForm>
		</idCitation>
		<spatRpType>
			<SpatRepTypCd Sync="TRUE" value="002"></SpatRepTypCd>
		</spatRpType>
		<dataExt>
			<geoEle>
				<GeoBndBox esriExtentType="native">
					<westBL Sync="TRUE">323300</westBL>
					<eastBL Sync="TRUE">331300</eastBL>
					<northBL Sync="TRUE">3317000</northBL>
					<southBL Sync="TRUE">3301500</southBL>
					<exTypeCode Sync="TRUE">1</exTypeCode>
				</GeoBndBox>
			</geoEle>
		</dataExt>
		<geoBox esriExtentType="decdegrees">
			<westBL Sync="TRUE">-88.831394</westBL>
			<eastBL Sync="TRUE">-88.746072</eastBL>
			<northBL Sync="TRUE">29.97228</northBL>
			<southBL Sync="TRUE">29.831341</southBL>
			<exTypeCode Sync="TRUE">1</exTypeCode>
		</geoBox>
	</dataIdInfo>
	<mdLang>
		<languageCode Sync="TRUE" value="en"></languageCode>
	</mdLang>
	<mdStanName Sync="TRUE">ISO 19115 Geographic Information - Metadata</mdStanName>
	<mdStanVer Sync="TRUE">DIS_ESRI1.0</mdStanVer>
	<mdChar>
		<CharSetCd Sync="TRUE" value="004"></CharSetCd>
	</mdChar>
	<mdHrLv>
		<ScopeCd Sync="TRUE" value="005"></ScopeCd>
	</mdHrLv>
	<mdHrLvName Sync="TRUE">dataset</mdHrLvName>
	<distInfo>
		<distributor>
			<distorTran>
				<onLineSrc>
					<orDesc Sync="TRUE">002</orDesc>
					<linkage Sync="TRUE">file://\\Elipendtxp2\n_GoM\dds_html\GIS_catalog\Sidescan\mosaic2.tif</linkage>
					<protocol Sync="TRUE">Local Area Network</protocol>
				</onLineSrc>
				<transSize Sync="TRUE">0.000</transSize>
			</distorTran>
			<distorFormat>
				<formatName Sync="TRUE">Raster Dataset</formatName>
			</distorFormat>
		</distributor>
	</distInfo>
	<refSysInfo>
		<RefSystem>
			<refSysID>
				<identCode Sync="TRUE">WGS_1984_UTM_Zone_16N</identCode>
			</refSysID>
		</RefSystem>
	</refSysInfo>
	<spatRepInfo>
		<GridSpatRep>
			<numDims Sync="TRUE">2</numDims>
			<cellGeo>
				<CellGeoCd Sync="TRUE" value="002"></CellGeoCd>
			</cellGeo>
			<tranParaAv Sync="TRUE">1</tranParaAv>
			<axDimProps><Dimen><dimName><DimNameTypCd Sync="TRUE" value="002"></DimNameTypCd></dimName><dimSize Sync="TRUE">8000</dimSize><dimResol><value Sync="TRUE">1</value><uom><UomLength><uomName Sync="TRUE">Meter</uomName><conversionToISOstandardUnit Sync="TRUE">1 Meter = 1 Meter(s)</conversionToISOstandardUnit></UomLength></uom></dimResol></Dimen><Dimen><dimName><DimNameTypCd Sync="TRUE" value="001"></DimNameTypCd></dimName><dimSize Sync="TRUE">15500</dimSize><dimResol><value Sync="TRUE">1</value><uom><UomLength><uomName Sync="TRUE">Meter</uomName><conversionToISOstandardUnit Sync="TRUE">1 Meter = 1 Meter(s)</conversionToISOstandardUnit></UomLength></uom></dimResol></Dimen></axDimProps></GridSpatRep>
	</spatRepInfo>
	<Esri>
		<SyncDate>20080718</SyncDate>
		<SyncTime>11303300</SyncTime>
		<ModDate>20090128</ModDate>
		<ModTime>13302200</ModTime>
		<CreaDate>20080611</CreaDate>
		<CreaTime>17385500</CreaTime>
		<SyncOnce>FALSE</SyncOnce>
		<MetaID>{15A1EDAB-541E-4231-B377-859480149C56}</MetaID>
	</Esri>
	<mdDateSt Sync="TRUE">20090128</mdDateSt>
	<eainfo>
		<overview>
			<eadetcit>U.S. Geological Survey</eadetcit>
			<eaover>There are no attributes associated with a GeoTIFF image.  Image pixel values contain acoustic reflectivity values normalized to an 8-bit data range (0-255).  Low-backscatter is represented by dark tones (low values) and high-backscatter is represented by bright tones (high values). The background color is set to 255 and can be turned off without removing data values.</eaover>
		</overview>
	</eainfo>
	</metadata>
