0.5
0
0
-0.5
380800.25
4754399.75
