<?xml version="1.0"?>
<!--<!DOCTYPE metadata SYSTEM "http://www.esri.com/metadata/esriprof80.dtd">-->
<metadata xml:lang="en"><Esri><CreaDate>20091119</CreaDate><CreaTime>09185100</CreaTime><SyncOnce>FALSE</SyncOnce><SyncDate>20110307</SyncDate><SyncTime>13533400</SyncTime><ModDate>20110307</ModDate><ModTime>13555200</ModTime><MetaID>{17346AE9-09B8-4F63-8551-E2F47DCEFCDD}</MetaID></Esri><idinfo><native Sync="TRUE">Microsoft Windows XP Version 5.1 (Build 2600) Service Pack 3; ESRI ArcCatalog 9.2.6.1500</native><descript><langdata Sync="TRUE">en</langdata><abstract>Submarine groundwater discharge (SGD) into Maryland's Corsica River Estuary was investigated as part of a larger study to determine the importance of nutrient delivery to Chesapeake Bay via this pathway. Resource managers are concerned about nutrients that are entering the estuary via submarine groundwater discharge from this primarily agricultural watershed that may be contributing to eutrophication, harmful algal blooms, and fish kills. An interdisciplinary U.S. Geological Survey (USGS) science team conducted field operations in the estuary in April and May 2007. Techniques used included continuous resistivity profiling (CRP), piezometer sampling, seepage meter measurements, and collection of a radon tracer time series. Better understanding of the style, locations, and rates of groundwater discharge could lead to improved models and mitigation strategies for estuarine nutrient over-enrichment in the Corsica River Estuary, and other similar settings. More information on the field work can be accessed from the Woods Hole Coastal and Marine Science Center Field Activity webpage: &lt;http://quashnet.er.usgs.gov/data/2007/07005/&gt; </abstract><purpose>The purpose of this dataset is to provide a seamless elevation/bathymetry grid as a basemap layer for the work in the Corsica River Estuary.</purpose></descript><citation><citeinfo><origin>VeeAnn A. Cross</origin><pubdate>2011</pubdate><title>COMBELEV: ESRI Format Binary Grid of the Merged Bathymetry and Elevation Data from the Corsica River Estuary, Maryland For Use with USGS Cruise 07005</title><ftname Sync="TRUE">combelev</ftname><onlink>https://pubs.usgs.gov/of/2010/1094/data/basemap/elevation.zip</onlink><geoform Sync="TRUE">raster digital data</geoform><lworkcit><citeinfo><title>Continuous resistivity profiling data from the Corsica River Estuary, Maryland</title><origin>VeeAnn A. Cross</origin><origin>John F. Bratton</origin><origin>Charles R. Worley</origin><origin>John Crusius</origin><origin>Kevin D. Kroeger</origin><pubdate>2011</pubdate><serinfo><sername>Open-File Report</sername><issue>2010-1094</issue></serinfo><pubinfo><pubplace>Woods Hole Coastal and Marine Science Center, Woods Hole, MA</pubplace><publish>U.S. Geological Survey, Coastal and Marine Geology Program</publish></pubinfo><onlink>https://pubs.usgs.gov/of/2010/1094/</onlink></citeinfo></lworkcit><serinfo><sername>Open-File Report</sername><issue>2010-1094</issue></serinfo><pubinfo><pubplace>Woods Hole Coastal and Marine Science Center, Woods Hole, MA</pubplace><publish>U.S. Geological Survey, Coastal and Marine Geology Program</publish></pubinfo><onlink>https://pubs.usgs.gov/of/2010/1094/html/catalog.html</onlink></citeinfo></citation><timeperd><current>publication date</current><timeinfo><sngdate><caldate>2011</caldate></sngdate></timeinfo></timeperd><status><progress>Complete</progress><update>None planned</update></status><spdom><bounding><westbc Sync="TRUE">-76.160718</westbc><eastbc Sync="TRUE">-76.060537</eastbc><northbc Sync="TRUE">39.121622</northbc><southbc Sync="TRUE">39.034459</southbc></bounding><lboundng><leftbc Sync="TRUE">399660.956472</leftbc><rightbc Sync="TRUE">408210.956472</rightbc><bottombc Sync="TRUE">4321239.949172</bottombc><topbc Sync="TRUE">4330809.949172</topbc></lboundng></spdom><keywords><theme><themekt>General</themekt><themekey>U.S. Geological Survey</themekey><themekey>USGS</themekey><themekey>Coastal and Marine Geology Program</themekey><themekey>CMGP</themekey><themekey>Woods Hole Coastal and Marine Science Center</themekey><themekey>WHCMSC</themekey><themekey>bathymetry</themekey><themekey>NOAA's Ocean Service, Special Projects</themekey><themekey>hydrographic survey</themekey><themekey>estuary</themekey><themekey>estuarine bathymetry</themekey><themekey>elevation</themekey><themekey>digital elevation model</themekey><themekey>DEM</themekey><themekey>raster</themekey><themekey>National Elevation Dataset</themekey><themekey>NED</themekey><themekey>LIDAR</themekey><themekey>Light Detection And Ranging</themekey><themekey>NOAA Coastal Services Center</themekey><themekey>ESRI binary grid</themekey><themekey>National Oceanic and Atmospheric Administration</themekey></theme><theme><themekey>inlandWaters</themekey><themekey>oceans</themekey><themekey>oceans and estuaries</themekey><themekey>oceans and coastal</themekey><themekey>imageryBaseMapsEarthCover</themekey><themekt>ISO 19115 Topic Category</themekt><themekey>elevation</themekey></theme><place><placekey>North America</placekey><placekey>North Atlantic</placekey><placekey>United States</placekey><placekey>Maryland</placekey><placekey>Corsica River Estuary</placekey><placekt>General</placekt><placekey>Chesapeake Bay</placekey></place></keywords><accconst>None.</accconst><useconst>The public domain data from the U.S. Government are freely redistributable with proper metadata and source attribution. Please recognize the U.S. Geological Survey and the National Oceanic and Atmospheric Administration (NOAA) National Ocean Service (NOS) as the originators of the individual datasets. These data are not to be used for navigation. </useconst><natvform Sync="TRUE">Raster Dataset</natvform><crossref><citeinfo><origin>Department of Commerce (DOC), National Oceanic and Atmospheric Administration (NOAA), National Ocean Service (NOS), Special Projects (SP) </origin><pubdate>1998</pubdate><title>Chesapeake Bay, VA/MD (M130) Bathymetric Digital Elevation Model (30 meter resolution) Derived From Source Hydrographic Survey Soundings Collected by NOAA </title><pubinfo><pubplace>Silver Spring, MD</pubplace><publish>NOAA's Ocean Service, Special Projects (SP)</publish></pubinfo><onlink>http://estuarinebathymetry.noaa.gov/</onlink><geoform>raster digital data</geoform></citeinfo></crossref><crossref><citeinfo><onlink>http://ned.usgs.gov/</onlink><origin>U.S. Geological Survey (USGS), EROS Data Center</origin><pubdate>1999</pubdate><title>National Elevation Dataset</title><geoform>raster digital data</geoform><pubinfo><pubplace>Sioux Falls, SD</pubplace><publish>U.S. Geological Survey</publish></pubinfo><onlink>http://seamless.usgs.gov/</onlink></citeinfo></crossref><crossref><citeinfo><onlink>http://www.csc.noaa.gov/ldart</onlink><origin>NOAA Coastal Services Center Coastal Remote Sensing Program</origin><pubdate>20070613</pubdate><title>2003 Maryland LIDAR mapping project</title><geoform>raster digital data</geoform><othercit>Time period of content is 20030301 to 20031130</othercit><onlink>http://www.csc.noaa.gov/lidar</onlink></citeinfo></crossref><ptcontac><cntinfo><cntperp><cntper>VeeAnn A. Cross</cntper><cntorg>U.S. Geological Survey</cntorg></cntperp><cntpos>Marine Geologist</cntpos><cntaddr><addrtype>mailing and physical address</addrtype><address>Woods Hole Coastal and Marine Science Center</address><address>384 Woods Hole Rd.</address><city>Woods Hole</city><state>MA</state><postal>02543-1598</postal></cntaddr><cntvoice>(508) 548-8700 x2251</cntvoice><cntfax>(508) 457-2310</cntfax><cntemail>vatnipp@usgs.gov</cntemail></cntinfo></ptcontac><browse><browsen>https://pubs.usgs.gov/of/2010/1094/data/basemap/elevation/combelev.gif</browsen><browsed>Thumbnail image of the color-coded relief in the Corsica River Estuary area.</browsed><browset>GIF</browset></browse></idinfo><dataIdInfo><envirDesc Sync="TRUE">Microsoft Windows XP Version 5.1 (Build 2600) Service Pack 3; ESRI ArcCatalog 9.2.6.1500</envirDesc><dataLang><languageCode Sync="TRUE" value="en"></languageCode></dataLang><idCitation><resTitle Sync="TRUE">combelev</resTitle><presForm><PresFormCd Sync="TRUE" value="005"></PresFormCd></presForm></idCitation><spatRpType><SpatRepTypCd Sync="TRUE" value="002"></SpatRepTypCd></spatRpType><dataExt><geoEle><GeoBndBox esriExtentType="native"><westBL Sync="TRUE">399660.956472</westBL><eastBL Sync="TRUE">408210.956472</eastBL><northBL Sync="TRUE">4330809.949172</northBL><southBL Sync="TRUE">4321239.949172</southBL><exTypeCode Sync="TRUE">1</exTypeCode></GeoBndBox></geoEle></dataExt><geoBox esriExtentType="decdegrees"><westBL Sync="TRUE">-76.160718</westBL><eastBL Sync="TRUE">-76.060537</eastBL><northBL Sync="TRUE">39.121622</northBL><southBL Sync="TRUE">39.034459</southBL><exTypeCode Sync="TRUE">1</exTypeCode></geoBox></dataIdInfo><metainfo><langmeta Sync="TRUE">en</langmeta><metstdn Sync="TRUE">FGDC Content Standards for Digital Geospatial Metadata</metstdn><metstdv Sync="TRUE">FGDC-STD-001-1998</metstdv><mettc Sync="TRUE">local time</mettc><metc><cntinfo><cntperp><cntper>VeeAnn A. Cross</cntper><cntorg>U.S. Geological Survey</cntorg></cntperp><cntpos>Marine Geologist</cntpos><cntaddr><addrtype>mailing and physical address</addrtype><address>Woods Hole Coastal and Marine Science Center</address><address>384 Woods Hole Rd.</address><city>Woods Hole</city><state>MA</state><postal>02543-1598</postal></cntaddr><cntvoice>(508) 548-8700  x2251</cntvoice><cntfax>(508) 457-2310</cntfax><cntemail>vatnipp@usgs.gov</cntemail></cntinfo></metc><metd Sync="TRUE">20110307</metd><metextns><onlink Sync="TRUE">http://www.esri.com/metadata/esriprof80.html</onlink><metprof Sync="TRUE">ESRI Metadata Profile</metprof></metextns></metainfo><mdLang><languageCode Sync="TRUE" value="en"></languageCode></mdLang><mdStanName Sync="TRUE">ISO 19115 Geographic Information - Metadata</mdStanName><mdStanVer Sync="TRUE">DIS_ESRI1.0</mdStanVer><mdChar><CharSetCd Sync="TRUE" value="004"></CharSetCd></mdChar><mdHrLv><ScopeCd Sync="TRUE" value="005"></ScopeCd></mdHrLv><mdHrLvName Sync="TRUE">dataset</mdHrLvName><distInfo><distributor><distorTran><onLineSrc><linkage Sync="TRUE">file://\\IGSAGIEGWSVCRX0\D$\edrive\Projects\corsica\forpublication\data\basemap\elevation\combelev</linkage><protocol Sync="TRUE">Local Area Network</protocol><orDesc Sync="TRUE">002</orDesc></onLineSrc><transSize Sync="TRUE">0.383</transSize></distorTran><distorFormat><formatName Sync="TRUE">Raster Dataset</formatName></distorFormat></distributor></distInfo><distinfo><resdesc Sync="TRUE">Downloadable Data</resdesc><stdorder><digform><digtinfo><transize>0.383 MB</transize><dssize>0.383 MB</dssize><formname>WinZip</formname><formvern>9.0</formvern><formcont>The WinZip files contains the ESRI binary grid as well as the associated metadata files. </formcont></digtinfo><digtopt><onlinopt><computer><networka><networkr>https://pubs.usgs.gov/of/2010/1094/html/catalog.html</networkr><networkr>https://pubs.usgs.gov/of/2010/1094/data/basemap/elevation.zip</networkr></networka></computer></onlinopt><offoptn><offmedia>DVD-ROM</offmedia><reccap><recden>4.75</recden><recdenu>GBytes</recdenu></reccap><recfmt>UDF</recfmt></offoptn></digtopt></digform><fees>none</fees></stdorder><distrib><cntinfo><cntperp><cntper>VeeAnn A. Cross</cntper><cntorg>U.S. Geological Survey</cntorg></cntperp><cntpos>Marine Geologist</cntpos><cntaddr><addrtype>mailing and physical address</addrtype><address>Woods Hole Coastal and Marine Science Center</address><address>384 Woods Hole Rd.</address><city>Woods Hole</city><state>MA</state><postal>02543-1598</postal></cntaddr><cntvoice>(508) 548-8700  x2251</cntvoice><cntfax>(508) 457-2310</cntfax><cntemail>vatnipp@usgs.gov</cntemail></cntinfo></distrib><distliab>Neither the U.S. government, the Department of the Interior, nor the USGS, nor any of their employees, contractors, or subcontractors, make any warranty, express or implied, nor assume any legal liability or responsibility for the accuracy, completeness, or usefulness of any information, apparatus, product, or process disclosed, nor represent that its use would not infringe on privately owned rights. The act of distribution shall not constitute any such warranty, and no responsibility is assumed by the USGS in the use of these data or related materials. Any use of trade, product, or firm names is for descriptive purposes only and does not imply endorsement by the U.S. Government. </distliab><techpreq>The data are provided in a WinZip compressed file. The user must have software capable of uncompressing the archive. Additionally, once uncompressed the data are in the ESRI binary grid format. The user must have software capable of displaying this data format. The binary grid is actually made up of two folders, an info folder and the folder with the grid name. Both folders, and their relative path structure are necessary to fully utilize the data.</techpreq></distinfo><spdoinfo><direct Sync="TRUE">Raster</direct><rastinfo><rasttype Sync="TRUE">Grid Cell</rasttype><rowcount Sync="TRUE">319</rowcount><colcount Sync="TRUE">285</colcount><rastxsz Sync="TRUE">30.000000</rastxsz><rastysz Sync="TRUE">30.000000</rastysz><rastbpp Sync="TRUE">32</rastbpp><vrtcount Sync="TRUE">1</vrtcount><rastorig Sync="TRUE">Upper Left</rastorig><rastcmap Sync="TRUE">FALSE</rastcmap><rastcomp Sync="TRUE">Default</rastcomp><rastband Sync="TRUE">1</rastband><rastdtyp Sync="TRUE">matrix values</rastdtyp><rastplyr Sync="TRUE">FALSE</rastplyr></rastinfo></spdoinfo><spref><horizsys><cordsysn><geogcsn Sync="TRUE">GCS_North_American_1983</geogcsn><projcsn Sync="TRUE">NAD_1983_UTM_Zone_18N</projcsn></cordsysn><planar><planci><plance Sync="TRUE">row and column</plance><plandu Sync="TRUE">meters</plandu><coordrep><absres Sync="TRUE">30.000000</absres><ordres Sync="TRUE">30.000000</ordres></coordrep></planci><gridsys><gridsysn Sync="TRUE">Universal Transverse Mercator</gridsysn><utm><utmzone Sync="TRUE">18</utmzone><transmer><sfctrmer Sync="TRUE">0.999600</sfctrmer><longcm Sync="TRUE">-75.000000</longcm><latprjo Sync="TRUE">0.000000</latprjo><feast Sync="TRUE">500000.000000</feast><fnorth Sync="TRUE">0.000000</fnorth></transmer></utm></gridsys></planar><geodetic><horizdn Sync="TRUE">North American Datum of 1983</horizdn><ellips Sync="TRUE">Geodetic Reference System 80</ellips><semiaxis Sync="TRUE">6378137.000000</semiaxis><denflat Sync="TRUE">298.257222</denflat></geodetic></horizsys><vertdef><altsys><altdatum>North American Vertical Datum of 1988</altdatum><altunits>meters</altunits><altenc>Explicit elevation coordinate included with horizontal coordinates</altenc><altres>0.1</altres></altsys><depthsys><depthdn>referenced to local tidal datum at the time of the hydrogaphic survey</depthdn><depthdu>meters</depthdu><depthem>Explicit depth coordinate included with horizontal coordinates</depthem><depthres>0.1</depthres></depthsys></vertdef></spref><refSysInfo><RefSystem><refSysID><identCode Sync="TRUE">NAD_1983_UTM_Zone_18N</identCode></refSysID></RefSystem></refSysInfo><spatRepInfo><GridSpatRep><numDims Sync="TRUE">2</numDims><cellGeo><CellGeoCd Sync="TRUE" value="002"></CellGeoCd></cellGeo><tranParaAv Sync="TRUE">1</tranParaAv><axDimProps><Dimen><dimName><DimNameTypCd Sync="TRUE" value="002"></DimNameTypCd></dimName><dimSize Sync="TRUE">285</dimSize><dimResol><value Sync="TRUE">30</value><uom><UomLength><uomName Sync="TRUE">Meter</uomName><conversionToISOstandardUnit Sync="TRUE">1 Meter = 1 Meter(s)</conversionToISOstandardUnit></UomLength></uom></dimResol></Dimen><Dimen><dimName><DimNameTypCd Sync="TRUE" value="001"></DimNameTypCd></dimName><dimSize Sync="TRUE">319</dimSize><dimResol><value Sync="TRUE">30</value><uom><UomLength><uomName Sync="TRUE">Meter</uomName><conversionToISOstandardUnit Sync="TRUE">1 Meter = 1 Meter(s)</conversionToISOstandardUnit></UomLength></uom></dimResol></Dimen></axDimProps></GridSpatRep></spatRepInfo><mdDateSt Sync="TRUE">20110307</mdDateSt><dataqual><lineage><procstep><procdesc>The NED was downloaded in an ESRI binary grid format in a WinZip file. Once extracted, the grid ned_37057094 was created. These original grids are in a geographic coordinate system, NAD83, with a vertical datum of NAVD88. The cell size of these grids is 0.000278 decimal degrees. These files cover the land portion of the area of interest. The cell values where water occurs is usually set to 0 - not true elevation (bathymetry) values. This process step and all subsequent process steps were carried out by the same person - VeeAnn A. Cross.</procdesc><srcprod>ned_37057094</srcprod><procdate>200705</procdate><proccont><cntinfo><cntperp><cntper>VeeAnn A. Cross</cntper><cntorg>U.S. Geological Survey</cntorg></cntperp><cntpos>Marine Geologist</cntpos><cntaddr><addrtype>mailing and physical address</addrtype><address>Woods Hole Coastal and Marine Science Center</address><address>384 Woods Hole Rd.</address><city>Woods Hole</city><state>MA</state><postal>02543-1598</postal></cntaddr><cntvoice>(508) 548-8700  x2251</cntvoice><cntfax>(508) 457-2310</cntfax><cntemail>vatnipp@usgs.gov</cntemail></cntinfo></proccont></procstep><procstep><procdesc>The LIDAR was downloaded as a binary floating-point raster dataset. This data file was converted to an ESRI binary grid format using ArcMap 9.1 - ArcToolbox - Conversion Tools - To Raster - Float to Raster. The input dataset was vatnipp17193.flt with the output grid named  FloatTo_vatn1. Additionally, the resulting grid needed the projection defined.  Based on the metadata, the projection is Geographic, NAD83. This definition was accomplished in ArcMap 9.1 - ArcToolbox - Data Management Tools - Projections and Transformations - Define Projection. The input dataset was FloatTo_vatn1 and the coordinate system chose was GCS_North_American_1983.</procdesc><srcused>vatnipp17193.flt</srcused><procdate>200706</procdate><srcprod>FloatTo_vatn1</srcprod></procstep><procstep><procdesc>The Chesapeake Estuarine bathymetry dataset was downloaded in DEM format. Chesapeake Bay actually required 3 separate DEM's.  For the Corsica River Estuary the northernmost of those DEM's covered the area of interest. This file was M130_39076C2_BIG3.dem. The original projection of the data is UTM, Zone 18, NAD27 with a cell size of 30 meters. The vertical datum for the bathymetry is referenced to local tidal datum at the time of the hydrographic surveys that make up the dataset. The vertical unit is meters. The Digital Elevation Model (DEM) estuarine files needed to be converted from the USGS DEM format to ESRI grid format. To do that, ArcMap 9.0 - ArcToolbox - Conversion Tools - To Raster - DEM to Raster. The output data type is float, with the Z-factor left to the default value of 1.</procdesc><procdate>200608</procdate><srcused>M130_39076C2_BIG3.dem</srcused><srcprod>big3</srcprod></procstep><procstep><procdesc>The estuarine bathymetry grids then needed to be projected to UTM, Zone 18, NAD83 - basically just a datum transformation. To do this, ArcMap 9.0 - Data Management Tools - Projections and Transformations - Raster - Project Raster. The geographic transformation used was NAD_1927_to NAD_1980_NADCON. The resampling method was bilinear.</procdesc><srcused>big3</srcused><procdate>2006</procdate><srcprod>big3_nad83</srcprod></procstep><procstep><procdesc>The  LIDAR grid data was projected from Geographic, NAD83 to UTM, Zone 18, NAD83.  This was accomplished with ArcMap 9.2 - ArcToolbox - Data Management Tools - Projections and Transformations - Raster - Project Raster. Parameters as follows: input raster: floatto_vatn1; input coordinate system - GCS_North_American_1983; output raster: csc_utm18; output coordinate system: NAD_1983_UTM_Zone_18N; resampling technique: bilinear.  Remainder of the parameters were left to the default. No transformation was necessary.</procdesc><srcused>floatto_vatn1</srcused><procdate>200911</procdate><srcprod>csc_utm18</srcprod></procstep><procstep><procdesc>The NED elevation dataset was projected from the geographic, NAD83 to UTM, Zone 18, NAD83. This was accomplished from ArcInfo command line of ArcGIS 9.1. The command line used to do this was:
&gt;NED_UTM18 = project(ned_37057094, geog2utm, bilinear).
Effectively what this does is project ned_37057094 using the parameters supplied in the file geog2utm using a bilinear interpolation method.
The contents of geog2utm are as follows:
&gt;INPUT
&gt;PROJECTION GEOGRAPHIC
&gt;UNITS DD
&gt;DATUM NAD83
&gt;PARAMETERS
&gt;OUTPUT
&gt;PROJECTION UTM
&gt;UNITS METERS
&gt;ZONE 18
&gt;DATUM NAD83
&gt;PARAMETERS
END</procdesc><srcused>ned_37057094</srcused><procdate>200705</procdate><srcprod>NED_UTM18</srcprod></procstep><procstep><srcused>big3_nad83</srcused><srcused>csc_utm18</srcused><procdesc>With all the individual datasets in ESRI binary grid format, projection UTM, NAD83, I want to combine the datasets. I do this using raster calculator in ArcMap 9.2 using the following command:
merge([big3_nad83], [csc_utm18], [ned_utm18])
Using raster calculator and the merge command, the order of the grids listed is important. The first grid listed has highest priority and will overwrite any values in the same location from the other grids. The second grid listed will overwrite any values in the same location of any grid that comes after it in the list.  So in this case, the estuarine bathymetry dataset was assigned priority 1, the LIDAR data priority 2, and to fill in any remaining gaps, the NED data were used.
This creates a temporary raster dataset. Then within the table of contents in ArcMap, I right mouse click and select Data - Make Permanent.  The resulting output grid is combelev.</procdesc><srcused>ned_utm18</srcused><procdate>200911</procdate><srcprod>combelev</srcprod></procstep><srcinfo><srccite><citeinfo><onlink>http://ned.usgs.gov/</onlink><origin>U.S. Geological Survey (USGS), EROS Data Center</origin><pubdate>1999</pubdate><title>National Elevation Dataset</title><geoform>raster digital data</geoform><pubinfo><pubplace>Sioux Falls, SD</pubplace><publish>U.S. Geological Survey</publish></pubinfo><onlink>http://seamless.usgs.gov/</onlink></citeinfo></srccite><typesrc>online</typesrc><srctime><timeinfo><sngdate><caldate>1999</caldate></sngdate></timeinfo><srccurr>publication date</srccurr></srctime><srccitea>NED</srccitea><srccontr>This dataset provided the bulk of the on land elevation data.</srccontr></srcinfo><srcinfo><srccite><citeinfo><onlink>http://www.csc.noaa.gov/ldart</onlink><origin>NOAA Coastal Services Center Coastal Remote Sensing Program</origin><pubdate>20070613</pubdate><title>2003 Maryland LIDAR mapping project</title><geoform>raster digital data</geoform><onlink>http://www.csc.noaa.gov/lidar</onlink></citeinfo></srccite><typesrc>online</typesrc><srctime><timeinfo><rngdates><begdate>20030301</begdate><enddate>20031130</enddate></rngdates></timeinfo><srccurr>ground condition</srccurr></srctime><srccitea>LIDAR</srccitea><srccontr>The LIDAR data provided the higher resolution land data and helped bridge the small gap between the NED elevation data and the bathymetry data.</srccontr></srcinfo><srcinfo><srccite><citeinfo><origin>Department of Commerce (DOC), National Oceanic and Atmospheric Administration (NOAA), National Ocean Service (NOS), Special Projects (SP) </origin><pubdate>1998</pubdate><title>Chesapeake Bay, VA/MD (M130) Bathymetric Digital Elevation Model (30 meter resolution) Derived From Source Hydrographic Survey Soundings Collected by NOAA </title><geoform>raster digital data</geoform><pubinfo><pubplace>Silver Spring, MD</pubplace><publish>NOAA's Ocean Service, Special Projects (SP)</publish></pubinfo><onlink>http://estuarinebathymetry.noaa.gov/</onlink></citeinfo></srccite><typesrc>online</typesrc><srctime><timeinfo><rngdates><begdate>1859</begdate><enddate>1993</enddate></rngdates></timeinfo><srccurr>ground condition</srccurr></srctime><srccitea>bathy</srccitea>