7.60000000000000
0.00000000000000
0.00000000000000
-7.60000000000000
252453.72899999999000
3257928.04200000040000
