2.43582290626138e-005
0
0
-1.86060167069993e-005
-71.4046200616358
41.3085853914569
