1
0
0
-1
722587.915
4575648.12
