10.0000000000000000
0.0
0.0
-10.0000000000000000
330000.00000000000
4749500.0000000037
