1
0
0
-1
260131
4582821
