0.529883730240090
0.000000000000000
0.000000000000000
-0.529916520074835
561232.246146036540000
5118144.204258648700000
