{"text_format":"1","workbook":"xlsx","n_sheets":8,"sheets":["Start","Final Output","Calculation Sheet","Area.Volume Tables","Runoff","Precipitation","Previous Data","Help"],"not_rendered":{"charts":54,"images":3,"macros":1,"external_links":1,"defined_names":53,"comments":0,"pivot_tables":0},"unopened":[],"bounds":{"document_bytes":16777216,"sheet_cells":100000,"rows_first":2000,"rows_last":500,"rows_between":2000,"halvings":0,"cell_chars":16384,"cell_head_chars":4096},"cells_cut":0,"cells_raw":0,"read":"whole","date_system":"1900"}

{"sheet":"Start","index":0,"n_rows":0,"n_cols":0,"rows_kept":0,"cut":false,"hidden":false,"merged":[]}

{"sheet":"Final Output","index":1,"n_rows":20,"n_cols":18,"rows_kept":20,"cut":false,"hidden":false,"merged":[[14,12,14,17],[16,12,16,17],[3,12,3,17],[4,12,4,13],[5,12,5,17],[9,12,9,17]]}
[]
[]
[null,null,null,null,null,null,null,null,null,null,null,null,null,"Year 1","Year 2","Year 3","Year 4","Year 5"]
[null,null,null,null,null,null,null,null,null,null,null,null,"Gain/Loss during Previous Winter [acre-feet]"]
[null,null,null,null,null,null,null,null,null,null,null,null,null,null,{"$f":"'Calculation Sheet'!J16","v":-200},{"$f":"'Calculation Sheet'!R16","v":-165.60000000000005},{"$f":"'Calculation Sheet'!Z16","v":0},{"$f":"'Calculation Sheet'!AH16","v":0}]
[null,null,null,null,null,null,null,null,null,null,null,null,"Initial Values (April 1)"]
[null,null,null,null,null,null,null,null,null,null,null,null,"Volume\n[acre-feet]",{"$f":"'Calculation Sheet'!C3","v":5506.34},{"$f":"'Calculation Sheet'!K3","v":230.59},{"$f":"'Calculation Sheet'!S3","v":1},{"$f":"'Calculation Sheet'!AA3","v":1},{"$f":"'Calculation Sheet'!AI3","v":1}]
[null,null,null,null,null,null,null,null,null,null,null,null,"Surface Area\n[acres]",{"$f":"'Calculation Sheet'!C4","v":4610},{"$f":"'Calculation Sheet'!K4","v":267},{"$f":"'Calculation Sheet'!S4","v":0},{"$f":"'Calculation Sheet'!AA4","v":0},{"$f":"'Calculation Sheet'!AI4","v":0}]
[null,null,null,null,null,null,null,null,null,null,null,null,"Percent Full",{"$f":"N7/16685.87","v":0.33000017379974794},{"$f":"O7/16685.87","v":1.3819477198372036E-2},{"$f":"P7/16685.87","v":5.9930947562218818E-5},{"$f":"Q7/16685.87","v":5.9930947562218818E-5},{"$f":"R7/16685.87","v":5.9930947562218818E-5}]
[null,null,null,null,null,null,null,null,null,null,null,null,"Inflows [acre-feet]"]
[null,null,null,null,null,null,null,null,null,null,null,null,"Runoff",{"$f":"'Calculation Sheet'!J7","v":157},{"$f":"'Calculation Sheet'!R7","v":353},{"$f":"'Calculation Sheet'!Z7","v":0},{"$f":"'Calculation Sheet'!AH7","v":0},{"$f":"'Calculation Sheet'!AP7","v":0}]
[null,null,null,null,null,null,null,null,null,null,null,null,"Pumped",{"$f":"'Calculation Sheet'!J10","v":0},{"$f":"'Calculation Sheet'!R10","v":0},{"$f":"'Calculation Sheet'!Z10","v":0},{"$f":"'Calculation Sheet'!AH10","v":0},{"$f":"'Calculation Sheet'!AP10","v":0}]
[null,null,null,null,null,null,null,null,null,null,null,null,"Precipitation",{"$f":"'Calculation Sheet'!J6","v":2028},{"$f":"'Calculation Sheet'!R6","v":231},{"$f":"'Calculation Sheet'!Z6","v":0},{"$f":"'Calculation Sheet'!AH6","v":0},{"$f":"'Calculation Sheet'!AP6","v":0}]
[null,null,null,null,null,null,null,null,null,null,null,null,"Total",{"$f":"SUM(N11:N13)","v":2185},{"$f":"SUM(O11:O13)","v":584},{"$f":"SUM(P11:P13)","v":0},{"$f":"SUM(Q11:Q13)","v":0},{"$f":"SUM(R11:R13)","v":0}]
[null,null,null,null,null,null,null,null,null,null,null,null,"Outflow [acre-feet]"]
[null,null,null,null,null,null,null,null,null,null,null,null,"Evaporation",{"$f":"'Calculation Sheet'!J14","v":-7260},{"$f":"'Calculation Sheet'!R14","v":-648},{"$f":"'Calculation Sheet'!Z14","v":0},{"$f":"'Calculation Sheet'!AH14","v":0},{"$f":"'Calculation Sheet'!AP14","v":0}]
[null,null,null,null,null,null,null,null,null,null,null,null,"Ending Values (October 31)"]
[null,null,null,null,null,null,null,null,null,null,null,null,"Volume\n[acre-feet]",{"$f":"'Calculation Sheet'!I15","v":431},{"$f":"'Calculation Sheet'!Q15","v":167},{"$f":"'Calculation Sheet'!Y15","v":1},{"$f":"'Calculation Sheet'!AG15","v":1},{"$f":"'Calculation Sheet'!AO15","v":1}]
[null,null,null,null,null,null,null,null,null,null,null,null,"Surface Area\n[acres]",{"$f":"'Calculation Sheet'!I16","v":376},{"$f":"'Calculation Sheet'!Q16","v":168},{"$f":"'Calculation Sheet'!Y16","v":0},{"$f":"'Calculation Sheet'!AG16","v":0},{"$f":"'Calculation Sheet'!AO16","v":0}]
[null,null,null,null,null,null,null,null,null,null,null,null,"Percent Full",{"$f":"N18/16685.87","v":2.5830238399316308E-2},{"$f":"O18/16685.87","v":1.0008468242890542E-2},{"$f":"P18/16685.87","v":5.9930947562218818E-5},{"$f":"Q18/16685.87","v":5.9930947562218818E-5},{"$f":"R18/16685.87","v":5.9930947562218818E-5}]

{"sheet":"Calculation Sheet","index":2,"n_rows":335,"n_cols":42,"rows_kept":335,"cut":false,"hidden":false,"merged":[[62,0,69,0],[0,34,0,40],[2,0,15,0],[35,0,42,0],[44,0,51,0],[0,26,0,32],[53,0,60,0],[0,2,0,8],[0,10,0,16],[0,18,0,24],[17,0,24,0],[26,0,33,0],[158,9,158,18],[160,9,160,18],[164,9,164,18],[169,9,169,18],[71,0,78,0],[123,9,123,18],[110,9,110,18],[112,9,112,18],[116,9,116,18],[121,9,121,18],[80,0,87,0],[171,9,171,18],[274,9,274,18],[276,9,276,18],[331,9,331,18],[318,9,318,18],[320,9,320,18],[324,9,324,18],[329,9,329,18],[265,9,265,18],[269,9,269,18],[212,9,212,18],[214,9,214,18],[218,9,218,18],[223,9,223,18],[225,9,225,18],[263,9,263,18]]}
[6,null,"Year 1",null,null,null,null,null,null,null,"Year 2",null,null,null,null,null,null,null,"Year 3",null,null,null,null,null,null,null,"Year 4",null,null,null,null,null,null,null,"Year 5"]
[null,null,"Apr.","May","June","July","Aug.","Sept.","Oct.","Carry-over and Totals","Apr.","May","June","July","Aug.","Sept.","Oct.","Carry-over and Totals","Apr.","May","June","July","Aug.","Sept.","Oct.","Carry-over and Totals","Apr.","May","June","July","Aug.","Sept.","Oct.","Carry-over and Totals","Apr.","May","June","July","Aug.","Sept.","Oct.","Totals"]
["All Units","Start Volume [acre-ft]",{"$f":"C18+C27+C36+C45+C54+C63+C72+C81","v":5506.34},4543.8500000000004,3625.76,2722.0699999999997,1359.8199999999997,651.3199999999996,503.74999999999972,-200,{"$f":"K18+K27+K36+K45+K54+K63+K72+K81","v":230.59},200.17999999999998,244.13,310.96000000000004,234.21000000000004,203.55000000000004,194.81000000000006,-200,{"$f":"S18+S27+S36+S45+S54+S63+S72+S81","v":1},1,1,1,1,1,1,-200,{"$f":"AA18+AA27+AA36+AA45+AA54+AA63+AA72+AA81","v":1},1,1,1,1,1,1,-200,{"$f":"AI18+AI27+AI36+AI45+AI54+AI63+AI72+AI81","v":1},1,1,1,1,1,1]
[null,"Start Area [acres]",{"$f":"ROUND(C19+C28+C37+C46+C55+C64+C73+C82,0)","v":4610},{"$f":"ROUND(D19+D28+D37+D46+D55+D64+D73+D82,0)","v":4177},3625,3171,2049,795,439,null,{"$f":"ROUND(K19+K28+K37+K46+K55+K64+K73+K82,0)","v":267},{"$f":"ROUND(L19+L28+L37+L46+L55+L64+L73+L82,0)","v":239},248,249,206,191,186,null,{"$f":"ROUND(S19+S28+S37+S46+S55+S64+S73+S82,0)","v":0},{"$f":"ROUND(T19+T28+T37+T46+T55+T64+T73+T82,0)","v":0},0,0,0,0,0,null,{"$f":"ROUND(AA19+AA28+AA37+AA46+AA55+AA64+AA73+AA82,0)","v":0},{"$f":"ROUND(AB19+AB28+AB37+AB46+AB55+AB64+AB73+AB82,0)","v":0},0,0,0,0,0,null,{"$f":"ROUND(AI19+AI28+AI37+AI46+AI55+AI64+AI73+AI82,0)","v":0},{"$f":"ROUND(AJ19+AJ28+AJ37+AJ46+AJ55+AJ64+AJ73+AJ82,0)","v":0},0,0,0,0,0]
[null,"Precipitation [in]",0.95,1.59,1.8,1.02,1.18,1.02,0.59,null,1.24,2.09,2.35,1.34,1.54,1.33,0.77]
[null,"Precipitation [acre-ft]",{"$f":"ROUND(C20+C29+C38+C47+C56+C65+C74+C83,0)","v":365},{"$f":"ROUND(D20+D29+D38+D47+D56+D65+D74+D83,0)","v":555},546,270,202,68,22,{"$f":"SUM(C6:I6)","v":2028},{"$f":"ROUND(K20+K29+K38+K47+K56+K65+K74+K83,0)","v":29},{"$f":"ROUND(L20+L29+L38+L47+L56+L65+L74+L83,0)","v":51},58,29,29,23,12,{"$f":"SUM(K6:Q6)","v":231},{"$f":"ROUND(S20+S29+S38+S47+S56+S65+S74+S83,0)","v":0},{"$f":"ROUND(T20+T29+T38+T47+T56+T65+T74+T83,0)","v":0},0,0,0,0,0,{"$f":"SUM(S6:Y6)","v":0},{"$f":"ROUND(AA20+AA29+AA38+AA47+AA56+AA65+AA74+AA83,0)","v":0},{"$f":"ROUND(AB20+AB29+AB38+AB47+AB56+AB65+AB74+AB83,0)","v":0},0,0,0,0,0,{"$f":"SUM(AA6:AG6)","v":0},{"$f":"ROUND(AI20+AI29+AI38+AI47+AI56+AI65+AI74+AI83,0)","v":0},{"$f":"ROUND(AJ20+AJ29+AJ38+AJ47+AJ56+AJ65+AJ74+AJ83,0)","v":0},0,0,0,0,0,{"$f":"SUM(AI6:AO6)","v":0}]
[null,"Runoff [acre-ft]",6,48,67,9,18,9,0,{"$f":"SUM(C7:I7)","v":157},22,99,132,28,44,28,0,{"$f":"SUM(K7:Q7)","v":353},0,0,0,0,0,0,0,{"$f":"SUM(S7:Y7)","v":0},0,0,0,0,0,0,0,{"$f":"SUM(AA7:AG7)","v":0},0,0,0,0,0,0,0,{"$f":"SUM(AI7:AO7)","v":0}]
[null,"Allocated Runoff [acre-ft]",{"$f":"ROUND(C21+C30+C39+C48+C57+C66+C75+C84,2)","v":6},48,67,9,18,9,0,null,{"$f":"ROUND(K21+K30+K39+K48+K57+K66+K75+K84,2)","v":22},99,132,28,{"$f":"ROUND(O21+O30+O39+O48+O57+O66+O75+O84,2)","v":44},28,0,null,{"$f":"ROUND(S21+S30+S39+S48+S57+S66+S75+S84,2)","v":0},0,0,0,0,0,0,null,{"$f":"ROUND(AA21+AA30+AA39+AA48+AA57+AA66+AA75+AA84,2)","v":0},0,0,0,0,0,0,null,{"$f":"ROUND(AI21+AI30+AI39+AI48+AI57+AI66+AI75+AI84,2)","v":0},0,0,0,0,0,0]
[null,"Unallocated Runoff [acre-ft]",{"$f":"ROUND(C7-C8,2)","v":0},0,0,0,0,0,0,{"$f":"SUM(C9:I9)","v":0},{"$f":"ROUND(K7-K8,2)","v":0},0,0,0,0,0,0,{"$f":"SUM(K9:Q9)","v":0},{"$f":"ROUND(S7-S8,2)","v":0},0,0,0,0,0,0,{"$f":"SUM(S9:Y9)","v":0},{"$f":"ROUND(AA7-AA8,2)","v":0},0,0,0,0,0,0,{"$f":"SUM(AA9:AG9)","v":0},{"$f":"ROUND(AI7-AI8,2)","v":0},0,0,0,0,0,0,{"$f":"SUM(AI9:AO9)","v":0}]
[null,"Pumped [acre-ft]",{"$f":"ROUND(C22+C31+C40+C49+C58+C67+C76+C85,2)","v":0},0,0,0,0,0,0,{"$f":"SUM(C10:I10)","v":0},{"$f":"ROUND(K22+K31+K40+K49+K58+K67+K76+K85,2)","v":0},0,0,0,0,0,0,{"$f":"SUM(K10:Q10)","v":0},{"$f":"ROUND(S22+S31+S40+S49+S58+S67+S76+S85,2)","v":0},0,0,0,0,0,0,{"$f":"SUM(S10:Y10)","v":0},{"$f":"ROUND(AA22+AA31+AA40+AA49+AA58+AA67+AA76+AA85,2)","v":0},0,0,0,0,0,0,{"$f":"SUM(AA10:AG10)","v":0},{"$f":"ROUND(AI22+AI31+AI40+AI49+AI58+AI67+AI76+AI85,2)","v":0},0,0,0,0,0,0,{"$f":"SUM(AI10:AO10)","v":0}]
[null,"Total Inflow [acre-ft]",{"$f":"ROUND(C7+C10,2)","v":6},48,67,9,18,9,0,null,{"$f":"ROUND(K7+K10,2)","v":22},99,132,28,44,28,0,null,{"$f":"ROUND(S7+S10,2)","v":0},0,0,0,0,0,0,null,{"$f":"ROUND(AA7+AA10,2)","v":0},0,0,0,0,0,0,null,{"$f":"ROUND(AI7+AI10,2)","v":0},0,0,0,0,0,0]
[null,"Pan Evaporation [in]",4.5,5.66,6.51,8.16,7.19,4.5,3.37,null,4.5,5.66,6.51,8.16,7.19,4.5,3.37,null,4.5,5.66,6.51,8.16,7.19,4.5,3.37,null,4.5,5.66,6.51,8.16,7.19,4.5,3.37,null,4.5,5.66,6.51,8.16,7.19,4.5,3.37]
[null,"Adjusted Evaporation [in]",{"$f":"ROUND(C12*$C$90,2)","v":3.47},{"$f":"ROUND(D12*$C$90,2)","v":4.3600000000000003},5.01,6.28,5.54,3.47,2.59,null,{"$f":"ROUND(K12*$C$90,2)","v":3.47},4.3600000000000003,5.01,6.28,5.54,3.47,2.59,null,{"$f":"ROUND(S12*$C$90,2)","v":3.47},4.3600000000000003,5.01,6.28,5.54,3.47,2.59,null,{"$f":"ROUND(AA12*$C$90,2)","v":3.47},4.3600000000000003,5.01,6.28,5.54,3.47,2.59,null,{"$f":"ROUND(AI12*$C$90,2)","v":3.47},4.3600000000000003,5.01,6.28,5.54,3.47,2.59]
[null,"Evaporation [acre-ft]",{"$f":"ROUND(C23+C32+C41+C50+C59+C68+C77+C86,0)","v":-1334},{"$f":"ROUND(D23+D32+D41+D50+D59+D68+D77+D86,0)","v":-1521},-1517,-1641,-928,-224,-95,{"$f":"SUM(C14:I14)","v":-7260},{"$f":"ROUND(K23+K32+K41+K50+K59+K68+K77+K86,0)","v":-82},{"$f":"ROUND(L23+L32+L41+L50+L59+L68+L77+L86,0)","v":-106},-123,-134,-103,-60,-40,{"$f":"SUM(K14:Q14)","v":-648},{"$f":"ROUND(S23+S32+S41+S50+S59+S68+S77+S86,0)","v":0},{"$f":"ROUND(T23+T32+T41+T50+T59+T68+T77+T86,0)","v":0},0,0,0,0,0,{"$f":"SUM(S14:Y14)","v":0},{"$f":"ROUND(AA23+AA32+AA41+AA50+AA59+AA68+AA77+AA86,0)","v":0},{"$f":"ROUND(AB23+AB32+AB41+AB50+AB59+AB68+AB77+AB86,0)","v":0},0,0,0,0,0,{"$f":"SUM(AA14:AG14)","v":0},{"$f":"ROUND(AI23+AI32+AI41+AI50+AI59+AI68+AI77+AI86,0)","v":0},{"$f":"ROUND(AJ23+AJ32+AJ41+AJ50+AJ59+AJ68+AJ77+AJ86,0)","v":0},0,0,0,0,0,{"$f":"SUM(AI14:AO14)","v":0}]
[null,"End Volume [acre-ft]",{"$f":"ROUND(C24+C33+C42+C51+C60+C69+C78+C87,0)","v":4544},3626,2722,1360,651,504,431,null,{"$f":"ROUND(K24+K33+K42+K51+K60+K69+K78+K87,0)","v":200},244,311,234,204,195,167,null,{"$f":"ROUND(S24+S33+S42+S51+S60+S69+S78+S87,0)","v":1},1,1,1,1,1,1,null,{"$f":"ROUND(AA24+AA33+AA42+AA51+AA60+AA69+AA78+AA87,0)","v":1},1,1,1,1,1,1,null,{"$f":"ROUND(AI24+AI33+AI42+AI51+AI60+AI69+AI78+AI87,0)","v":1},1,1,1,1,1,1]
[null,"End Area [acres]",{"$f":"ROUND(C25+C34+C43+C52+C61+C70+C79+C88,0)","v":4177},3625,3171,2049,795,439,376,{"$f":"SUM(J18,J27,J36,J45,J54,J63,J72,J81)","v":-200},{"$f":"ROUND(K25+K34+K43+K52+K61+K70+K79+K88,0)","v":239},248,249,206,191,186,168,{"$f":"SUM(R18,R27,R36,R45,R54,R63,R72,R81)","v":-165.60000000000005},{"$f":"ROUND(S25+S34+S43+S52+S61+S70+S79+S88,0)","v":0},0,0,0,0,0,0,{"$f":"SUM(Z18,Z27,Z36,Z45,Z54,Z63,Z72,Z81)","v":0},{"$f":"ROUND(AA25+AA34+AA43+AA52+AA61+AA70+AA79+AA88,0)","v":0},0,0,0,0,0,0,{"$f":"SUM(AH18,AH27,AH36,AH45,AH54,AH63,AH72,AH81)","v":0},{"$f":"ROUND(AI25+AI34+AI43+AI52+AI61+AI70+AI79+AI88,0)","v":0},0,0,0,0,0,0]
[]
["Unit 1","Starting Volume [acre-ft]",{"$f":"ROUND('Previous Data'!C70,2)","v":752.4},{"$f":"C24","v":684.9},652.56999999999994,627.00999999999988,491.35999999999984,400.3599999999999,354.84999999999991,{"$f":"IF($I$16=0,0,IF(-1*($J$3*(I25/(SUM(I$25,I$34,I$43,I$52,I$61,I$70,I$79,I$88))))<I24,$J$3*(I25/(SUM(I$25,I$34,I$43,I$52,I$61,I$70,I$79,I$88))),-I24))","v":-125.53191489361701},{"$f":"ROUND(I24+J18,2)","v":187.32},{"$f":"K24","v":172.89},229.51,305.65000000000003,233.21000000000004,202.55000000000004,193.81000000000006,{"$f":"IF($Q$16=0,0,IF(-1*($R$3*(Q25/(SUM(Q$25,Q$34,Q$43,Q$52,Q$61,Q$70,Q$79,Q$88))))<Q24,$R$3*(Q25/(SUM(Q$25,Q$34,Q$43,Q$52,Q$61,Q$70,Q$79,Q$88))),-Q24))","v":-165.60000000000005},{"$f":"ROUND(Q24+R18,2)","v":0},{"$f":"S24","v":0},0,0,0,0,0,{"$f":"IF($Y$16=0,0,IF(-1*($Z$3*(Y25/(SUM(Y$25,Y$34,Y$43,Y$52,Y$61,Y$70,Y$79,Y$88))))<Y24,$Z$3*(Y25/(SUM(Y$25,Y$34,Y$43,Y$52,Y$61,Y$70,Y$79,Y$88))),-Y24))","v":0},{"$f":"ROUND(Y24+Z18,2)","v":0},{"$f":"AA24","v":0},0,0,0,0,0,{"$f":"IF($AG$16=0,0,IF(-1*($AH$3*(AG25/(SUM(AG$25,AG$34,AG$43,AG$52,AG$61,AG$70,AG$79,AG$88))))<AG24,$AH$3*(AG25/(SUM(AG$25,AG$34,AG$43,AG$52,AG$61,AG$70,AG$79,AG$88))),-AG24))","v":0},{"$f":"ROUND(AG24+AH18,2)","v":0},{"$f":"AI24","v":0},0,0,0,0,0]
[null,"Starting Area [acres]",{"$f":"ROUND(IF(C18>0,VLOOKUP(C18,Table.Pool1.area.volume,2,TRUE),0),2)","v":348},{"$f":"IF(D18>0,VLOOKUP(D18,Table.Pool1.area.volume,2,TRUE),0)","v":340},332,330,295,267,252,null,{"$f":"IF(K18>0,VLOOKUP(K18,Table.Pool1.area.volume,2,TRUE),0)","v":181},172,206,232,206,191,186,null,{"$f":"IF(S18>0,VLOOKUP(S18,Table.Pool1.area.volume,2,TRUE),0)","v":0},0,0,0,0,0,0,null,{"$f":"IF(AA18>0,VLOOKUP(AA18,Table.Pool1.area.volume,2,TRUE),0)","v":0},0,0,0,0,0,0,null,{"$f":"IF(AI18>0,VLOOKUP(AI18,Table.Pool1.area.volume,2,TRUE),0)","v":0},0,0,0,0,0,0]
[null,"Precip [acre-ft]",{"$f":"ROUND(VLOOKUP(SUM(C18,C22,C21),Table.Pool1.area.volume,2,TRUE)*C5/12,2)","v":27.71},46.11,51.9,28.05,29.5,22.7,12.39,null,{"$f":"ROUND(VLOOKUP(SUM(K18,K22,K21),Table.Pool1.area.volume,2,TRUE)*K5/12,2)","v":20.25},39.01,49.35,27.25,28.75,22.83,11.94,null,{"$f":"ROUND(VLOOKUP(SUM(S18,S22,S21),Table.Pool1.area.volume,2,TRUE)*S5/12,2)","v":0},0,0,0,0,0,0,null,{"$f":"ROUND(VLOOKUP(SUM(AA18,AA22,AA21),Table.Pool1.area.volume,2,TRUE)*AA5/12,2)","v":0},0,0,0,0,0,0,null,{"$f":"ROUND(VLOOKUP(SUM(AI18,AI22,AI21),Table.Pool1.area.volume,2,TRUE)*AI5/12,2)","v":0},0,0,0,0,0,0]
[null,"Runoff [acre-ft]",6,48,67,9,18,9,0,null,22,99,132,28,44,28,0,null,0,0,0,0,0,0,0,null,0,0,0,0,0,0,0,null,0,0,0,0,0,0,0]
[null,"Pump [acre-ft]",0,0,0,0,0,0,0,{"$f":"SUM(C21:I22)","v":157},0,0,0,0,0,0,0,{"$f":"SUM(K21:Q22)","v":353},0,0,0,0,0,0,0,{"$f":"SUM(S21:Y22)","v":0},0,0,0,0,0,0,0,{"$f":"SUM(AA21:AG22)","v":0},0,0,0,0,0,0,0,{"$f":"SUM(AI21:AO22)","v":0}]
[null,"Evap [acre-ft]",{"$f":"ROUND(IF(SUM(C18,C22,C21,C20)-(VLOOKUP(SUM(C18,C22,C21),Table.Pool1.area.volume,2,TRUE)*C$13/12)>0,(-VLOOKUP(SUM(C18,C22,C21),Table.Pool1.area.volume,2,TRUE)*C$13/12),-SUM(C18,C22,C21,C20)),2)","v":-101.21},-126.44,-144.46,-172.7,-138.5,-77.209999999999994,-54.39,null,{"$f":"ROUND(IF(SUM(K18,K22,K21,K20)-(VLOOKUP(SUM(K18,K22,K21),Table.Pool1.area.volume,2,TRUE)*K$13/12)>0,(-VLOOKUP(SUM(K18,K22,K21),Table.Pool1.area.volume,2,TRUE)*K$13/12),-SUM(K18,K22,K21,K20)),2)","v":-56.68},-81.39,-105.21,-127.69,-103.41,-59.57,-40.15,null,{"$f":"ROUND(IF(SUM(S18,S22,S21,S20)-(VLOOKUP(SUM(S18,S22,S21),Table.Pool1.area.volume,2,TRUE)*S$13/12)>0,(-VLOOKUP(SUM(S18,S22,S21),Table.Pool1.area.volume,2,TRUE)*S$13/12),-SUM(S18,S22,S21,S20)),2)","v":0},0,0,0,0,0,0,null,{"$f":"ROUND(IF(SUM(AA18,AA22,AA21,AA20)-(VLOOKUP(SUM(AA18,AA22,AA21),Table.Pool1.area.volume,2,TRUE)*AA$13/12)>0,(-VLOOKUP(SUM(AA18,AA22,AA21),Table.Pool1.area.volume,2,TRUE)*AA$13/12),-SUM(AA18,AA22,AA21,AA20)),2)","v":0},0,0,0,0,0,0,null,{"$f":"ROUND(IF(SUM(AI18,AI22,AI21,AI20)-(VLOOKUP(SUM(AI18,AI22,AI21),Table.Pool1.area.volume,2,TRUE)*AI$13/12)>0,(-VLOOKUP(SUM(AI18,AI22,AI21),Table.Pool1.area.volume,2,TRUE)*AI$13/12),-SUM(AI18,AI22,AI21,AI20)),2)","v":0},0,0,0,0,0,0]
[null,"Ending Volume [acre-ft]",{"$f":"IF(SUM(C18,C20,C21,C22,C23)>0,SUM(C18,C20,C21,C22,C23),0)","v":684.9},{"$f":"IF(SUM(D18,D20,D21,D22,D23)>0,SUM(D18,D20,D21,D22,D23),0)","v":652.56999999999994},627.00999999999988,491.35999999999984,400.3599999999999,354.84999999999991,312.84999999999991,{"$f":"K18","v":187.32},{"$f":"IF(SUM(K18,K20,K21,K22,K23)>0,SUM(K18,K20,K21,K22,K23),0)","v":172.89},229.51,305.65000000000003,233.21000000000004,202.55000000000004,193.81000000000006,165.60000000000005,{"$f":"S18","v":0},{"$f":"IF(SUM(S18,S20,S21,S22,S23)>0,SUM(S18,S20,S21,S22,S23),0)","v":0},0,0,0,0,0,0,{"$f":"AA18","v":0},{"$f":"IF(SUM(AA18,AA20,AA21,AA22,AA23)>0,SUM(AA18,AA20,AA21,AA22,AA23),0)","v":0},0,0,0,0,0,0,{"$f":"AI18","v":0},{"$f":"IF(SUM(AI18,AI20,AI21,AI22,AI23)>0,SUM(AI18,AI20,AI21,AI22,AI23),0)","v":0},0,0,0,0,0,0]
[null,"Ending Area [acres]",{"$f":"IF(C24>0,VLOOKUP(C24,Table.Pool1.area.volume,2,TRUE),0)","v":340},332,330,295,267,252,236,{"$f":"K19","v":181},{"$f":"IF(K24>0,VLOOKUP(K24,Table.Pool1.area.volume,2,TRUE),0)","v":172},206,232,206,191,186,168,{"$f":"S19","v":0},{"$f":"IF(S24>0,VLOOKUP(S24,Table.Pool1.area.volume,2,TRUE),0)","v":0},0,0,0,0,0,0,{"$f":"AA19","v":0},{"$f":"IF(AA24>0,VLOOKUP(AA24,Table.Pool1.area.volume,2,TRUE),0)","v":0},0,0,0,0,0,0,{"$f":"AI19","v":0},{"$f":"IF(AI24>0,VLOOKUP(AI24,Table.Pool1.area.volume,2,TRUE),0)","v":0},0,0,0,0,0,0]
[]
["Unit 2","Starting Volume [acre-ft]",{"$f":"ROUND('Previous Data'!C71,2)","v":690.36},{"$f":"C33","v":590.61},490.89,397.26,264.01,180.80999999999997,143.23999999999998,{"$f":"IF($I$16=0,0,IF(-1*($J$3*(I34/(SUM(I$25,I$34,I$43,I$52,I$61,I$70,I$79,I$88))))<I33,$J$3*(I34/(SUM(I$25,I$34,I$43,I$52,I$61,I$70,I$79,I$88))),-I33))","v":-74.468085106382972},{"$f":"ROUND(I33+J27,2)","v":42.27},{"$f":"K33","v":26.290000000000003},13.620000000000001,4.3100000000000023,0,0,0,{"$f":"IF($Q$16=0,0,IF(-1*($R$3*(Q34/(SUM(Q$25,Q$34,Q$43,Q$52,Q$61,Q$70,Q$79,Q$88))))<Q33,$R$3*(Q34/(SUM(Q$25,Q$34,Q$43,Q$52,Q$61,Q$70,Q$79,Q$88))),-Q33))","v":0},{"$f":"ROUND(Q33+R27,2)","v":0},{"$f":"S33","v":0},0,0,0,0,0,{"$f":"IF($Y$16=0,0,IF(-1*($Z$3*(Y34/(SUM(Y$25,Y$34,Y$43,Y$52,Y$61,Y$70,Y$79,Y$88))))<Y33,$Z$3*(Y34/(SUM(Y$25,Y$34,Y$43,Y$52,Y$61,Y$70,Y$79,Y$88))),-Y33))","v":0},{"$f":"ROUND(Y33+Z27,2)","v":0},{"$f":"AA33","v":0},0,0,0,0,0,{"$f":"IF($AG$16=0,0,IF(-1*($AH$3*(AG34/(SUM(AG$25,AG$34,AG$43,AG$52,AG$61,AG$70,AG$79,AG$88))))<AG33,$AH$3*(AG34/(SUM(AG$25,AG$34,AG$43,AG$52,AG$61,AG$70,AG$79,AG$88))),-AG33))","v":0},{"$f":"ROUND(AG33+AH27,2)","v":0},{"$f":"AI33","v":0},0,0,0,0,0]
[null,"Starting Area [acres]",{"$f":"IF(C27>0,VLOOKUP(C27,Table.Pool2.area.volume,2,TRUE),0)","v":475},432,350,304,229,184,159,null,{"$f":"IF(K27>0,VLOOKUP(K27,Table.Pool2.area.volume,2,TRUE),0)","v":86},67,42,17,0,0,0,null,{"$f":"IF(S27>0,VLOOKUP(S27,Table.Pool2.area.volume,2,TRUE),0)","v":0},0,0,0,0,0,0,null,{"$f":"IF(AA27>0,VLOOKUP(AA27,Table.Pool2.area.volume,2,TRUE),0)","v":0},0,0,0,0,0,0,null,{"$f":"IF(AI27>0,VLOOKUP(AI27,Table.Pool2.area.volume,2,TRUE),0)","v":0},0,0,0,0,0,0]
[null,"Precip [acre-ft]",{"$f":"ROUND(VLOOKUP(SUM(C27,C31,C30),Table.Pool2.area.volume,2,TRUE)*C5/12,2)","v":37.6},57.24,52.5,25.84,22.52,15.64,7.82,null,{"$f":"ROUND(VLOOKUP(SUM(K27,K31,K30),Table.Pool2.area.volume,2,TRUE)*K5/12,2)","v":8.89},11.67,8.23,1.9,0,0,0,null,{"$f":"ROUND(VLOOKUP(SUM(S27,S31,S30),Table.Pool2.area.volume,2,TRUE)*S5/12,2)","v":0},0,0,0,0,0,0,null,{"$f":"ROUND(VLOOKUP(SUM(AA27,AA31,AA30),Table.Pool2.area.volume,2,TRUE)*AA5/12,2)","v":0},0,0,0,0,0,0,null,{"$f":"ROUND(VLOOKUP(SUM(AI27,AI31,AI30),Table.Pool2.area.volume,2,TRUE)*AI5/12,2)","v":0},0,0,0,0,0,0]
[null,"Runoff [acre-ft]",0,0,0,0,0,0,0,null,0,0,0,0,0,0,0,null,0,0,0,0,0,0,0,null,0,0,0,0,0,0,0,null,0,0,0,0,0,0,0]
[null,"Pump [acre-ft]",0,0,0,0,0,0,0,{"$f":"SUM(C30:I31)","v":0},0,0,0,0,0,0,0,{"$f":"SUM(K30:Q31)","v":0},0,0,0,0,0,0,0,{"$f":"SUM(S30:Y31)","v":0},0,0,0,0,0,0,0,{"$f":"SUM(AA30:AG31)","v":0},0,0,0,0,0,0,0,{"$f":"SUM(AI30:AO31)","v":0}]
[null,"Evap [acre-ft]",{"$f":"ROUND(IF(SUM(C27,C31,C30,C29)-(VLOOKUP(SUM(C27,C31,C30),Table.Pool2.area.volume,2,TRUE)*C13/12)>0,(-VLOOKUP(SUM(C27,C31,C30),Table.Pool2.area.volume,2,TRUE)*C13/12),-SUM(C27,C31,C30,C29)),2)","v":-137.35},-156.96,-146.13,-159.09,-105.72,-53.21,-34.32,null,{"$f":"ROUND(IF(SUM(K27,K31,K30,K29)-(VLOOKUP(SUM(K27,K31,K30),Table.Pool2.area.volume,2,TRUE)*K13/12)>0,(-VLOOKUP(SUM(K27,K31,K30),Table.Pool2.area.volume,2,TRUE)*K13/12),-SUM(K27,K31,K30,K29)),2)","v":-24.87},-24.34,-17.54,-6.21,0,0,0,null,{"$f":"ROUND(IF(SUM(S27,S31,S30,S29)-(VLOOKUP(SUM(S27,S31,S30),Table.Pool2.area.volume,2,TRUE)*S13/12)>0,(-VLOOKUP(SUM(S27,S31,S30),Table.Pool2.area.volume,2,TRUE)*S13/12),-SUM(S27,S31,S30,S29)),2)","v":0},0,0,0,0,0,0,null,{"$f":"ROUND(IF(SUM(AA27,AA31,AA30,AA29)-(VLOOKUP(SUM(AA27,AA31,AA30),Table.Pool2.area.volume,2,TRUE)*AA13/12)>0,(-VLOOKUP(SUM(AA27,AA31,AA30),Table.Pool2.area.volume,2,TRUE)*AA13/12),-SUM(AA27,AA31,AA30,AA29)),2)","v":0},0,0,0,0,0,0,null,{"$f":"ROUND(IF(SUM(AI27,AI31,AI30,AI29)-(VLOOKUP(SUM(AI27,AI31,AI30),Table.Pool2.area.volume,2,TRUE)*AI13/12)>0,(-VLOOKUP(SUM(AI27,AI31,AI30),Table.Pool2.area.volume,2,TRUE)*AI13/12),-SUM(AI27,AI31,AI30,AI29)),2)","v":0},0,0,0,0,0,0]
[null,"Ending Volume [acre-ft]",{"$f":"IF(SUM(C27,C29,C30,C31,C32)>0,SUM(C27,C29,C30,C31,C32),0)","v":590.61},490.89,397.26,264.01,180.80999999999997,143.23999999999998,116.73999999999998,{"$f":"K27","v":42.27},{"$f":"IF(SUM(K27,K29,K30,K31,K32)>0,SUM(K27,K29,K30,K31,K32),0)","v":26.290000000000003},13.620000000000001,4.3100000000000023,0,0,0,0,{"$f":"S27","v":0},{"$f":"IF(SUM(S27,S29,S30,S31,S32)>0,SUM(S27,S29,S30,S31,S32),0)","v":0},0,0,0,0,0,0,{"$f":"AA27","v":0},{"$f":"IF(SUM(AA27,AA29,AA30,AA31,AA32)>0,SUM(AA27,AA29,AA30,AA31,AA32),0)","v":0},0,0,0,0,0,0,{"$f":"AI27","v":0},{"$f":"IF(SUM(AI27,AI29,AI30,AI31,AI32)>0,SUM(AI27,AI29,AI30,AI31,AI32),0)","v":0},0,0,0,0,0,0]
[null,"Ending Area [acres]",{"$f":"IF(C33>0,VLOOKUP(C33,Table.Pool2.area.volume,2,TRUE),0)","v":432},350,304,229,184,159,140,{"$f":"K28","v":86},{"$f":"IF(K33>0,VLOOKUP(K33,Table.Pool2.area.volume,2,TRUE),0)","v":67},42,17,0,0,0,0,{"$f":"S28","v":0},{"$f":"IF(S33>0,VLOOKUP(S33,Table.Pool2.area.volume,2,TRUE),0)","v":0},0,0,0,0,0,0,{"$f":"AA28","v":0},{"$f":"IF(AA33>0,VLOOKUP(AA33,Table.Pool2.area.volume,2,TRUE),0)","v":0},0,0,0,0,0,0,{"$f":"AI28","v":0},{"$f":"IF(AI33>0,VLOOKUP(AI33,Table.Pool2.area.volume,2,TRUE),0)","v":0},0,0,0,0,0,0]
[]
["Unit 3","Starting Volume [acre-ft]",{"$f":"ROUND('Previous Data'!C72,2)","v":1347.72},{"$f":"C42","v":1132.26},903.74,650.41999999999996,258.98999999999995,35.909999999999968,0,{"$f":"IF($I$16=0,0,IF(-1*($J$3*(I43/(SUM(I$25,I$34,I$43,I$52,I$61,I$70,I$79,I$88))))<I42,$J$3*(I43/(SUM(I$25,I$34,I$43,I$52,I$61,I$70,I$79,I$88))),-I42))","v":0},{"$f":"ROUND(I42+J36,2)","v":0},{"$f":"K42","v":0},0,0,0,0,0,{"$f":"IF($Q$16=0,0,IF(-1*($R$3*(Q43/(SUM(Q$25,Q$34,Q$43,Q$52,Q$61,Q$70,Q$79,Q$88))))<Q42,$R$3*(Q43/(SUM(Q$25,Q$34,Q$43,Q$52,Q$61,Q$70,Q$79,Q$88))),-Q42))","v":0},{"$f":"ROUND(Q42+R36,2)","v":0},{"$f":"S42","v":0},0,0,0,0,0,{"$f":"IF($Y$16=0,0,IF(-1*($Z$3*(Y43/(SUM(Y$25,Y$34,Y$43,Y$52,Y$61,Y$70,Y$79,Y$88))))<Y42,$Z$3*(Y43/(SUM(Y$25,Y$34,Y$43,Y$52,Y$61,Y$70,Y$79,Y$88))),-Y42))","v":0},{"$f":"ROUND(Y42+Z36,2)","v":0},{"$f":"AA42","v":0},0,0,0,0,0,{"$f":"IF($AG$16=0,0,IF(-1*($AH$3*(AG43/(SUM(AG$25,AG$34,AG$43,AG$52,AG$61,AG$70,AG$79,AG$88))))<AG42,$AH$3*(AG43/(SUM(AG$25,AG$34,AG$43,AG$52,AG$61,AG$70,AG$79,AG$88))),-AG42))","v":0},{"$f":"ROUND(AG42+AH36,2)","v":0},{"$f":"AI42","v":0},0,0,0,0,0]
[null,"Starting Area [acres]",{"$f":"IF(C36>0,VLOOKUP(C36,Table.Pool3.area.volume,2,TRUE),0)","v":1026},990,947,893,614,204,0,null,{"$f":"IF(K36>0,VLOOKUP(K36,Table.Pool3.area.volume,2,TRUE),0)","v":0},0,0,0,0,0,0,null,{"$f":"IF(S36>0,VLOOKUP(S36,Table.Pool3.area.volume,2,TRUE),0)","v":0},0,0,0,0,0,0,null,{"$f":"IF(AA36>0,VLOOKUP(AA36,Table.Pool3.area.volume,2,TRUE),0)","v":0},0,0,0,0,0,0,null,{"$f":"IF(AI36>0,VLOOKUP(AI36,Table.Pool3.area.volume,2,TRUE),0)","v":0},0,0,0,0,0,0]
[null,"Precip [acre-ft]",{"$f":"ROUND(VLOOKUP(SUM(C36,C40,C39),Table.Pool3.area.volume,2,TRUE)*C5/12,2)","v":81.23},131.18,142.05000000000001,75.91,60.38,17.34,0,null,{"$f":"ROUND(VLOOKUP(SUM(K36,K40,K39),Table.Pool3.area.volume,2,TRUE)*K5/12,2)","v":0},0,0,0,0,0,0,null,{"$f":"ROUND(VLOOKUP(SUM(S36,S40,S39),Table.Pool3.area.volume,2,TRUE)*S5/12,2)","v":0},0,0,0,0,0,0,null,{"$f":"ROUND(VLOOKUP(SUM(AA36,AA40,AA39),Table.Pool3.area.volume,2,TRUE)*AA5/12,2)","v":0},0,0,0,0,0,0,null,{"$f":"ROUND(VLOOKUP(SUM(AI36,AI40,AI39),Table.Pool3.area.volume,2,TRUE)*AI5/12,2)","v":0},0,0,0,0,0,0]
[null,"Runoff [acre-ft]",0,0,0,0,0,0,0,null,0,0,0,0,0,0,0,null,0,0,0,0,0,0,0,null,0,0,0,0,0,0,0,null,0,0,0,0,0,0,0]
[null,"Pump [acre-ft]",0,0,0,0,0,0,0,{"$f":"SUM(C39:I40)","v":0},0,0,0,0,0,0,0,{"$f":"SUM(K39:Q40)","v":0},0,0,0,0,0,0,0,{"$f":"SUM(S39:Y40)","v":0},0,0,0,0,0,0,0,{"$f":"SUM(AA39:AG40)","v":0},0,0,0,0,0,0,0,{"$f":"SUM(AI39:AO40)","v":0}]
[null,"Evap [acre-ft]",{"$f":"ROUND(IF(SUM(C36,C40,C39,C38)-(VLOOKUP(SUM(C36,C40,C39),Table.Pool3.area.volume,2,TRUE)*C13/12)>0,(-VLOOKUP(SUM(C36,C40,C39),Table.Pool3.area.volume,2,TRUE)*C13/12),-SUM(C36,C40,C39,C38)),2)","v":-296.69},-359.7,-395.37,-467.34,-283.45999999999998,-53.25,0,null,{"$f":"ROUND(IF(SUM(K36,K40,K39,K38)-(VLOOKUP(SUM(K36,K40,K39),Table.Pool3.area.volume,2,TRUE)*K13/12)>0,(-VLOOKUP(SUM(K36,K40,K39),Table.Pool3.area.volume,2,TRUE)*K13/12),-SUM(K36,K40,K39,K38)),2)","v":0},0,0,0,0,0,0,null,{"$f":"ROUND(IF(SUM(S36,S40,S39,S38)-(VLOOKUP(SUM(S36,S40,S39),Table.Pool3.area.volume,2,TRUE)*S13/12)>0,(-VLOOKUP(SUM(S36,S40,S39),Table.Pool3.area.volume,2,TRUE)*S13/12),-SUM(S36,S40,S39,S38)),2)","v":0},0,0,0,0,0,0,null,{"$f":"ROUND(IF(SUM(AA36,AA40,AA39,AA38)-(VLOOKUP(SUM(AA36,AA40,AA39),Table.Pool3.area.volume,2,TRUE)*AA13/12)>0,(-VLOOKUP(SUM(AA36,AA40,AA39),Table.Pool3.area.volume,2,TRUE)*AA13/12),-SUM(AA36,AA40,AA39,AA38)),2)","v":0},0,0,0,0,0,0,null,{"$f":"ROUND(IF(SUM(AI36,AI40,AI39,AI38)-(VLOOKUP(SUM(AI36,AI40,AI39),Table.Pool3.area.volume,2,TRUE)*AI13/12)>0,(-VLOOKUP(SUM(AI36,AI40,AI39),Table.Pool3.area.volume,2,TRUE)*AI13/12),-SUM(AI36,AI40,AI39,AI38)),2)","v":0},0,0,0,0,0,0]
[null,"Ending Volume [acre-ft]",{"$f":"IF(SUM(C36,C38,C39,C40,C41)>0,SUM(C36,C38,C39,C40,C41),0)","v":1132.26},903.74,650.41999999999996,258.98999999999995,35.909999999999968,0,0,{"$f":"K36","v":0},{"$f":"IF(SUM(K36,K38,K39,K40,K41)>0,SUM(K36,K38,K39,K40,K41),0)","v":0},0,0,0,0,0,0,{"$f":"S36","v":0},{"$f":"IF(SUM(S36,S38,S39,S40,S41)>0,SUM(S36,S38,S39,S40,S41),0)","v":0},0,0,0,0,0,0,{"$f":"AA36","v":0},{"$f":"IF(SUM(AA36,AA38,AA39,AA40,AA41)>0,SUM(AA36,AA38,AA39,AA40,AA41),0)","v":0},0,0,0,0,0,0,{"$f":"AI36","v":0},{"$f":"IF(SUM(AI36,AI38,AI39,AI40,AI41)>0,SUM(AI36,AI38,AI39,AI40,AI41),0)","v":0},0,0,0,0,0,0]
[null,"Ending Area [acres]",{"$f":"IF(C42>0,VLOOKUP(C42,Table.Pool3.area.volume,2,TRUE),0)","v":990},947,893,614,204,0,0,{"$f":"K37","v":0},{"$f":"IF(K42>0,VLOOKUP(K42,Table.Pool3.area.volume,2,TRUE),0)","v":0},0,0,0,0,0,0,{"$f":"S37","v":0},{"$f":"IF(S42>0,VLOOKUP(S42,Table.Pool3.area.volume,2,TRUE),0)","v":0},0,0,0,0,0,0,{"$f":"AA37","v":0},{"$f":"IF(AA42>0,VLOOKUP(AA42,Table.Pool3.area.volume,2,TRUE),0)","v":0},0,0,0,0,0,0,{"$f":"AI37","v":0},{"$f":"IF(AI42>0,VLOOKUP(AI42,Table.Pool3.area.volume,2,TRUE),0)","v":0},0,0,0,0,0,0]
[]
["Unit 4a","Starting Volume [acre-ft]",{"$f":"ROUND('Previous Data'!C73,2)","v":81.99},{"$f":"C51","v":42.93},10.610000000000007,0,0,0,0,{"$f":"IF($I$16=0,0,IF(-1*($J$3*(I52/(SUM(I$25,I$34,I$43,I$52,I$61,I$70,I$79,I$88))))<I51,$J$3*(I52/(SUM(I$25,I$34,I$43,I$52,I$61,I$70,I$79,I$88))),-I51))","v":0},{"$f":"ROUND(I51+J45,2)","v":0},{"$f":"K51","v":0},0,0,0,0,0,{"$f":"IF($Q$16=0,0,IF(-1*($R$3*(Q52/(SUM(Q$25,Q$34,Q$43,Q$52,Q$61,Q$70,Q$79,Q$88))))<Q51,$R$3*(Q52/(SUM(Q$25,Q$34,Q$43,Q$52,Q$61,Q$70,Q$79,Q$88))),-Q51))","v":0},{"$f":"ROUND(Q51+R45,2)","v":0},{"$f":"S51","v":0},0,0,0,0,0,{"$f":"IF($Y$16=0,0,IF(-1*($Z$3*(Y52/(SUM(Y$25,Y$34,Y$43,Y$52,Y$61,Y$70,Y$79,Y$88))))<Y51,$Z$3*(Y52/(SUM(Y$25,Y$34,Y$43,Y$52,Y$61,Y$70,Y$79,Y$88))),-Y51))","v":0},{"$f":"ROUND(Y51+Z45,2)","v":0},{"$f":"AA51","v":0},0,0,0,0,0,{"$f":"IF($AG$16=0,0,IF(-1*($AH$3*(AG52/(SUM(AG$25,AG$34,AG$43,AG$52,AG$61,AG$70,AG$79,AG$88))))<AG51,$AH$3*(AG52/(SUM(AG$25,AG$34,AG$43,AG$52,AG$61,AG$70,AG$79,AG$88))),-AG51))","v":0},{"$f":"ROUND(AG51+AH45,2)","v":0},{"$f":"AI51","v":0},0,0,0,0,0]
[null,"Starting Area [acres]",{"$f":"IF(C45>0,VLOOKUP(C45,Table.Pool4a.area.volume,2,TRUE),0)","v":186},140,50,0,0,0,0,null,{"$f":"IF(K45>0,VLOOKUP(K45,Table.Pool4a.area.volume,2,TRUE),0)","v":0},0,0,0,0,0,0,null,{"$f":"IF(S45>0,VLOOKUP(S45,Table.Pool4a.area.volume,2,TRUE),0)","v":0},0,0,0,0,0,0,null,{"$f":"IF(AA45>0,VLOOKUP(AA45,Table.Pool4a.area.volume,2,TRUE),0)","v":0},0,0,0,0,0,0,null,{"$f":"IF(AI45>0,VLOOKUP(AI45,Table.Pool4a.area.volume,2,TRUE),0)","v":0},0,0,0,0,0,0]
[null,"Precip [acre-ft]",{"$f":"ROUND(VLOOKUP(SUM(C45,C49,C48),Table.Pool4a.area.volume,2,TRUE)*C5/12,2)","v":14.73},18.55,7.5,0,0,0,0,null,{"$f":"ROUND(VLOOKUP(SUM(K45,K49,K48),Table.Pool4a.area.volume,2,TRUE)*K5/12,2)","v":0},0,0,0,0,0,0,null,{"$f":"ROUND(VLOOKUP(SUM(S45,S49,S48),Table.Pool4a.area.volume,2,TRUE)*S5/12,2)","v":0},0,0,0,0,0,0,null,{"$f":"ROUND(VLOOKUP(SUM(AA45,AA49,AA48),Table.Pool4a.area.volume,2,TRUE)*AA5/12,2)","v":0},0,0,0,0,0,0,null,{"$f":"ROUND(VLOOKUP(SUM(AI45,AI49,AI48),Table.Pool4a.area.volume,2,TRUE)*AI5/12,2)","v":0},0,0,0,0,0,0]
[null,"Runoff [acre-ft]",0,0,0,0,0,0,0,null,0,0,0,0,0,0,0,null,0,0,0,0,0,0,0,null,0,0,0,0,0,0,0,null,0,0,0,0,0,0,0]
[null,"Pump [acre-ft]",0,0,0,0,0,0,0,{"$f":"SUM(C48:I49)","v":0},0,0,0,0,0,0,0,{"$f":"SUM(K48:Q49)","v":0},0,0,0,0,0,0,0,{"$f":"SUM(S48:Y49)","v":0},0,0,0,0,0,0,0,{"$f":"SUM(AA48:AG49)","v":0},0,0,0,0,0,0,0,{"$f":"SUM(AI48:AO49)","v":0}]
[null,"Evap [acre-ft]",{"$f":"ROUND(IF(SUM(C45,C49,C48,C47)-(VLOOKUP(SUM(C45,C49,C48),Table.Pool4a.area.volume,2,TRUE)*C13/12)>0,(-VLOOKUP(SUM(C45,C49,C48),Table.Pool4a.area.volume,2,TRUE)*C13/12),-SUM(C45,C49,C48,C47)),2)","v":-53.79},-50.87,-18.11,0,0,0,0,null,{"$f":"ROUND(IF(SUM(K45,K49,K48,K47)-(VLOOKUP(SUM(K45,K49,K48),Table.Pool4a.area.volume,2,TRUE)*K13/12)>0,(-VLOOKUP(SUM(K45,K49,K48),Table.Pool4a.area.volume,2,TRUE)*K13/12),-SUM(K45,K49,K48,K47)),2)","v":0},0,0,0,0,0,0,null,{"$f":"ROUND(IF(SUM(S45,S49,S48,S47)-(VLOOKUP(SUM(S45,S49,S48),Table.Pool4a.area.volume,2,TRUE)*S13/12)>0,(-VLOOKUP(SUM(S45,S49,S48),Table.Pool4a.area.volume,2,TRUE)*S13/12),-SUM(S45,S49,S48,S47)),2)","v":0},0,0,0,0,0,0,null,{"$f":"ROUND(IF(SUM(AA45,AA49,AA48,AA47)-(VLOOKUP(SUM(AA45,AA49,AA48),Table.Pool4a.area.volume,2,TRUE)*AA13/12)>0,(-VLOOKUP(SUM(AA45,AA49,AA48),Table.Pool4a.area.volume,2,TRUE)*AA13/12),-SUM(AA45,AA49,AA48,AA47)),2)","v":0},0,0,0,0,0,0,null,{"$f":"ROUND(IF(SUM(AI45,AI49,AI48,AI47)-(VLOOKUP(SUM(AI45,AI49,AI48),Table.Pool4a.area.volume,2,TRUE)*AI13/12)>0,(-VLOOKUP(SUM(AI45,AI49,AI48),Table.Pool4a.area.volume,2,TRUE)*AI13/12),-SUM(AI45,AI49,AI48,AI47)),2)","v":0},0,0,0,0,0,0]
[null,"Ending Volume [acre-ft]",{"$f":"IF(SUM(C45,C47,C48,C49,C50)>0,SUM(C45,C47,C48,C49,C50),0)","v":42.93},10.610000000000007,0,0,0,0,0,{"$f":"K45","v":0},{"$f":"IF(SUM(K45,K47,K48,K49,K50)>0,SUM(K45,K47,K48,K49,K50),0)","v":0},0,0,0,0,0,0,{"$f":"S45","v":0},{"$f":"IF(SUM(S45,S47,S48,S49,S50)>0,SUM(S45,S47,S48,S49,S50),0)","v":0},0,0,0,0,0,0,{"$f":"AA45","v":0},{"$f":"IF(SUM(AA45,AA47,AA48,AA49,AA50)>0,SUM(AA45,AA47,AA48,AA49,AA50),0)","v":0},0,0,0,0,0,0,{"$f":"AI45","v":0},{"$f":"IF(SUM(AI45,AI47,AI48,AI49,AI50)>0,SUM(AI45,AI47,AI48,AI49,AI50),0)","v":0},0,0,0,0,0,0]
[null,"Ending Area [acres]",{"$f":"IF(C51>0,VLOOKUP(C51,Table.Pool4a.area.volume,2,TRUE),0)","v":140},50,0,0,0,0,0,{"$f":"K46","v":0},{"$f":"IF(K51>0,VLOOKUP(K51,Table.Pool4a.area.volume,2,TRUE),0)","v":0},0,0,0,0,0,0,{"$f":"S46","v":0},{"$f":"IF(S51>0,VLOOKUP(S51,Table.Pool4a.area.volume,2,TRUE),0)","v":0},0,0,0,0,0,0,{"$f":"AA46","v":0},{"$f":"IF(AA51>0,VLOOKUP(AA51,Table.Pool4a.area.volume,2,TRUE),0)","v":0},0,0,0,0,0,0,{"$f":"AI46","v":0},{"$f":"IF(AI51>0,VLOOKUP(AI51,Table.Pool4a.area.volume,2,TRUE),0)","v":0},0,0,0,0,0,0]
[]
["Unit 4b","Starting Volume [acre-ft]",{"$f":"ROUND('Previous Data'!C74,2)","v":228.32},{"$f":"C60","v":177.11},124.65000000000003,68.740000000000023,0,0,0,{"$f":"IF($I$16=0,0,IF(-1*($J$3*(I61/(SUM(I$25,I$34,I$43,I$52,I$61,I$70,I$79,I$88))))<I60,$J$3*(I61/(SUM(I$25,I$34,I$43,I$52,I$61,I$70,I$79,I$88))),-I60))","v":0},{"$f":"ROUND(I60+J54,2)","v":0},{"$f":"K60","v":0},0,0,0,0,0,{"$f":"IF($Q$16=0,0,IF(-1*($R$3*(Q61/(SUM(Q$25,Q$34,Q$43,Q$52,Q$61,Q$70,Q$79,Q$88))))<Q60,$R$3*(Q61/(SUM(Q$25,Q$34,Q$43,Q$52,Q$61,Q$70,Q$79,Q$88))),-Q60))","v":0},{"$f":"ROUND(Q60+R54,2)","v":0},{"$f":"S60","v":0},0,0,0,0,0,{"$f":"IF($Y$16=0,0,IF(-1*($Z$3*(Y61/(SUM(Y$25,Y$34,Y$43,Y$52,Y$61,Y$70,Y$79,Y$88))))<Y60,$Z$3*(Y61/(SUM(Y$25,Y$34,Y$43,Y$52,Y$61,Y$70,Y$79,Y$88))),-Y60))","v":0},{"$f":"ROUND(Y60+Z54,2)","v":0},{"$f":"AA60","v":0},0,0,0,0,0,{"$f":"IF($AG$16=0,0,IF(-1*($AH$3*(AG61/(SUM(AG$25,AG$34,AG$43,AG$52,AG$61,AG$70,AG$79,AG$88))))<AG60,$AH$3*(AG61/(SUM(AG$25,AG$34,AG$43,AG$52,AG$61,AG$70,AG$79,AG$88))),-AG60))","v":0},{"$f":"ROUND(AG60+AH54,2)","v":0},{"$f":"AI60","v":0},0,0,0,0,0]
[null,"Starting Area [acres]",{"$f":"IF(C54>0,VLOOKUP(C54,Table.Pool4b.area.volume,2,TRUE),0)","v":243.89},227.27,209,167.09,0,0,0,null,{"$f":"IF(K54>0,VLOOKUP(K54,Table.Pool4b.area.volume,2,TRUE),0)","v":0},0,0,0,0,0,0,null,{"$f":"IF(S54>0,VLOOKUP(S54,Table.Pool4b.area.volume,2,TRUE),0)","v":0},0,0,0,0,0,0,null,{"$f":"IF(AA54>0,VLOOKUP(AA54,Table.Pool4b.area.volume,2,TRUE),0)","v":0},0,0,0,0,0,0,null,{"$f":"IF(AI54>0,VLOOKUP(AI54,Table.Pool4b.area.volume,2,TRUE),0)","v":0},0,0,0,0,0,0]
[null,"Precip [acre-ft]",{"$f":"ROUND(VLOOKUP(SUM(C54,C58,C57),Table.Pool4b.area.volume,2,TRUE)*C5/12,2)","v":19.309999999999999},30.11,31.35,14.2,0,0,0,null,{"$f":"ROUND(VLOOKUP(SUM(K54,K58,K57),Table.Pool4b.area.volume,2,TRUE)*K5/12,2)","v":0},0,0,0,0,0,0,null,{"$f":"ROUND(VLOOKUP(SUM(S54,S58,S57),Table.Pool4b.area.volume,2,TRUE)*S5/12,2)","v":0},0,0,0,0,0,0,null,{"$f":"ROUND(VLOOKUP(SUM(AA54,AA58,AA57),Table.Pool4b.area.volume,2,TRUE)*AA5/12,2)","v":0},0,0,0,0,0,0,null,{"$f":"ROUND(VLOOKUP(SUM(AI54,AI58,AI57),Table.Pool4b.area.volume,2,TRUE)*AI5/12,2)","v":0},0,0,0,0,0,0]
[null,"Runoff [acre-ft]",0,0,0,0,0,0,0,null,0,0,0,0,0,0,0,null,0,0,0,0,0,0,0,null,0,0,0,0,0,0,0,null,0,0,0,0,0,0,0]
[null,"Pump [acre-ft]",0,0,0,0,0,0,0,{"$f":"SUM(C57:I58)","v":0},0,0,0,0,0,0,0,{"$f":"SUM(K57:Q58)","v":0},0,0,0,0,0,0,0,{"$f":"SUM(S57:Y58)","v":0},0,0,0,0,0,0,0,{"$f":"SUM(AA57:AG58)","v":0},0,0,0,0,0,0,0,{"$f":"SUM(AI57:AO58)","v":0}]
[null,"Evap [acre-ft]",{"$f":"ROUND(IF(SUM(C54,C58,C57,C56)-(VLOOKUP(SUM(C54,C58,C57),Table.Pool4b.area.volume,2,TRUE)*C13/12)>0,(-VLOOKUP(SUM(C54,C58,C57),Table.Pool4b.area.volume,2,TRUE)*C13/12),-SUM(C54,C58,C57,C56)),2)","v":-70.52},-82.57,-87.26,-82.94,0,0,0,null,{"$f":"ROUND(IF(SUM(K54,K58,K57,K56)-(VLOOKUP(SUM(K54,K58,K57),Table.Pool4b.area.volume,2,TRUE)*K13/12)>0,(-VLOOKUP(SUM(K54,K58,K57),Table.Pool4b.area.volume,2,TRUE)*K13/12),-SUM(K54,K58,K57,K56)),2)","v":0},0,0,0,0,0,0,null,{"$f":"ROUND(IF(SUM(S54,S58,S57,S56)-(VLOOKUP(SUM(S54,S58,S57),Table.Pool4b.area.volume,2,TRUE)*S13/12)>0,(-VLOOKUP(SUM(S54,S58,S57),Table.Pool4b.area.volume,2,TRUE)*S13/12),-SUM(S54,S58,S57,S56)),2)","v":0},0,0,0,0,0,0,null,{"$f":"ROUND(IF(SUM(AA54,AA58,AA57,AA56)-(VLOOKUP(SUM(AA54,AA58,AA57),Table.Pool4b.area.volume,2,TRUE)*AA13/12)>0,(-VLOOKUP(SUM(AA54,AA58,AA57),Table.Pool4b.area.volume,2,TRUE)*AA13/12),-SUM(AA54,AA58,AA57,AA56)),2)","v":0},0,0,0,0,0,0,null,{"$f":"ROUND(IF(SUM(AI54,AI58,AI57,AI56)-(VLOOKUP(SUM(AI54,AI58,AI57),Table.Pool4b.area.volume,2,TRUE)*AI13/12)>0,(-VLOOKUP(SUM(AI54,AI58,AI57),Table.Pool4b.area.volume,2,TRUE)*AI13/12),-SUM(AI54,AI58,AI57,AI56)),2)","v":0},0,0,0,0,0,0]
[null,"Ending Volume [acre-ft]",{"$f":"IF(SUM(C54,C56,C57,C58,C59)>0,SUM(C54,C56,C57,C58,C59),0)","v":177.11},124.65000000000003,68.740000000000023,0,0,0,0,{"$f":"K54","v":0},{"$f":"IF(SUM(K54,K56,K57,K58,K59)>0,SUM(K54,K56,K57,K58,K59),0)","v":0},0,0,0,0,0,0,{"$f":"S54","v":0},{"$f":"IF(SUM(S54,S56,S57,S58,S59)>0,SUM(S54,S56,S57,S58,S59),0)","v":0},0,0,0,0,0,0,{"$f":"AA54","v":0},{"$f":"IF(SUM(AA54,AA56,AA57,AA58,AA59)>0,SUM(AA54,AA56,AA57,AA58,AA59),0)","v":0},0,0,0,0,0,0,{"$f":"AI54","v":0},{"$f":"IF(SUM(AI54,AI56,AI57,AI58,AI59)>0,SUM(AI54,AI56,AI57,AI58,AI59),0)","v":0},0,0,0,0,0,0]
[null,"Ending Area [acres]",{"$f":"IF(C60>0,VLOOKUP(C60,Table.Pool4b.area.volume,2,TRUE),0)","v":227.27},209,167.09,0,0,0,0,{"$f":"K55","v":0},{"$f":"IF(K60>0,VLOOKUP(K60,Table.Pool4b.area.volume,2,TRUE),0)","v":0},0,0,0,0,0,0,{"$f":"S55","v":0},{"$f":"IF(S60>0,VLOOKUP(S60,Table.Pool4b.area.volume,2,TRUE),0)","v":0},0,0,0,0,0,0,{"$f":"AA55","v":0},{"$f":"IF(AA60>0,VLOOKUP(AA60,Table.Pool4b.area.volume,2,TRUE),0)","v":0},0,0,0,0,0,0,{"$f":"AI55","v":0},{"$f":"IF(AI60>0,VLOOKUP(AI60,Table.Pool4b.area.volume,2,TRUE),0)","v":0},0,0,0,0,0,0]
[]
["Unit 4c","Starting Volume [acre-ft]",{"$f":"ROUND('Previous Data'!C75,2)","v":446.34},{"$f":"C69","v":274.14},138.87999999999997,48.45999999999998,0,0,0,{"$f":"IF($I$16=0,0,IF(-1*($J$3*(I70/(SUM(I$25,I$34,I$43,I$52,I$61,I$70,I$79,I$88))))<I69,$J$3*(I70/(SUM(I$25,I$34,I$43,I$52,I$61,I$70,I$79,I$88))),-I69))","v":0},{"$f":"ROUND(I69+J63,2)","v":0},{"$f":"K69","v":0},0,0,0,0,0,{"$f":"IF($Q$16=0,0,IF(-1*($R$3*(Q70/(SUM(Q$25,Q$34,Q$43,Q$52,Q$61,Q$70,Q$79,Q$88))))<Q69,$R$3*(Q70/(SUM(Q$25,Q$34,Q$43,Q$52,Q$61,Q$70,Q$79,Q$88))),-Q69))","v":0},{"$f":"ROUND(Q69+R63,2)","v":0},{"$f":"S69","v":0},0,0,0,0,0,{"$f":"IF($Y$16=0,0,IF(-1*($Z$3*(Y70/(SUM(Y$25,Y$34,Y$43,Y$52,Y$61,Y$70,Y$79,Y$88))))<Y69,$Z$3*(Y70/(SUM(Y$25,Y$34,Y$43,Y$52,Y$61,Y$70,Y$79,Y$88))),-Y69))","v":0},{"$f":"ROUND(Y69+Z63,2)","v":0},{"$f":"AA69","v":0},0,0,0,0,0,{"$f":"IF($AG$16=0,0,IF(-1*($AH$3*(AG70/(SUM(AG$25,AG$34,AG$43,AG$52,AG$61,AG$70,AG$79,AG$88))))<AG69,$AH$3*(AG70/(SUM(AG$25,AG$34,AG$43,AG$52,AG$61,AG$70,AG$79,AG$88))),-AG69))","v":0},{"$f":"ROUND(AG69+AH63,2)","v":0},{"$f":"AI69","v":0},0,0,0,0,0]
[null,"Starting Area [acres]",{"$f":"IF(C63>0,VLOOKUP(C63,Table.Pool4c.area.volume,2,TRUE),0)","v":820},586,338,143,0,0,0,null,{"$f":"IF(K63>0,VLOOKUP(K63,Table.Pool4c.area.volume,2,TRUE),0)","v":0},0,0,0,0,0,0,null,{"$f":"IF(S63>0,VLOOKUP(S63,Table.Pool4c.area.volume,2,TRUE),0)","v":0},0,0,0,0,0,0,null,{"$f":"IF(AA63>0,VLOOKUP(AA63,Table.Pool4c.area.volume,2,TRUE),0)","v":0},0,0,0,0,0,0,null,{"$f":"IF(AI63>0,VLOOKUP(AI63,Table.Pool4c.area.volume,2,TRUE),0)","v":0},0,0,0,0,0,0]
[null,"Precip [acre-ft]",{"$f":"ROUND(VLOOKUP(SUM(C63,C67,C66),Table.Pool4c.area.volume,2,TRUE)*C5/12,2)","v":64.92},77.650000000000006,50.7,12.16,0,0,0,null,{"$f":"ROUND(VLOOKUP(SUM(K63,K67,K66),Table.Pool4c.area.volume,2,TRUE)*K5/12,2)","v":0},0,0,0,0,0,0,null,{"$f":"ROUND(VLOOKUP(SUM(S63,S67,S66),Table.Pool4c.area.volume,2,TRUE)*S5/12,2)","v":0},0,0,0,0,0,0,null,{"$f":"ROUND(VLOOKUP(SUM(AA63,AA67,AA66),Table.Pool4c.area.volume,2,TRUE)*AA5/12,2)","v":0},0,0,0,0,0,0,null,{"$f":"ROUND(VLOOKUP(SUM(AI63,AI67,AI66),Table.Pool4c.area.volume,2,TRUE)*AI5/12,2)","v":0},0,0,0,0,0,0]
[null,"Runoff [acre-ft]",0,0,0,0,0,0,0,null,0,0,0,0,0,0,0,null,0,0,0,0,0,0,0,null,0,0,0,0,0,0,0,null,0,0,0,0,0,0,0]
[null,"Pump [acre-ft]",0,0,0,0,0,0,0,{"$f":"SUM(C66:I67)","v":0},0,0,0,0,0,0,0,{"$f":"SUM(K66:Q67)","v":0},0,0,0,0,0,0,0,{"$f":"SUM(S66:Y67)","v":0},0,0,0,0,0,0,0,{"$f":"SUM(AA66:AG67)","v":0},0,0,0,0,0,0,0,{"$f":"SUM(AI66:AO67)","v":0}]
[null,"Evap [acre-ft]",{"$f":"ROUND(IF(SUM(C63,C67,C66,C65)-(VLOOKUP(SUM(C63,C67,C66),Table.Pool4c.area.volume,2,TRUE)*C13/12)>0,(-VLOOKUP(SUM(C63,C67,C66),Table.Pool4c.area.volume,2,TRUE)*C13/12),-SUM(C63,C67,C66,C65)),2)","v":-237.12},-212.91,-141.12,-60.62,0,0,0,null,{"$f":"ROUND(IF(SUM(K63,K67,K66,K65)-(VLOOKUP(SUM(K63,K67,K66),Table.Pool4c.area.volume,2,TRUE)*K13/12)>0,(-VLOOKUP(SUM(K63,K67,K66),Table.Pool4c.area.volume,2,TRUE)*K13/12),-SUM(K63,K67,K66,K65)),2)","v":0},0,0,0,0,0,0,null,{"$f":"ROUND(IF(SUM(S63,S67,S66,S65)-(VLOOKUP(SUM(S63,S67,S66),Table.Pool4c.area.volume,2,TRUE)*S13/12)>0,(-VLOOKUP(SUM(S63,S67,S66),Table.Pool4c.area.volume,2,TRUE)*S13/12),-SUM(S63,S67,S66,S65)),2)","v":0},0,0,0,0,0,0,null,{"$f":"ROUND(IF(SUM(AA63,AA67,AA66,AA65)-(VLOOKUP(SUM(AA63,AA67,AA66),Table.Pool4c.area.volume,2,TRUE)*AA13/12)>0,(-VLOOKUP(SUM(AA63,AA67,AA66),Table.Pool4c.area.volume,2,TRUE)*AA13/12),-SUM(AA63,AA67,AA66,AA65)),2)","v":0},0,0,0,0,0,0,null,{"$f":"ROUND(IF(SUM(AI63,AI67,AI66,AI65)-(VLOOKUP(SUM(AI63,AI67,AI66),Table.Pool4c.area.volume,2,TRUE)*AI13/12)>0,(-VLOOKUP(SUM(AI63,AI67,AI66),Table.Pool4c.area.volume,2,TRUE)*AI13/12),-SUM(AI63,AI67,AI66,AI65)),2)","v":0},0,0,0,0,0,0]
[null,"Ending Volume [acre-ft]",{"$f":"IF(SUM(C63,C65,C66,C67,C68)>0,SUM(C63,C65,C66,C67,C68),0)","v":274.14},138.87999999999997,48.45999999999998,0,0,0,0,{"$f":"K63","v":0},{"$f":"IF(SUM(K63,K65,K66,K67,K68)>0,SUM(K63,K65,K66,K67,K68),0)","v":0},0,0,0,0,0,0,{"$f":"S63","v":0},{"$f":"IF(SUM(S63,S65,S66,S67,S68)>0,SUM(S63,S65,S66,S67,S68),0)","v":0},0,0,0,0,0,0,{"$f":"AA63","v":0},{"$f":"IF(SUM(AA63,AA65,AA66,AA67,AA68)>0,SUM(AA63,AA65,AA66,AA67,AA68),0)","v":0},0,0,0,0,0,0,{"$f":"AI63","v":0},{"$f":"IF(SUM(AI63,AI65,AI66,AI67,AI68)>0,SUM(AI63,AI65,AI66,AI67,AI68),0)","v":0},0,0,0,0,0,0]
[null,"Ending Area [acres]",{"$f":"IF(C69>0,VLOOKUP(C69,Table.Pool4c.area.volume,2,TRUE),0)","v":586},338,143,0,0,0,0,{"$f":"K64","v":0},{"$f":"IF(K69>0,VLOOKUP(K69,Table.Pool4c.area.volume,2,TRUE),0)","v":0},0,0,0,0,0,0,{"$f":"S64","v":0},{"$f":"IF(S69>0,VLOOKUP(S69,Table.Pool4c.area.volume,2,TRUE),0)","v":0},0,0,0,0,0,0,{"$f":"AA64","v":0},{"$f":"IF(AA69>0,VLOOKUP(AA69,Table.Pool4c.area.volume,2,TRUE),0)","v":0},0,0,0,0,0,0,{"$f":"AI64","v":0},{"$f":"IF(AI69>0,VLOOKUP(AI69,Table.Pool4c.area.volume,2,TRUE),0)","v":0},0,0,0,0,0,0]
[]
["Unit 5","Starting Volume [acre-ft]",{"$f":"ROUND('Previous Data'!C76,2)","v":1013.43},{"$f":"C78","v":844.58999999999992},664.07999999999993,462.37999999999994,143.71999999999997,0,0,{"$f":"IF($I$16=0,0,IF(-1*($J$3*(I79/(SUM(I$25,I$34,I$43,I$52,I$61,I$70,I$79,I$88))))<I78,$J$3*(I79/(SUM(I$25,I$34,I$43,I$52,I$61,I$70,I$79,I$88))),-I78))","v":0},{"$f":"ROUND(I78+J72,2)","v":0},{"$f":"K78","v":0},0,0,0,0,0,{"$f":"IF($Q$16=0,0,IF(-1*($R$3*(Q79/(SUM(Q$25,Q$34,Q$43,Q$52,Q$61,Q$70,Q$79,Q$88))))<Q78,$R$3*(Q79/(SUM(Q$25,Q$34,Q$43,Q$52,Q$61,Q$70,Q$79,Q$88))),-Q78))","v":0},{"$f":"ROUND(Q78+R72,2)","v":0},{"$f":"S78","v":0},0,0,0,0,0,{"$f":"IF($Y$16=0,0,IF(-1*($Z$3*(Y79/(SUM(Y$25,Y$34,Y$43,Y$52,Y$61,Y$70,Y$79,Y$88))))<Y78,$Z$3*(Y79/(SUM(Y$25,Y$34,Y$43,Y$52,Y$61,Y$70,Y$79,Y$88))),-Y78))","v":0},{"$f":"ROUND(Y78+Z72,2)","v":0},{"$f":"AA78","v":0},0,0,0,0,0,{"$f":"IF($AG$16=0,0,IF(-1*($AH$3*(AG79/(SUM(AG$25,AG$34,AG$43,AG$52,AG$61,AG$70,AG$79,AG$88))))<AG78,$AH$3*(AG79/(SUM(AG$25,AG$34,AG$43,AG$52,AG$61,AG$70,AG$79,AG$88))),-AG78))","v":0},{"$f":"ROUND(AG78+AH72,2)","v":0},{"$f":"AI78","v":0},0,0,0,0,0]
[null,"Starting Area [acres]",{"$f":"IF(C72>0,VLOOKUP(C72,Table.Pool5.area.volume,2,TRUE),0)","v":804},782,754,727,450,0,0,null,{"$f":"IF(K72>0,VLOOKUP(K72,Table.Pool5.area.volume,2,TRUE),0)","v":0},0,0,0,0,0,0,null,{"$f":"IF(S72>0,VLOOKUP(S72,Table.Pool5.area.volume,2,TRUE),0)","v":0},0,0,0,0,0,0,null,{"$f":"IF(AA72>0,VLOOKUP(AA72,Table.Pool5.area.volume,2,TRUE),0)","v":0},0,0,0,0,0,0,null,{"$f":"IF(AI72>0,VLOOKUP(AI72,Table.Pool5.area.volume,2,TRUE),0)","v":0},0,0,0,0,0,0]
[null,"Precip [acre-ft]",{"$f":"ROUND(VLOOKUP(SUM(C72,C76,C75),Table.Pool5.area.volume,2,TRUE)*C5/12,2)","v":63.65},103.62,113.1,61.8,44.25,0,0,null,{"$f":"ROUND(VLOOKUP(SUM(K72,K76,K75),Table.Pool5.area.volume,2,TRUE)*K5/12,2)","v":0},0,0,0,0,0,0,null,{"$f":"ROUND(VLOOKUP(SUM(S72,S76,S75),Table.Pool5.area.volume,2,TRUE)*S5/12,2)","v":0},0,0,0,0,0,0,null,{"$f":"ROUND(VLOOKUP(SUM(AA72,AA76,AA75),Table.Pool5.area.volume,2,TRUE)*AA5/12,2)","v":0},0,0,0,0,0,0,null,{"$f":"ROUND(VLOOKUP(SUM(AI72,AI76,AI75),Table.Pool5.area.volume,2,TRUE)*AI5/12,2)","v":0},0,0,0,0,0,0]
[null,"Runoff [acre-ft]",0,0,0,0,0,0,0,null,0,0,0,0,0,0,0,null,0,0,0,0,0,0,0,null,0,0,0,0,0,0,0,null,0,0,0,0,0,0,0]
[null,"Pump [acre-ft]",0,0,0,0,0,0,0,{"$f":"SUM(C75:I76)","v":0},0,0,0,0,0,0,0,{"$f":"SUM(K75:Q76)","v":0},0,0,0,0,0,0,0,{"$f":"SUM(S75:Y76)","v":0},0,0,0,0,0,0,0,{"$f":"SUM(AA75:AG76)","v":0},0,0,0,0,0,0,0,{"$f":"SUM(AI75:AO76)","v":0}]
[null,"Evap [acre-ft]",{"$f":"ROUND(IF(SUM(C72,C76,C75,C74)-(VLOOKUP(SUM(C72,C76,C75),Table.Pool5.area.volume,2,TRUE)*C13/12)>0,(-VLOOKUP(SUM(C72,C76,C75),Table.Pool5.area.volume,2,TRUE)*C13/12),-SUM(C72,C76,C75,C74)),2)","v":-232.49},-284.13,-314.8,-380.46,-187.97,0,0,null,{"$f":"ROUND(IF(SUM(K72,K76,K75,K74)-(VLOOKUP(SUM(K72,K76,K75),Table.Pool5.area.volume,2,TRUE)*K13/12)>0,(-VLOOKUP(SUM(K72,K76,K75),Table.Pool5.area.volume,2,TRUE)*K13/12),-SUM(K72,K76,K75,K74)),2)","v":0},0,0,0,0,0,0,null,{"$f":"ROUND(IF(SUM(S72,S76,S75,S74)-(VLOOKUP(SUM(S72,S76,S75),Table.Pool5.area.volume,2,TRUE)*S13/12)>0,(-VLOOKUP(SUM(S72,S76,S75),Table.Pool5.area.volume,2,TRUE)*S13/12),-SUM(S72,S76,S75,S74)),2)","v":0},0,0,0,0,0,0,null,{"$f":"ROUND(IF(SUM(AA72,AA76,AA75,AA74)-(VLOOKUP(SUM(AA72,AA76,AA75),Table.Pool5.area.volume,2,TRUE)*AA13/12)>0,(-VLOOKUP(SUM(AA72,AA76,AA75),Table.Pool5.area.volume,2,TRUE)*AA13/12),-SUM(AA72,AA76,AA75,AA74)),2)","v":0},0,0,0,0,0,0,null,{"$f":"ROUND(IF(SUM(AI72,AI76,AI75,AI74)-(VLOOKUP(SUM(AI72,AI76,AI75),Table.Pool5.area.volume,2,TRUE)*AI13/12)>0,(-VLOOKUP(SUM(AI72,AI76,AI75),Table.Pool5.area.volume,2,TRUE)*AI13/12),-SUM(AI72,AI76,AI75,AI74)),2)","v":0},0,0,0,0,0,0]
[null,"Ending Volume [acre-ft]",{"$f":"IF(SUM(C72,C74,C75,C76,C77)>0,SUM(C72,C74,C75,C76,C77),0)","v":844.58999999999992},664.07999999999993,462.37999999999994,143.71999999999997,0,0,0,{"$f":"K72","v":0},{"$f":"IF(SUM(K72,K74,K75,K76,K77)>0,SUM(K72,K74,K75,K76,K77),0)","v":0},0,0,0,0,0,0,{"$f":"S72","v":0},{"$f":"IF(SUM(S72,S74,S75,S76,S77)>0,SUM(S72,S74,S75,S76,S77),0)","v":0},0,0,0,0,0,0,{"$f":"AA72","v":0},{"$f":"IF(SUM(AA72,AA74,AA75,AA76,AA77)>0,SUM(AA72,AA74,AA75,AA76,AA77),0)","v":0},0,0,0,0,0,0,{"$f":"AI72","v":0},{"$f":"IF(SUM(AI72,AI74,AI75,AI76,AI77)>0,SUM(AI72,AI74,AI75,AI76,AI77),0)","v":0},0,0,0,0,0,0]
[null,"Ending Area [acres]",{"$f":"IF(C78>0,VLOOKUP(C78,Table.Pool5.area.volume,2,TRUE),0)","v":782},754,727,450,0,0,0,{"$f":"K73","v":0},{"$f":"IF(K78>0,VLOOKUP(K78,Table.Pool5.area.volume,2,TRUE),0)","v":0},0,0,0,0,0,0,{"$f":"S73","v":0},{"$f":"IF(S78>0,VLOOKUP(S78,Table.Pool5.area.volume,2,TRUE),0)","v":0},0,0,0,0,0,0,{"$f":"AA73","v":0},{"$f":"IF(AA78>0,VLOOKUP(AA78,Table.Pool5.area.volume,2,TRUE),0)","v":0},0,0,0,0,0,0,{"$f":"AI73","v":0},{"$f":"IF(AI78>0,VLOOKUP(AI78,Table.Pool5.area.volume,2,TRUE),0)","v":0},0,0,0,0,0,0]
[]
["Unit 6","Starting Volume [acre-ft]",{"$f":"ROUND('Previous Data'!C77,2)","v":945.78},{"$f":"C87","v":797.31},640.33999999999992,467.7999999999999,201.73999999999984,34.23999999999981,5.6599999999998118,{"$f":"IF($I$16=0,0,IF(-1*($J$3*(I88/(SUM(I$25,I$34,I$43,I$52,I$61,I$70,I$79,I$88))))<I87,$J$3*(I88/(SUM(I$25,I$34,I$43,I$52,I$61,I$70,I$79,I$88))),-I87))","v":0},{"$f":"ROUND(I87+J81,2)","v":1},{"$f":"K87","v":1},1,1,1,1,1,{"$f":"IF($Q$16=0,0,IF(-1*($R$3*(Q88/(SUM(Q$25,Q$34,Q$43,Q$52,Q$61,Q$70,Q$79,Q$88))))<Q87,$R$3*(Q88/(SUM(Q$25,Q$34,Q$43,Q$52,Q$61,Q$70,Q$79,Q$88))),-Q87))","v":0},{"$f":"ROUND(Q87+R81,2)","v":1},{"$f":"S87","v":1},1,1,1,1,1,{"$f":"IF($Y$16=0,0,IF(-1*($Z$3*(Y88/(SUM(Y$25,Y$34,Y$43,Y$52,Y$61,Y$70,Y$79,Y$88))))<Y87,$Z$3*(Y88/(SUM(Y$25,Y$34,Y$43,Y$52,Y$61,Y$70,Y$79,Y$88))),-Y87))","v":0},{"$f":"ROUND(Y87+Z81,2)","v":1},{"$f":"AA87","v":1},1,1,1,1,1,{"$f":"IF($AG$16=0,0,IF(-1*($AH$3*(AG88/(SUM(AG$25,AG$34,AG$43,AG$52,AG$61,AG$70,AG$79,AG$88))))<AG87,$AH$3*(AG88/(SUM(AG$25,AG$34,AG$43,AG$52,AG$61,AG$70,AG$79,AG$88))),-AG87))","v":0},{"$f":"ROUND(AG87+AH81,2)","v":1},{"$f":"AI87","v":1},1,1,1,1,1]
[null,"Starting Area [acres]",{"$f":"IF(C81>0,VLOOKUP(C81,Table.Pool6.area.volume,2,TRUE),0)","v":707},680,645,607,461,140,28,null,{"$f":"IF(K81>0,VLOOKUP(K81,Table.Pool6.area.volume,2,TRUE),0)","v":0},0,0,0,0,0,0,null,{"$f":"IF(S81>0,VLOOKUP(S81,Table.Pool6.area.volume,2,TRUE),0)","v":0},0,0,0,0,0,0,null,{"$f":"IF(AA81>0,VLOOKUP(AA81,Table.Pool6.area.volume,2,TRUE),0)","v":0},0,0,0,0,0,0,null,{"$f":"IF(AI81>0,VLOOKUP(AI81,Table.Pool6.area.volume,2,TRUE),0)","v":0},0,0,0,0,0,0]
[null,"Precip [acre-ft]",{"$f":"ROUND(VLOOKUP(SUM(C81,C85,C84),Table.Pool6.area.volume,2,TRUE)*C5/12,2)","v":55.97},90.1,96.75,51.6,45.33,11.9,1.38,null,{"$f":"ROUND(VLOOKUP(SUM(K81,K85,K84),Table.Pool6.area.volume,2,TRUE)*K5/12,2)","v":0},0,0,0,0,0,0,null,{"$f":"ROUND(VLOOKUP(SUM(S81,S85,S84),Table.Pool6.area.volume,2,TRUE)*S5/12,2)","v":0},0,0,0,0,0,0,null,{"$f":"ROUND(VLOOKUP(SUM(AA81,AA85,AA84),Table.Pool6.area.volume,2,TRUE)*AA5/12,2)","v":0},0,0,0,0,0,0,null,{"$f":"ROUND(VLOOKUP(SUM(AI81,AI85,AI84),Table.Pool6.area.volume,2,TRUE)*AI5/12,2)","v":0},0,0,0,0,0,0]
[null,"Runoff [acre-ft]",0,0,0,0,0,0,0,null,0,0,0,0,0,0,0,null,0,0,0,0,0,0,0,null,0,0,0,0,0,0,0,null,0,0,0,0,0,0,0]
[null,"Pump [acre-ft]",0,0,0,0,0,0,0,{"$f":"SUM(C84:I85)","v":0},0,0,0,0,0,0,0,{"$f":"SUM(K84:Q85)","v":0},0,0,0,0,0,0,0,{"$f":"SUM(S84:Y85)","v":0},0,0,0,0,0,0,0,{"$f":"SUM(AA84:AG85)","v":0},0,0,0,0,0,0,0,{"$f":"SUM(AI84:AO85)","v":0}]
[null,"Evap [acre-ft]",{"$f":"ROUND(IF(SUM(C81,C85,C84,C83)-(VLOOKUP(SUM(C81,C85,C84),Table.Pool6.area.volume,2,TRUE)*C13/12)>0,(-VLOOKUP(SUM(C81,C85,C84),Table.Pool6.area.volume,2,TRUE)*C13/12),-SUM(C81,C85,C84,C83)),2)","v":-204.44},-247.07,-269.29000000000002,-317.66000000000003,-212.83,-40.479999999999997,-6.04,null,{"$f":"ROUND(IF(SUM(K81,K85,K84,K83)-(VLOOKUP(SUM(K81,K85,K84),Table.Pool6.area.volume,2,TRUE)*K13/12)>0,(-VLOOKUP(SUM(K81,K85,K84),Table.Pool6.area.volume,2,TRUE)*K13/12),-SUM(K81,K85,K84,K83)),2)","v":0},0,0,0,0,0,0,null,{"$f":"ROUND(IF(SUM(S81,S85,S84,S83)-(VLOOKUP(SUM(S81,S85,S84),Table.Pool6.area.volume,2,TRUE)*S13/12)>0,(-VLOOKUP(SUM(S81,S85,S84),Table.Pool6.area.volume,2,TRUE)*S13/12),-SUM(S81,S85,S84,S83)),2)","v":0},0,0,0,0,0,0,null,{"$f":"ROUND(IF(SUM(AA81,AA85,AA84,AA83)-(VLOOKUP(SUM(AA81,AA85,AA84),Table.Pool6.area.volume,2,TRUE)*AA13/12)>0,(-VLOOKUP(SUM(AA81,AA85,AA84),Table.Pool6.area.volume,2,TRUE)*AA13/12),-SUM(AA81,AA85,AA84,AA83)),2)","v":0},0,0,0,0,0,0,null,{"$f":"ROUND(IF(SUM(AI81,AI85,AI84,AI83)-(VLOOKUP(SUM(AI81,AI85,AI84),Table.Pool6.area.volume,2,TRUE)*AI13/12)>0,(-VLOOKUP(SUM(AI81,AI85,AI84),Table.Pool6.area.volume,2,TRUE)*AI13/12),-SUM(AI81,AI85,AI84,AI83)),2)","v":0},0,0,0,0,0,0]
[null,"Ending Volume [acre-ft]",{"$f":"IF(SUM(C81,C83,C84,C85,C86)>0,SUM(C81,C83,C84,C85,C86),0)","v":797.31},640.33999999999992,467.7999999999999,201.73999999999984,34.23999999999981,5.6599999999998118,0.99999999999981171,{"$f":"K81","v":1},{"$f":"IF(SUM(K81,K83,K84,K85,K86)>0,SUM(K81,K83,K84,K85,K86),0)","v":1},1,1,1,1,1,1,{"$f":"S81","v":1},{"$f":"IF(SUM(S81,S83,S84,S85,S86)>0,SUM(S81,S83,S84,S85,S86),0)","v":1},1,1,1,1,1,1,{"$f":"AA81","v":1},{"$f":"IF(SUM(AA81,AA83,AA84,AA85,AA86)>0,SUM(AA81,AA83,AA84,AA85,AA86),0)","v":1},1,1,1,1,1,1,{"$f":"AI81","v":1},{"$f":"IF(SUM(AI81,AI83,AI84,AI85,AI86)>0,SUM(AI81,AI83,AI84,AI85,AI86),0)","v":1},1,1,1,1,1,1]
[null,"Ending Area [acres]",{"$f":"IF(C87>0,VLOOKUP(C87,Table.Pool6.area.volume,2,TRUE),0)","v":680},645,607,461,140,28,0,{"$f":"K82","v":0},{"$f":"IF(K87>0,VLOOKUP(K87,Table.Pool6.area.volume,2,TRUE),0)","v":0},0,0,0,0,0,0,{"$f":"S82","v":0},{"$f":"IF(S87>0,VLOOKUP(S87,Table.Pool6.area.volume,2,TRUE),0)","v":0},0,0,0,0,0,0,{"$f":"AA82","v":0},{"$f":"IF(AA87>0,VLOOKUP(AA87,Table.Pool6.area.volume,2,TRUE),0)","v":0},0,0,0,0,0,0,{"$f":"AI82","v":0},{"$f":"IF(AI87>0,VLOOKUP(AI87,Table.Pool6.area.volume,2,TRUE),0)","v":0},0,0,0,0,0,0]
[]
[null,"Pan Coefficent",0.77,{"$f":"C91","v":39202},{"$f":"I91","v":39386},null,null,null,null,{"$f":"VALUE(J91)","v":39539},null,null,null,null,null,null,{"$f":"VALUE(Q91)","v":39752},{"$f":"VALUE(R91)","v":39904},null,null,null,null,null,null,{"$f":"VALUE(Y91)","v":40117},{"$f":"VALUE(Z91)","v":40269},null,null,null,null,null,null,{"$f":"VALUE(AG91)","v":40482},{"$f":"VALUE(AH91)","v":40634},null,null,null,null,null,null,{"$f":"VALUE(AO91)","v":40847}]
[null,{"$f":"DATE(YEAR(C91),MONTH(C91),DAY(C91-29))","v":"2007-04-01"},"2007-04-30","2007-05-31","2007-06-30","2007-07-31","2007-08-31","2007-09-30","2007-10-31",{"$f":"DATE(YEAR(K91),MONTH(K91),DAY(K91-29))","v":"2008-04-01"},{"$f":"DATE(YEAR(C91)+1,MONTH(C91),DAY(C91))","v":"2008-04-30"},{"$f":"DATE(YEAR(D91)+1,MONTH(D91),DAY(D91))","v":"2008-05-31"},"2008-06-30","2008-07-31","2008-08-31","2008-09-30","2008-10-31",{"$f":"DATE(YEAR(S91),MONTH(S91),DAY(S91-29))","v":"2009-04-01"},{"$f":"DATE(YEAR(K91)+1,MONTH(K91),DAY(K91))","v":"2009-04-30"},"2009-05-31","2009-06-30","2009-07-31","2009-08-31","2009-09-30","2009-10-31",{"$f":"DATE(YEAR(AA91),MONTH(AA91),DAY(AA91-29))","v":"2010-04-01"},{"$f":"DATE(YEAR(S91)+1,MONTH(S91),DAY(S91))","v":"2010-04-30"},"2010-05-31","2010-06-30","2010-07-31","2010-08-31","2010-09-30","2010-10-31",{"$f":"DATE(YEAR(AI91),MONTH(AI91),DAY(AI91-29))","v":"2011-04-01"},{"$f":"DATE(YEAR(AA91)+1,MONTH(AA91),DAY(AA91))","v":"2011-04-30"},"2011-05-31","2011-06-30","2011-07-31","2011-08-31","2011-09-30","2011-10-31"]
["Unit 1","Volume",2280,2280,2280,2280,2280,2280,2280,2280,2280,2280,2280,2280,2280,2280,2280,2280,2280,2280,2280,2280,2280,2280,2280,2280,2280,2280,2280,2280,2280,2280,2280,2280,2280,2280,2280,2280,2280,2280,2280,2280]
[null,"Area",529,529,529,529,529,529,529,529,529,529,529,529,529,529,529,529,529,529,529,529,529,529,529,529,529,529,529,529,529,529,529,529,529,529,529,529,529,529,529,529]
["Unit 2","Volume",2092,2092,2092,2092,2092,2092,2092,2092,2092,2092,2092,2092,2092,2092,2092,2092,2092,2092,2092,2092,2092,2092,2092,2092,2092,2092,2092,2092,2092,2092,2092,2092,2092,2092,2092,2092,2092,2092,2092,2092]
[null,"Area",601,601,601,601,601,601,601,601,601,601,601,601,601,601,601,601,601,601,601,601,601,601,601,601,601,601,601,601,601,601,601,601,601,601,601,601,601,601,601,601]
["Unit 3","Volume",4084,4084,4084,4084,4084,4084,4084,4084,4084,4084,4084,4084,4084,4084,4084,4084,4084,4084,4084,4084,4084,4084,4084,4084,4084,4084,4084,4084,4084,4084,4084,4084,4084,4084,4084,4084,4084,4084,4084,4084]
[null,"Area",1204,1204,1204,1204,1204,1204,1204,1204,1204,1204,1204,1204,1204,1204,1204,1204,1204,1204,1204,1204,1204,1204,1204,1204,1204,1204,1204,1204,1204,1204,1204,1204,1204,1204,1204,1204,1204,1204,1204,1204]
["Unit 4a","Volume",248.5,248.5,248.5,248.5,248.5,248.5,248.5,248.5,248.5,248.5,248.5,248.5,248.5,248.5,248.5,248.5,248.5,248.5,248.5,248.5,248.5,248.5,248.5,248.5,248.5,248.5,248.5,248.5,248.5,248.5,248.5,248.5,248.5,248.5,248.5,248.5,248.5,248.5,248.5,248.5]
[null,"Area",299,299,299,299,299,299,299,299,299,299,299,299,299,299,299,299,299,299,299,299,299,299,299,299,299,299,299,299,299,299,299,299,299,299,299,299,299,299,299,299]
["Unit 4b","Volume",692,692,692,692,692,692,692,692,692,692,692,692,692,692,692,692,692,692,692,692,692,692,692,692,692,692,692,692,692,692,692,692,692,692,692,692,692,692,692,692]
[null,"Area",341,341,341,341,341,341,341,341,341,341,341,341,341,341,341,341,341,341,341,341,341,341,341,341,341,341,341,341,341,341,341,341,341,341,341,341,341,341,341,341]
["Unit 4c","Volume",1353,1353,1353,1353,1353,1353,1353,1353,1353,1353,1353,1353,1353,1353,1353,1353,1353,1353,1353,1353,1353,1353,1353,1353,1353,1353,1353,1353,1353,1353,1353,1353,1353,1353,1353,1353,1353,1353,1353,1353]
[null,"Area",1377,1377,1377,1377,1377,1377,1377,1377,1377,1377,1377,1377,1377,1377,1377,1377,1377,1377,1377,1377,1377,1377,1377,1377,1377,1377,1377,1377,1377,1377,1377,1377,1377,1377,1377,1377,1377,1377,1377,1377]
["Unit 5","Volume",3071,3071,3071,3071,3071,3071,3071,3071,3071,3071,3071,3071,3071,3071,3071,3071,3071,3071,3071,3071,3071,3071,3071,3071,3071,3071,3071,3071,3071,3071,3071,3071,3071,3071,3071,3071,3071,3071,3071,3071]
[null,"Area",912,912,912,912,912,912,912,912,912,912,912,912,912,912,912,912,912,912,912,912,912,912,912,912,912,912,912,912,912,912,912,912,912,912,912,912,912,912,912,912]
["Unit 6","Volume",2866,2866,2866,2866,2866,2866,2866,2866,2866,2866,2866,2866,2866,2866,2866,2866,2866,2866,2866,2866,2866,2866,2866,2866,2866,2866,2866,2866,2866,2866,2866,2866,2866,2866,2866,2866,2866,2866,2866,2866]
[null,"Area",865,865,865,865,865,865,865,865,865,865,865,865,865,865,865,865,865,865,865,865,865,865,865,865,865,865,865,865,865,865,865,865,865,865,865,865,865,865,865,865]
[]
[]
[null,null,null,null,null,null,null,null,null,"Year 1","Unit 1","Unit 2","Unit 3","Unit 4a","Unit 4b","Unit 4c","Unit 5","Unit 6","Total"]
[null,null,null,null,null,null,null,null,null,"Gain/Loss during Previous Winter [acre-feet]"]
[]
[null,null,null,null,null,null,null,null,null,"Initial Values (April 1)"]
[null,null,null,null,null,null,null,null,null,"Volume\n[acre-feet]",{"$f":"C18","v":752.4},{"$f":"C27","v":690.36},{"$f":"C36","v":1347.72},{"$f":"C45","v":81.99},{"$f":"C54","v":228.32},{"$f":"C63","v":446.34},{"$f":"C72","v":1013.43},{"$f":"C81","v":945.78},{"$f":"SUM(K114:R114)","v":5506.34}]
[null,null,null,null,null,null,null,null,null,"Surface Area\n[acres]",{"$f":"C19","v":348},{"$f":"C28","v":475},{"$f":"C37","v":1026},{"$f":"C46","v":186},{"$f":"C55","v":243.89},{"$f":"C64","v":820},{"$f":"C73","v":804},{"$f":"C82","v":707},{"$f":"SUM(K115:R115)","v":4609.8899999999994}]
[null,null,null,null,null,null,null,null,null,"Percent Full",{"$f":"K114/2280","v":0.33},{"$f":"L114/2092","v":0.33},{"$f":"M114/4084","v":0.33},{"$f":"N114/248.45","v":0.3300060374320789},{"$f":"O114/691.87","v":0.33000419153887289},{"$f":"P114/1352.55","v":0.32999889098369745},{"$f":"Q114/3071","v":0.32999999999999996},{"$f":"R114/2866","v":0.33},{"$f":"S114/16685.87","v":0.33000017379974794}]
[null,null,null,null,null,null,null,null,null,"Inflows [acre-feet]"]
[null,null,null,null,null,null,null,null,null,"Runoff",{"$f":"SUM(C21:I21)","v":157},{"$f":"SUM(C30:I30)","v":0},{"$f":"SUM(C39:I39)","v":0},{"$f":"SUM(C48:I48)","v":0},{"$f":"SUM(C57:I57)","v":0},{"$f":"SUM(C66:I66)","v":0},{"$f":"SUM(C75:I75)","v":0},{"$f":"SUM(C84:I84)","v":0},{"$f":"SUM(K118:R118)","v":157}]
[null,null,null,null,null,null,null,null,null,"Pumped",{"$f":"SUM(C22:I22)","v":0},{"$f":"SUM(C31:I31)","v":0},{"$f":"SUM(C40:I40)","v":0},{"$f":"SUM(C49:I49)","v":0},{"$f":"SUM(C58:I58)","v":0},{"$f":"SUM(C67:I67)","v":0},{"$f":"SUM(C76:I76)","v":0},{"$f":"SUM(C85:I85)","v":0},{"$f":"SUM(K119:R119)","v":0}]
[null,null,null,null,null,null,null,null,null,"Precipi-tation",{"$f":"SUM(C20:I20)","v":218.36},{"$f":"SUM(C29:I29)","v":219.16000000000003},{"$f":"SUM(C38:I38)","v":508.09},{"$f":"SUM(C47:I47)","v":40.78},{"$f":"SUM(C56:I56)","v":94.970000000000013},{"$f":"SUM(C65:I65)","v":205.42999999999998},{"$f":"SUM(C74:I74)","v":386.42},{"$f":"SUM(C83:I83)","v":353.03},{"$f":"SUM(K120:R120)","v":2026.24}]
[null,null,null,null,null,null,null,null,null,"Total",{"$f":"SUM(K118:K120)","v":375.36},219.16000000000003,508.09,40.78,94.970000000000013,205.42999999999998,386.42,353.03,2183.2399999999998]
[null,null,null,null,null,null,null,null,null,"Outflow [acre-feet]"]
[null,null,null,null,null,null,null,null,null,"Evapor-ation",{"$f":"SUM(C23:I23)","v":-814.91},{"$f":"SUM(C32:I32)","v":-792.78000000000009},{"$f":"SUM(C41:I41)","v":-1855.81},{"$f":"SUM(C50:I50)","v":-122.77},{"$f":"SUM(C59:I59)","v":-323.28999999999996},{"$f":"SUM(C68:I68)","v":-651.77},{"$f":"SUM(C77:I77)","v":-1399.8500000000001},{"$f":"SUM(C86:I86)","v":-1297.81},{"$f":"SUM(K123:R123)","v":-7258.99}]
[null,null,null,null,null,null,null,null,null,"Ending Values (October 31)"]
[null,null,null,null,null,null,null,null,null,"Volume\n[acre-feet]",{"$f":"I24","v":312.84999999999991},{"$f":"I33","v":116.73999999999998},{"$f":"I42","v":0},{"$f":"I51","v":0},{"$f":"I60","v":0},{"$f":"I69","v":0},{"$f":"I78","v":0},{"$f":"I87","v":0.99999999999981171},{"$f":"SUM(K125:R125)","v":430.58999999999975}]
[null,null,null,null,null,null,null,null,null,"Surface Area\n[acres]",{"$f":"I16","v":376},{"$f":"I34","v":140},{"$f":"I43","v":0},{"$f":"I52","v":0},{"$f":"I61","v":0},{"$f":"I70","v":0},{"$f":"I79","v":0},{"$f":"I88","v":0},{"$f":"SUM(K126:R126)","v":516}]
[null,null,null,null,null,null,null,null,null,"Percent Full",{"$f":"K125/2280","v":0.13721491228070171},{"$f":"L125/2092","v":5.5803059273422551E-2},{"$f":"M125/4084","v":0},{"$f":"N125/248.45","v":0},{"$f":"O125/691.87","v":0},{"$f":"P125/1352.55","v":0},{"$f":"Q125/3071","v":0},{"$f":"R125/2866","v":3.4891835310530762E-4},{"$f":"S125/16685.87","v":2.5805666710815786E-2}]
[]
[]
[]
[]
[]
[]
[]
[]
[]
[]
[]
[]
[]
[]
[]
[]
[]
[]
[]
[]
[]
[]
[]
[]
[]
[]
[]
[]
[]
[]
[null,null,null,null,null,null,null,null,null,"Year 2","Unit 1","Unit 2","Unit 3","Unit 4a","Unit 4b","Unit 4c","Unit 5","Unit 6","Total"]
[null,null,null,null,null,null,null,null,null,"Gain/Loss during Previous Winter [acre-feet]"]
[]
[null,null,null,null,null,null,null,null,null,"Initial Values (April 1)"]
[null,null,null,null,null,null,null,null,null,"Volume\n[acre-feet]",{"$f":"K$18","v":187.32},{"$f":"K$27","v":42.27},{"$f":"K$36","v":0},{"$f":"K$45","v":0},{"$f":"K$54","v":0},{"$f":"K$63","v":0},{"$f":"K$72","v":0},{"$f":"K$81","v":1},{"$f":"SUM(K162:R162)","v":230.59}]
[null,null,null,null,null,null,null,null,null,"Surface Area\n[acres]",{"$f":"K$19","v":181},{"$f":"K$28","v":86},{"$f":"K$37","v":0},{"$f":"K$46","v":0},{"$f":"K$55","v":0},{"$f":"K$64","v":0},{"$f":"K$73","v":0},{"$f":"K$82","v":0},{"$f":"SUM(K163:R163)","v":267}]
[null,null,null,null,null,null,null,null,null,"Percent Full",{"$f":"K162/2280","v":8.2157894736842096E-2},{"$f":"L162/2092","v":2.0205544933078395E-2},{"$f":"M162/4084","v":0},{"$f":"N162/248.45","v":0},{"$f":"O162/691.87","v":0},{"$f":"P162/1352.55","v":0},{"$f":"Q162/3071","v":0},{"$f":"R162/2866","v":3.4891835310537332E-4},{"$f":"S162/16685.87","v":1.3819477198372036E-2}]
[null,null,null,null,null,null,null,null,null,"Inflows [acre-feet]"]
[null,null,null,null,null,null,null,null,null,"Runoff",{"$f":"SUM(K$21:Q$21)","v":353},{"$f":"SUM(K$30:Q$30)","v":0},{"$f":"SUM(K$39:Q$39)","v":0},{"$f":"SUM(K$48:Q$48)","v":0},{"$f":"SUM(K$57:Q$57)","v":0},{"$f":"SUM(K$66:Q$66)","v":0},{"$f":"SUM(K$75:Q$75)","v":0},{"$f":"SUM(K$84:Q$84)","v":0},{"$f":"SUM(K166:R166)","v":353}]
[null,null,null,null,null,null,null,null,null,"Pumped",{"$f":"SUM(K$22:Q$22)","v":0},{"$f":"SUM(K$31:Q$31)","v":0},{"$f":"SUM(K$40:Q$40)","v":0},{"$f":"SUM(K$49:Q$49)","v":0},{"$f":"SUM(K$58:Q$58)","v":0},{"$f":"SUM(K$67:Q$67)","v":0},{"$f":"SUM(K$76:Q$76)","v":0},{"$f":"SUM(K$85:Q$85)","v":0},{"$f":"SUM(K167:R167)","v":0}]
[null,null,null,null,null,null,null,null,null,"Precipi-tation",{"$f":"SUM(K$20:Q$20)","v":199.38},{"$f":"SUM(K$29:Q$29)","v":30.69},{"$f":"SUM(K$38:Q$38)","v":0},{"$f":"SUM(K$47:Q$47)","v":0},{"$f":"SUM(K$56:Q$56)","v":0},{"$f":"SUM(K$65:Q$65)","v":0},{"$f":"SUM(K$74:Q$74)","v":0},{"$f":"SUM(K$83:Q$83)","v":0},{"$f":"SUM(K168:R168)","v":230.07}]
[null,null,null,null,null,null,null,null,null,"Total",{"$f":"SUM(K166:K168)","v":552.38},30.69,0,0,0,0,0,0,583.06999999999994]
[null,null,null,null,null,null,null,null,null,"Outflow [acre-feet]"]
[null,null,null,null,null,null,null,null,null,"Evapor-ation",{"$f":"SUM(K$23:Q$23)","v":-574.1},{"$f":"SUM(K$32:Q$32)","v":-72.959999999999994},{"$f":"SUM(K$41:Q$41)","v":0},{"$f":"SUM(K$50:Q$50)","v":0},{"$f":"SUM(K$59:Q$59)","v":0},{"$f":"SUM(K$68:Q$68)","v":0},{"$f":"SUM(K$77:Q$77)","v":0},{"$f":"SUM(K$86:Q$86)","v":0},{"$f":"SUM(K171:R171)","v":-647.06000000000006}]
[null,null,null,null,null,null,null,null,null,"Ending Values (October 31)"]
[null,null,null,null,null,null,null,null,null,"Volume\n[acre-feet]",{"$f":"Q$24","v":165.60000000000005},{"$f":"Q$33","v":0},{"$f":"Q$42","v":0},{"$f":"Q$51","v":0},{"$f":"Q$60","v":0},{"$f":"Q$69","v":0},{"$f":"Q$78","v":0},{"$f":"Q$87","v":1},{"$f":"SUM(K173:R173)","v":166.60000000000005}]
[null,null,null,null,null,null,null,null,null,"Surface Area\n[acres]",{"$f":"Q$25","v":168},{"$f":"Q$34","v":0},{"$f":"Q$43","v":0},{"$f":"Q$52","v":0},{"$f":"Q$61","v":0},{"$f":"Q$70","v":0},{"$f":"Q$79","v":0},{"$f":"Q$88","v":0},{"$f":"SUM(K174:R174)","v":168}]
[null,null,null,null,null,null,null,null,null,"Percent Full",{"$f":"K173/2280","v":7.263157894736845E-2},{"$f":"L173/2092","v":0},{"$f":"M173/4084","v":0},{"$f":"N173/248.45","v":0},{"$f":"O173/691.87","v":0},{"$f":"P173/1352.55","v":0},{"$f":"Q173/3071","v":0},{"$f":"R173/2866","v":3.4891835310537332E-4},{"$f":"S173/16685.87","v":9.9844958638656573E-3}]
[]
[]
[]
[]
[]
[]
[]
[]
[]
[]
[]
[]
[]
[]
[]
[]
[]
[]
[]
[]
[]
[]
[]
[]
[]
[]
[]
[]
[]
[]
[]
[]
[]
[]
[]
[]
[null,null,null,null,null,null,null,null,null,"Year 3","Unit 1","Unit 2","Unit 3","Unit 4a","Unit 4b","Unit 4c","Unit 5","Unit 6","Total"]
[null,null,null,null,null,null,null,null,null,"Gain/Loss during Previous Winter [acre-feet]"]
[]
[null,null,null,null,null,null,null,null,null,"Initial Values (April 1)"]
[null,null,null,null,null,null,null,null,null,"Volume\n[acre-feet]",{"$f":"S$18","v":0},{"$f":"S$27","v":0},{"$f":"S$36","v":0},{"$f":"S$45","v":0},{"$f":"S$54","v":0},{"$f":"S$63","v":0},{"$f":"S$72","v":0},{"$f":"S$81","v":1},{"$f":"SUM(K216:R216)","v":1}]
[null,null,null,null,null,null,null,null,null,"Surface Area\n[acres]",{"$f":"S$19","v":0},{"$f":"S$28","v":0},{"$f":"S$37","v":0},{"$f":"S$46","v":0},{"$f":"S$55","v":0},{"$f":"S$64","v":0},{"$f":"S$73","v":0},{"$f":"S$82","v":0},{"$f":"SUM(K217:R217)","v":0}]
[null,null,null,null,null,null,null,null,null,"Percent Full",{"$f":"K216/2280","v":0},{"$f":"L216/2092","v":0},{"$f":"M216/4084","v":0},{"$f":"N216/248.45","v":0},{"$f":"O216/691.87","v":0},{"$f":"P216/1352.55","v":0},{"$f":"Q216/3071","v":0},{"$f":"R216/2866","v":3.4891835310537332E-4},{"$f":"S216/16685.87","v":5.9930947562218818E-5}]
[null,null,null,null,null,null,null,null,null,"Inflows [acre-feet]"]
[null,null,null,null,null,null,null,null,null,"Runoff",{"$f":"SUM(S$21:Y$21)","v":0},{"$f":"SUM(S$30:Y$30)","v":0},{"$f":"SUM(S$39:Y$39)","v":0},{"$f":"SUM(S$48:Y$48)","v":0},{"$f":"SUM(S$57:Y$57)","v":0},{"$f":"SUM(S$66:Y$66)","v":0},{"$f":"SUM(S$75:Y$75)","v":0},{"$f":"SUM(S$84:Y$84)","v":0},{"$f":"SUM(K220:R220)","v":0}]
[null,null,null,null,null,null,null,null,null,"Pumped",{"$f":"SUM(S$22:Y$22)","v":0},{"$f":"SUM(S$31:Y$31)","v":0},{"$f":"SUM(S$40:Y$40)","v":0},{"$f":"SUM(S$49:Y$49)","v":0},{"$f":"SUM(S$58:Y$58)","v":0},{"$f":"SUM(S$67:Y$67)","v":0},{"$f":"SUM(S$76:Y$76)","v":0},{"$f":"SUM(S$85:Y$85)","v":0},{"$f":"SUM(K221:R221)","v":0}]
[null,null,null,null,null,null,null,null,null,"Precipi-tation",{"$f":"SUM(S$20:Y$20)","v":0},{"$f":"SUM(S$29:Y$29)","v":0},{"$f":"SUM(S$38:Y$38)","v":0},{"$f":"SUM(S$47:Y$47)","v":0},{"$f":"SUM(S$56:Y$56)","v":0},{"$f":"SUM(S$65:Y$65)","v":0},{"$f":"SUM(S$74:Y$74)","v":0},{"$f":"SUM(S$83:Y$83)","v":0},{"$f":"SUM(K222:R222)","v":0}]
[null,null,null,null,null,null,null,null,null,"Total",{"$f":"SUM(K220:K222)","v":0},0,0,0,0,0,0,0,0]
[null,null,null,null,null,null,null,null,null,"Outflow [acre-feet]"]
[null,null,null,null,null,null,null,null,null,"Evapor-ation",{"$f":"SUM(S$23:Y$23)","v":0},{"$f":"SUM(S$32:Y$32)","v":0},{"$f":"SUM(S$41:Y$41)","v":0},{"$f":"SUM(S$50:Y$50)","v":0},{"$f":"SUM(S$59:Y$59)","v":0},{"$f":"SUM(S$68:Y$68)","v":0},{"$f":"SUM(S$77:Y$77)","v":0},{"$f":"SUM(S$86:Y$86)","v":0},{"$f":"SUM(K225:R225)","v":0}]
[null,null,null,null,null,null,null,null,null,"Ending Values (October 31)"]
[null,null,null,null,null,null,null,null,null,"Volume\n[acre-feet]",{"$f":"Y$24","v":0},{"$f":"Y$33","v":0},{"$f":"Y$42","v":0},{"$f":"Y$51","v":0},{"$f":"Y$60","v":0},{"$f":"Y$69","v":0},{"$f":"Y$78","v":0},{"$f":"Y$87","v":1},{"$f":"SUM(K227:R227)","v":1}]
[null,null,null,null,null,null,null,null,null,"Surface Area\n[acres]",{"$f":"Y$25","v":0},{"$f":"Y$34","v":0},{"$f":"Y$43","v":0},{"$f":"Y$52","v":0},{"$f":"Y$61","v":0},{"$f":"Y$70","v":0},{"$f":"Y$79","v":0},{"$f":"Y$88","v":0},{"$f":"SUM(K228:R228)","v":0}]
[null,null,null,null,null,null,null,null,null,"Percent Full",{"$f":"K227/2280","v":0},{"$f":"L227/2092","v":0},{"$f":"M227/4084","v":0},{"$f":"N227/248.45","v":0},{"$f":"O227/691.87","v":0},{"$f":"P227/1352.55","v":0},{"$f":"Q227/3071","v":0},{"$f":"R227/2866","v":3.4891835310537332E-4},{"$f":"S227/16685.87","v":5.9930947562218818E-5}]
[]
[]
[]
[]
[]
[]
[]
[]
[]
[]
[]
[]
[]
[]
[]
[]
[]
[]
[]
[]
[]
[]
[]
[]
[]
[]
[]
[]
[]
[]
[]
[]
[]
[null,null,null,null,null,null,null,null,null,"Year 4","Unit 1","Unit 2","Unit 3","Unit 4a","Unit 4b","Unit 4c","Unit 5","Unit 6","Total"]
[null,null,null,null,null,null,null,null,null,"Gain/Loss during Previous Winter [acre-feet]"]
[]
[null,null,null,null,null,null,null,null,null,"Initial Values (April 1)"]
[null,null,null,null,null,null,null,null,null,"Volume\n[acre-feet]",{"$f":"AA$18","v":0},{"$f":"AA$27","v":0},{"$f":"AA$36","v":0},{"$f":"AA$45","v":0},{"$f":"AA$54","v":0},{"$f":"AA$63","v":0},{"$f":"AA$72","v":0},{"$f":"AA$81","v":1},{"$f":"SUM(K267:R267)","v":1}]
[null,null,null,null,null,null,null,null,null,"Surface Area\n[acres]",{"$f":"AA$19","v":0},{"$f":"AA$28","v":0},{"$f":"AA$37","v":0},{"$f":"AA$46","v":0},{"$f":"AA$55","v":0},{"$f":"AA$64","v":0},{"$f":"AA$73","v":0},{"$f":"AA$82","v":0},{"$f":"SUM(K268:R268)","v":0}]
[null,null,null,null,null,null,null,null,null,"Percent Full",{"$f":"K267/2280","v":0},{"$f":"L267/2092","v":0},{"$f":"M267/4084","v":0},{"$f":"N267/248.45","v":0},{"$f":"O267/691.87","v":0},{"$f":"P267/1352.55","v":0},{"$f":"Q267/3071","v":0},{"$f":"R267/2866","v":3.4891835310537332E-4},{"$f":"S267/16685.87","v":5.9930947562218818E-5}]
[null,null,null,null,null,null,null,null,null,"Inflows [acre-feet]"]
[null,null,null,null,null,null,null,null,null,"Runoff",{"$f":"SUM(AA$21:AG$21)","v":0},{"$f":"SUM(AA$30:AG$30)","v":0},{"$f":"SUM(AA$39:AG$39)","v":0},{"$f":"SUM(AA$48:AG$48)","v":0},{"$f":"SUM(AA$57:AG$57)","v":0},{"$f":"SUM(AA$66:AG$66)","v":0},{"$f":"SUM(AA$75:AG$75)","v":0},{"$f":"SUM(AA$84:AG$84)","v":0},{"$f":"SUM(K271:R271)","v":0}]
[null,null,null,null,null,null,null,null,null,"Pumped",{"$f":"SUM(AA$22:AG$22)","v":0},{"$f":"SUM(AA$31:AG$31)","v":0},{"$f":"SUM(AA$40:AG$40)","v":0},{"$f":"SUM(AA$49:AG$49)","v":0},{"$f":"SUM(AA$58:AG$58)","v":0},{"$f":"SUM(AA$67:AG$67)","v":0},{"$f":"SUM(AA$76:AG$76)","v":0},{"$f":"SUM(AA$85:AG$85)","v":0},{"$f":"SUM(K272:R272)","v":0}]
[null,null,null,null,null,null,null,null,null,"Precipi-tation",{"$f":"SUM(AA$20:AG$20)","v":0},{"$f":"SUM(AA$29:AG$29)","v":0},{"$f":"SUM(AA$38:AG$38)","v":0},{"$f":"SUM(AA$47:AG$47)","v":0},{"$f":"SUM(AA$56:AG$56)","v":0},{"$f":"SUM(AA$65:AG$65)","v":0},{"$f":"SUM(AA$74:AG$74)","v":0},{"$f":"SUM(AA$83:AG$83)","v":0},{"$f":"SUM(K273:R273)","v":0}]
[null,null,null,null,null,null,null,null,null,"Total",{"$f":"SUM(K271:K273)","v":0},0,0,0,0,0,0,0,0]
[null,null,null,null,null,null,null,null,null,"Outflow [acre-feet]"]
[null,null,null,null,null,null,null,null,null,"Evapor-ation",{"$f":"SUM(AA$23:AG$23)","v":0},{"$f":"SUM(AA$32:AG$32)","v":0},{"$f":"SUM(AA$41:AG$41)","v":0},{"$f":"SUM(AA$50:AG$50)","v":0},{"$f":"SUM(AA$59:AG$59)","v":0},{"$f":"SUM(AA$68:AG$68)","v":0},{"$f":"SUM(AA$77:AG$77)","v":0},{"$f":"SUM(AA$86:AG$86)","v":0},{"$f":"SUM(K276:R276)","v":0}]
[null,null,null,null,null,null,null,null,null,"Ending Values (October 31)"]
[null,null,null,null,null,null,null,null,null,"Volume\n[acre-feet]",{"$f":"AG$24","v":0},{"$f":"AG$33","v":0},{"$f":"AG$42","v":0},{"$f":"AG$51","v":0},{"$f":"AG$60","v":0},{"$f":"AG$69","v":0},{"$f":"AG$78","v":0},{"$f":"AG$87","v":1},{"$f":"SUM(K278:R278)","v":1}]
[null,null,null,null,null,null,null,null,null,"Surface Area\n[acres]",{"$f":"AG$25","v":0},{"$f":"AG$34","v":0},{"$f":"AG$43","v":0},{"$f":"AG$52","v":0},{"$f":"AG$61","v":0},{"$f":"AG$70","v":0},{"$f":"AG$79","v":0},{"$f":"AG$88","v":0},{"$f":"SUM(K279:R279)","v":0}]
[null,null,null,null,null,null,null,null,null,"Percent Full",{"$f":"K278/2280","v":0},{"$f":"L278/2092","v":0},{"$f":"M278/4084","v":0},{"$f":"N278/248.45","v":0},{"$f":"O278/691.87","v":0},{"$f":"P278/1352.55","v":0},{"$f":"Q278/3071","v":0},{"$f":"R278/2866","v":3.4891835310537332E-4},{"$f":"S278/16685.87","v":5.9930947562218818E-5}]
[]
[]
[]
[]
[]
[]
[]
[]
[]
[]
[]
[]
[]
[]
[]
[]
[]
[]
[]
[]
[]
[]
[]
[]
[]
[]
[]
[]
[]
[]
[]
[]
[]
[]
[]
[]
[]
[null,null,null,null,null,null,null,null,null,"Year 5","Unit 1","Unit 2","Unit 3","Unit 4a","Unit 4b","Unit 4c","Unit 5","Unit 6","Total"]
[null,null,null,null,null,null,null,null,null,"Gain/Loss during Previous Winter [acre-feet]"]
[]
[null,null,null,null,null,null,null,null,null,"Initial Values (April 1)"]
[null,null,null,null,null,null,null,null,null,"Volume\n[acre-feet]",{"$f":"AI$18","v":0},{"$f":"AI$27","v":0},{"$f":"AI$36","v":0},{"$f":"AI$45","v":0},{"$f":"AI$54","v":0},{"$f":"AI$63","v":0},{"$f":"AI$72","v":0},{"$f":"AI$81","v":1},{"$f":"SUM(K322:R322)","v":1}]
[null,null,null,null,null,null,null,null,null,"Surface Area\n[acres]",{"$f":"AI$19","v":0},{"$f":"AI$28","v":0},{"$f":"AI$37","v":0},{"$f":"AI$46","v":0},{"$f":"AI$55","v":0},{"$f":"AI$64","v":0},{"$f":"AI$73","v":0},{"$f":"AI$82","v":0},{"$f":"SUM(K323:R323)","v":0}]
[null,null,null,null,null,null,null,null,null,"Percent Full",{"$f":"K322/2280","v":0},{"$f":"L322/2092","v":0},{"$f":"M322/4084","v":0},{"$f":"N322/248.45","v":0},{"$f":"O322/691.87","v":0},{"$f":"P322/1352.55","v":0},{"$f":"Q322/3071","v":0},{"$f":"R322/2866","v":3.4891835310537332E-4},{"$f":"S322/16685.87","v":5.9930947562218818E-5}]
[null,null,null,null,null,null,null,null,null,"Inflows [acre-feet]"]
[null,null,null,null,null,null,null,null,null,"Runoff",{"$f":"SUM(AI$21:AO$21)","v":0},{"$f":"SUM(AI$30:AO$30)","v":0},{"$f":"SUM(AI$39:AO$39)","v":0},{"$f":"SUM(AI$48:AO$48)","v":0},{"$f":"SUM(AI$57:AO$57)","v":0},{"$f":"SUM(AI$66:AO$66)","v":0},{"$f":"SUM(AI$75:AO$75)","v":0},{"$f":"SUM(AI$84:AO$84)","v":0},{"$f":"SUM(K326:R326)","v":0}]
[null,null,null,null,null,null,null,null,null,"Pumped",{"$f":"SUM(AI$22:AO$22)","v":0},{"$f":"SUM(AI$31:AO$31)","v":0},{"$f":"SUM(AI$40:AO$40)","v":0},{"$f":"SUM(AI$49:AO$49)","v":0},{"$f":"SUM(AI$58:AO$58)","v":0},{"$f":"SUM(AI$67:AO$67)","v":0},{"$f":"SUM(AI$76:AO$76)","v":0},{"$f":"SUM(AI$85:AO$85)","v":0},{"$f":"SUM(K327:R327)","v":0}]
[null,null,null,null,null,null,null,null,null,"Precipi-tation",{"$f":"SUM(AI$20:AO$20)","v":0},{"$f":"SUM(AI$29:AO$29)","v":0},{"$f":"SUM(AI$38:AO$38)","v":0},{"$f":"SUM(AI$47:AO$47)","v":0},{"$f":"SUM(AI$56:AO$56)","v":0},{"$f":"SUM(AI$65:AO$65)","v":0},{"$f":"SUM(AI$74:AO$74)","v":0},{"$f":"SUM(AI$83:AO$83)","v":0},{"$f":"SUM(K328:R328)","v":0}]
[null,null,null,null,null,null,null,null,null,"Total",{"$f":"SUM(K326:K328)","v":0},0,0,0,0,0,0,0,0]
[null,null,null,null,null,null,null,null,null,"Outflow [acre-feet]"]
[null,null,null,null,null,null,null,null,null,"Evapor-ation",{"$f":"SUM(AI$23:AO$23)","v":0},{"$f":"SUM(AI$32:AO$32)","v":0},{"$f":"SUM(AI$41:AO$41)","v":0},{"$f":"SUM(AI$50:AO$50)","v":0},{"$f":"SUM(AI$59:AO$59)","v":0},{"$f":"SUM(AI$68:AO$68)","v":0},{"$f":"SUM(AI$77:AO$77)","v":0},{"$f":"SUM(AI$86:AO$86)","v":0},{"$f":"SUM(K331:R331)","v":0}]
[null,null,null,null,null,null,null,null,null,"Ending Values (October 31)"]
[null,null,null,null,null,null,null,null,null,"Volume\n[acre-feet]",{"$f":"AO$24","v":0},{"$f":"AO$33","v":0},{"$f":"AO$42","v":0},{"$f":"AO$51","v":0},{"$f":"AO$60","v":0},{"$f":"AO$69","v":0},{"$f":"AO$78","v":0},{"$f":"AO$87","v":1},{"$f":"SUM(K333:R333)","v":1}]
[null,null,null,null,null,null,null,null,null,"Surface Area\n[acres]",{"$f":"AO$25","v":0},{"$f":"AO$34","v":0},{"$f":"AO$43","v":0},{"$f":"AO$52","v":0},{"$f":"AO$61","v":0},{"$f":"AO$70","v":0},{"$f":"AO$79","v":0},{"$f":"AO$88","v":0},{"$f":"SUM(K334:R334)","v":0}]
[null,null,null,null,null,null,null,null,null,"Percent Full",{"$f":"K333/2280","v":0},{"$f":"L333/2092","v":0},{"$f":"M333/4084","v":0},{"$f":"N333/248.45","v":0},{"$f":"O333/691.87","v":0},{"$f":"P333/1352.55","v":0},{"$f":"Q333/3071","v":0},{"$f":"R333/2866","v":3.4891835310537332E-4},{"$f":"S333/16685.87","v":5.9930947562218818E-5}]

{"sheet":"Area.Volume Tables","index":3,"n_rows":134,"n_cols":25,"rows_kept":134,"cut":false,"hidden":false,"merged":[]}
["Unit 1",null,null,"Unit 2",null,null,"Unit 3",null,null,"Unit 4a",null,null,"Unit 4b",null,null,"Unit 4c",null,null,"Unit 5",null,null,"Unit 6"]
["Volume","Area","Stage","Volume","Area","Stage","Volume","Area","Stage","Volume","Area","Stage","Volume","Area","Stage","Volume","Area","Stage","Volume","Area","Stage","Volume","Area","Stage","Password=flood"]
["(acre-feet)","(acres)","(feet)","(acre-feet)","(acres)","(feet)","(acre-feet)","(acres)","(feet)","(acre-feet)","(acres)","(feet)","(acre-feet)","(acres)","(feet)","(acre-feet)","(acres)","(feet)","(acre-feet)","(acres)","(feet)","(acre-feet)","(acres)","(feet)"]
[0,0,null,0,0,null,0,0,null,null,null,null,null,null,null,0,0,null,0,0]
[0,0,3621.6,0,0,3618,0,0,3614.2,null,null,3615.4,0,0,3614.8,0,0,3613.4,0,0,3614.8,0,0,3614.4]
[0,0,{"$f":"C5+0.05","v":3621.65},0,0,{"$f":"F5+0.05","v":3618.05},0,0,{"$f":"I5+0.05","v":3614.25},0,0,{"$f":"L5+0.05","v":3615.4500000000003},0.65,6,{"$f":"O5+0.1","v":3614.9},0,0,{"$f":"R5+0.05","v":3613.4500000000003},0,0,{"$f":"U5+0.05","v":3614.8500000000004},1.18,23,{"$f":"X5+0.05","v":3614.4500000000003}]
[0,0,{"$f":"C6+0.05","v":3621.7000000000003},3,17,{"$f":"F6+0.05","v":3618.1000000000004},1.2,12,{"$f":"I6+0.05","v":3614.3},1.1499999999999999,17,{"$f":"L6+0.05","v":3615.5000000000005},1.34,10.7,{"$f":"O6+0.1","v":3615},0.6,6,{"$f":"R6+0.05","v":3613.5000000000005},0.7,7,{"$f":"U6+0.05","v":3614.9000000000005},2.35,25,{"$f":"X6+0.05","v":3614.5000000000005}]
[0,0,3621.7500000000005,5,22,3618.1500000000005,1.8,12,3614.3500000000004,2.2799999999999998,22,3615.5500000000006,6,38,3615.1,0.9,6,3613.5500000000006,1.08,23,3614.9500000000007,3.68,26,3614.5500000000006]
[8,18,3621.8000000000006,6,27,3618.2000000000007,2.4,12,3614.4000000000005,3.4,28,3615.6000000000008,9.25,68.430000000000007,3615.2,1.2,6,3613.6000000000008,2.72,39,3615.0000000000009,5,28,3614.6000000000008]
[10,23,3621.8500000000008,8,32,3618.2500000000009,3,12,3614.4500000000007,5.15,35,3615.650000000001,18,91,3615.2999999999997,1.5,6,3613.650000000001,7.77,101,3615.0500000000011,7.05,41,3614.650000000001]
[13,28,3621.900000000001,10,37,3618.3000000000011,3.6,12,3614.5000000000009,6.9,42,3615.7000000000012,27.53,114.34,3615.3999999999996,1.8,6,3613.7000000000012,12.82,163,3615.1000000000013,9.1,54,3614.7000000000012]
[15,33,3621.9500000000012,12,42,3618.3500000000013,4.3499999999999996,14,3614.5500000000011,9.3800000000000008,50,3615.7500000000014,41,140,3615.4999999999995,2.35,11,3613.7500000000014,24.42,232,3615.1500000000015,12.45,67,3614.7500000000014]
[18,38,3622.0000000000014,14,47,3618.4000000000015,5.05,17,3614.6000000000013,11.85,57,3615.8000000000015,55.67,167.09,3615.5999999999995,2.95,17,3613.8000000000015,36.020000000000003,262,3615.2000000000016,15.8,80,3614.8000000000015]
[21,42,3622.0500000000015,15,52,3618.4500000000016,6.4,27,3614.6500000000015,15.43,72,3615.8500000000017,73.900000000000006,182.9,3615.6999999999994,4.25,26,3613.8500000000017,50.42,288,3615.2500000000018,20.8,100,3614.8500000000017]
[24,46,3622.1000000000017,19,57,3618.5000000000018,7.75,37,3614.7000000000016,19,86,3615.9000000000019,92.26,198.79,3615.7999999999993,5.55,35,3613.9000000000019,64.819999999999993,314,3615.300000000002,25.8,120,3614.9000000000019]
[27,51,3622.1500000000019,23,62,3618.550000000002,11.6,62,3614.7500000000018,24.03,101,3615.9500000000021,113,209,3615.8999999999992,7.75,44,3613.9500000000021,81.819999999999993,340,3615.3500000000022,32.799999999999997,140,3614.9500000000021]
[30,56,3622.2000000000021,26,67,3618.6000000000022,13.9,86,3614.800000000002,29.05,115,3616.0000000000023,134.13999999999999,220.02,3615.9999999999991,10,54,3614.0000000000023,98.82,366,3615.4000000000024,39.799999999999997,160,3615.0000000000023]
[34,61,3622.2500000000023,30,72,3618.6500000000024,21.15,145,3614.8500000000022,35.43,127,3616.0500000000025,161.84,227.27,3616.099999999999,13.4,67,3614.0500000000025,119.22,408,3615.4500000000025,49.73,198,3615.0500000000025]
[38,66,3622.3000000000025,33,76,3618.7000000000025,28.4,204,3614.9000000000024,41.8,140,3616.1000000000026,179.69,235.52,3616.1999999999989,16.75,81,3614.1000000000026,139.63,450,3615.5000000000027,59.65,237,3615.1000000000026]
[43,70,3622.3500000000026,38,81,3618.7500000000027,41.55,263,3614.9500000000025,49.45,153,3616.1500000000028,203.6,239,3616.2999999999988,21.5,95,3614.1500000000028,164.25,492,3615.5500000000029,73.430000000000007,275,3615.1500000000028]
[47,74,3622.4000000000028,42,86,3618.8000000000029,54.7,322,3615.0000000000027,57.1,166,3616.200000000003,227.63,243.89,3616.3999999999987,26.2,108,3614.200000000003,188.87,535,3615.6000000000031,87.2,314,3615.200000000003]
[52,79,3622.450000000003,47,91,3618.8500000000031,72.55,357,3615.0500000000029,35.9,176,3616.2500000000032,252,248,3616.4999999999986,34.200000000000003,120,3614.2500000000032,217.22,567,3615.6500000000033,104.43,344,3615.2500000000032]
[56,84,3622.5000000000032,52,96,3618.9000000000033,90.4,392,3615.1000000000031,74.7,186,3616.3000000000034,277.20999999999998,251.86,3616.5999999999985,38.15,131,3614.3000000000034,245.57,599,3615.7000000000035,121.65,375,3615.3000000000034]
[60,89,3622.5500000000034,57,101,3618.9500000000035,111.75,427,3615.1500000000033,84.5,196,3616.3500000000035,302.8,256,3616.6999999999985,45.25,143,3614.3500000000035,277.17,636,3615.7500000000036,141.94999999999999,405,3615.3500000000035]
[64,94,3622.6000000000035,63,105,3619.0000000000036,133.1,462,3615.2000000000035,94.3,206,3616.4000000000037,328.56,261.67,3616.7999999999984,52.4,154,3614.4000000000037,308.72000000000003,664,3615.8000000000038,162.19999999999999,436,3615.4000000000037]
[69,98,3622.6500000000037,69,110,3619.0500000000038,158.1,500,3615.2500000000036,105.1,216,3616.4500000000039,355,268,3616.8999999999983,61.25,181,3614.4500000000039,342.7,679,3615.850000000004,185.25,461,3615.4500000000039]
[73,102,3622.7000000000039,76,115,3619.100000000004,183.1,538,3615.3000000000038,115.9,226,3616.5000000000041,382.24,275.14999999999998,3616.9999999999982,70.5,208,3614.5000000000041,376.67,695,3615.9000000000042,208.3,486,3615.5000000000041]
[78,107,3622.7500000000041,82,120,3619.1500000000042,211.9,566,3615.350000000004,127.73,236,3616.5500000000043,411.6,282,3617.0999999999981,82.25,225,3614.5500000000043,412.22,711,3615.9500000000044,233.85,511,3615.5500000000043]
[84,112,3622.8000000000043,89,125,3619.2000000000044,240.7,614,3615.4000000000042,139.55000000000001,247,3616.6000000000045,440.9,289,3617.199999999998,94,262,3614.6000000000045,447.77,727,3616.0000000000045,259.39999999999998,536,3615.6000000000045]
[90,117,3622.8500000000045,98,130,3619.2500000000045,273.35000000000002,653,3615.4500000000044,152.19999999999999,253,3616.6500000000046,470.3,296,3617.2999999999979,109,281,3614.6500000000046,484.4,732,3616.0500000000047,286.73,546,3615.6500000000046]
[95,122,3622.9000000000046,108,135,3619.3000000000047,306,692,3615.5000000000045,164.85,259,3616.7000000000048,499.7,303,3617.3999999999978,124,338,3614.7000000000048,521.02,738,3616.1000000000049,314.05,557,3615.7000000000048]
[100,126,3622.9500000000048,115,140,3619.3500000000049,342.5,732,3615.5500000000047,178.43,265,3616.750000000005,528.80999999999995,311.11,3617.4999999999977,142.80000000000001,376,3614.750000000005,558.20000000000005,743,3616.1500000000051,342.4,567,3615.750000000005]
[105,130,3623.000000000005,121,145,3619.4000000000051,379.15,771,3615.6000000000049,191.4,272,3616.8000000000052,561.4,317,3617.5999999999976,161.6,414,3614.8000000000052,595.37,749,3616.2000000000053,370.85,577,3615.8000000000052]
[111,135,3623.0500000000052,127,150,3619.4500000000053,418,791,3615.6500000000051,205.33,278,3616.8500000000054,594,323,{"$f":"O33+0.1","v":3617.6999999999975},184.45,457,3614.8500000000054,633.1,754,3616.2500000000055,400.1,587,3615.8500000000054]
[116,140,3623.1000000000054,133,154,3619.5000000000055,458.55,817,3615.7000000000053,219.25,285,3616.9000000000055,626.6,329,3617.7999999999975,207.3,500,3614.9000000000055,670.82,760,3616.3000000000056,429.45,597,3615.9000000000055]
[123,145,3623.1500000000055,140,159,3619.5500000000056,500.5,841,3615.7500000000055,233.85,292,3616.9500000000057,659.2,335,3617.8999999999974,234.45,543,3614.9500000000057,709.1,765,3616.3500000000058,459.8,607,3615.9500000000057]
[129,149,3623.2000000000057,147,164,3619.6000000000058,542.6,864,3615.8000000000056,248.45,299,3617.0000000000059,691.87,341.12,{"$f":"O36+0.1","v":3617.9999999999973},261.60000000000002,586,3615.0000000000059,747.37,771,3616.400000000006,490.15,617,3616.0000000000059]
[137,154,3623.2500000000059,155,169,3619.650000000006,586.5,879,3615.8500000000058,null,null,null,null,null,null,293.85000000000002,645,3615.0500000000061,786.2,776,3616.4500000000062,521.35,624,3616.0500000000061]
[144,159,3623.3000000000061,163,174,3619.7000000000062,630.45000000000005,893,3615.900000000006,null,null,null,null,null,null,326.05,703,3615.1000000000063,825.02,782,3616.5000000000064,552.54999999999995,631,3616.1000000000063]
[151,164,3623.3500000000063,171,179,3619.7500000000064,675.8,908,3615.9500000000062,null,null,null,null,null,null,364.15,762,3615.1500000000065,864.4,787,3616.5500000000065,584.45000000000005,638,3616.1500000000065]
[159,168,3623.4000000000065,180,184,3619.8000000000065,721.2,922,3616.0000000000064,null,null,null,null,null,null,402.2,820,3615.2000000000066,903.77,793,3616.6000000000067,616.35,645,3616.2000000000066]
[167,172,3623.4500000000066,189,189,3619.8500000000067,767.7,930,3616.0500000000065,null,null,null,null,null,null,446.75,891,3615.2500000000068,943.7,798,3616.6500000000069,648.95000000000005,652,3616.2500000000068]
[175,176,3623.5000000000068,197,193,3619.9000000000069,814.25,939,3616.1000000000067,null,null,null,null,null,null,491.35,963,3615.300000000007,983.62,804,3616.7000000000071,681.55,659,3616.300000000007]
[184,181,3623.550000000007,205,198,3619.9500000000071,861.6,947,3616.1500000000069,null,null,null,null,null,null,544.1,1035,3615.3500000000072,1024.0999999999999,809,3616.7500000000073,714.85,666,3616.3500000000072]
[193,186,3623.6000000000072,213,203,3620.0000000000073,909,956,3616.2000000000071,null,null,null,null,null,null,596.85,1107,3615.4000000000074,1064.57,815,3616.8000000000075,748.15,673,3616.4000000000074]
[198,191,3623.6500000000074,221,208,3620.0500000000075,957.3,964,3616.2500000000073,null,null,null,null,null,null,653.70000000000005,1137,3615.4500000000075,1105.5999999999999,820,3616.8500000000076,782.15,680,3616.4500000000075]
[203,196,3623.7000000000075,230,213,3620.1000000000076,1005.45,973,3616.3000000000075,null,null,null,null,null,null,710.5,1166,3615.5000000000077,1146.6199999999999,826,3616.9000000000078,816.15,685,3616.5000000000077]
[213,201,3623.7500000000077,239,218,3620.1500000000078,1054.5,981,3616.3500000000076,null,null,null,null,null,null,770.3,1196,3615.5500000000079,1188.0999999999999,829,3616.950000000008,850.83,694,3616.5500000000079]
[223,206,3623.8000000000079,251,224,3620.200000000008,1103.5999999999999,990,3616.4000000000078,null,null,null,null,null,null,830.1,1226,{"$f":"R48+0.05","v":3615.6000000000081},1229.57,833,3617.0000000000082,885.5,700,3616.6000000000081]
[234,210,3623.8500000000081,261,229,3620.2500000000082,1153.5999999999999,999,3616.450000000008,null,null,null,null,null,null,892.45,1247,3615.6500000000083,1271.32,835,3617.0500000000084,920.83,707,3616.6500000000083]
[245,215,3623.9000000000083,273,236,3620.3000000000084,1203.5,1008,3616.5000000000082,null,null,null,null,null,null,954.8,1268,3615.7000000000085,1313.07,837,3617.1000000000085,965.15,713,3616.7000000000085]
[258,219,3623.9500000000085,284,242,3620.3500000000085,1254.4000000000001,1017,3616.5500000000084,null,null,null,null,null,null,1019.25,1289,3615.7500000000086,1355.02,839,3617.1500000000087,1001.13,720,3616.7500000000086]
[270,224,3624.0000000000086,296,249,3620.4000000000087,1305.2,1026,3616.6000000000085,null,null,null,null,null,null,1083.75,1311,3615.8000000000088,1396.97,841,3617.2000000000089,1028.0999999999999,726,3616.8000000000088]
[283,228,3624.0500000000088,308,256,3620.4500000000089,1356.95,1035,3616.6500000000087,null,null,null,null,null,null,1150.0999999999999,1327,3615.850000000009,1439.12,843,3617.2500000000091,1064.73,733,3616.850000000009]
[296,232,3624.100000000009,320,264,3620.5000000000091,1408.7,1044,3616.7000000000089,null,null,null,null,null,null,1216.5,1344,3615.9000000000092,1481.27,845,3617.3000000000093,1101.3499999999999,739,3616.9000000000092]
[310,236,3624.1500000000092,334,272,3620.5500000000093,1461.35,1053,3616.7500000000091,null,null,null,null,null,null,1285.4000000000001,1360,{"$f":"R55+0.05","v":3615.9500000000094},1523.62,847,3617.3500000000095,1138.6300000000001,746,3616.9500000000094]
[323,244,3624.2000000000094,347,280,3620.6000000000095,1514,1062,3616.8000000000093,null,null,null,null,null,null,1352.55,1377,{"$f":"R56+0.05","v":3616.0000000000095},1656.97,849,3617.4000000000096,1175.9000000000001,751,3617.0000000000095]
[338,248,3624.2500000000095,362,282,3620.6500000000096,1567.55,1071,3616.8500000000095,null,null,null,null,null,null,null,null,null,1608.52,851,3617.4500000000098,1213.5999999999999,754,3617.0500000000097]
[352,252,3624.3000000000097,376,294,3620.7000000000098,1621.1,1080,3616.9000000000096,null,null,null,null,null,null,null,null,null,1651.07,853,3617.50000000001,1251,757,3617.1000000000099]
[367,257,3624.3500000000099,382,304,3620.75000000001,1675.55,1089,3616.9500000000098,null,null,null,null,null,null,null,null,null,1693.85,855,3617.5500000000102,1289.3,760,3617.1500000000101]
[382,262,3624.4000000000101,408,314,3620.8000000000102,1730,1098,3617.00000000001,null,null,null,null,null,null,null,null,null,1736.62,858,{"$f":"U60+0.05","v":3617.6000000000104},1327.3,763,3617.2000000000103]
[397,267,3624.4500000000103,428,320,3620.8500000000104,1785.1,1103,3617.0500000000102,null,null,null,null,null,null,null,null,null,1779.65,860,3617.6500000000106,1365.6,766,3617.2500000000105]
[412,272,3624.5000000000105,447,336,3620.9000000000106,1840.25,1107,3617.1000000000104,null,null,null,null,null,null,null,null,null,1822.67,863,3617.7000000000107,1403.9,770,3617.3000000000106]
[427,276,3624.5500000000106,458,350,3620.9500000000107,1895.8,1111,3617.1500000000106,null,null,null,null,null,null,null,null,null,1856.96,865,3617.7500000000109,1442.55,773,3617.3500000000108]
[442,280,3624.6000000000108,491,364,3621.0000000000109,1951.4,1116,3617.2000000000107,null,null,null,null,null,null,null,null,null,1909.22,868,3617.8000000000111,1481.2,776,3617.400000000011]
[457,281,3624.650000000011,513,383,3621.0500000000111,2007.4,1120,3617.2500000000109,null,null,null,null,null,null,null,null,null,1952.75,870,3617.8500000000113,1520.15,779,3617.4500000000112]
[471,290,3624.7000000000112,538,402,3621.1000000000113,2063.4499999999998,1125,3617.3000000000111,null,null,null,null,null,null,null,null,null,1996.27,873,3617.9000000000115,1559.1,782,3617.5000000000114]
[486,295,3624.7500000000114,560,419,3621.1500000000115,2119.9,1129,3617.3500000000113,null,null,null,null,null,null,null,null,null,2040.02,875,3617.9500000000116,1598.35,786,3617.5500000000116]
[501,300,3624.8000000000116,583,432,3621.2000000000116,2176.4,1134,3617.4000000000115,null,null,null,null,null,null,null,null,null,2083.77,877,3618.0000000000118,1637.6,788,3617.6000000000117]
[516,304,3624.8500000000117,605,445,3621.2500000000118,2233.35,1139,3617.4500000000116,null,null,null,null,null,null,null,null,null,2127.2199999999998,879,3618.050000000012,1677.15,791,3617.6500000000119]
[530,308,{"$f":"C70+0.05","v":3624.9000000000119},628,458,{"$f":"F70+0.05","v":3621.300000000012},2290.3000000000002,1144,{"$f":"I70+0.05","v":3617.5000000000118},null,null,null,null,null,null,null,null,null,2171.67,881,{"$f":"U70+0.05","v":3618.1000000000122},1716.7,794,{"$f":"X70+0.05","v":3617.7000000000121}]
[546,313,3624.9500000000121,650,466,3621.3500000000122,2347.75,1149,3617.550000000012,null,null,null,null,null,null,null,null,null,2215.8200000000002,883,3618.1500000000124,1756.55,797,3617.7500000000123]
[563,318,3625.0000000000123,673,475,3621.4000000000124,2405.1999999999998,1154,3617.6000000000122,null,null,null,null,null,null,null,null,null,2259.9699999999998,885,3618.2000000000126,1796.4,800,3617.8000000000125]
[579,321,3625.0500000000125,693,483,3621.4500000000126,2463.15,1159,3617.6500000000124,null,null,null,null,null,null,null,null,null,2304.3200000000002,887,3618.2500000000127,1836.53,803,3617.8500000000126]
[595,324,3625.1000000000126,713,490,3621.5000000000127,2521.1,1164,3617.7000000000126,null,null,null,null,null,null,null,null,null,2348.67,889,3618.3000000000129,1876.65,805,3617.9000000000128]
[610,327,3625.1500000000128,735,497,3621.5500000000129,2579.5500000000002,1169,3617.7500000000127,null,null,null,null,null,null,null,null,null,2393.2199999999998,891,3618.3500000000131,1917.03,807,3617.950000000013]
[624,330,3625.200000000013,758,503,3621.6000000000131,2638,1174,3617.8000000000129,null,null,null,null,null,null,null,null,null,2437.77,893,3618.4000000000133,1957.4,810,3618.0000000000132]
[639,332,3625.2500000000132,782,508,3621.6500000000133,2695.95,1179,3617.8500000000131,null,null,null,null,null,null,null,null,null,2482.52,895,3618.4500000000135,1998.03,812,3618.0500000000134]
[654,334,3625.3000000000134,805,512,3621.7000000000135,2755.9,1184,3617.9000000000133,null,null,null,null,null,null,null,null,null,2527.27,897,3618.5000000000136,2038.65,815,3618.1000000000136]
[669,337,3625.3500000000136,828,517,3621.7500000000136,2815.35,1189,3617.9500000000135,null,null,null,null,null,null,null,null,null,2572.02,899,3618.5500000000138,2079.2800000000002,817,3618.1500000000137]
[684,340,3625.4000000000137,851,522,3621.8000000000138,2874.8,1194,3618.0000000000136,null,null,null,null,null,null,null,null,null,2617,901,{"$f":"U80+0.05","v":3618.600000000014},2120.4,820,3618.2000000000139]
[699,343,3625.4500000000139,873,526,3621.850000000014,2934.8,1194,3618.0500000000138,null,null,null,null,null,null,null,null,null,2662,903,{"$f":"U81+0.05","v":3618.6500000000142},2161.5300000000002,822,3618.2500000000141]
[715,346,3625.5000000000141,896,529,3621.9000000000142,2995,1195,3618.100000000014,null,null,null,null,null,null,null,null,null,2707,905,3618.7000000000144,2202.65,825,3618.3000000000143]
[729,348,3625.5500000000143,919,532,3621.9500000000144,3055,1195,3618.1500000000142,null,null,null,null,null,null,null,null,null,2752,907,3618.7500000000146,2243.65,827,3618.3500000000145]
[753,350,3625.6000000000145,942,535,3622.0000000000146,3115,1196,3618.2000000000144,null,null,null,null,null,null,null,null,null,2798,909,3618.8000000000147,2284,830,3618.4000000000146]
[767,353,3625.6500000000146,971,537,3622.0500000000147,3175,1196,3618.2500000000146,null,null,null,null,null,null,null,null,null,2843,910,3618.8500000000149,2325,832,3618.4500000000148]
[781,356,3625.7000000000148,999,538,3622.1000000000149,3236,1197,3618.3000000000147,null,null,null,null,null,null,null,null,null,2889,910,3618.9000000000151,2366,835,3618.500000000015]
[799,358,3625.750000000015,1028,539,3622.1500000000151,3296,1197,3618.3500000000149,null,null,null,null,null,null,null,null,null,2934,911,3618.9500000000153,2407,837,3618.5500000000152]
[818,360,3625.8000000000152,1056,541,3622.2000000000153,3357,1198,3618.4000000000151,null,null,null,null,null,null,null,null,null,2380,911,3619.0000000000155,2449,840,3618.6000000000154]
[842,363,3625.8500000000154,1085,542,3622.2500000000155,3417,1198,3618.4500000000153,null,null,null,null,null,null,null,null,null,3025,911,3619.0500000000156,2490,842,3618.6500000000156]
[866,366,3625.9000000000156,1113,544,3622.3000000000156,3479,1199,3618.5000000000155,null,null,null,null,null,null,null,null,null,3071,912,3619.1000000000158,2532,845,3618.7000000000157]
[884,368,3625.9500000000157,1142,546,3622.3500000000158,3559,1199,3618.5500000000156,null,null,null,null,null,null,null,null,null,null,null,null,2573,847,3618.7500000000159]
[898,371,3626.0000000000159,1170,548,3622.400000000016,3600,1200,3618.6000000000158,null,null,null,null,null,null,null,null,null,null,null,null,2615,850,3618.8000000000161]
[918,374,3626.0500000000161,1185,550,3622.4500000000162,3660,1200,3618.650000000016,null,null,null,null,null,null,null,null,null,null,null,null,2657,852,3618.8500000000163]
[938,377,3626.1000000000163,1222,552,3622.5000000000164,3720,1201,3618.7000000000162,null,null,null,null,null,null,null,null,null,null,null,null,2698,855,3618.9000000000165]
[956,380,3626.1500000000165,1248,554,3622.5500000000166,3780,1201,3618.7500000000164,null,null,null,null,null,null,null,null,null,null,null,null,2740,857,3618.9500000000166]
[974,382,3626.2000000000166,1275,556,3622.6000000000167,3842,1202,3618.8000000000166,null,null,null,null,null,null,null,null,null,null,null,null,2783,860,3619.0000000000168]
[994,385,3626.2500000000168,1301,558,3622.6500000000169,3902,1202,3618.8500000000167,null,null,null,null,null,null,null,null,null,null,null,null,2824,862,3619.050000000017]
[1013,387,3626.300000000017,1327,560,3622.7,3962,1203,3618.9000000000169,null,null,null,null,null,null,null,null,null,null,null,null,2866,865,3619.1000000000172]
[1032,390,3626.3500000000172,1353,561,{"$f":"F99+0.05","v":3622.75},4022,1203,3618.9500000000171]
[1051,393,3626.4000000000174,1382,563,3622.8,4084,1204,{"$f":"I100+0.05","v":3619.0000000000173}]
[1070,396,3626.4500000000176,1409,563,3622.8500000000004]
[1089,398,3626.5000000000177,1427,564,3622.9000000000005]
[1108,401,3626.5500000000179,1472,566,3622.9500000000007]
[1127,403,{"$f":"C104+0.05","v":3626.6000000000181},1507,568,3623.0000000000009]
[1145,406,{"$f":"C105+0.05","v":3626.6500000000183},1353,569,3623.0500000000011]
[1166,409,3626.7000000000185,1564,571,3623.1000000000013]
[1186,412,3626.7500000000186,1594,572,3623.1500000000015]
[1206,414,3626.8000000000188,1623,574,3623.2000000000016]
[1225,417,3626.850000000019,1652,575,3623.2500000000018]
[1247,419,3626.9000000000192,1681,577,3623.300000000002]
[1266,422,3626.9500000000194,1710,578,3623.3500000000022]
[1285,424,3627.0000000000196,1739,580,3623.4000000000024]
[1310,427,{"$f":"C113+0.05","v":3627.0500000000197},1768,582,3623.4500000000025]
[1334,429,{"$f":"C114+0.05","v":3627.1000000000199},1800,585,3623.5000000000027]
[1359,432,3627.1500000000201,1830,586,3623.5500000000029]
[1383,434,3627.2000000000203,1859,588,3623.6000000000031]
[1408,437,3627.2500000000205,1889,590,3623.6500000000033]
[1342,439,3627.3000000000206,1918,592,3623.7000000000035]
[1457,442,3627.3500000000208,1947,594,3623.7500000000036]
[1481,444,3627.400000000021,1976,596,3623.8000000000038]
[1506,447,{"$f":"C121+0.05","v":3627.4500000000212},2005,597,3623.850000000004]
[1530,449,{"$f":"C122+0.05","v":3627.5000000000214},2034,599,3623.9000000000042]
[1550,452,3627.5500000000216,2063,600,3623.9500000000044]
[1580,454,3627.6000000000217,2092,601,3624.0000000000045]
[1605,457,3627.6500000000219]
[1629,459,3627.7000000000221]
[1654,462,3627.7500000000223]
[1678,464,{"$f":"C128+0.05","v":3627.8000000000225}]
[1703,467,{"$f":"C129+0.05","v":3627.8500000000226}]
[1727,469,{"$f":"C130+0.05","v":3627.9000000000228}]
[1752,471,{"$f":"C131+0.05","v":3627.950000000023}]
[1776,477,{"$f":"C132+0.05","v":3628.0000000000232}]
[2280,529,3629]

{"sheet":"Runoff","index":4,"n_rows":35,"n_cols":14,"rows_kept":35,"cut":false,"hidden":false,"merged":[]}
["Monthly natural runoff recorded as diffuse runoff and at USGS streamflow-gaging station on Lake Creek, Montana [Natural runoff in acre-feet]"]
[]
["Year ","MAR","APR","MAY","JUN","JUL","AUG","SEP","OCT","Total"]
[1983]
[1984]
[1985]
[1986]
[1987]
[1988]
[1989]
[1990]
[1991,26,487,0,493,11,0,0,0,1017]
[1992,12,9,0,0,0,0,0,0,21]
[1993,1600,510,30,242,595,36,0,12,3025]
[1994,173,45,9,0,0,0,0,0,227]
[1995,8.5,24,120,243,3.2,0,0,0,398.7]
[1996,45,234,111,0,0,0,0,0,390]
[1997,14,16,0,145,453,122,0,0,750,"no recorded data; used 1991-2008 mean values",null,null,"used place holders for programming purposes"]
[1998,14,16,0,145,453,122,0,0,750]
[1999,0,40,24,22,0,4,16,16,122]
[2000,3.4,14,6,30,0,0,0,0,53.4]
[2001,27,13,0,4,2.2999999999999998,5,0,0,51.3]
[2002,0,16,12,547,13,22,0,0,610]
[2003,0,0.6,0.1,3.6,0,0,0,0,4.3]
[2004,0,2.9,16,3.2,0,51,0,0,73.099999999999994]
[2005,0,14,3.5,823,2.2000000000000002,0,42,0,884.7]
[2006,0,121,20,2181,16,81,0,0,2419]
[2007,553,43,11,0.2,0,0,0,0,607.20000000000005]
[2008,0,41,195,588,13,0,0,0,837]
[]
[]
[]
[]
[]
["average",144.81764705882352,95.911764705882348,32.799999999999997,313.23529411764707,65.21764705882353,18.882352941176471,3.4117647058823528,1.6470588235294117,675.92352941176478]

{"sheet":"Precipitation","index":5,"n_rows":45,"n_cols":15,"rows_kept":45,"cut":false,"hidden":false,"merged":[[0,0,0,13]]}
["Means of monthly precipitation values recorded at NOAA weather stations at Carter 14 W, Power 6 SE, and Great Falls AirportCarter , Montana, 1983-2008\n[Monthly precipitation in inches. Annual precipitation for wet and dry years computed as mean annual plus and minus, respectively, one standard deviation.  Monthly precipitation values for wet and dry years are defined as the mean monthly plus and minus, respectively, a percentage of the mean monthly where the percentage is the percent difference of the annual standard deviation from the mean annual.]"]
[]
[]
[null,"JAN","FEB","MAR","APR","MAY","JUN","JUL","AUG","SEP","OCT","NOV","DEC","Annual","APR -OCT."]
[1983,7.3333333333333348E-2,0.18666666666666668,1.3966666666666667,0.3,1.39,2.563333333333333,3.44,0.84,1.4266666666666665,0.63,0.95666666666666667,0.56999999999999995,13.773333333333333,{"$f":"SUM(E5:K5)","v":10.59}]
[1984,0.55000000000000004,0.6,0.64333333333333342,0.73666666666666669,1.32,1.6,0.16333333333333333,1.0533333333333335,0.8,1.2733333333333332,0.18666666666666668,0.82666666666666666,9.7533333333333339,{"$f":"SUM(E6:K6)","v":6.9466666666666672}]
[1985,0.21666666666666665,0.23666666666666669,0.90333333333333332,0.5,2.3833333333333333,0.6133333333333334,0.30333333333333329,4.9233333333333329,3.6333333333333329,1.0133333333333334,1.2533333333333332,0.42333333333333334,16.403333333333332,13.37]
[1986,0.4,0.84,0.18333333333333335,2.0866666666666664,1.6366666666666667,1.2166666666666666,1.0966666666666667,1.2933333333333332,2.7466666666666666,0.65666666666666662,0.51666666666666661,0.26,12.933333333333332,10.733333333333333]
[1987,0.04,0.16,1.59,0.54,2.4166666666666665,0.83666666666666678,2.5833333333333335,2.2799999999999998,0.83,1.6666666666666666E-2,0.25,0.14333333333333334,11.686666666666666,9.5033333333333339]
[1988,0.61333333333333329,0.33666666666666667,0.38,0.45333333333333337,1.6933333333333334,1.4733333333333334,1.2766666666666666,0.15333333333333332,2.2633333333333332,0.47666666666666674,0.21666666666666667,0.69,10.026666666666666,7.7899999999999991]
[1989,0.75666666666666671,1.04,1.0733333333333333,2.16,2.0099999999999998,1.8333333333333333,2.63,4.4866666666666672,1.29,0.47,0.72,1.0933333333333335,19.563333333333333,14.88]
[1990,0.2233333333333333,0.11333333333333334,1.4466666666666665,0.88,2.8866666666666667,0.96,1.0866666666666667,2.6233333333333335,4.3333333333333335E-2,0.06,0.5,0.48333333333333334,11.306666666666667,8.5400000000000009]
[1991,0.54,0.29666666666666663,1.0766666666666669,1.92,1.9333333333333333,4.4833333333333334,0.6,0.84333333333333338,0.7,0.66,0.57333333333333336,5.3333333333333337E-2,13.68,11.139999999999999]
[1992,0.35333333333333333,0.19333333333333336,0.32666666666666666,1.17,1.6466666666666667,2.5233333333333334,2.0499999999999998,1.28,0.28999999999999998,2.2200000000000002,0.33,0.29333333333333333,12.676666666666664,11.18]
[1993,0.83,0.59666666666666668,0.65666666666666673,2.6266666666666669,2.2666666666666666,2.6466666666666665,5.2866666666666662,2.8633333333333333,1.4466666666666665,0.91,0.83,0.22333333333333336,21.183333333333334,18.046666666666667]
[1994,0.27666666666666667,0.38666666666666671,0.30666666666666664,1.59,2.14,1.66,1.0533333333333335,0.62666666666666659,0.46666666666666662,1.21,0.38666666666666666,0.24666666666666667,10.35,8.7466666666666679]
[1995,0.14666666666666667,0.19,0.36333333333333334,1.6,2.4833333333333329,2.5166666666666671,1.8966666666666665,0.51333333333333331,1.02,0.96333333333333337,0.36333333333333334,0.19,12.246666666666666,10.993333333333332]
[1996,0.51333333333333331,0.27666666666666667,0.77333333333333343,1.0900000000000001,2.69,1.0533333333333332,0.23666666666666669,0.56000000000000005,1.3733333333333333,0.44,0.44333333333333336,1.0766666666666669,10.526666666666666,7.4433333333333342]
[1997,0.27666666666666667,0.31666666666666665,0.51666666666666672,1.1566666666666667,2.2833333333333332,2.13,1.4666666666666668,1.2266666666666668,0.32,0.67333333333333334,0.21333333333333335,0.22333333333333336,10.803333333333333,9.2566666666666677]
[1998,0.59666666666666668,0.20666666666666669,0.79333333333333345,0.41,2.1066666666666665,4.2666666666666666,2.19,1.5766666666666664,1.1333333333333333,0.69333333333333336,1.0366666666666666,0.2,15.21,12.376666666666665]
[1999,0.33,0.35666666666666663,0.58666666666666667,1.2433333333333334,2.1633333333333336,1.9366666666666668,0.70333333333333348,2.4433333333333334,1.7833333333333332,0.86333333333333329,0.49333333333333335,0.05,12.953333333333333,11.136666666666667]
[2000,0.36,0.68333333333333346,0.66333333333333333,0.34666666666666668,2.09,1.8033333333333335,0.73333333333333339,0.19,1.1466666666666667,1.3133333333333332,0.47333333333333333,0.27,10.073333333333332,7.623333333333334]
[2001,0.45666666666666672,0.41666666666666669,0.39666666666666672,1.0466666666666666,0.32666666666666672,1.73,2.1366666666666667,0.36333333333333334,1.1033333333333333,0.28999999999999998,0.2166666666666667,0.17333333333333334,8.6566666666666663,6.996666666666667]
[2002,0.24333333333333332,0.24666666666666667,0.69333333333333336,0.43333333333333335,1.6233333333333331,5.21,0.91333333333333344,2.5966666666666671,1.59,0.57999999999999996,0.33,0.27,14.73,12.946666666666667]
[2003,0.13333333333333333,0.5,0.45,1.6366666666666667,1.8566666666666667,1.89,0.13,1.0033333333333334,1.3466666666666667,0.68333333333333346,0.25666666666666665,0.26666666666666666,10.153333333333332,8.5466666666666651]
[2004,0.34666666666666668,5.3333333333333337E-2,0.19333333333333333,1.4066666666666665,2.6833333333333336,2.5166666666666666,0.28999999999999998,2.7366666666666668,1.5633333333333332,1.0933333333333333,9.6666666666666665E-2,0.41333333333333333,13.393333333333333,12.29]
[2005,0.27333333333333337,1.6666666666666666E-2,1.1066666666666667,1.1966666666666665,1.2933333333333334,5.4233333333333329,0.13,1.28,1.3166666666666667,0.74,1.2533333333333334,0.23333333333333331,14.263333333333332,11.379999999999999]
[2006,0.47666666666666674,0.33,1.343333333333333,2.2999999999999998,2.6133333333333333,4.16,0.39,1.03,1.36,1.26,0.31666666666666665,0.61,16.190000000000001,13.113333333333333]
[2007,0.19666666666666668,1.1299999999999999,0.12333333333333334,2.13,2.2466666666666666,1.28,0.27666666666666667,0.30333333333333329,1.67,0.67333333333333334,0.42333333333333334,7.0000000000000007E-2,10.523333333333333,8.58]
[2008,0.52666666666666673,0.33666666666666667,0.38666666666666671,1.3133333333333332,4.0666666666666664,2.83,1.6866666666666668,1.0666666666666667,1.8966666666666667,0.3,0.6333333333333333,1.1599999999999999,16.203333333333333,13.160000000000002]
[]
[]
[]
[]
[]
["Mean",{"$f":"AVERAGE(B5:B30)","v":0.37500000000000006},0.38641025641025639,0.70666666666666678,1.2412820512820513,2.0865384615384621,2.352179487179487,1.3365384615384619,1.5444871794871795,1.329230769230769,0.77551282051282044,0.51038461538461533,0.40435897435897444,13.048589743589741,10.66576923076923]
["Standard deviation",{"$f":"STDEV(B5:B30)","v":0.20203245063878017},0.28107875223371998,0.42054250676952948,0.67649099652254618,0.683103038116329,1.3283426406391434,1.2158334976538085,1.2450545520606067,0.76486763281400283,0.45759753525724384,0.32047371453740447,0.32321546886904906,3.0788061428023257,6.3712898930636808]
["Maximum",{"$f":"MAX(B5:B30)","v":0.83},1.1299999999999999,1.59,2.6266666666666669,4.0666666666666664,5.4233333333333329,5.2866666666666662,4.9233333333333329,3.6333333333333329,2.2200000000000002,1.2533333333333334,1.1599999999999999,21.183333333333334,28.179999999999996]
["Minimum",{"$f":"MIN(B5:B30)","v":0.04},1.6666666666666666E-2,0.12333333333333334,0.3,0.24,0.59,0.11,0.1,0.02,0.02,9.6666666666666665E-2,0.05,8.6566666666666663,1.3800000000000001]
["Wet year",0.41276199230769234,0.44322147692307684,0.79602385384615371,1.45,2.46,2.79,1.58,1.88,1.61,0.93,0.592880676923077,0.45209549999999993,15.39,12.7]
["Dry year",0.24916108461538461,0.26754775384615376,0.48051460769230753,0.88,1.49,1.68,0.95,1.1299999999999999,0.97,0.56000000000000005,0.35788855384615387,0.27290449999999994,9.2899999999999991,7.66]
["Evap",null,null,null,4.5,5.66,6.51,8.16,7.19,4.5,3.37,null,null,null,39.89]
["Very wet",null,null,null,2.0261446715683737,3.4402248069338017,3.8944993067100437,2.2047053709641977,2.6204536410396528,2.2479217503676896,1.294146307253411,null,null,null,17.728095854837168]
[]
[null,null,null,null,null,null,null,null,null,null,null,null,"Password=flood"]

{"sheet":"Previous Data","index":6,"n_rows":1002,"n_cols":4,"rows_kept":1002,"cut":false,"hidden":false,"merged":[]}
["units for input","ComboBox5",2,2]
["pool 1","TextBox 1",33,50]
["pool 2","TextBox 2",33,50]
["pool 3","TextBox 3",33,50]
["pool 4a","TextBox 4",33,50]
["pool 4b","TextBox 5",33,50]
["pool 4c","TextBox 6",33,50]
["pool 5","TextBox 7",33,50]
["pool 6","TextBox 8",33,50]
["years to run model","ComboBox6",1,4]
["pan coefficient","TextBox 42",0.77,0.77]
["Precip method","ComboBox 1",1,1]
["Year for precip","ComboBox 7 ",-1,-1]
[]
["Year 1","Frame11","Year 1","Year 1"]
["Type of precip","ComboBox8",0,0]
[]
["April","Textbox 107",0.95,0.88]
["May","Textbox 108",1.59,1.49]
["June","Textbox 109",1.8,1.68]
["July","Textbox 110",1.02,0.95]
["August","Textbox 111",1.18,1.1299999999999999]
["September","Textbox 112",1.02,0.97]
["October","Textbox 113",0.59,0.56000000000000005]
[]
["Year 2","Frame10","Year 2","Year 2"]
["Type of precip","ComboBox9",1,0]
["Carryover",null,-200,-200]
["April","Textbox 98",1.24,0.88]
["May","Textbox 99",2.09,1.49]
["June","Textbox 100",2.35,1.68]
["July","Textbox 101",1.34,0.95]
["August","Textbox 102",1.54,1.1299999999999999]
["September","Textbox 103",1.33,0.56000000000000005]
["October","Textbox 104",0.77,0.56000000000000005]
[]
["Year 3","Frame9",null,"Year 3"]
["Type of precip","ComboBox10",-1,0]
["Carryover",null,-165.60000000000005,-129.57216571614285]
["April","Textbox 89",null,0.88]
["May","Textbox 90",null,1.49]
["June","Textbox 91",null,1.68]
["July","Textbox 92",null,0.95]
["August","Textbox 93",null,1.1299999999999999]
["September","Textbox 94",null,0.97]
["October","Textbox 95",null,0.56000000000000005]
[]
["Year 4","Frame8",null,"Year 4"]
["Type of precip","ComboBox11",-1,0]
["Carryover",null,0,-11.430000000000001]
["April","Textbox 80",null,0.88]
["May","Textbox 81",null,1.49]
["June","Textbox 82",null,1.68]
["July","Textbox 83",null,0.95]
["August","Textbox 84",null,1.1299999999999999]
["September","Textbox 85",null,0.97]
["October","Textbox 86",null,0.56000000000000005]
[]
["Year 5","Frame7",null,"Year 5"]
["Type of precip","ComboBox12",-1,0]
["Carryover",null,0,-11.430000000000001]
["April","Textbox 71",null,0.88]
["May","Textbox 72",null,1.49]
["June","Textbox 73",null,1.68]
["July","Textbox 74",null,0.95]
["August","Textbox 75",null,1.1299999999999999]
["September","Textbox 76",null,0.97]
["October","Textbox 77",null,0.56000000000000005]
[]
["pool 1","StartVolume",752.4,1140]
["pool 2","StartVolume",690.36,1046]
["pool 3","StartVolume",1347.72,2042]
["pool 4a","StartVolume",81.99,124.22]
["pool 4b","StartVolume",228.32,345.94]
["pool 4c","StartVolume",446.34,676.28]
["pool 5","StartVolume",1013.43,1535.5]
["pool 6","StartVolume",945.78,1433]
[]
[]
[]
["P1Y1M1","Runoff",6,3]
["P1Y1M2","Runoff",48,40]
["P1Y1M3","Runoff",67,56]
["P1Y1M4","Runoff",9,6]
["P1Y1M5","Runoff",18,15]
["P1Y1M6","Runoff",9,7]
["P1Y1M7","Runoff",0,0]
[null,null,0,0]
["P1Y2M1 ","Runoff",22,3]
["P1Y2M2","Runoff",99,40]
["P1Y2M3","Runoff",132,56]
["P1Y2M4","Runoff",28,6]
["P1Y2M5","Runoff",44,15]
["P1Y2M6","Runoff",28,0]
["P1Y2M7","Runoff",0,0]
[null,null,0,0]
["P1Y3M1","Runoff",0,3]
["P1Y3M2","Runoff",0,40]
["P1Y3M3","Runoff",0,56]
["P1Y3M4","Runoff",0,6]
["P1Y3M5","Runoff",0,15]
["P1Y3M6","Runoff",0,7]
["P1Y3M7","Runoff",0,0]
[null,null,0,0]
["P1Y4M1","Runoff",0,3]
["P1Y4M2","Runoff",0,40]
["P1Y4M3","Runoff",0,56]
["P1Y4M4","Runoff",0,6]
["P1Y4M5","Runoff",0,15]
["P1Y4M6","Runoff",0,7]
["P1Y4M7","Runoff",0,0]
[null,null,0,0]
["P1Y5M1","Runoff",0,3]
["P1Y5M2","Runoff",0,40]
["P1Y5M3","Runoff",0,56]
["P1Y5M4","Runoff",0,6]
["P1Y5M5","Runoff",0,15]
["P1Y5M6","Runoff",0,7]
["P1Y5M7","Runoff",0,0]
[null,null,0,0]
["P1Y1M1","Pumped",0,0]
["P1Y1M2","Pumped",0,0]
["P1Y1M3","Pumped",0,0]
["P1Y1M4","Pumped",0,0]
["P1Y1M5","Pumped",0,0]
["P1Y1M6","Pumped",0,0]
["P1Y1M7","Pumped",0,0]
[null,null,0,0]
["P1Y2M1 ","Pumped",0,0]
["P1Y2M2","Pumped",0,0]
["P1Y2M3","Pumped",0,0]
["P1Y2M4","Pumped",0,0]
["P1Y2M5","Pumped",0,0]
["P1Y2M6","Pumped",0,7]
["P1Y2M7","Pumped",0,0]
[null,null,0,0]
["P1Y3M1","Pumped",0,0]
["P1Y3M2","Pumped",0,0]
["P1Y3M3","Pumped",0,0]
["P1Y3M4","Pumped",0,0]
["P1Y3M5","Pumped",0,0]
["P1Y3M6","Pumped",0,0]
["P1Y3M7","Pumped",0,0]
[null,null,0,0]
["P1Y4M1","Pumped",0,0]
["P1Y4M2","Pumped",0,0]
["P1Y4M3","Pumped",0,0]
["P1Y4M4","Pumped",0,0]
["P1Y4M5","Pumped",0,0]
["P1Y4M6","Pumped",0,0]
["P1Y4M7","Pumped",0,0]
[null,null,0,0]
["P1Y5M1","Pumped",0,0]
["P1Y5M2","Pumped",0,0]
["P1Y5M3","Pumped",0,0]
["P1Y5M4","Pumped",0,0]
["P1Y5M5","Pumped",0,0]
["P1Y5M6","Pumped",0,0]
["P1Y5M7","Pumped",0,0]
[null,null,0,0]
["P2Y1M1","Runoff",0,0]
["P2Y1M2","Runoff",0,0]
["P2Y1M3","Runoff",0,0]
["P2Y1M4","Runoff",0,0]
["P2Y1M5","Runoff",0,0]
["P2Y1M6","Runoff",0,0]
["P2Y1M7","Runoff",0,0]
[null,null,0,0]
["P2Y2M1 ","Runoff",0,0]
["P2Y2M2","Runoff",0,0]
["P2Y2M3","Runoff",0,0]
["P2Y2M4","Runoff",0,0]
["P2Y2M5","Runoff",0,0]
["P2Y2M6","Runoff",0,0]
["P2Y2M7","Runoff",0,0]
[null,null,0,0]
["P2Y3M1","Runoff",0,0]
["P2Y3M2","Runoff",0,0]
["P2Y3M3","Runoff",0,0]
["P2Y3M4","Runoff",0,0]
["P2Y3M5","Runoff",0,0]
["P2Y3M6","Runoff",0,0]
["P2Y3M7","Runoff",0,0]
[null,null,0,0]
["P2Y4M1","Runoff",0,0]
["P2Y4M2","Runoff",0,0]
["P2Y4M3","Runoff",0,0]
["P2Y4M4","Runoff",0,0]
["P2Y4M5","Runoff",0,0]
["P2Y4M6","Runoff",0,0]
["P2Y4M7","Runoff",0,0]
[null,null,0,0]
["P2Y5M1","Runoff",0,0]
["P2Y5M2","Runoff",0,0]
["P2Y5M3","Runoff",0,0]
["P2Y5M4","Runoff",0,0]
["P2Y5M5","Runoff",0,0]
["P2Y5M6","Runoff",0,0]
["P2Y5M7","Runoff",0,0]
[null,null,0,0]
["P2Y1M1","Pumped",0,0]
["P2Y1M2","Pumped",0,0]
["P2Y1M3","Pumped",0,0]
["P2Y1M4","Pumped",0,0]
["P2Y1M5","Pumped",0,0]
["P2Y1M6","Pumped",0,0]
["P2Y1M7","Pumped",0,0]
[null,null,0,0]
["P2Y2M1 ","Pumped",0,0]
["P2Y2M2","Pumped",0,0]
["P2Y2M3","Pumped",0,0]
["P2Y2M4","Pumped",0,0]
["P2Y2M5","Pumped",0,0]
["P2Y2M6","Pumped",0,0]
["P2Y2M7","Pumped",0,0]
[null,null,0,0]
["P2Y3M1","Pumped",0,0]
["P2Y3M2","Pumped",0,0]
["P2Y3M3","Pumped",0,0]
["P2Y3M4","Pumped",0,0]
["P2Y3M5","Pumped",0,0]
["P2Y3M6","Pumped",0,0]
["P2Y3M7","Pumped",0,0]
[null,null,0,0]
["P2Y4M1","Pumped",0,0]
["P2Y4M2","Pumped",0,0]
["P2Y4M3","Pumped",0,0]
["P2Y4M4","Pumped",0,0]
["P2Y4M5","Pumped",0,0]
["P2Y4M6","Pumped",0,0]
["P2Y4M7","Pumped",0,0]
[null,null,0,0]
["P2Y5M1","Pumped",0,0]
["P2Y5M2","Pumped",0,0]
["P2Y5M3","Pumped",0,0]
["P2Y5M4","Pumped",0,0]
["P2Y5M5","Pumped",0,0]
["P2Y5M6","Pumped",0,0]
["P2Y5M7","Pumped",0,0]
[null,null,0,0]
["P3Y1M1","Runoff",0,0]
["P3Y1M2","Runoff",0,0]
["P3Y1M3","Runoff",0,0]
["P3Y1M4","Runoff",0,0]
["P3Y1M5","Runoff",0,0]
["P3Y1M6","Runoff",0,0]
["P3Y1M7","Runoff",0,0]
[null,null,0,0]
["P3Y2M1 ","Runoff",0,0]
["P3Y2M2","Runoff",0,0]
["P3Y2M3","Runoff",0,0]
["P3Y2M4","Runoff",0,0]
["P3Y2M5","Runoff",0,0]
["P3Y2M6","Runoff",0,0]
["P3Y2M7","Runoff",0,0]
[null,null,0,0]
["P3Y3M1","Runoff",0,0]
["P3Y3M2","Runoff",0,0]
["P3Y3M3","Runoff",0,0]
["P3Y3M4","Runoff",0,0]
["P3Y3M5","Runoff",0,0]
["P3Y3M6","Runoff",0,0]
["P3Y3M7","Runoff",0,0]
[null,null,0,0]
["P3Y4M1","Runoff",0,0]
["P3Y4M2","Runoff",0,0]
["P3Y4M3","Runoff",0,0]
["P3Y4M4","Runoff",0,0]
["P3Y4M5","Runoff",0,0]
["P3Y4M6","Runoff",0,0]
["P3Y4M7","Runoff",0,0]
[null,null,0,0]
["P3Y5M1","Runoff",0,0]
["P3Y5M2","Runoff",0,0]
["P3Y5M3","Runoff",0,0]
["P3Y5M4","Runoff",0,0]
["P3Y5M5","Runoff",0,0]
["P3Y5M6","Runoff",0,0]
["P3Y5M7","Runoff",0,0]
[null,null,0,0]
["P3Y1M1","Pumped",0,0]
["P3Y1M2","Pumped",0,0]
["P3Y1M3","Pumped",0,0]
["P3Y1M4","Pumped",0,0]
["P3Y1M5","Pumped",0,0]
["P3Y1M6","Pumped",0,0]
["P3Y1M7","Pumped",0,0]
[null,null,0,0]
["P3Y2M1 ","Pumped",0,0]
["P3Y2M2","Pumped",0,0]
["P3Y2M3","Pumped",0,0]
["P3Y2M4","Pumped",0,0]
["P3Y2M5","Pumped",0,0]
["P3Y2M6","Pumped",0,0]
["P3Y2M7","Pumped",0,0]
[null,null,0,0]
["P3Y3M1","Pumped",0,0]
["P3Y3M2","Pumped",0,0]
["P3Y3M3","Pumped",0,0]
["P3Y3M4","Pumped",0,0]
["P3Y3M5","Pumped",0,0]
["P3Y3M6","Pumped",0,0]
["P3Y3M7","Pumped",0,0]
[null,null,0,0]
["P3Y4M1","Pumped",0,0]
["P3Y4M2","Pumped",0,0]
["P3Y4M3","Pumped",0,0]
["P3Y4M4","Pumped",0,0]
["P3Y4M5","Pumped",0,0]
["P3Y4M6","Pumped",0,0]
["P3Y4M7","Pumped",0,0]
[null,null,0,0]
["P3Y5M1","Pumped",0,0]
["P3Y5M2","Pumped",0,0]
["P3Y5M3","Pumped",0,0]
["P3Y5M4","Pumped",0,0]
["P3Y5M5","Pumped",0,0]
["P3Y5M6","Pumped",0,0]
["P3Y5M7","Pumped",0,0]
[null,null,0,0]
["P4aY1M1","Runoff",0,0]
["P4aY1M2","Runoff",0,0]
["P4aY1M3","Runoff",0,0]
["P4aY1M4","Runoff",0,0]
["P4aY1M5","Runoff",0,0]
["P4aY1M6","Runoff",0,0]
["P4aY1M7","Runoff",0,0]
[null,null,0,0]
["P4aY2M1 ","Runoff",0,0]
["P4aY2M2","Runoff",0,0]
["P4aY2M3","Runoff",0,0]
["P4aY2M4","Runoff",0,0]
["P4aY2M5","Runoff",0,0]
["P4aY2M6","Runoff",0,0]
["P4aY2M7","Runoff",0,0]
[null,null,0,0]
["P4aY3M1","Runoff",0,0]
["P4aY3M2","Runoff",0,0]
["P4aY3M3","Runoff",0,0]
["P4aY3M4","Runoff",0,0]
["P4aY3M5","Runoff",0,0]
["P4aY3M6","Runoff",0,0]
["P4aY3M7","Runoff",0,0]
[null,null,0,0]
["P4aY4M1","Runoff",0,0]
["P4aY4M2","Runoff",0,0]
["P4aY4M3","Runoff",0,0]
["P4aY4M4","Runoff",0,0]
["P4aY4M5","Runoff",0,0]
["P4aY4M6","Runoff",0,0]
["P4aY4M7","Runoff",0,0]
[null,null,0,0]
["P4aY5M1","Runoff",0,0]
["P4aY5M2","Runoff",0,0]
["P4aY5M3","Runoff",0,0]
["P4aY5M4","Runoff",0,0]
["P4aY5M5","Runoff",0,0]
["P4aY5M6","Runoff",0,0]
["P4aY5M7","Runoff",0,0]
[null,null,0,0]
["P4aY1M1","Pumped",0,0]
["P4aY1M2","Pumped",0,0]
["P4aY1M3","Pumped",0,0]
["P4aY1M4","Pumped",0,0]
["P4aY1M5","Pumped",0,0]
["P4aY1M6","Pumped",0,0]
["P4aY1M7","Pumped",0,0]
[null,null,0,0]
["P4aY2M1 ","Pumped",0,100]
["P4aY2M2","Pumped",0,100]
["P4aY2M3","Pumped",0,100]
["P4aY2M4","Pumped",0,100]
["P4aY2M5","Pumped",0,100]
["P4aY2M6","Pumped",0,0]
["P4aY2M7","Pumped",0,0]
[null,null,0,0]
["P4aY3M1","Pumped",0,100]
["P4aY3M2","Pumped",0,100]
["P4aY3M3","Pumped",0,100]
["P4aY3M4","Pumped",0,100]
["P4aY3M5","Pumped",0,100]
["P4aY3M6","Pumped",0,100]
["P4aY3M7","Pumped",0,100]
[null,null,0,0]
["P4aY4M1","Pumped",0,100]
["P4aY4M2","Pumped",0,75]
["P4aY4M3","Pumped",0,100]
["P4aY4M4","Pumped",0,100]
["P4aY4M5","Pumped",0,100]
["P4aY4M6","Pumped",0,100]
["P4aY4M7","Pumped",0,50]
[null,null,0,0]
["P4aY5M1","Pumped",0,75]
["P4aY5M2","Pumped",0,75]
["P4aY5M3","Pumped",0,75]
["P4aY5M4","Pumped",0,75]
["P4aY5M5","Pumped",0,75]
["P4aY5M6","Pumped",0,75]
["P4aY5M7","Pumped",0,75]
[null,null,0,0]
["P4bY1M1","Runoff",0,0]
["P4bY1M2","Runoff",0,0]
["P4bY1M3","Runoff",0,0]
["P4bY1M4","Runoff",0,0]
["P4bY1M5","Runoff",0,0]
["P4bY1M6","Runoff",0,0]
["P4bY1M7","Runoff",0,0]
[null,null,0,0]
["P4bY2M1 ","Runoff",0,0]
["P4bY2M2","Runoff",0,0]
["P4bY2M3","Runoff",0,0]
["P4bY2M4","Runoff",0,0]
["P4bY2M5","Runoff",0,0]
["P4bY2M6","Runoff",0,0]
["P4bY2M7","Runoff",0,0]
[null,null,0,0]
["P4bY3M1","Runoff",0,0]
["P4bY3M2","Runoff",0,0]
["P4bY3M3","Runoff",0,0]
["P4bY3M4","Runoff",0,0]
["P4bY3M5","Runoff",0,0]
["P4bY3M6","Runoff",0,0]
["P4bY3M7","Runoff",0,0]
[null,null,0,0]
["P4bY4M1","Runoff",0,0]
["P4bY4M2","Runoff",0,0]
["P4bY4M3","Runoff",0,0]
["P4bY4M4","Runoff",0,0]
["P4bY4M5","Runoff",0,0]
["P4bY4M6","Runoff",0,0]
["P4bY4M7","Runoff",0,0]
[null,null,0,0]
["P4bY5M1","Runoff",0,0]
["P4bY5M2","Runoff",0,0]
["P4bY5M3","Runoff",0,0]
["P4bY5M4","Runoff",0,0]
["P4bY5M5","Runoff",0,0]
["P4bY5M6","Runoff",0,0]
["P4bY5M7","Runoff",0,0]
[null,null,0,0]
["P4bY1M1","Pumped",0,0]
["P4bY1M2","Pumped",0,0]
["P4bY1M3","Pumped",0,0]
["P4bY1M4","Pumped",0,0]
["P4bY1M5","Pumped",0,0]
["P4bY1M6","Pumped",0,0]
["P4bY1M7","Pumped",0,0]
[null,null,0,0]
["P4bY2M1 ","Pumped",0,100]
["P4bY2M2","Pumped",0,100]
["P4bY2M3","Pumped",0,100]
["P4bY2M4","Pumped",0,100]
["P4bY2M5","Pumped",0,100]
["P4bY2M6","Pumped",0,0]
["P4bY2M7","Pumped",0,0]
[null,null,0,0]
["P4bY3M1","Pumped",0,100]
["P4bY3M2","Pumped",0,100]
["P4bY3M3","Pumped",0,100]
["P4bY3M4","Pumped",0,100]
["P4bY3M5","Pumped",0,100]
["P4bY3M6","Pumped",0,100]
["P4bY3M7","Pumped",0,100]
[null,null,0,0]
["P4bY4M1","Pumped",0,100]
["P4bY4M2","Pumped",0,100]
["P4bY4M3","Pumped",0,100]
["P4bY4M4","Pumped",0,100]
["P4bY4M5","Pumped",0,100]
["P4bY4M6","Pumped",0,100]
["P4bY4M7","Pumped",0,100]
[null,null,0,0]
["P4bY5M1","Pumped",0,100]
["P4bY5M2","Pumped",0,100]
["P4bY5M3","Pumped",0,100]
["P4bY5M4","Pumped",0,100]
["P4bY5M5","Pumped",0,100]
["P4bY5M6","Pumped",0,100]
["P4bY5M7","Pumped",0,100]
[null,null,0,0]
["P4cY1M1","Runoff",0,0]
["P4cY1M2","Runoff",0,0]
["P4cY1M3","Runoff",0,0]
["P4cY1M4","Runoff",0,0]
["P4cY1M5","Runoff",0,0]
["P4cY1M6","Runoff",0,0]
["P4cY1M7","Runoff",0,0]
[null,null,0,0]
["P4cY2M1 ","Runoff",0,0]
["P4cY2M2","Runoff",0,0]
["P4cY2M3","Runoff",0,0]
["P4cY2M4","Runoff",0,0]
["P4cY2M5","Runoff",0,0]
["P4cY2M6","Runoff",0,0]
["P4cY2M7","Runoff",0,0]
[null,null,0,0]
["P4cY3M1","Runoff",0,0]
["P4cY3M2","Runoff",0,0]
["P4cY3M3","Runoff",0,0]
["P4cY3M4","Runoff",0,0]
["P4cY3M5","Runoff",0,0]
["P4cY3M6","Runoff",0,0]
["P4cY3M7","Runoff",0,0]
[null,null,0,0]
["P4cY4M1","Runoff",0,0]
["P4cY4M2","Runoff",0,0]
["P4cY4M3","Runoff",0,0]
["P4cY4M4","Runoff",0,0]
["P4cY4M5","Runoff",0,0]
["P4cY4M6","Runoff",0,0]
["P4cY4M7","Runoff",0,0]
[null,null,0,0]
["P4cY5M1","Runoff",0,0]
["P4cY5M2","Runoff",0,0]
["P4cY5M3","Runoff",0,0]
["P4cY5M4","Runoff",0,0]
["P4cY5M5","Runoff",0,0]
["P4cY5M6","Runoff",0,0]
["P4cY5M7","Runoff",0,0]
[null,null,0,0]
["P4cY1M1","Pumped",0,0]
["P4cY1M2","Pumped",0,0]
["P4cY1M3","Pumped",0,0]
["P4cY1M4","Pumped",0,0]
["P4cY1M5","Pumped",0,0]
["P4cY1M6","Pumped",0,0]
["P4cY1M7","Pumped",0,0]
[null,null,0,0]
["P4cY2M1 ","Pumped",0,100]
["P4cY2M2","Pumped",0,100]
["P4cY2M3","Pumped",0,100]
["P4cY2M4","Pumped",0,100]
["P4cY2M5","Pumped",0,100]
["P4cY2M6","Pumped",0,0]
["P4cY2M7","Pumped",0,0]
[null,null,0,0]
["P4cY3M1","Pumped",0,100]
["P4cY3M2","Pumped",0,100]
["P4cY3M3","Pumped",0,100]
["P4cY3M4","Pumped",0,100]
["P4cY3M5","Pumped",0,100]
["P4cY3M6","Pumped",0,100]
["P4cY3M7","Pumped",0,100]
[null,null,0,0]
["P4cY4M1","Pumped",0,100]
["P4cY4M2","Pumped",0,100]
["P4cY4M3","Pumped",0,100]
["P4cY4M4","Pumped",0,100]
["P4cY4M5","Pumped",0,100]
["P4cY4M6","Pumped",0,100]
["P4cY4M7","Pumped",0,100]
[null,null,0,0]
["P4cY5M1","Pumped",0,100]
["P4cY5M2","Pumped",0,100]
["P4cY5M3","Pumped",0,100]
["P4cY5M4","Pumped",0,100]
["P4cY5M5","Pumped",0,100]
["P4cY5M6","Pumped",0,100]
["P4cY5M7","Pumped",0,100]
[null,null,0,0]
["P5Y1M1","Runoff",0,0]
["P5Y1M2","Runoff",0,0]
["P5Y1M3","Runoff",0,0]
["P5Y1M4","Runoff",0,0]
["P5Y1M5","Runoff",0,0]
["P5Y1M6","Runoff",0,0]
["P5Y1M7","Runoff",0,0]
[null,null,0,0]
["P5Y2M1 ","Runoff",0,0]
["P5Y2M2","Runoff",0,0]
["P5Y2M3","Runoff",0,0]
["P5Y2M4","Runoff",0,0]
["P5Y2M5","Runoff",0,0]
["P5Y2M6","Runoff",0,0]
["P5Y2M7","Runoff",0,0]
[null,null,0,0]
["P5Y3M1","Runoff",0,0]
["P5Y3M2","Runoff",0,0]
["P5Y3M3","Runoff",0,0]
["P5Y3M4","Runoff",0,0]
["P5Y3M5","Runoff",0,0]
["P5Y3M6","Runoff",0,0]
["P5Y3M7","Runoff",0,0]
[null,null,0,0]
["P5Y4M1","Runoff",0,0]
["P5Y4M2","Runoff",0,0]
["P5Y4M3","Runoff",0,0]
["P5Y4M4","Runoff",0,0]
["P5Y4M5","Runoff",0,0]
["P5Y4M6","Runoff",0,0]
["P5Y4M7","Runoff",0,0]
[null,null,0,0]
["P5Y5M1","Runoff",0,0]
["P5Y5M2","Runoff",0,0]
["P5Y5M3","Runoff",0,0]
["P5Y5M4","Runoff",0,0]
["P5Y5M5","Runoff",0,0]
["P5Y5M6","Runoff",0,0]
["P5Y5M7","Runoff",0,0]
[null,null,0,0]
["P5Y1M1","Pumped",0,0]
["P5Y1M2","Pumped",0,0]
["P5Y1M3","Pumped",0,0]
["P5Y1M4","Pumped",0,0]
["P5Y1M5","Pumped",0,0]
["P5Y1M6","Pumped",0,0]
["P5Y1M7","Pumped",0,0]
[null,null,0,0]
["P5Y2M1 ","Pumped",0,100]
["P5Y2M2","Pumped",0,100]
["P5Y2M3","Pumped",0,100]
["P5Y2M4","Pumped",0,100]
["P5Y2M5","Pumped",0,100]
["P5Y2M6","Pumped",0,0]
["P5Y2M7","Pumped",0,0]
[null,null,0,0]
["P5Y3M1","Pumped",0,100]
["P5Y3M2","Pumped",0,100]
["P5Y3M3","Pumped",0,100]
["P5Y3M4","Pumped",0,100]
["P5Y3M5","Pumped",0,100]
["P5Y3M6","Pumped",0,100]
["P5Y3M7","Pumped",0,100]
[null,null,0,0]
["P5Y4M1","Pumped",0,100]
["P5Y4M2","Pumped",0,100]
["P5Y4M3","Pumped",0,100]
["P5Y4M4","Pumped",0,100]
["P5Y4M5","Pumped",0,100]
["P5Y4M6","Pumped",0,100]
["P5Y4M7","Pumped",0,100]
[null,null,0,0]
["P5Y5M1","Pumped",0,100]
["P5Y5M2","Pumped",0,100]
["P5Y5M3","Pumped",0,100]
["P5Y5M4","Pumped",0,100]
["P5Y5M5","Pumped",0,100]
["P5Y5M6","Pumped",0,100]
["P5Y5M7","Pumped",0,100]
[null,null,0,0]
["P6Y1M1","Runoff",0,0]
["P6Y1M2","Runoff",0,0]
["P6Y1M3","Runoff",0,0]
["P6Y1M4","Runoff",0,0]
["P6Y1M5","Runoff",0,0]
["P6Y1M6","Runoff",0,0]
["P6Y1M7","Runoff",0,0]
[null,null,0,0]
["P6Y2M1 ","Runoff",0,0]
["P6Y2M2","Runoff",0,0]
["P6Y2M3","Runoff",0,0]
["P6Y2M4","Runoff",0,0]
["P6Y2M5","Runoff",0,0]
["P6Y2M6","Runoff",0,0]
["P6Y2M7","Runoff",0,0]
[null,null,0,0]
["P6Y3M1","Runoff",0,0]
["P6Y3M2","Runoff",0,0]
["P6Y3M3","Runoff",0,0]
["P6Y3M4","Runoff",0,0]
["P6Y3M5","Runoff",0,0]
["P6Y3M6","Runoff",0,0]
["P6Y3M7","Runoff",0,0]
[null,null,0,0]
["P6Y4M1","Runoff",0,0]
["P6Y4M2","Runoff",0,0]
["P6Y4M3","Runoff",0,0]
["P6Y4M4","Runoff",0,0]
["P6Y4M5","Runoff",0,0]
["P6Y4M6","Runoff",0,0]
["P6Y4M7","Runoff",0,0]
[null,null,0,0]
["P6Y5M1","Runoff",0,0]
["P6Y5M2","Runoff",0,0]
["P6Y5M3","Runoff",0,0]
["P6Y5M4","Runoff",0,0]
["P6Y5M5","Runoff",0,0]
["P6Y5M6","Runoff",0,0]
["P6Y5M7","Runoff",0,0]
[null,null,0,0]
["P6Y1M1","Pumped",0,0]
["P6Y1M2","Pumped",0,0]
["P6Y1M3","Pumped",0,0]
["P6Y1M4","Pumped",0,0]
["P6Y1M5","Pumped",0,0]
["P6Y1M6","Pumped",0,0]
["P6Y1M7","Pumped",0,0]
[null,null,0,0]
["P6Y2M1 ","Pumped",0,100]
["P6Y2M2","Pumped",0,100]
["P6Y2M3","Pumped",0,100]
["P6Y2M4","Pumped",0,100]
["P6Y2M5","Pumped",0,100]
["P6Y2M6","Pumped",0,0]
["P6Y2M7","Pumped",0,0]
[null,null,0,0]
["P6Y3M1","Pumped",0,100]
["P6Y3M2","Pumped",0,100]
["P6Y3M3","Pumped",0,100]
["P6Y3M4","Pumped",0,100]
["P6Y3M5","Pumped",0,100]
["P6Y3M6","Pumped",0,100]
["P6Y3M7","Pumped",0,100]
[null,null,0,0]
["P6Y4M1","Pumped",0,100]
["P6Y4M2","Pumped",0,100]
["P6Y4M3","Pumped",0,100]
["P6Y4M4","Pumped",0,100]
["P6Y4M5","Pumped",0,100]
["P6Y4M6","Pumped",0,100]
["P6Y4M7","Pumped",0,100]
[null,null,0,0]
["P6Y5M1","Pumped",0,100]
["P6Y5M2","Pumped",0,100]
["P6Y5M3","Pumped",0,100]
["P6Y5M4","Pumped",0,100]
["P6Y5M5","Pumped",0,100]
["P6Y5M6","Pumped",0,100]
["P6Y5M7","Pumped",0,100]
[]
[]
[]
[]
[]
[]
[]
[]
[]
[]
[]
[]
[]
[]
[]
[]
[]
[]
[]
[]
[]
[]
[]
[]
[]
[]
[]
[]
[]
[]
[]
[]
[]
[]
[]
[]
[]
[]
[]
[]
[]
[]
[]
[]
[]
[]
[]
[]
[]
[]
[]
[]
[]
[]
[]
[]
[]
[]
[]
[]
[]
[]
[]
[]
[]
[]
[]
[]
[]
[]
[]
[]
[]
[]
[]
[]
[]
[]
[]
[]
[]
[]
[]
[]
[]
[]
[]
[]
[]
[]
[]
[]
[]
[]
[]
[]
[]
[]
[]
[]
[]
[]
[]
[]
[]
[]
[]
[]
[]
[]
[]
[]
[]
[]
[]
[]
[]
[]
[]
[]
[]
[]
[]
[]
[]
[]
[]
[]
[]
[]
[]
[]
[]
[]
[]
[]
[]
[]
[]
[]
[]
[]
[]
[]
[]
[]
[]
[]
[]
[]
[]
[]
[]
[]
[]
[]
[]
[]
[]
[]
[]
[]
[]
[]
[]
[]
[]
[]
[]
[]
[]
[]
[]
[]
[]
[]
[]
[]
[]
[]
[]
[]
[]
[]
[]
[]
[]
[]
[]
[]
[]
[]
[]
[]
[]
[]
[]
[]
[]
[]
[]
[]
[]
[]
[]
[]
[]
[]
[]
[]
[]
[]
[]
[]
[]
[]
[]
[]
[]
[]
[]
[]
[]
[]
[]
[]
[]
[]
[]
[]
[]
[]
[]
[]
[]
[]
[]
[]
[]
[]
[]
[]
[]
[]
[]
[]
[]
[]
[]
[]
[]
[]
[]
[]
[]
[]
[]
[]
[]
[]
[]
[]
[]
[]
[]
[]
[]
[]
[]
[]
[]
[]
[]
[]
[]
[]
[]
[]
[]
[]
[false]
[0,null,null,"2010-03-22"]
[7,null,null,0.38648148148148148]

{"sheet":"Help","index":7,"n_rows":0,"n_cols":0,"rows_kept":0,"cut":false,"hidden":false,"merged":[]}