{"text_format":"1","workbook":"xlsx","n_sheets":14,"sheets":["Table 3_L","Table 1-1_Lookup","Table 1-2_Lookup","Table 1-3_Lookup","Table 1","Table 2","Table 3","Table 4","Table 1-1","Table 1–2","Table 1–3","Table 1–4","Table 2–1","Table 2–2"],"not_rendered":{"charts":0,"images":0,"macros":1,"external_links":3,"defined_names":13,"comments":1,"pivot_tables":0},"unopened":[],"bounds":{"document_bytes":16777216,"sheet_cells":100000,"rows_first":2000,"rows_last":500,"rows_between":2000,"halvings":0,"cell_chars":16384,"cell_head_chars":4096},"cells_cut":0,"cells_raw":0,"read":"whole","date_system":"1900"}

{"sheet":"Table 3_L","index":0,"n_rows":8,"n_cols":7,"rows_kept":8,"cut":false,"hidden":true,"merged":[[0,0,0,6],[1,0,1,6],[2,1,2,2],[2,3,2,4],[2,5,2,6]]}
["Table 3.  Ranges of values of basin characteristics used to develop regional regression equations."]
["[A,  contributing drainage area, in square miles; P, mean annual precipitation, in inches; SLP50, percent of basin with slope greater than 50 percent; Min, minimum; Max, maximum; --, not used in regression equations for indicated region]"]
[null,"A",null,"P",null,"SLP50"]
["Hydrologic region\n(ordered clockwise from northwestern Montana)","Min","Max","Min","Max","Min","Max"]
["West",{"$f":"MIN('Table 1-2_Lookup'!F6:F58)","v":6.4},{"$f":"MAX('Table 1-2_Lookup'!F6:F58)","v":2516},"--","--",{"$f":"MIN('Table 1-2_Lookup'!H6:H58)","v":1.869},{"$f":"MAX('Table 1-2_Lookup'!H6:H58)","v":67.474000000000004}]
["Northwest",{"$f":"MIN('Table 1-2_Lookup'!F60:F85)","v":7.74},{"$f":"MAX('Table 1-2_Lookup'!F60:F85)","v":1556},{"$f":"MIN('Table 1-2_Lookup'!G60:G85)","v":20.742000000000001},{"$f":"MAX('Table 1-2_Lookup'!G60:G85)","v":83.156000000000006},{"$f":"MIN('Table 1-2_Lookup'!H60:H85)","v":5.7000000000000002E-2},{"$f":"MAX('Table 1-2_Lookup'!H60:H85)","v":65.94}]
["Upper Yellowstone-Central Mountain",{"$f":"MIN('Table 1-2_Lookup'!F87:F135)","v":28.1},{"$f":"MAX('Table 1-2_Lookup'!F87:F135)","v":2616},{"$f":"MIN('Table 1-2_Lookup'!G87:G135)","v":16.454000000000001},{"$f":"MAX('Table 1-2_Lookup'!G87:G135)","v":38.847000000000001},"--","--"]
["Southwest",{"$f":"MIN('Table 1-2_Lookup'!F137:F160)","v":24.4},{"$f":"MAX('Table 1-2_Lookup'!F137:F160)","v":2472},{"$f":"MIN('Table 1-2_Lookup'!G137:G160)","v":16.738},{"$f":"MAX('Table 1-2_Lookup'!G137:G160)","v":37.018000000000001},{"$f":"MIN('Table 1-2_Lookup'!H137:H160)","v":0.96199999999999997},{"$f":"MAX('Table 1-2_Lookup'!H137:H160)","v":22.553000000000001}]

{"sheet":"Table 1-1_Lookup","index":1,"n_rows":165,"n_cols":58,"rows_kept":165,"cut":false,"hidden":true,"merged":[[138,0,138,57],[88,0,88,57],[61,0,61,57],[0,0,0,41],[1,0,1,41],[2,4,2,57],[7,0,7,57]]}
["Table 1–2.  Streamflow characteristics for streamflow-gaging stations used in developing the regional regression equations."]
["[NR, not reported]"]
["Map number\n(fig. 1)","Station identification","Station name","Analysis period of record, in water years","Streamflow for inidcated streamflow characteristic (Q),\nin cubic feet per second"]
[null,null,null,null,"QAL7Q10","QS214Q5","QA0.2","QA0.5","QA0.8","QAMEAN","QJAN0.2","QJAN0.5","QJAN0.8","QJANMEAN","QFEB0.2","QFEB0.5","QFEB0.8","QFEBMEAN","QMAR0.2","QMAR0.5","QMAR0.8","QMARMEAN","QAPR0.2","QAPR0.5","QAPR0.8","QAPRMEAN","QMAY0.2","QMAY0.5","QMAY0.8","QMAYMEAN","QJUN0.2","QJUN0.5","QJUN0.8","QJUNMEAN","QJUL0.2","QJUL0.5","QJUL0.8","QJULMEAN","QAUG0.2","QAUG0.5","QAUG0.8","QAUGMEAN","QSEP0.2","QSEP0.5","QSEP0.8","QSEPMEAN","QOCT0.2","QOCT0.5","QOCT0.8","QOCTMEAN","QNOV0.2","QNOV0.5","QNOV0.8","QNOVMEAN","QDEC0.2","QDEC0.5","QDEC0.8","QDECMEAN"]
[]
[null,null,null,null,{"$f":"RIGHT(E4,LEN(E4)-1)","v":"AL7Q10"},{"$f":"RIGHT(F4,LEN(F4)-1)","v":"S214Q5"},{"$f":"RIGHT(G4,LEN(G4)-1)","v":"A0.2"},"A0.5","A0.8","AMEAN",{"$f":"RIGHT(K4,LEN(K4)-1)","v":"JAN0.2"},"JAN0.5","JAN0.8","JANMEAN","FEB0.2","FEB0.5","FEB0.8","FEBMEAN","MAR0.2","MAR0.5","MAR0.8","MARMEAN","APR0.2","APR0.5","APR0.8","APRMEAN",{"$f":"RIGHT(AA4,LEN(AA4)-1)","v":"MAY0.2"},"MAY0.5","MAY0.8","MAYMEAN","JUN0.2","JUN0.5","JUN0.8","JUNMEAN","JUL0.2","JUL0.5","JUL0.8","JULMEAN","AUG0.2","AUG0.5","AUG0.8","AUGMEAN",{"$f":"RIGHT(AQ4,LEN(AQ4)-1)","v":"SEP0.2"},"SEP0.5","SEP0.8","SEPMEAN","OCT0.2","OCT0.5","OCT0.8","OCTMEAN","NOV0.2","NOV0.5","NOV0.8","NOVMEAN","DEC0.2","DEC0.5","DEC0.8","DECMEAN"]
[null,null,null,null,18,119,{"$f":"MATCH(G6,[1]FlowData!$2:$2,0)","v":230},{"$f":"MATCH(H6,[1]FlowData!$2:$2,0)","v":227},{"$f":"MATCH(I6,[1]FlowData!$2:$2,0)","v":224},{"$f":"MATCH(J6,[1]FlowData!$2:$2,0)","v":415},{"$f":"MATCH(K6,[1]FlowData!$2:$2,0)","v":245},{"$f":"MATCH(L6,[1]FlowData!$2:$2,0)","v":242},{"$f":"MATCH(M6,[1]FlowData!$2:$2,0)","v":239},{"$f":"MATCH(N6,[1]FlowData!$2:$2,0)","v":416},{"$f":"MATCH(O6,[1]FlowData!$2:$2,0)","v":260},{"$f":"MATCH(P6,[1]FlowData!$2:$2,0)","v":257},{"$f":"MATCH(Q6,[1]FlowData!$2:$2,0)","v":254},{"$f":"MATCH(R6,[1]FlowData!$2:$2,0)","v":417},{"$f":"MATCH(S6,[1]FlowData!$2:$2,0)","v":275},{"$f":"MATCH(T6,[1]FlowData!$2:$2,0)","v":272},{"$f":"MATCH(U6,[1]FlowData!$2:$2,0)","v":269},{"$f":"MATCH(V6,[1]FlowData!$2:$2,0)","v":418},{"$f":"MATCH(W6,[1]FlowData!$2:$2,0)","v":290},{"$f":"MATCH(X6,[1]FlowData!$2:$2,0)","v":287},{"$f":"MATCH(Y6,[1]FlowData!$2:$2,0)","v":284},{"$f":"MATCH(Z6,[1]FlowData!$2:$2,0)","v":419},{"$f":"MATCH(AA6,[1]FlowData!$2:$2,0)","v":305},{"$f":"MATCH(AB6,[1]FlowData!$2:$2,0)","v":302},{"$f":"MATCH(AC6,[1]FlowData!$2:$2,0)","v":299},{"$f":"MATCH(AD6,[1]FlowData!$2:$2,0)","v":420},{"$f":"MATCH(AE6,[1]FlowData!$2:$2,0)","v":320},{"$f":"MATCH(AF6,[1]FlowData!$2:$2,0)","v":317},{"$f":"MATCH(AG6,[1]FlowData!$2:$2,0)","v":314},{"$f":"MATCH(AH6,[1]FlowData!$2:$2,0)","v":421},{"$f":"MATCH(AI6,[1]FlowData!$2:$2,0)","v":335},{"$f":"MATCH(AJ6,[1]FlowData!$2:$2,0)","v":332},{"$f":"MATCH(AK6,[1]FlowData!$2:$2,0)","v":329},{"$f":"MATCH(AL6,[1]FlowData!$2:$2,0)","v":422},{"$f":"MATCH(AM6,[1]FlowData!$2:$2,0)","v":350},{"$f":"MATCH(AN6,[1]FlowData!$2:$2,0)","v":347},{"$f":"MATCH(AO6,[1]FlowData!$2:$2,0)","v":344},{"$f":"MATCH(AP6,[1]FlowData!$2:$2,0)","v":423},{"$f":"MATCH(AQ6,[1]FlowData!$2:$2,0)","v":365},{"$f":"MATCH(AR6,[1]FlowData!$2:$2,0)","v":362},{"$f":"MATCH(AS6,[1]FlowData!$2:$2,0)","v":359},{"$f":"MATCH(AT6,[1]FlowData!$2:$2,0)","v":424},{"$f":"MATCH(AU6,[1]FlowData!$2:$2,0)","v":380},{"$f":"MATCH(AV6,[1]FlowData!$2:$2,0)","v":377},{"$f":"MATCH(AW6,[1]FlowData!$2:$2,0)","v":374},{"$f":"MATCH(AX6,[1]FlowData!$2:$2,0)","v":425},{"$f":"MATCH(AY6,[1]FlowData!$2:$2,0)","v":395},{"$f":"MATCH(AZ6,[1]FlowData!$2:$2,0)","v":392},{"$f":"MATCH(BA6,[1]FlowData!$2:$2,0)","v":389},{"$f":"MATCH(BB6,[1]FlowData!$2:$2,0)","v":426},{"$f":"MATCH(BC6,[1]FlowData!$2:$2,0)","v":410},{"$f":"MATCH(BD6,[1]FlowData!$2:$2,0)","v":407},{"$f":"MATCH(BE6,[1]FlowData!$2:$2,0)","v":404},{"$f":"MATCH(BF6,[1]FlowData!$2:$2,0)","v":427}]
["West hydrologic region"]
[{"$f":"VLOOKUP(B9,'[2]Gages and BCs'!$A$4:$BJ$973,62,FALSE)","v":596},12301300,{"$f":"VLOOKUP(B9,'[2]Gages and BCs'!$A$4:$BJ$973,60,FALSE)","v":"Tobacco River near Eureka, Montana"},"1959–2009",{"$f":"VLOOKUP($B9,[1]FlowData!$A$3:$PL$215,E$7,FALSE)","v":37.594999999999999},{"$f":"VLOOKUP($B9,[1]FlowData!$A$3:$PL$215,F$7,FALSE)","v":56.110999999999997},{"$f":"VLOOKUP($B9,[1]FlowData!$A$3:$PL$215,G$7,FALSE)","v":415},{"$f":"VLOOKUP($B9,[1]FlowData!$A$3:$PL$215,H$7,FALSE)","v":147},{"$f":"VLOOKUP($B9,[1]FlowData!$A$3:$PL$215,I$7,FALSE)","v":66},{"$f":"VLOOKUP($B9,[1]FlowData!$A$3:$PL$215,J$7,FALSE)","v":263},{"$f":"VLOOKUP($B9,[1]FlowData!$A$3:$PL$215,K$7,FALSE)","v":130},{"$f":"VLOOKUP($B9,[1]FlowData!$A$3:$PL$215,L$7,FALSE)","v":90},{"$f":"VLOOKUP($B9,[1]FlowData!$A$3:$PL$215,M$7,FALSE)","v":63},{"$f":"VLOOKUP($B9,[1]FlowData!$A$3:$PL$215,N$7,FALSE)","v":102},{"$f":"VLOOKUP($B9,[1]FlowData!$A$3:$PL$215,O$7,FALSE)","v":130},{"$f":"VLOOKUP($B9,[1]FlowData!$A$3:$PL$215,P$7,FALSE)","v":97},{"$f":"VLOOKUP($B9,[1]FlowData!$A$3:$PL$215,Q$7,FALSE)","v":57},{"$f":"VLOOKUP($B9,[1]FlowData!$A$3:$PL$215,R$7,FALSE)","v":109},{"$f":"VLOOKUP($B9,[1]FlowData!$A$3:$PL$215,S$7,FALSE)","v":191},{"$f":"VLOOKUP($B9,[1]FlowData!$A$3:$PL$215,T$7,FALSE)","v":124},{"$f":"VLOOKUP($B9,[1]FlowData!$A$3:$PL$215,U$7,FALSE)","v":87},{"$f":"VLOOKUP($B9,[1]FlowData!$A$3:$PL$215,V$7,FALSE)","v":156},{"$f":"VLOOKUP($B9,[1]FlowData!$A$3:$PL$215,W$7,FALSE)","v":599},{"$f":"VLOOKUP($B9,[1]FlowData!$A$3:$PL$215,X$7,FALSE)","v":340},{"$f":"VLOOKUP($B9,[1]FlowData!$A$3:$PL$215,Y$7,FALSE)","v":186},{"$f":"VLOOKUP($B9,[1]FlowData!$A$3:$PL$215,Z$7,FALSE)","v":415},{"$f":"VLOOKUP($B9,[1]FlowData!$A$3:$PL$215,AA$7,FALSE)","v":1020},{"$f":"VLOOKUP($B9,[1]FlowData!$A$3:$PL$215,AB$7,FALSE)","v":687},{"$f":"VLOOKUP($B9,[1]FlowData!$A$3:$PL$215,AC$7,FALSE)","v":471},{"$f":"VLOOKUP($B9,[1]FlowData!$A$3:$PL$215,AD$7,FALSE)","v":756},{"$f":"VLOOKUP($B9,[1]FlowData!$A$3:$PL$215,AE$7,FALSE)","v":980},{"$f":"VLOOKUP($B9,[1]FlowData!$A$3:$PL$215,AF$7,FALSE)","v":700},{"$f":"VLOOKUP($B9,[1]FlowData!$A$3:$PL$215,AG$7,FALSE)","v":433},{"$f":"VLOOKUP($B9,[1]FlowData!$A$3:$PL$215,AH$7,FALSE)","v":727},{"$f":"VLOOKUP($B9,[1]FlowData!$A$3:$PL$215,AI$7,FALSE)","v":443},{"$f":"VLOOKUP($B9,[1]FlowData!$A$3:$PL$215,AJ$7,FALSE)","v":253},{"$f":"VLOOKUP($B9,[1]FlowData!$A$3:$PL$215,AK$7,FALSE)","v":149},{"$f":"VLOOKUP($B9,[1]FlowData!$A$3:$PL$215,AL$7,FALSE)","v":298},{"$f":"VLOOKUP($B9,[1]FlowData!$A$3:$PL$215,AM$7,FALSE)","v":170},{"$f":"VLOOKUP($B9,[1]FlowData!$A$3:$PL$215,AN$7,FALSE)","v":114},{"$f":"VLOOKUP($B9,[1]FlowData!$A$3:$PL$215,AO$7,FALSE)","v":71},{"$f":"VLOOKUP($B9,[1]FlowData!$A$3:$PL$215,AP$7,FALSE)","v":122},{"$f":"VLOOKUP($B9,[1]FlowData!$A$3:$PL$215,AQ$7,FALSE)","v":137},{"$f":"VLOOKUP($B9,[1]FlowData!$A$3:$PL$215,AR$7,FALSE)","v":102},{"$f":"VLOOKUP($B9,[1]FlowData!$A$3:$PL$215,AS$7,FALSE)","v":70},{"$f":"VLOOKUP($B9,[1]FlowData!$A$3:$PL$215,AT$7,FALSE)","v":107},{"$f":"VLOOKUP($B9,[1]FlowData!$A$3:$PL$215,AU$7,FALSE)","v":139},{"$f":"VLOOKUP($B9,[1]FlowData!$A$3:$PL$215,AV$7,FALSE)","v":103},{"$f":"VLOOKUP($B9,[1]FlowData!$A$3:$PL$215,AW$7,FALSE)","v":76},{"$f":"VLOOKUP($B9,[1]FlowData!$A$3:$PL$215,AX$7,FALSE)","v":112},{"$f":"VLOOKUP($B9,[1]FlowData!$A$3:$PL$215,AY$7,FALSE)","v":157},{"$f":"VLOOKUP($B9,[1]FlowData!$A$3:$PL$215,AZ$7,FALSE)","v":110},{"$f":"VLOOKUP($B9,[1]FlowData!$A$3:$PL$215,BA$7,FALSE)","v":81},{"$f":"VLOOKUP($B9,[1]FlowData!$A$3:$PL$215,BB$7,FALSE)","v":131},{"$f":"VLOOKUP($B9,[1]FlowData!$A$3:$PL$215,BC$7,FALSE)","v":137},{"$f":"VLOOKUP($B9,[1]FlowData!$A$3:$PL$215,BD$7,FALSE)","v":96},{"$f":"VLOOKUP($B9,[1]FlowData!$A$3:$PL$215,BE$7,FALSE)","v":71},{"$f":"VLOOKUP($B9,[1]FlowData!$A$3:$PL$215,BF$7,FALSE)","v":113}]
[{"$f":"VLOOKUP(B10,'[2]Gages and BCs'!$A$4:$BJ$973,62,FALSE)","v":605},12301999,{"$f":"VLOOKUP(B10,'[2]Gages and BCs'!$A$4:$BJ$973,60,FALSE)","v":"Wolf Creek near Libby, Montana"},"1968–77",{"$f":"VLOOKUP($B10,[1]FlowData!$A$3:$PL$215,E$7,FALSE)","v":""},{"$f":"VLOOKUP($B10,[1]FlowData!$A$3:$PL$215,F$7,FALSE)","v":""},{"$f":"VLOOKUP($B10,[1]FlowData!$A$3:$PL$215,G$7,FALSE)","v":75},{"$f":"VLOOKUP($B10,[1]FlowData!$A$3:$PL$215,H$7,FALSE)","v":33},{"$f":"VLOOKUP($B10,[1]FlowData!$A$3:$PL$215,I$7,FALSE)","v":15},{"$f":"VLOOKUP($B10,[1]FlowData!$A$3:$PL$215,J$7,FALSE)","v":70},{"$f":"VLOOKUP($B10,[1]FlowData!$A$3:$PL$215,K$7,FALSE)","v":19},{"$f":"VLOOKUP($B10,[1]FlowData!$A$3:$PL$215,L$7,FALSE)","v":11},{"$f":"VLOOKUP($B10,[1]FlowData!$A$3:$PL$215,M$7,FALSE)","v":5.7},{"$f":"VLOOKUP($B10,[1]FlowData!$A$3:$PL$215,N$7,FALSE)","v":22},{"$f":"VLOOKUP($B10,[1]FlowData!$A$3:$PL$215,O$7,FALSE)","v":37},{"$f":"VLOOKUP($B10,[1]FlowData!$A$3:$PL$215,P$7,FALSE)","v":14},{"$f":"VLOOKUP($B10,[1]FlowData!$A$3:$PL$215,Q$7,FALSE)","v":6.6},{"$f":"VLOOKUP($B10,[1]FlowData!$A$3:$PL$215,R$7,FALSE)","v":27},{"$f":"VLOOKUP($B10,[1]FlowData!$A$3:$PL$215,S$7,FALSE)","v":69},{"$f":"VLOOKUP($B10,[1]FlowData!$A$3:$PL$215,T$7,FALSE)","v":33},{"$f":"VLOOKUP($B10,[1]FlowData!$A$3:$PL$215,U$7,FALSE)","v":16},{"$f":"VLOOKUP($B10,[1]FlowData!$A$3:$PL$215,V$7,FALSE)","v":69},{"$f":"VLOOKUP($B10,[1]FlowData!$A$3:$PL$215,W$7,FALSE)","v":479},{"$f":"VLOOKUP($B10,[1]FlowData!$A$3:$PL$215,X$7,FALSE)","v":136},{"$f":"VLOOKUP($B10,[1]FlowData!$A$3:$PL$215,Y$7,FALSE)","v":51},{"$f":"VLOOKUP($B10,[1]FlowData!$A$3:$PL$215,Z$7,FALSE)","v":263},{"$f":"VLOOKUP($B10,[1]FlowData!$A$3:$PL$215,AA$7,FALSE)","v":463},{"$f":"VLOOKUP($B10,[1]FlowData!$A$3:$PL$215,AB$7,FALSE)","v":262},{"$f":"VLOOKUP($B10,[1]FlowData!$A$3:$PL$215,AC$7,FALSE)","v":117},{"$f":"VLOOKUP($B10,[1]FlowData!$A$3:$PL$215,AD$7,FALSE)","v":296},{"$f":"VLOOKUP($B10,[1]FlowData!$A$3:$PL$215,AE$7,FALSE)","v":122},{"$f":"VLOOKUP($B10,[1]FlowData!$A$3:$PL$215,AF$7,FALSE)","v":65},{"$f":"VLOOKUP($B10,[1]FlowData!$A$3:$PL$215,AG$7,FALSE)","v":37},{"$f":"VLOOKUP($B10,[1]FlowData!$A$3:$PL$215,AH$7,FALSE)","v":82},{"$f":"VLOOKUP($B10,[1]FlowData!$A$3:$PL$215,AI$7,FALSE)","v":36},{"$f":"VLOOKUP($B10,[1]FlowData!$A$3:$PL$215,AJ$7,FALSE)","v":22},{"$f":"VLOOKUP($B10,[1]FlowData!$A$3:$PL$215,AK$7,FALSE)","v":11},{"$f":"VLOOKUP($B10,[1]FlowData!$A$3:$PL$215,AL$7,FALSE)","v":30},{"$f":"VLOOKUP($B10,[1]FlowData!$A$3:$PL$215,AM$7,FALSE)","v":14},{"$f":"VLOOKUP($B10,[1]FlowData!$A$3:$PL$215,AN$7,FALSE)","v":12},{"$f":"VLOOKUP($B10,[1]FlowData!$A$3:$PL$215,AO$7,FALSE)","v":7.4},{"$f":"VLOOKUP($B10,[1]FlowData!$A$3:$PL$215,AP$7,FALSE)","v":11},{"$f":"VLOOKUP($B10,[1]FlowData!$A$3:$PL$215,AQ$7,FALSE)","v":12},{"$f":"VLOOKUP($B10,[1]FlowData!$A$3:$PL$215,AR$7,FALSE)","v":9.1999999999999993},{"$f":"VLOOKUP($B10,[1]FlowData!$A$3:$PL$215,AS$7,FALSE)","v":6.9},{"$f":"VLOOKUP($B10,[1]FlowData!$A$3:$PL$215,AT$7,FALSE)","v":9.1999999999999993},{"$f":"VLOOKUP($B10,[1]FlowData!$A$3:$PL$215,AU$7,FALSE)","v":12},{"$f":"VLOOKUP($B10,[1]FlowData!$A$3:$PL$215,AV$7,FALSE)","v":10},{"$f":"VLOOKUP($B10,[1]FlowData!$A$3:$PL$215,AW$7,FALSE)","v":8.6},{"$f":"VLOOKUP($B10,[1]FlowData!$A$3:$PL$215,AX$7,FALSE)","v":11},{"$f":"VLOOKUP($B10,[1]FlowData!$A$3:$PL$215,AY$7,FALSE)","v":13},{"$f":"VLOOKUP($B10,[1]FlowData!$A$3:$PL$215,AZ$7,FALSE)","v":11},{"$f":"VLOOKUP($B10,[1]FlowData!$A$3:$PL$215,BA$7,FALSE)","v":8.6},{"$f":"VLOOKUP($B10,[1]FlowData!$A$3:$PL$215,BB$7,FALSE)","v":11},{"$f":"VLOOKUP($B10,[1]FlowData!$A$3:$PL$215,BC$7,FALSE)","v":15},{"$f":"VLOOKUP($B10,[1]FlowData!$A$3:$PL$215,BD$7,FALSE)","v":9.6},{"$f":"VLOOKUP($B10,[1]FlowData!$A$3:$PL$215,BE$7,FALSE)","v":7.9},{"$f":"VLOOKUP($B10,[1]FlowData!$A$3:$PL$215,BF$7,FALSE)","v":12}]
[{"$f":"VLOOKUP(B11,'[2]Gages and BCs'!$A$4:$BJ$973,62,FALSE)","v":607},12302055,{"$f":"VLOOKUP(B11,'[2]Gages and BCs'!$A$4:$BJ$973,60,FALSE)","v":"Fisher River near Libby, Montana"},"1968–2009",{"$f":"VLOOKUP($B11,[1]FlowData!$A$3:$PL$215,E$7,FALSE)","v":57.314},{"$f":"VLOOKUP($B11,[1]FlowData!$A$3:$PL$215,F$7,FALSE)","v":73.902000000000001},{"$f":"VLOOKUP($B11,[1]FlowData!$A$3:$PL$215,G$7,FALSE)","v":735},{"$f":"VLOOKUP($B11,[1]FlowData!$A$3:$PL$215,H$7,FALSE)","v":255},{"$f":"VLOOKUP($B11,[1]FlowData!$A$3:$PL$215,I$7,FALSE)","v":121},{"$f":"VLOOKUP($B11,[1]FlowData!$A$3:$PL$215,J$7,FALSE)","v":468},{"$f":"VLOOKUP($B11,[1]FlowData!$A$3:$PL$215,K$7,FALSE)","v":323},{"$f":"VLOOKUP($B11,[1]FlowData!$A$3:$PL$215,L$7,FALSE)","v":201},{"$f":"VLOOKUP($B11,[1]FlowData!$A$3:$PL$215,M$7,FALSE)","v":99},{"$f":"VLOOKUP($B11,[1]FlowData!$A$3:$PL$215,N$7,FALSE)","v":248},{"$f":"VLOOKUP($B11,[1]FlowData!$A$3:$PL$215,O$7,FALSE)","v":351},{"$f":"VLOOKUP($B11,[1]FlowData!$A$3:$PL$215,P$7,FALSE)","v":224},{"$f":"VLOOKUP($B11,[1]FlowData!$A$3:$PL$215,Q$7,FALSE)","v":117},{"$f":"VLOOKUP($B11,[1]FlowData!$A$3:$PL$215,R$7,FALSE)","v":327},{"$f":"VLOOKUP($B11,[1]FlowData!$A$3:$PL$215,S$7,FALSE)","v":758},{"$f":"VLOOKUP($B11,[1]FlowData!$A$3:$PL$215,T$7,FALSE)","v":379},{"$f":"VLOOKUP($B11,[1]FlowData!$A$3:$PL$215,U$7,FALSE)","v":187},{"$f":"VLOOKUP($B11,[1]FlowData!$A$3:$PL$215,V$7,FALSE)","v":570},{"$f":"VLOOKUP($B11,[1]FlowData!$A$3:$PL$215,W$7,FALSE)","v":1740},{"$f":"VLOOKUP($B11,[1]FlowData!$A$3:$PL$215,X$7,FALSE)","v":940},{"$f":"VLOOKUP($B11,[1]FlowData!$A$3:$PL$215,Y$7,FALSE)","v":532},{"$f":"VLOOKUP($B11,[1]FlowData!$A$3:$PL$215,Z$7,FALSE)","v":1180},{"$f":"VLOOKUP($B11,[1]FlowData!$A$3:$PL$215,AA$7,FALSE)","v":1930},{"$f":"VLOOKUP($B11,[1]FlowData!$A$3:$PL$215,AB$7,FALSE)","v":1190},{"$f":"VLOOKUP($B11,[1]FlowData!$A$3:$PL$215,AC$7,FALSE)","v":731},{"$f":"VLOOKUP($B11,[1]FlowData!$A$3:$PL$215,AD$7,FALSE)","v":1380},{"$f":"VLOOKUP($B11,[1]FlowData!$A$3:$PL$215,AE$7,FALSE)","v":1160},{"$f":"VLOOKUP($B11,[1]FlowData!$A$3:$PL$215,AF$7,FALSE)","v":745},{"$f":"VLOOKUP($B11,[1]FlowData!$A$3:$PL$215,AG$7,FALSE)","v":354},{"$f":"VLOOKUP($B11,[1]FlowData!$A$3:$PL$215,AH$7,FALSE)","v":799},{"$f":"VLOOKUP($B11,[1]FlowData!$A$3:$PL$215,AI$7,FALSE)","v":402},{"$f":"VLOOKUP($B11,[1]FlowData!$A$3:$PL$215,AJ$7,FALSE)","v":236},{"$f":"VLOOKUP($B11,[1]FlowData!$A$3:$PL$215,AK$7,FALSE)","v":142},{"$f":"VLOOKUP($B11,[1]FlowData!$A$3:$PL$215,AL$7,FALSE)","v":281},{"$f":"VLOOKUP($B11,[1]FlowData!$A$3:$PL$215,AM$7,FALSE)","v":176},{"$f":"VLOOKUP($B11,[1]FlowData!$A$3:$PL$215,AN$7,FALSE)","v":128},{"$f":"VLOOKUP($B11,[1]FlowData!$A$3:$PL$215,AO$7,FALSE)","v":86},{"$f":"VLOOKUP($B11,[1]FlowData!$A$3:$PL$215,AP$7,FALSE)","v":134},{"$f":"VLOOKUP($B11,[1]FlowData!$A$3:$PL$215,AQ$7,FALSE)","v":140},{"$f":"VLOOKUP($B11,[1]FlowData!$A$3:$PL$215,AR$7,FALSE)","v":112},{"$f":"VLOOKUP($B11,[1]FlowData!$A$3:$PL$215,AS$7,FALSE)","v":81},{"$f":"VLOOKUP($B11,[1]FlowData!$A$3:$PL$215,AT$7,FALSE)","v":114},{"$f":"VLOOKUP($B11,[1]FlowData!$A$3:$PL$215,AU$7,FALSE)","v":155},{"$f":"VLOOKUP($B11,[1]FlowData!$A$3:$PL$215,AV$7,FALSE)","v":117},{"$f":"VLOOKUP($B11,[1]FlowData!$A$3:$PL$215,AW$7,FALSE)","v":93},{"$f":"VLOOKUP($B11,[1]FlowData!$A$3:$PL$215,AX$7,FALSE)","v":131},{"$f":"VLOOKUP($B11,[1]FlowData!$A$3:$PL$215,AY$7,FALSE)","v":273},{"$f":"VLOOKUP($B11,[1]FlowData!$A$3:$PL$215,AZ$7,FALSE)","v":161},{"$f":"VLOOKUP($B11,[1]FlowData!$A$3:$PL$215,BA$7,FALSE)","v":89},{"$f":"VLOOKUP($B11,[1]FlowData!$A$3:$PL$215,BB$7,FALSE)","v":223},{"$f":"VLOOKUP($B11,[1]FlowData!$A$3:$PL$215,BC$7,FALSE)","v":283},{"$f":"VLOOKUP($B11,[1]FlowData!$A$3:$PL$215,BD$7,FALSE)","v":160},{"$f":"VLOOKUP($B11,[1]FlowData!$A$3:$PL$215,BE$7,FALSE)","v":87},{"$f":"VLOOKUP($B11,[1]FlowData!$A$3:$PL$215,BF$7,FALSE)","v":234}]
[{"$f":"VLOOKUP(B12,'[2]Gages and BCs'!$A$4:$BJ$973,62,FALSE)","v":609},12302500,{"$f":"VLOOKUP(B12,'[2]Gages and BCs'!$A$4:$BJ$973,60,FALSE)","v":"Granite Creek near Libby, Montana"},"1933, 1937–43, 1961–69",{"$f":"VLOOKUP($B12,[1]FlowData!$A$3:$PL$215,E$7,FALSE)","v":5.3710000000000004},{"$f":"VLOOKUP($B12,[1]FlowData!$A$3:$PL$215,F$7,FALSE)","v":6.4589999999999996},{"$f":"VLOOKUP($B12,[1]FlowData!$A$3:$PL$215,G$7,FALSE)","v":115},{"$f":"VLOOKUP($B12,[1]FlowData!$A$3:$PL$215,H$7,FALSE)","v":53},{"$f":"VLOOKUP($B12,[1]FlowData!$A$3:$PL$215,I$7,FALSE)","v":24},{"$f":"VLOOKUP($B12,[1]FlowData!$A$3:$PL$215,J$7,FALSE)","v":71},{"$f":"VLOOKUP($B12,[1]FlowData!$A$3:$PL$215,K$7,FALSE)","v":26},{"$f":"VLOOKUP($B12,[1]FlowData!$A$3:$PL$215,L$7,FALSE)","v":19},{"$f":"VLOOKUP($B12,[1]FlowData!$A$3:$PL$215,M$7,FALSE)","v":13},{"$f":"VLOOKUP($B12,[1]FlowData!$A$3:$PL$215,N$7,FALSE)","v":20},{"$f":"VLOOKUP($B12,[1]FlowData!$A$3:$PL$215,O$7,FALSE)","v":35},{"$f":"VLOOKUP($B12,[1]FlowData!$A$3:$PL$215,P$7,FALSE)","v":17},{"$f":"VLOOKUP($B12,[1]FlowData!$A$3:$PL$215,Q$7,FALSE)","v":9.3000000000000007},{"$f":"VLOOKUP($B12,[1]FlowData!$A$3:$PL$215,R$7,FALSE)","v":26},{"$f":"VLOOKUP($B12,[1]FlowData!$A$3:$PL$215,S$7,FALSE)","v":42},{"$f":"VLOOKUP($B12,[1]FlowData!$A$3:$PL$215,T$7,FALSE)","v":23},{"$f":"VLOOKUP($B12,[1]FlowData!$A$3:$PL$215,U$7,FALSE)","v":15},{"$f":"VLOOKUP($B12,[1]FlowData!$A$3:$PL$215,V$7,FALSE)","v":31},{"$f":"VLOOKUP($B12,[1]FlowData!$A$3:$PL$215,W$7,FALSE)","v":153},{"$f":"VLOOKUP($B12,[1]FlowData!$A$3:$PL$215,X$7,FALSE)","v":84},{"$f":"VLOOKUP($B12,[1]FlowData!$A$3:$PL$215,Y$7,FALSE)","v":44},{"$f":"VLOOKUP($B12,[1]FlowData!$A$3:$PL$215,Z$7,FALSE)","v":116},{"$f":"VLOOKUP($B12,[1]FlowData!$A$3:$PL$215,AA$7,FALSE)","v":325},{"$f":"VLOOKUP($B12,[1]FlowData!$A$3:$PL$215,AB$7,FALSE)","v":216},{"$f":"VLOOKUP($B12,[1]FlowData!$A$3:$PL$215,AC$7,FALSE)","v":135},{"$f":"VLOOKUP($B12,[1]FlowData!$A$3:$PL$215,AD$7,FALSE)","v":234},{"$f":"VLOOKUP($B12,[1]FlowData!$A$3:$PL$215,AE$7,FALSE)","v":306},{"$f":"VLOOKUP($B12,[1]FlowData!$A$3:$PL$215,AF$7,FALSE)","v":210},{"$f":"VLOOKUP($B12,[1]FlowData!$A$3:$PL$215,AG$7,FALSE)","v":125},{"$f":"VLOOKUP($B12,[1]FlowData!$A$3:$PL$215,AH$7,FALSE)","v":224},{"$f":"VLOOKUP($B12,[1]FlowData!$A$3:$PL$215,AI$7,FALSE)","v":104},{"$f":"VLOOKUP($B12,[1]FlowData!$A$3:$PL$215,AJ$7,FALSE)","v":57},{"$f":"VLOOKUP($B12,[1]FlowData!$A$3:$PL$215,AK$7,FALSE)","v":34},{"$f":"VLOOKUP($B12,[1]FlowData!$A$3:$PL$215,AL$7,FALSE)","v":72},{"$f":"VLOOKUP($B12,[1]FlowData!$A$3:$PL$215,AM$7,FALSE)","v":29},{"$f":"VLOOKUP($B12,[1]FlowData!$A$3:$PL$215,AN$7,FALSE)","v":21},{"$f":"VLOOKUP($B12,[1]FlowData!$A$3:$PL$215,AO$7,FALSE)","v":12},{"$f":"VLOOKUP($B12,[1]FlowData!$A$3:$PL$215,AP$7,FALSE)","v":22},{"$f":"VLOOKUP($B12,[1]FlowData!$A$3:$PL$215,AQ$7,FALSE)","v":24},{"$f":"VLOOKUP($B12,[1]FlowData!$A$3:$PL$215,AR$7,FALSE)","v":13},{"$f":"VLOOKUP($B12,[1]FlowData!$A$3:$PL$215,AS$7,FALSE)","v":7.5},{"$f":"VLOOKUP($B12,[1]FlowData!$A$3:$PL$215,AT$7,FALSE)","v":18},{"$f":"VLOOKUP($B12,[1]FlowData!$A$3:$PL$215,AU$7,FALSE)","v":41},{"$f":"VLOOKUP($B12,[1]FlowData!$A$3:$PL$215,AV$7,FALSE)","v":19},{"$f":"VLOOKUP($B12,[1]FlowData!$A$3:$PL$215,AW$7,FALSE)","v":8.6},{"$f":"VLOOKUP($B12,[1]FlowData!$A$3:$PL$215,AX$7,FALSE)","v":27},{"$f":"VLOOKUP($B12,[1]FlowData!$A$3:$PL$215,AY$7,FALSE)","v":46},{"$f":"VLOOKUP($B12,[1]FlowData!$A$3:$PL$215,AZ$7,FALSE)","v":25},{"$f":"VLOOKUP($B12,[1]FlowData!$A$3:$PL$215,BA$7,FALSE)","v":12},{"$f":"VLOOKUP($B12,[1]FlowData!$A$3:$PL$215,BB$7,FALSE)","v":33},{"$f":"VLOOKUP($B12,[1]FlowData!$A$3:$PL$215,BC$7,FALSE)","v":47},{"$f":"VLOOKUP($B12,[1]FlowData!$A$3:$PL$215,BD$7,FALSE)","v":31},{"$f":"VLOOKUP($B12,[1]FlowData!$A$3:$PL$215,BE$7,FALSE)","v":15},{"$f":"VLOOKUP($B12,[1]FlowData!$A$3:$PL$215,BF$7,FALSE)","v":39}]
[{"$f":"VLOOKUP(B13,'[2]Gages and BCs'!$A$4:$BJ$973,62,FALSE)","v":611},12303100,{"$f":"VLOOKUP(B13,'[2]Gages and BCs'!$A$4:$BJ$973,60,FALSE)","v":"Flower Creek near Libby, Montana"},"1961–92",{"$f":"VLOOKUP($B13,[1]FlowData!$A$3:$PL$215,E$7,FALSE)","v":3.8370000000000002},{"$f":"VLOOKUP($B13,[1]FlowData!$A$3:$PL$215,F$7,FALSE)","v":4.9169999999999998},{"$f":"VLOOKUP($B13,[1]FlowData!$A$3:$PL$215,G$7,FALSE)","v":37},{"$f":"VLOOKUP($B13,[1]FlowData!$A$3:$PL$215,H$7,FALSE)","v":13},{"$f":"VLOOKUP($B13,[1]FlowData!$A$3:$PL$215,I$7,FALSE)","v":6.9},{"$f":"VLOOKUP($B13,[1]FlowData!$A$3:$PL$215,J$7,FALSE)","v":26},{"$f":"VLOOKUP($B13,[1]FlowData!$A$3:$PL$215,K$7,FALSE)","v":14},{"$f":"VLOOKUP($B13,[1]FlowData!$A$3:$PL$215,L$7,FALSE)","v":9.8000000000000007},{"$f":"VLOOKUP($B13,[1]FlowData!$A$3:$PL$215,M$7,FALSE)","v":5.7},{"$f":"VLOOKUP($B13,[1]FlowData!$A$3:$PL$215,N$7,FALSE)","v":9.1},{"$f":"VLOOKUP($B13,[1]FlowData!$A$3:$PL$215,O$7,FALSE)","v":12},{"$f":"VLOOKUP($B13,[1]FlowData!$A$3:$PL$215,P$7,FALSE)","v":7.3},{"$f":"VLOOKUP($B13,[1]FlowData!$A$3:$PL$215,Q$7,FALSE)","v":4.7},{"$f":"VLOOKUP($B13,[1]FlowData!$A$3:$PL$215,R$7,FALSE)","v":9.3000000000000007},{"$f":"VLOOKUP($B13,[1]FlowData!$A$3:$PL$215,S$7,FALSE)","v":15},{"$f":"VLOOKUP($B13,[1]FlowData!$A$3:$PL$215,T$7,FALSE)","v":9},{"$f":"VLOOKUP($B13,[1]FlowData!$A$3:$PL$215,U$7,FALSE)","v":5.4},{"$f":"VLOOKUP($B13,[1]FlowData!$A$3:$PL$215,V$7,FALSE)","v":11},{"$f":"VLOOKUP($B13,[1]FlowData!$A$3:$PL$215,W$7,FALSE)","v":43},{"$f":"VLOOKUP($B13,[1]FlowData!$A$3:$PL$215,X$7,FALSE)","v":22},{"$f":"VLOOKUP($B13,[1]FlowData!$A$3:$PL$215,Y$7,FALSE)","v":12},{"$f":"VLOOKUP($B13,[1]FlowData!$A$3:$PL$215,Z$7,FALSE)","v":31},{"$f":"VLOOKUP($B13,[1]FlowData!$A$3:$PL$215,AA$7,FALSE)","v":123},{"$f":"VLOOKUP($B13,[1]FlowData!$A$3:$PL$215,AB$7,FALSE)","v":73},{"$f":"VLOOKUP($B13,[1]FlowData!$A$3:$PL$215,AC$7,FALSE)","v":41},{"$f":"VLOOKUP($B13,[1]FlowData!$A$3:$PL$215,AD$7,FALSE)","v":84},{"$f":"VLOOKUP($B13,[1]FlowData!$A$3:$PL$215,AE$7,FALSE)","v":125},{"$f":"VLOOKUP($B13,[1]FlowData!$A$3:$PL$215,AF$7,FALSE)","v":81},{"$f":"VLOOKUP($B13,[1]FlowData!$A$3:$PL$215,AG$7,FALSE)","v":46},{"$f":"VLOOKUP($B13,[1]FlowData!$A$3:$PL$215,AH$7,FALSE)","v":88},{"$f":"VLOOKUP($B13,[1]FlowData!$A$3:$PL$215,AI$7,FALSE)","v":43},{"$f":"VLOOKUP($B13,[1]FlowData!$A$3:$PL$215,AJ$7,FALSE)","v":23},{"$f":"VLOOKUP($B13,[1]FlowData!$A$3:$PL$215,AK$7,FALSE)","v":13},{"$f":"VLOOKUP($B13,[1]FlowData!$A$3:$PL$215,AL$7,FALSE)","v":29},{"$f":"VLOOKUP($B13,[1]FlowData!$A$3:$PL$215,AM$7,FALSE)","v":13},{"$f":"VLOOKUP($B13,[1]FlowData!$A$3:$PL$215,AN$7,FALSE)","v":9.6},{"$f":"VLOOKUP($B13,[1]FlowData!$A$3:$PL$215,AO$7,FALSE)","v":6.8},{"$f":"VLOOKUP($B13,[1]FlowData!$A$3:$PL$215,AP$7,FALSE)","v":10},{"$f":"VLOOKUP($B13,[1]FlowData!$A$3:$PL$215,AQ$7,FALSE)","v":9.8000000000000007},{"$f":"VLOOKUP($B13,[1]FlowData!$A$3:$PL$215,AR$7,FALSE)","v":7.7},{"$f":"VLOOKUP($B13,[1]FlowData!$A$3:$PL$215,AS$7,FALSE)","v":6.1},{"$f":"VLOOKUP($B13,[1]FlowData!$A$3:$PL$215,AT$7,FALSE)","v":8.4},{"$f":"VLOOKUP($B13,[1]FlowData!$A$3:$PL$215,AU$7,FALSE)","v":12},{"$f":"VLOOKUP($B13,[1]FlowData!$A$3:$PL$215,AV$7,FALSE)","v":8},{"$f":"VLOOKUP($B13,[1]FlowData!$A$3:$PL$215,AW$7,FALSE)","v":5.5},{"$f":"VLOOKUP($B13,[1]FlowData!$A$3:$PL$215,AX$7,FALSE)","v":9.1},{"$f":"VLOOKUP($B13,[1]FlowData!$A$3:$PL$215,AY$7,FALSE)","v":16},{"$f":"VLOOKUP($B13,[1]FlowData!$A$3:$PL$215,AZ$7,FALSE)","v":8.8000000000000007},{"$f":"VLOOKUP($B13,[1]FlowData!$A$3:$PL$215,BA$7,FALSE)","v":5.2},{"$f":"VLOOKUP($B13,[1]FlowData!$A$3:$PL$215,BB$7,FALSE)","v":13},{"$f":"VLOOKUP($B13,[1]FlowData!$A$3:$PL$215,BC$7,FALSE)","v":14},{"$f":"VLOOKUP($B13,[1]FlowData!$A$3:$PL$215,BD$7,FALSE)","v":10},{"$f":"VLOOKUP($B13,[1]FlowData!$A$3:$PL$215,BE$7,FALSE)","v":6},{"$f":"VLOOKUP($B13,[1]FlowData!$A$3:$PL$215,BF$7,FALSE)","v":10}]
[{"$f":"VLOOKUP(B14,'[2]Gages and BCs'!$A$4:$BJ$973,62,FALSE)","v":614},12303500,{"$f":"VLOOKUP(B14,'[2]Gages and BCs'!$A$4:$BJ$973,60,FALSE)","v":"Lake Creek at Troy, Montana"},"1945–57, 1983–96",{"$f":"VLOOKUP($B14,[1]FlowData!$A$3:$PL$215,E$7,FALSE)","v":76.084000000000003},{"$f":"VLOOKUP($B14,[1]FlowData!$A$3:$PL$215,F$7,FALSE)","v":102.337},{"$f":"VLOOKUP($B14,[1]FlowData!$A$3:$PL$215,G$7,FALSE)","v":649},{"$f":"VLOOKUP($B14,[1]FlowData!$A$3:$PL$215,H$7,FALSE)","v":258},{"$f":"VLOOKUP($B14,[1]FlowData!$A$3:$PL$215,I$7,FALSE)","v":131},{"$f":"VLOOKUP($B14,[1]FlowData!$A$3:$PL$215,J$7,FALSE)","v":428},{"$f":"VLOOKUP($B14,[1]FlowData!$A$3:$PL$215,K$7,FALSE)","v":331},{"$f":"VLOOKUP($B14,[1]FlowData!$A$3:$PL$215,L$7,FALSE)","v":188},{"$f":"VLOOKUP($B14,[1]FlowData!$A$3:$PL$215,M$7,FALSE)","v":113},{"$f":"VLOOKUP($B14,[1]FlowData!$A$3:$PL$215,N$7,FALSE)","v":232},{"$f":"VLOOKUP($B14,[1]FlowData!$A$3:$PL$215,O$7,FALSE)","v":364},{"$f":"VLOOKUP($B14,[1]FlowData!$A$3:$PL$215,P$7,FALSE)","v":203},{"$f":"VLOOKUP($B14,[1]FlowData!$A$3:$PL$215,Q$7,FALSE)","v":114},{"$f":"VLOOKUP($B14,[1]FlowData!$A$3:$PL$215,R$7,FALSE)","v":286},{"$f":"VLOOKUP($B14,[1]FlowData!$A$3:$PL$215,S$7,FALSE)","v":451},{"$f":"VLOOKUP($B14,[1]FlowData!$A$3:$PL$215,T$7,FALSE)","v":266},{"$f":"VLOOKUP($B14,[1]FlowData!$A$3:$PL$215,U$7,FALSE)","v":166},{"$f":"VLOOKUP($B14,[1]FlowData!$A$3:$PL$215,V$7,FALSE)","v":305},{"$f":"VLOOKUP($B14,[1]FlowData!$A$3:$PL$215,W$7,FALSE)","v":850},{"$f":"VLOOKUP($B14,[1]FlowData!$A$3:$PL$215,X$7,FALSE)","v":559},{"$f":"VLOOKUP($B14,[1]FlowData!$A$3:$PL$215,Y$7,FALSE)","v":312},{"$f":"VLOOKUP($B14,[1]FlowData!$A$3:$PL$215,Z$7,FALSE)","v":611},{"$f":"VLOOKUP($B14,[1]FlowData!$A$3:$PL$215,AA$7,FALSE)","v":1590},{"$f":"VLOOKUP($B14,[1]FlowData!$A$3:$PL$215,AB$7,FALSE)","v":1120},{"$f":"VLOOKUP($B14,[1]FlowData!$A$3:$PL$215,AC$7,FALSE)","v":722},{"$f":"VLOOKUP($B14,[1]FlowData!$A$3:$PL$215,AD$7,FALSE)","v":1190},{"$f":"VLOOKUP($B14,[1]FlowData!$A$3:$PL$215,AE$7,FALSE)","v":1460},{"$f":"VLOOKUP($B14,[1]FlowData!$A$3:$PL$215,AF$7,FALSE)","v":966},{"$f":"VLOOKUP($B14,[1]FlowData!$A$3:$PL$215,AG$7,FALSE)","v":551},{"$f":"VLOOKUP($B14,[1]FlowData!$A$3:$PL$215,AH$7,FALSE)","v":1030},{"$f":"VLOOKUP($B14,[1]FlowData!$A$3:$PL$215,AI$7,FALSE)","v":607},{"$f":"VLOOKUP($B14,[1]FlowData!$A$3:$PL$215,AJ$7,FALSE)","v":352},{"$f":"VLOOKUP($B14,[1]FlowData!$A$3:$PL$215,AK$7,FALSE)","v":233},{"$f":"VLOOKUP($B14,[1]FlowData!$A$3:$PL$215,AL$7,FALSE)","v":438},{"$f":"VLOOKUP($B14,[1]FlowData!$A$3:$PL$215,AM$7,FALSE)","v":255},{"$f":"VLOOKUP($B14,[1]FlowData!$A$3:$PL$215,AN$7,FALSE)","v":197},{"$f":"VLOOKUP($B14,[1]FlowData!$A$3:$PL$215,AO$7,FALSE)","v":151},{"$f":"VLOOKUP($B14,[1]FlowData!$A$3:$PL$215,AP$7,FALSE)","v":206},{"$f":"VLOOKUP($B14,[1]FlowData!$A$3:$PL$215,AQ$7,FALSE)","v":175},{"$f":"VLOOKUP($B14,[1]FlowData!$A$3:$PL$215,AR$7,FALSE)","v":148},{"$f":"VLOOKUP($B14,[1]FlowData!$A$3:$PL$215,AS$7,FALSE)","v":123},{"$f":"VLOOKUP($B14,[1]FlowData!$A$3:$PL$215,AT$7,FALSE)","v":148},{"$f":"VLOOKUP($B14,[1]FlowData!$A$3:$PL$215,AU$7,FALSE)","v":212},{"$f":"VLOOKUP($B14,[1]FlowData!$A$3:$PL$215,AV$7,FALSE)","v":143},{"$f":"VLOOKUP($B14,[1]FlowData!$A$3:$PL$215,AW$7,FALSE)","v":106},{"$f":"VLOOKUP($B14,[1]FlowData!$A$3:$PL$215,AX$7,FALSE)","v":177},{"$f":"VLOOKUP($B14,[1]FlowData!$A$3:$PL$215,AY$7,FALSE)","v":358},{"$f":"VLOOKUP($B14,[1]FlowData!$A$3:$PL$215,AZ$7,FALSE)","v":216},{"$f":"VLOOKUP($B14,[1]FlowData!$A$3:$PL$215,BA$7,FALSE)","v":112},{"$f":"VLOOKUP($B14,[1]FlowData!$A$3:$PL$215,BB$7,FALSE)","v":270},{"$f":"VLOOKUP($B14,[1]FlowData!$A$3:$PL$215,BC$7,FALSE)","v":382},{"$f":"VLOOKUP($B14,[1]FlowData!$A$3:$PL$215,BD$7,FALSE)","v":207},{"$f":"VLOOKUP($B14,[1]FlowData!$A$3:$PL$215,BE$7,FALSE)","v":124},{"$f":"VLOOKUP($B14,[1]FlowData!$A$3:$PL$215,BF$7,FALSE)","v":280}]
[{"$f":"VLOOKUP(B15,'[2]Gages and BCs'!$A$4:$BJ$973,62,FALSE)","v":615},12304040,{"$f":"VLOOKUP(B15,'[2]Gages and BCs'!$A$4:$BJ$973,60,FALSE)","v":"Basin Creek near Yaak, Montana"},"1990–2000",{"$f":"VLOOKUP($B15,[1]FlowData!$A$3:$PL$215,E$7,FALSE)","v":""},{"$f":"VLOOKUP($B15,[1]FlowData!$A$3:$PL$215,F$7,FALSE)","v":6.48},{"$f":"VLOOKUP($B15,[1]FlowData!$A$3:$PL$215,G$7,FALSE)","v":47},{"$f":"VLOOKUP($B15,[1]FlowData!$A$3:$PL$215,H$7,FALSE)","v":16},{"$f":"VLOOKUP($B15,[1]FlowData!$A$3:$PL$215,I$7,FALSE)","v":8.4},{"$f":"VLOOKUP($B15,[1]FlowData!$A$3:$PL$215,J$7,FALSE)","v":32},{"$f":"VLOOKUP($B15,[1]FlowData!$A$3:$PL$215,K$7,FALSE)","v":11},{"$f":"VLOOKUP($B15,[1]FlowData!$A$3:$PL$215,L$7,FALSE)","v":7.2},{"$f":"VLOOKUP($B15,[1]FlowData!$A$3:$PL$215,M$7,FALSE)","v":4.9000000000000004},{"$f":"VLOOKUP($B15,[1]FlowData!$A$3:$PL$215,N$7,FALSE)","v":9.6999999999999993},{"$f":"VLOOKUP($B15,[1]FlowData!$A$3:$PL$215,O$7,FALSE)","v":13},{"$f":"VLOOKUP($B15,[1]FlowData!$A$3:$PL$215,P$7,FALSE)","v":8.1},{"$f":"VLOOKUP($B15,[1]FlowData!$A$3:$PL$215,Q$7,FALSE)","v":5.4},{"$f":"VLOOKUP($B15,[1]FlowData!$A$3:$PL$215,R$7,FALSE)","v":12},{"$f":"VLOOKUP($B15,[1]FlowData!$A$3:$PL$215,S$7,FALSE)","v":20},{"$f":"VLOOKUP($B15,[1]FlowData!$A$3:$PL$215,T$7,FALSE)","v":12},{"$f":"VLOOKUP($B15,[1]FlowData!$A$3:$PL$215,U$7,FALSE)","v":7.4},{"$f":"VLOOKUP($B15,[1]FlowData!$A$3:$PL$215,V$7,FALSE)","v":15},{"$f":"VLOOKUP($B15,[1]FlowData!$A$3:$PL$215,W$7,FALSE)","v":83},{"$f":"VLOOKUP($B15,[1]FlowData!$A$3:$PL$215,X$7,FALSE)","v":36},{"$f":"VLOOKUP($B15,[1]FlowData!$A$3:$PL$215,Y$7,FALSE)","v":22},{"$f":"VLOOKUP($B15,[1]FlowData!$A$3:$PL$215,Z$7,FALSE)","v":53},{"$f":"VLOOKUP($B15,[1]FlowData!$A$3:$PL$215,AA$7,FALSE)","v":178},{"$f":"VLOOKUP($B15,[1]FlowData!$A$3:$PL$215,AB$7,FALSE)","v":101},{"$f":"VLOOKUP($B15,[1]FlowData!$A$3:$PL$215,AC$7,FALSE)","v":64},{"$f":"VLOOKUP($B15,[1]FlowData!$A$3:$PL$215,AD$7,FALSE)","v":122},{"$f":"VLOOKUP($B15,[1]FlowData!$A$3:$PL$215,AE$7,FALSE)","v":133},{"$f":"VLOOKUP($B15,[1]FlowData!$A$3:$PL$215,AF$7,FALSE)","v":72},{"$f":"VLOOKUP($B15,[1]FlowData!$A$3:$PL$215,AG$7,FALSE)","v":38},{"$f":"VLOOKUP($B15,[1]FlowData!$A$3:$PL$215,AH$7,FALSE)","v":85},{"$f":"VLOOKUP($B15,[1]FlowData!$A$3:$PL$215,AI$7,FALSE)","v":43},{"$f":"VLOOKUP($B15,[1]FlowData!$A$3:$PL$215,AJ$7,FALSE)","v":26},{"$f":"VLOOKUP($B15,[1]FlowData!$A$3:$PL$215,AK$7,FALSE)","v":17},{"$f":"VLOOKUP($B15,[1]FlowData!$A$3:$PL$215,AL$7,FALSE)","v":30},{"$f":"VLOOKUP($B15,[1]FlowData!$A$3:$PL$215,AM$7,FALSE)","v":17},{"$f":"VLOOKUP($B15,[1]FlowData!$A$3:$PL$215,AN$7,FALSE)","v":13},{"$f":"VLOOKUP($B15,[1]FlowData!$A$3:$PL$215,AO$7,FALSE)","v":8.8000000000000007},{"$f":"VLOOKUP($B15,[1]FlowData!$A$3:$PL$215,AP$7,FALSE)","v":14},{"$f":"VLOOKUP($B15,[1]FlowData!$A$3:$PL$215,AQ$7,FALSE)","v":11},{"$f":"VLOOKUP($B15,[1]FlowData!$A$3:$PL$215,AR$7,FALSE)","v":8.8000000000000007},{"$f":"VLOOKUP($B15,[1]FlowData!$A$3:$PL$215,AS$7,FALSE)","v":7.1},{"$f":"VLOOKUP($B15,[1]FlowData!$A$3:$PL$215,AT$7,FALSE)","v":9.5},{"$f":"VLOOKUP($B15,[1]FlowData!$A$3:$PL$215,AU$7,FALSE)","v":12},{"$f":"VLOOKUP($B15,[1]FlowData!$A$3:$PL$215,AV$7,FALSE)","v":8.4},{"$f":"VLOOKUP($B15,[1]FlowData!$A$3:$PL$215,AW$7,FALSE)","v":6.8},{"$f":"VLOOKUP($B15,[1]FlowData!$A$3:$PL$215,AX$7,FALSE)","v":9.4},{"$f":"VLOOKUP($B15,[1]FlowData!$A$3:$PL$215,AY$7,FALSE)","v":16},{"$f":"VLOOKUP($B15,[1]FlowData!$A$3:$PL$215,AZ$7,FALSE)","v":10},{"$f":"VLOOKUP($B15,[1]FlowData!$A$3:$PL$215,BA$7,FALSE)","v":6.5},{"$f":"VLOOKUP($B15,[1]FlowData!$A$3:$PL$215,BB$7,FALSE)","v":16},{"$f":"VLOOKUP($B15,[1]FlowData!$A$3:$PL$215,BC$7,FALSE)","v":17},{"$f":"VLOOKUP($B15,[1]FlowData!$A$3:$PL$215,BD$7,FALSE)","v":8.6999999999999993},{"$f":"VLOOKUP($B15,[1]FlowData!$A$3:$PL$215,BE$7,FALSE)","v":5.4},{"$f":"VLOOKUP($B15,[1]FlowData!$A$3:$PL$215,BF$7,FALSE)","v":16}]
[{"$f":"VLOOKUP(B16,'[2]Gages and BCs'!$A$4:$BJ$973,62,FALSE)","v":621},12304500,{"$f":"VLOOKUP(B16,'[2]Gages and BCs'!$A$4:$BJ$973,60,FALSE)","v":"Yaak River near Troy, Montana"},"1956–2009",{"$f":"VLOOKUP($B16,[1]FlowData!$A$3:$PL$215,E$7,FALSE)","v":68.602999999999994},{"$f":"VLOOKUP($B16,[1]FlowData!$A$3:$PL$215,F$7,FALSE)","v":93.623999999999995},{"$f":"VLOOKUP($B16,[1]FlowData!$A$3:$PL$215,G$7,FALSE)","v":1260},{"$f":"VLOOKUP($B16,[1]FlowData!$A$3:$PL$215,H$7,FALSE)","v":376},{"$f":"VLOOKUP($B16,[1]FlowData!$A$3:$PL$215,I$7,FALSE)","v":177},{"$f":"VLOOKUP($B16,[1]FlowData!$A$3:$PL$215,J$7,FALSE)","v":836},{"$f":"VLOOKUP($B16,[1]FlowData!$A$3:$PL$215,K$7,FALSE)","v":386},{"$f":"VLOOKUP($B16,[1]FlowData!$A$3:$PL$215,L$7,FALSE)","v":242},{"$f":"VLOOKUP($B16,[1]FlowData!$A$3:$PL$215,M$7,FALSE)","v":127},{"$f":"VLOOKUP($B16,[1]FlowData!$A$3:$PL$215,N$7,FALSE)","v":291},{"$f":"VLOOKUP($B16,[1]FlowData!$A$3:$PL$215,O$7,FALSE)","v":469},{"$f":"VLOOKUP($B16,[1]FlowData!$A$3:$PL$215,P$7,FALSE)","v":254},{"$f":"VLOOKUP($B16,[1]FlowData!$A$3:$PL$215,Q$7,FALSE)","v":134},{"$f":"VLOOKUP($B16,[1]FlowData!$A$3:$PL$215,R$7,FALSE)","v":344},{"$f":"VLOOKUP($B16,[1]FlowData!$A$3:$PL$215,S$7,FALSE)","v":845},{"$f":"VLOOKUP($B16,[1]FlowData!$A$3:$PL$215,T$7,FALSE)","v":421},{"$f":"VLOOKUP($B16,[1]FlowData!$A$3:$PL$215,U$7,FALSE)","v":202},{"$f":"VLOOKUP($B16,[1]FlowData!$A$3:$PL$215,V$7,FALSE)","v":601},{"$f":"VLOOKUP($B16,[1]FlowData!$A$3:$PL$215,W$7,FALSE)","v":2750},{"$f":"VLOOKUP($B16,[1]FlowData!$A$3:$PL$215,X$7,FALSE)","v":1540},{"$f":"VLOOKUP($B16,[1]FlowData!$A$3:$PL$215,Y$7,FALSE)","v":821},{"$f":"VLOOKUP($B16,[1]FlowData!$A$3:$PL$215,Z$7,FALSE)","v":1900},{"$f":"VLOOKUP($B16,[1]FlowData!$A$3:$PL$215,AA$7,FALSE)","v":4780},{"$f":"VLOOKUP($B16,[1]FlowData!$A$3:$PL$215,AB$7,FALSE)","v":3070},{"$f":"VLOOKUP($B16,[1]FlowData!$A$3:$PL$215,AC$7,FALSE)","v":1950},{"$f":"VLOOKUP($B16,[1]FlowData!$A$3:$PL$215,AD$7,FALSE)","v":3450},{"$f":"VLOOKUP($B16,[1]FlowData!$A$3:$PL$215,AE$7,FALSE)","v":2830},{"$f":"VLOOKUP($B16,[1]FlowData!$A$3:$PL$215,AF$7,FALSE)","v":1580},{"$f":"VLOOKUP($B16,[1]FlowData!$A$3:$PL$215,AG$7,FALSE)","v":817},{"$f":"VLOOKUP($B16,[1]FlowData!$A$3:$PL$215,AH$7,FALSE)","v":1870},{"$f":"VLOOKUP($B16,[1]FlowData!$A$3:$PL$215,AI$7,FALSE)","v":683},{"$f":"VLOOKUP($B16,[1]FlowData!$A$3:$PL$215,AJ$7,FALSE)","v":394},{"$f":"VLOOKUP($B16,[1]FlowData!$A$3:$PL$215,AK$7,FALSE)","v":240},{"$f":"VLOOKUP($B16,[1]FlowData!$A$3:$PL$215,AL$7,FALSE)","v":479},{"$f":"VLOOKUP($B16,[1]FlowData!$A$3:$PL$215,AM$7,FALSE)","v":250},{"$f":"VLOOKUP($B16,[1]FlowData!$A$3:$PL$215,AN$7,FALSE)","v":178},{"$f":"VLOOKUP($B16,[1]FlowData!$A$3:$PL$215,AO$7,FALSE)","v":121},{"$f":"VLOOKUP($B16,[1]FlowData!$A$3:$PL$215,AP$7,FALSE)","v":190},{"$f":"VLOOKUP($B16,[1]FlowData!$A$3:$PL$215,AQ$7,FALSE)","v":195},{"$f":"VLOOKUP($B16,[1]FlowData!$A$3:$PL$215,AR$7,FALSE)","v":143},{"$f":"VLOOKUP($B16,[1]FlowData!$A$3:$PL$215,AS$7,FALSE)","v":103},{"$f":"VLOOKUP($B16,[1]FlowData!$A$3:$PL$215,AT$7,FALSE)","v":157},{"$f":"VLOOKUP($B16,[1]FlowData!$A$3:$PL$215,AU$7,FALSE)","v":225},{"$f":"VLOOKUP($B16,[1]FlowData!$A$3:$PL$215,AV$7,FALSE)","v":158},{"$f":"VLOOKUP($B16,[1]FlowData!$A$3:$PL$215,AW$7,FALSE)","v":114},{"$f":"VLOOKUP($B16,[1]FlowData!$A$3:$PL$215,AX$7,FALSE)","v":192},{"$f":"VLOOKUP($B16,[1]FlowData!$A$3:$PL$215,AY$7,FALSE)","v":414},{"$f":"VLOOKUP($B16,[1]FlowData!$A$3:$PL$215,AZ$7,FALSE)","v":216},{"$f":"VLOOKUP($B16,[1]FlowData!$A$3:$PL$215,BA$7,FALSE)","v":116},{"$f":"VLOOKUP($B16,[1]FlowData!$A$3:$PL$215,BB$7,FALSE)","v":312},{"$f":"VLOOKUP($B16,[1]FlowData!$A$3:$PL$215,BC$7,FALSE)","v":412},{"$f":"VLOOKUP($B16,[1]FlowData!$A$3:$PL$215,BD$7,FALSE)","v":228},{"$f":"VLOOKUP($B16,[1]FlowData!$A$3:$PL$215,BE$7,FALSE)","v":118},{"$f":"VLOOKUP($B16,[1]FlowData!$A$3:$PL$215,BF$7,FALSE)","v":311}]
[{"$f":"VLOOKUP(B17,'[2]Gages and BCs'!$A$4:$BJ$973,62,FALSE)","v":624},12323240,{"$f":"VLOOKUP(B17,'[2]Gages and BCs'!$A$4:$BJ$973,60,FALSE)","v":"Blacktail Creek at Butte, Montana"},"1989–2009",{"$f":"VLOOKUP($B17,[1]FlowData!$A$3:$PL$215,E$7,FALSE)","v":4.7539999999999996},{"$f":"VLOOKUP($B17,[1]FlowData!$A$3:$PL$215,F$7,FALSE)","v":5.5410000000000004},{"$f":"VLOOKUP($B17,[1]FlowData!$A$3:$PL$215,G$7,FALSE)","v":17},{"$f":"VLOOKUP($B17,[1]FlowData!$A$3:$PL$215,H$7,FALSE)","v":9.6999999999999993},{"$f":"VLOOKUP($B17,[1]FlowData!$A$3:$PL$215,I$7,FALSE)","v":6.1},{"$f":"VLOOKUP($B17,[1]FlowData!$A$3:$PL$215,J$7,FALSE)","v":13},{"$f":"VLOOKUP($B17,[1]FlowData!$A$3:$PL$215,K$7,FALSE)","v":9.9},{"$f":"VLOOKUP($B17,[1]FlowData!$A$3:$PL$215,L$7,FALSE)","v":8.1},{"$f":"VLOOKUP($B17,[1]FlowData!$A$3:$PL$215,M$7,FALSE)","v":7.2},{"$f":"VLOOKUP($B17,[1]FlowData!$A$3:$PL$215,N$7,FALSE)","v":8.6},{"$f":"VLOOKUP($B17,[1]FlowData!$A$3:$PL$215,O$7,FALSE)","v":12},{"$f":"VLOOKUP($B17,[1]FlowData!$A$3:$PL$215,P$7,FALSE)","v":9.3000000000000007},{"$f":"VLOOKUP($B17,[1]FlowData!$A$3:$PL$215,Q$7,FALSE)","v":6.9},{"$f":"VLOOKUP($B17,[1]FlowData!$A$3:$PL$215,R$7,FALSE)","v":10},{"$f":"VLOOKUP($B17,[1]FlowData!$A$3:$PL$215,S$7,FALSE)","v":17},{"$f":"VLOOKUP($B17,[1]FlowData!$A$3:$PL$215,T$7,FALSE)","v":12},{"$f":"VLOOKUP($B17,[1]FlowData!$A$3:$PL$215,U$7,FALSE)","v":8.4},{"$f":"VLOOKUP($B17,[1]FlowData!$A$3:$PL$215,V$7,FALSE)","v":14},{"$f":"VLOOKUP($B17,[1]FlowData!$A$3:$PL$215,W$7,FALSE)","v":23},{"$f":"VLOOKUP($B17,[1]FlowData!$A$3:$PL$215,X$7,FALSE)","v":15},{"$f":"VLOOKUP($B17,[1]FlowData!$A$3:$PL$215,Y$7,FALSE)","v":11},{"$f":"VLOOKUP($B17,[1]FlowData!$A$3:$PL$215,Z$7,FALSE)","v":18},{"$f":"VLOOKUP($B17,[1]FlowData!$A$3:$PL$215,AA$7,FALSE)","v":29},{"$f":"VLOOKUP($B17,[1]FlowData!$A$3:$PL$215,AB$7,FALSE)","v":18},{"$f":"VLOOKUP($B17,[1]FlowData!$A$3:$PL$215,AC$7,FALSE)","v":11},{"$f":"VLOOKUP($B17,[1]FlowData!$A$3:$PL$215,AD$7,FALSE)","v":21},{"$f":"VLOOKUP($B17,[1]FlowData!$A$3:$PL$215,AE$7,FALSE)","v":32},{"$f":"VLOOKUP($B17,[1]FlowData!$A$3:$PL$215,AF$7,FALSE)","v":16},{"$f":"VLOOKUP($B17,[1]FlowData!$A$3:$PL$215,AG$7,FALSE)","v":9.1999999999999993},{"$f":"VLOOKUP($B17,[1]FlowData!$A$3:$PL$215,AH$7,FALSE)","v":23},{"$f":"VLOOKUP($B17,[1]FlowData!$A$3:$PL$215,AI$7,FALSE)","v":14},{"$f":"VLOOKUP($B17,[1]FlowData!$A$3:$PL$215,AJ$7,FALSE)","v":8.9},{"$f":"VLOOKUP($B17,[1]FlowData!$A$3:$PL$215,AK$7,FALSE)","v":6.8},{"$f":"VLOOKUP($B17,[1]FlowData!$A$3:$PL$215,AL$7,FALSE)","v":12},{"$f":"VLOOKUP($B17,[1]FlowData!$A$3:$PL$215,AM$7,FALSE)","v":12},{"$f":"VLOOKUP($B17,[1]FlowData!$A$3:$PL$215,AN$7,FALSE)","v":8.4},{"$f":"VLOOKUP($B17,[1]FlowData!$A$3:$PL$215,AO$7,FALSE)","v":6.2},{"$f":"VLOOKUP($B17,[1]FlowData!$A$3:$PL$215,AP$7,FALSE)","v":9.4},{"$f":"VLOOKUP($B17,[1]FlowData!$A$3:$PL$215,AQ$7,FALSE)","v":11},{"$f":"VLOOKUP($B17,[1]FlowData!$A$3:$PL$215,AR$7,FALSE)","v":8.3000000000000007},{"$f":"VLOOKUP($B17,[1]FlowData!$A$3:$PL$215,AS$7,FALSE)","v":6.4},{"$f":"VLOOKUP($B17,[1]FlowData!$A$3:$PL$215,AT$7,FALSE)","v":8.9},{"$f":"VLOOKUP($B17,[1]FlowData!$A$3:$PL$215,AU$7,FALSE)","v":12},{"$f":"VLOOKUP($B17,[1]FlowData!$A$3:$PL$215,AV$7,FALSE)","v":9.9},{"$f":"VLOOKUP($B17,[1]FlowData!$A$3:$PL$215,AW$7,FALSE)","v":7.5},{"$f":"VLOOKUP($B17,[1]FlowData!$A$3:$PL$215,AX$7,FALSE)","v":10},{"$f":"VLOOKUP($B17,[1]FlowData!$A$3:$PL$215,AY$7,FALSE)","v":12},{"$f":"VLOOKUP($B17,[1]FlowData!$A$3:$PL$215,AZ$7,FALSE)","v":9.6},{"$f":"VLOOKUP($B17,[1]FlowData!$A$3:$PL$215,BA$7,FALSE)","v":7.7},{"$f":"VLOOKUP($B17,[1]FlowData!$A$3:$PL$215,BB$7,FALSE)","v":10},{"$f":"VLOOKUP($B17,[1]FlowData!$A$3:$PL$215,BC$7,FALSE)","v":11},{"$f":"VLOOKUP($B17,[1]FlowData!$A$3:$PL$215,BD$7,FALSE)","v":8.4},{"$f":"VLOOKUP($B17,[1]FlowData!$A$3:$PL$215,BE$7,FALSE)","v":7.2},{"$f":"VLOOKUP($B17,[1]FlowData!$A$3:$PL$215,BF$7,FALSE)","v":8.9}]
[{"$f":"VLOOKUP(B18,'[2]Gages and BCs'!$A$4:$BJ$973,62,FALSE)","v":627},12323500,{"$f":"VLOOKUP(B18,'[2]Gages and BCs'!$A$4:$BJ$973,60,FALSE)","v":"German Gulch Creek near Ramsay, Montana"},"1956–69",{"$f":"VLOOKUP($B18,[1]FlowData!$A$3:$PL$215,E$7,FALSE)","v":3.6739999999999999},{"$f":"VLOOKUP($B18,[1]FlowData!$A$3:$PL$215,F$7,FALSE)","v":6.8330000000000002},{"$f":"VLOOKUP($B18,[1]FlowData!$A$3:$PL$215,G$7,FALSE)","v":24},{"$f":"VLOOKUP($B18,[1]FlowData!$A$3:$PL$215,H$7,FALSE)","v":11},{"$f":"VLOOKUP($B18,[1]FlowData!$A$3:$PL$215,I$7,FALSE)","v":5.7},{"$f":"VLOOKUP($B18,[1]FlowData!$A$3:$PL$215,J$7,FALSE)","v":21},{"$f":"VLOOKUP($B18,[1]FlowData!$A$3:$PL$215,K$7,FALSE)","v":7.9},{"$f":"VLOOKUP($B18,[1]FlowData!$A$3:$PL$215,L$7,FALSE)","v":6.4},{"$f":"VLOOKUP($B18,[1]FlowData!$A$3:$PL$215,M$7,FALSE)","v":5.4},{"$f":"VLOOKUP($B18,[1]FlowData!$A$3:$PL$215,N$7,FALSE)","v":6.6},{"$f":"VLOOKUP($B18,[1]FlowData!$A$3:$PL$215,O$7,FALSE)","v":8.1},{"$f":"VLOOKUP($B18,[1]FlowData!$A$3:$PL$215,P$7,FALSE)","v":6.4},{"$f":"VLOOKUP($B18,[1]FlowData!$A$3:$PL$215,Q$7,FALSE)","v":5.2},{"$f":"VLOOKUP($B18,[1]FlowData!$A$3:$PL$215,R$7,FALSE)","v":6.8},{"$f":"VLOOKUP($B18,[1]FlowData!$A$3:$PL$215,S$7,FALSE)","v":9.8000000000000007},{"$f":"VLOOKUP($B18,[1]FlowData!$A$3:$PL$215,T$7,FALSE)","v":7.1},{"$f":"VLOOKUP($B18,[1]FlowData!$A$3:$PL$215,U$7,FALSE)","v":5.0999999999999996},{"$f":"VLOOKUP($B18,[1]FlowData!$A$3:$PL$215,V$7,FALSE)","v":8.5},{"$f":"VLOOKUP($B18,[1]FlowData!$A$3:$PL$215,W$7,FALSE)","v":25},{"$f":"VLOOKUP($B18,[1]FlowData!$A$3:$PL$215,X$7,FALSE)","v":14},{"$f":"VLOOKUP($B18,[1]FlowData!$A$3:$PL$215,Y$7,FALSE)","v":9.6999999999999993},{"$f":"VLOOKUP($B18,[1]FlowData!$A$3:$PL$215,Z$7,FALSE)","v":18},{"$f":"VLOOKUP($B18,[1]FlowData!$A$3:$PL$215,AA$7,FALSE)","v":95},{"$f":"VLOOKUP($B18,[1]FlowData!$A$3:$PL$215,AB$7,FALSE)","v":56},{"$f":"VLOOKUP($B18,[1]FlowData!$A$3:$PL$215,AC$7,FALSE)","v":34},{"$f":"VLOOKUP($B18,[1]FlowData!$A$3:$PL$215,AD$7,FALSE)","v":65},{"$f":"VLOOKUP($B18,[1]FlowData!$A$3:$PL$215,AE$7,FALSE)","v":112},{"$f":"VLOOKUP($B18,[1]FlowData!$A$3:$PL$215,AF$7,FALSE)","v":66},{"$f":"VLOOKUP($B18,[1]FlowData!$A$3:$PL$215,AG$7,FALSE)","v":39},{"$f":"VLOOKUP($B18,[1]FlowData!$A$3:$PL$215,AH$7,FALSE)","v":76},{"$f":"VLOOKUP($B18,[1]FlowData!$A$3:$PL$215,AI$7,FALSE)","v":32},{"$f":"VLOOKUP($B18,[1]FlowData!$A$3:$PL$215,AJ$7,FALSE)","v":19},{"$f":"VLOOKUP($B18,[1]FlowData!$A$3:$PL$215,AK$7,FALSE)","v":13},{"$f":"VLOOKUP($B18,[1]FlowData!$A$3:$PL$215,AL$7,FALSE)","v":23},{"$f":"VLOOKUP($B18,[1]FlowData!$A$3:$PL$215,AM$7,FALSE)","v":14},{"$f":"VLOOKUP($B18,[1]FlowData!$A$3:$PL$215,AN$7,FALSE)","v":11},{"$f":"VLOOKUP($B18,[1]FlowData!$A$3:$PL$215,AO$7,FALSE)","v":7.9},{"$f":"VLOOKUP($B18,[1]FlowData!$A$3:$PL$215,AP$7,FALSE)","v":11},{"$f":"VLOOKUP($B18,[1]FlowData!$A$3:$PL$215,AQ$7,FALSE)","v":11},{"$f":"VLOOKUP($B18,[1]FlowData!$A$3:$PL$215,AR$7,FALSE)","v":9.3000000000000007},{"$f":"VLOOKUP($B18,[1]FlowData!$A$3:$PL$215,AS$7,FALSE)","v":7.6},{"$f":"VLOOKUP($B18,[1]FlowData!$A$3:$PL$215,AT$7,FALSE)","v":9.6},{"$f":"VLOOKUP($B18,[1]FlowData!$A$3:$PL$215,AU$7,FALSE)","v":12},{"$f":"VLOOKUP($B18,[1]FlowData!$A$3:$PL$215,AV$7,FALSE)","v":8.6999999999999993},{"$f":"VLOOKUP($B18,[1]FlowData!$A$3:$PL$215,AW$7,FALSE)","v":7.4},{"$f":"VLOOKUP($B18,[1]FlowData!$A$3:$PL$215,AX$7,FALSE)","v":9.4},{"$f":"VLOOKUP($B18,[1]FlowData!$A$3:$PL$215,AY$7,FALSE)","v":9.9},{"$f":"VLOOKUP($B18,[1]FlowData!$A$3:$PL$215,AZ$7,FALSE)","v":8},{"$f":"VLOOKUP($B18,[1]FlowData!$A$3:$PL$215,BA$7,FALSE)","v":6.7},{"$f":"VLOOKUP($B18,[1]FlowData!$A$3:$PL$215,BB$7,FALSE)","v":8.1},{"$f":"VLOOKUP($B18,[1]FlowData!$A$3:$PL$215,BC$7,FALSE)","v":9.6},{"$f":"VLOOKUP($B18,[1]FlowData!$A$3:$PL$215,BD$7,FALSE)","v":7},{"$f":"VLOOKUP($B18,[1]FlowData!$A$3:$PL$215,BE$7,FALSE)","v":5.8},{"$f":"VLOOKUP($B18,[1]FlowData!$A$3:$PL$215,BF$7,FALSE)","v":7.5}]
[{"$f":"VLOOKUP(B19,'[2]Gages and BCs'!$A$4:$BJ$973,62,FALSE)","v":628},12323600,{"$f":"VLOOKUP(B19,'[2]Gages and BCs'!$A$4:$BJ$973,60,FALSE)","v":"Silver Bow Creek at Opportunity, Montana"},"1988–2009",{"$f":"VLOOKUP($B19,[1]FlowData!$A$3:$PL$215,E$7,FALSE)","v":12.337},{"$f":"VLOOKUP($B19,[1]FlowData!$A$3:$PL$215,F$7,FALSE)","v":13.983000000000001},{"$f":"VLOOKUP($B19,[1]FlowData!$A$3:$PL$215,G$7,FALSE)","v":66},{"$f":"VLOOKUP($B19,[1]FlowData!$A$3:$PL$215,H$7,FALSE)","v":41},{"$f":"VLOOKUP($B19,[1]FlowData!$A$3:$PL$215,I$7,FALSE)","v":22},{"$f":"VLOOKUP($B19,[1]FlowData!$A$3:$PL$215,J$7,FALSE)","v":51},{"$f":"VLOOKUP($B19,[1]FlowData!$A$3:$PL$215,K$7,FALSE)","v":42},{"$f":"VLOOKUP($B19,[1]FlowData!$A$3:$PL$215,L$7,FALSE)","v":30},{"$f":"VLOOKUP($B19,[1]FlowData!$A$3:$PL$215,M$7,FALSE)","v":24},{"$f":"VLOOKUP($B19,[1]FlowData!$A$3:$PL$215,N$7,FALSE)","v":34},{"$f":"VLOOKUP($B19,[1]FlowData!$A$3:$PL$215,O$7,FALSE)","v":57},{"$f":"VLOOKUP($B19,[1]FlowData!$A$3:$PL$215,P$7,FALSE)","v":43},{"$f":"VLOOKUP($B19,[1]FlowData!$A$3:$PL$215,Q$7,FALSE)","v":28},{"$f":"VLOOKUP($B19,[1]FlowData!$A$3:$PL$215,R$7,FALSE)","v":45},{"$f":"VLOOKUP($B19,[1]FlowData!$A$3:$PL$215,S$7,FALSE)","v":63},{"$f":"VLOOKUP($B19,[1]FlowData!$A$3:$PL$215,T$7,FALSE)","v":43},{"$f":"VLOOKUP($B19,[1]FlowData!$A$3:$PL$215,U$7,FALSE)","v":32},{"$f":"VLOOKUP($B19,[1]FlowData!$A$3:$PL$215,V$7,FALSE)","v":52},{"$f":"VLOOKUP($B19,[1]FlowData!$A$3:$PL$215,W$7,FALSE)","v":83},{"$f":"VLOOKUP($B19,[1]FlowData!$A$3:$PL$215,X$7,FALSE)","v":56},{"$f":"VLOOKUP($B19,[1]FlowData!$A$3:$PL$215,Y$7,FALSE)","v":42},{"$f":"VLOOKUP($B19,[1]FlowData!$A$3:$PL$215,Z$7,FALSE)","v":65},{"$f":"VLOOKUP($B19,[1]FlowData!$A$3:$PL$215,AA$7,FALSE)","v":127},{"$f":"VLOOKUP($B19,[1]FlowData!$A$3:$PL$215,AB$7,FALSE)","v":85},{"$f":"VLOOKUP($B19,[1]FlowData!$A$3:$PL$215,AC$7,FALSE)","v":48},{"$f":"VLOOKUP($B19,[1]FlowData!$A$3:$PL$215,AD$7,FALSE)","v":98},{"$f":"VLOOKUP($B19,[1]FlowData!$A$3:$PL$215,AE$7,FALSE)","v":143},{"$f":"VLOOKUP($B19,[1]FlowData!$A$3:$PL$215,AF$7,FALSE)","v":79},{"$f":"VLOOKUP($B19,[1]FlowData!$A$3:$PL$215,AG$7,FALSE)","v":40},{"$f":"VLOOKUP($B19,[1]FlowData!$A$3:$PL$215,AH$7,FALSE)","v":100},{"$f":"VLOOKUP($B19,[1]FlowData!$A$3:$PL$215,AI$7,FALSE)","v":65},{"$f":"VLOOKUP($B19,[1]FlowData!$A$3:$PL$215,AJ$7,FALSE)","v":33},{"$f":"VLOOKUP($B19,[1]FlowData!$A$3:$PL$215,AK$7,FALSE)","v":21},{"$f":"VLOOKUP($B19,[1]FlowData!$A$3:$PL$215,AL$7,FALSE)","v":43},{"$f":"VLOOKUP($B19,[1]FlowData!$A$3:$PL$215,AM$7,FALSE)","v":39},{"$f":"VLOOKUP($B19,[1]FlowData!$A$3:$PL$215,AN$7,FALSE)","v":22},{"$f":"VLOOKUP($B19,[1]FlowData!$A$3:$PL$215,AO$7,FALSE)","v":15},{"$f":"VLOOKUP($B19,[1]FlowData!$A$3:$PL$215,AP$7,FALSE)","v":28},{"$f":"VLOOKUP($B19,[1]FlowData!$A$3:$PL$215,AQ$7,FALSE)","v":39},{"$f":"VLOOKUP($B19,[1]FlowData!$A$3:$PL$215,AR$7,FALSE)","v":27},{"$f":"VLOOKUP($B19,[1]FlowData!$A$3:$PL$215,AS$7,FALSE)","v":21},{"$f":"VLOOKUP($B19,[1]FlowData!$A$3:$PL$215,AT$7,FALSE)","v":30},{"$f":"VLOOKUP($B19,[1]FlowData!$A$3:$PL$215,AU$7,FALSE)","v":44},{"$f":"VLOOKUP($B19,[1]FlowData!$A$3:$PL$215,AV$7,FALSE)","v":34},{"$f":"VLOOKUP($B19,[1]FlowData!$A$3:$PL$215,AW$7,FALSE)","v":26},{"$f":"VLOOKUP($B19,[1]FlowData!$A$3:$PL$215,AX$7,FALSE)","v":35},{"$f":"VLOOKUP($B19,[1]FlowData!$A$3:$PL$215,AY$7,FALSE)","v":46},{"$f":"VLOOKUP($B19,[1]FlowData!$A$3:$PL$215,AZ$7,FALSE)","v":34},{"$f":"VLOOKUP($B19,[1]FlowData!$A$3:$PL$215,BA$7,FALSE)","v":26},{"$f":"VLOOKUP($B19,[1]FlowData!$A$3:$PL$215,BB$7,FALSE)","v":35},{"$f":"VLOOKUP($B19,[1]FlowData!$A$3:$PL$215,BC$7,FALSE)","v":41},{"$f":"VLOOKUP($B19,[1]FlowData!$A$3:$PL$215,BD$7,FALSE)","v":28},{"$f":"VLOOKUP($B19,[1]FlowData!$A$3:$PL$215,BE$7,FALSE)","v":23},{"$f":"VLOOKUP($B19,[1]FlowData!$A$3:$PL$215,BF$7,FALSE)","v":32}]
[{"$f":"VLOOKUP(B20,'[2]Gages and BCs'!$A$4:$BJ$973,62,FALSE)","v":633},12324100,{"$f":"VLOOKUP(B20,'[2]Gages and BCs'!$A$4:$BJ$973,60,FALSE)","v":"Racetrack Creek below Granite Creek, near Anaconda, Montana"},"1958–72",{"$f":"VLOOKUP($B20,[1]FlowData!$A$3:$PL$215,E$7,FALSE)","v":14.489000000000001},{"$f":"VLOOKUP($B20,[1]FlowData!$A$3:$PL$215,F$7,FALSE)","v":23.992000000000001},{"$f":"VLOOKUP($B20,[1]FlowData!$A$3:$PL$215,G$7,FALSE)","v":88},{"$f":"VLOOKUP($B20,[1]FlowData!$A$3:$PL$215,H$7,FALSE)","v":33},{"$f":"VLOOKUP($B20,[1]FlowData!$A$3:$PL$215,I$7,FALSE)","v":16},{"$f":"VLOOKUP($B20,[1]FlowData!$A$3:$PL$215,J$7,FALSE)","v":61},{"$f":"VLOOKUP($B20,[1]FlowData!$A$3:$PL$215,K$7,FALSE)","v":23},{"$f":"VLOOKUP($B20,[1]FlowData!$A$3:$PL$215,L$7,FALSE)","v":20},{"$f":"VLOOKUP($B20,[1]FlowData!$A$3:$PL$215,M$7,FALSE)","v":17},{"$f":"VLOOKUP($B20,[1]FlowData!$A$3:$PL$215,N$7,FALSE)","v":20},{"$f":"VLOOKUP($B20,[1]FlowData!$A$3:$PL$215,O$7,FALSE)","v":23},{"$f":"VLOOKUP($B20,[1]FlowData!$A$3:$PL$215,P$7,FALSE)","v":20},{"$f":"VLOOKUP($B20,[1]FlowData!$A$3:$PL$215,Q$7,FALSE)","v":18},{"$f":"VLOOKUP($B20,[1]FlowData!$A$3:$PL$215,R$7,FALSE)","v":20},{"$f":"VLOOKUP($B20,[1]FlowData!$A$3:$PL$215,S$7,FALSE)","v":22},{"$f":"VLOOKUP($B20,[1]FlowData!$A$3:$PL$215,T$7,FALSE)","v":19},{"$f":"VLOOKUP($B20,[1]FlowData!$A$3:$PL$215,U$7,FALSE)","v":17},{"$f":"VLOOKUP($B20,[1]FlowData!$A$3:$PL$215,V$7,FALSE)","v":20},{"$f":"VLOOKUP($B20,[1]FlowData!$A$3:$PL$215,W$7,FALSE)","v":32},{"$f":"VLOOKUP($B20,[1]FlowData!$A$3:$PL$215,X$7,FALSE)","v":23},{"$f":"VLOOKUP($B20,[1]FlowData!$A$3:$PL$215,Y$7,FALSE)","v":20},{"$f":"VLOOKUP($B20,[1]FlowData!$A$3:$PL$215,Z$7,FALSE)","v":27},{"$f":"VLOOKUP($B20,[1]FlowData!$A$3:$PL$215,AA$7,FALSE)","v":162},{"$f":"VLOOKUP($B20,[1]FlowData!$A$3:$PL$215,AB$7,FALSE)","v":87},{"$f":"VLOOKUP($B20,[1]FlowData!$A$3:$PL$215,AC$7,FALSE)","v":42},{"$f":"VLOOKUP($B20,[1]FlowData!$A$3:$PL$215,AD$7,FALSE)","v":103},{"$f":"VLOOKUP($B20,[1]FlowData!$A$3:$PL$215,AE$7,FALSE)","v":289},{"$f":"VLOOKUP($B20,[1]FlowData!$A$3:$PL$215,AF$7,FALSE)","v":226},{"$f":"VLOOKUP($B20,[1]FlowData!$A$3:$PL$215,AG$7,FALSE)","v":155},{"$f":"VLOOKUP($B20,[1]FlowData!$A$3:$PL$215,AH$7,FALSE)","v":230},{"$f":"VLOOKUP($B20,[1]FlowData!$A$3:$PL$215,AI$7,FALSE)","v":130},{"$f":"VLOOKUP($B20,[1]FlowData!$A$3:$PL$215,AJ$7,FALSE)","v":98},{"$f":"VLOOKUP($B20,[1]FlowData!$A$3:$PL$215,AK$7,FALSE)","v":79},{"$f":"VLOOKUP($B20,[1]FlowData!$A$3:$PL$215,AL$7,FALSE)","v":108},{"$f":"VLOOKUP($B20,[1]FlowData!$A$3:$PL$215,AM$7,FALSE)","v":88},{"$f":"VLOOKUP($B20,[1]FlowData!$A$3:$PL$215,AN$7,FALSE)","v":70},{"$f":"VLOOKUP($B20,[1]FlowData!$A$3:$PL$215,AO$7,FALSE)","v":53},{"$f":"VLOOKUP($B20,[1]FlowData!$A$3:$PL$215,AP$7,FALSE)","v":71},{"$f":"VLOOKUP($B20,[1]FlowData!$A$3:$PL$215,AQ$7,FALSE)","v":55},{"$f":"VLOOKUP($B20,[1]FlowData!$A$3:$PL$215,AR$7,FALSE)","v":43},{"$f":"VLOOKUP($B20,[1]FlowData!$A$3:$PL$215,AS$7,FALSE)","v":33},{"$f":"VLOOKUP($B20,[1]FlowData!$A$3:$PL$215,AT$7,FALSE)","v":44},{"$f":"VLOOKUP($B20,[1]FlowData!$A$3:$PL$215,AU$7,FALSE)","v":41},{"$f":"VLOOKUP($B20,[1]FlowData!$A$3:$PL$215,AV$7,FALSE)","v":29},{"$f":"VLOOKUP($B20,[1]FlowData!$A$3:$PL$215,AW$7,FALSE)","v":26},{"$f":"VLOOKUP($B20,[1]FlowData!$A$3:$PL$215,AX$7,FALSE)","v":33},{"$f":"VLOOKUP($B20,[1]FlowData!$A$3:$PL$215,AY$7,FALSE)","v":30},{"$f":"VLOOKUP($B20,[1]FlowData!$A$3:$PL$215,AZ$7,FALSE)","v":24},{"$f":"VLOOKUP($B20,[1]FlowData!$A$3:$PL$215,BA$7,FALSE)","v":21},{"$f":"VLOOKUP($B20,[1]FlowData!$A$3:$PL$215,BB$7,FALSE)","v":25},{"$f":"VLOOKUP($B20,[1]FlowData!$A$3:$PL$215,BC$7,FALSE)","v":25},{"$f":"VLOOKUP($B20,[1]FlowData!$A$3:$PL$215,BD$7,FALSE)","v":21},{"$f":"VLOOKUP($B20,[1]FlowData!$A$3:$PL$215,BE$7,FALSE)","v":17},{"$f":"VLOOKUP($B20,[1]FlowData!$A$3:$PL$215,BF$7,FALSE)","v":22}]
[{"$f":"VLOOKUP(B21,'[2]Gages and BCs'!$A$4:$BJ$973,62,FALSE)","v":634},12324200,{"$f":"VLOOKUP(B21,'[2]Gages and BCs'!$A$4:$BJ$973,60,FALSE)","v":"Clark Fork at Deer Lodge, Montana"},"1979–2009",{"$f":"VLOOKUP($B21,[1]FlowData!$A$3:$PL$215,E$7,FALSE)","v":25.716000000000001},{"$f":"VLOOKUP($B21,[1]FlowData!$A$3:$PL$215,F$7,FALSE)","v":34.195999999999998},{"$f":"VLOOKUP($B21,[1]FlowData!$A$3:$PL$215,G$7,FALSE)","v":330},{"$f":"VLOOKUP($B21,[1]FlowData!$A$3:$PL$215,H$7,FALSE)","v":218},{"$f":"VLOOKUP($B21,[1]FlowData!$A$3:$PL$215,I$7,FALSE)","v":128},{"$f":"VLOOKUP($B21,[1]FlowData!$A$3:$PL$215,J$7,FALSE)","v":251},{"$f":"VLOOKUP($B21,[1]FlowData!$A$3:$PL$215,K$7,FALSE)","v":267},{"$f":"VLOOKUP($B21,[1]FlowData!$A$3:$PL$215,L$7,FALSE)","v":206},{"$f":"VLOOKUP($B21,[1]FlowData!$A$3:$PL$215,M$7,FALSE)","v":157},{"$f":"VLOOKUP($B21,[1]FlowData!$A$3:$PL$215,N$7,FALSE)","v":217},{"$f":"VLOOKUP($B21,[1]FlowData!$A$3:$PL$215,O$7,FALSE)","v":278},{"$f":"VLOOKUP($B21,[1]FlowData!$A$3:$PL$215,P$7,FALSE)","v":214},{"$f":"VLOOKUP($B21,[1]FlowData!$A$3:$PL$215,Q$7,FALSE)","v":167},{"$f":"VLOOKUP($B21,[1]FlowData!$A$3:$PL$215,R$7,FALSE)","v":235},{"$f":"VLOOKUP($B21,[1]FlowData!$A$3:$PL$215,S$7,FALSE)","v":310},{"$f":"VLOOKUP($B21,[1]FlowData!$A$3:$PL$215,T$7,FALSE)","v":234},{"$f":"VLOOKUP($B21,[1]FlowData!$A$3:$PL$215,U$7,FALSE)","v":192},{"$f":"VLOOKUP($B21,[1]FlowData!$A$3:$PL$215,V$7,FALSE)","v":255},{"$f":"VLOOKUP($B21,[1]FlowData!$A$3:$PL$215,W$7,FALSE)","v":336},{"$f":"VLOOKUP($B21,[1]FlowData!$A$3:$PL$215,X$7,FALSE)","v":256},{"$f":"VLOOKUP($B21,[1]FlowData!$A$3:$PL$215,Y$7,FALSE)","v":194},{"$f":"VLOOKUP($B21,[1]FlowData!$A$3:$PL$215,Z$7,FALSE)","v":272},{"$f":"VLOOKUP($B21,[1]FlowData!$A$3:$PL$215,AA$7,FALSE)","v":516},{"$f":"VLOOKUP($B21,[1]FlowData!$A$3:$PL$215,AB$7,FALSE)","v":329},{"$f":"VLOOKUP($B21,[1]FlowData!$A$3:$PL$215,AC$7,FALSE)","v":191},{"$f":"VLOOKUP($B21,[1]FlowData!$A$3:$PL$215,AD$7,FALSE)","v":383},{"$f":"VLOOKUP($B21,[1]FlowData!$A$3:$PL$215,AE$7,FALSE)","v":781},{"$f":"VLOOKUP($B21,[1]FlowData!$A$3:$PL$215,AF$7,FALSE)","v":379},{"$f":"VLOOKUP($B21,[1]FlowData!$A$3:$PL$215,AG$7,FALSE)","v":176},{"$f":"VLOOKUP($B21,[1]FlowData!$A$3:$PL$215,AH$7,FALSE)","v":493},{"$f":"VLOOKUP($B21,[1]FlowData!$A$3:$PL$215,AI$7,FALSE)","v":354},{"$f":"VLOOKUP($B21,[1]FlowData!$A$3:$PL$215,AJ$7,FALSE)","v":135},{"$f":"VLOOKUP($B21,[1]FlowData!$A$3:$PL$215,AK$7,FALSE)","v":59},{"$f":"VLOOKUP($B21,[1]FlowData!$A$3:$PL$215,AL$7,FALSE)","v":209},{"$f":"VLOOKUP($B21,[1]FlowData!$A$3:$PL$215,AM$7,FALSE)","v":145},{"$f":"VLOOKUP($B21,[1]FlowData!$A$3:$PL$215,AN$7,FALSE)","v":82},{"$f":"VLOOKUP($B21,[1]FlowData!$A$3:$PL$215,AO$7,FALSE)","v":41},{"$f":"VLOOKUP($B21,[1]FlowData!$A$3:$PL$215,AP$7,FALSE)","v":102},{"$f":"VLOOKUP($B21,[1]FlowData!$A$3:$PL$215,AQ$7,FALSE)","v":234},{"$f":"VLOOKUP($B21,[1]FlowData!$A$3:$PL$215,AR$7,FALSE)","v":143},{"$f":"VLOOKUP($B21,[1]FlowData!$A$3:$PL$215,AS$7,FALSE)","v":96},{"$f":"VLOOKUP($B21,[1]FlowData!$A$3:$PL$215,AT$7,FALSE)","v":165},{"$f":"VLOOKUP($B21,[1]FlowData!$A$3:$PL$215,AU$7,FALSE)","v":299},{"$f":"VLOOKUP($B21,[1]FlowData!$A$3:$PL$215,AV$7,FALSE)","v":214},{"$f":"VLOOKUP($B21,[1]FlowData!$A$3:$PL$215,AW$7,FALSE)","v":156},{"$f":"VLOOKUP($B21,[1]FlowData!$A$3:$PL$215,AX$7,FALSE)","v":230},{"$f":"VLOOKUP($B21,[1]FlowData!$A$3:$PL$215,AY$7,FALSE)","v":310},{"$f":"VLOOKUP($B21,[1]FlowData!$A$3:$PL$215,AZ$7,FALSE)","v":229},{"$f":"VLOOKUP($B21,[1]FlowData!$A$3:$PL$215,BA$7,FALSE)","v":179},{"$f":"VLOOKUP($B21,[1]FlowData!$A$3:$PL$215,BB$7,FALSE)","v":243},{"$f":"VLOOKUP($B21,[1]FlowData!$A$3:$PL$215,BC$7,FALSE)","v":271},{"$f":"VLOOKUP($B21,[1]FlowData!$A$3:$PL$215,BD$7,FALSE)","v":207},{"$f":"VLOOKUP($B21,[1]FlowData!$A$3:$PL$215,BE$7,FALSE)","v":161},{"$f":"VLOOKUP($B21,[1]FlowData!$A$3:$PL$215,BF$7,FALSE)","v":217}]
[{"$f":"VLOOKUP(B22,'[2]Gages and BCs'!$A$4:$BJ$973,62,FALSE)","v":636},12324590,{"$f":"VLOOKUP(B22,'[2]Gages and BCs'!$A$4:$BJ$973,60,FALSE)","v":"Little Blackfoot River near Garrison, Montana"},"1973–2009",{"$f":"VLOOKUP($B22,[1]FlowData!$A$3:$PL$215,E$7,FALSE)","v":12.986000000000001},{"$f":"VLOOKUP($B22,[1]FlowData!$A$3:$PL$215,F$7,FALSE)","v":18.925000000000001},{"$f":"VLOOKUP($B22,[1]FlowData!$A$3:$PL$215,G$7,FALSE)","v":225},{"$f":"VLOOKUP($B22,[1]FlowData!$A$3:$PL$215,H$7,FALSE)","v":143},{"$f":"VLOOKUP($B22,[1]FlowData!$A$3:$PL$215,I$7,FALSE)","v":61},{"$f":"VLOOKUP($B22,[1]FlowData!$A$3:$PL$215,J$7,FALSE)","v":152},{"$f":"VLOOKUP($B22,[1]FlowData!$A$3:$PL$215,K$7,FALSE)","v":76},{"$f":"VLOOKUP($B22,[1]FlowData!$A$3:$PL$215,L$7,FALSE)","v":58},{"$f":"VLOOKUP($B22,[1]FlowData!$A$3:$PL$215,M$7,FALSE)","v":36},{"$f":"VLOOKUP($B22,[1]FlowData!$A$3:$PL$215,N$7,FALSE)","v":62},{"$f":"VLOOKUP($B22,[1]FlowData!$A$3:$PL$215,O$7,FALSE)","v":93},{"$f":"VLOOKUP($B22,[1]FlowData!$A$3:$PL$215,P$7,FALSE)","v":65},{"$f":"VLOOKUP($B22,[1]FlowData!$A$3:$PL$215,Q$7,FALSE)","v":37},{"$f":"VLOOKUP($B22,[1]FlowData!$A$3:$PL$215,R$7,FALSE)","v":81},{"$f":"VLOOKUP($B22,[1]FlowData!$A$3:$PL$215,S$7,FALSE)","v":145},{"$f":"VLOOKUP($B22,[1]FlowData!$A$3:$PL$215,T$7,FALSE)","v":89},{"$f":"VLOOKUP($B22,[1]FlowData!$A$3:$PL$215,U$7,FALSE)","v":63},{"$f":"VLOOKUP($B22,[1]FlowData!$A$3:$PL$215,V$7,FALSE)","v":118},{"$f":"VLOOKUP($B22,[1]FlowData!$A$3:$PL$215,W$7,FALSE)","v":336},{"$f":"VLOOKUP($B22,[1]FlowData!$A$3:$PL$215,X$7,FALSE)","v":171},{"$f":"VLOOKUP($B22,[1]FlowData!$A$3:$PL$215,Y$7,FALSE)","v":110},{"$f":"VLOOKUP($B22,[1]FlowData!$A$3:$PL$215,Z$7,FALSE)","v":228},{"$f":"VLOOKUP($B22,[1]FlowData!$A$3:$PL$215,AA$7,FALSE)","v":711},{"$f":"VLOOKUP($B22,[1]FlowData!$A$3:$PL$215,AB$7,FALSE)","v":401},{"$f":"VLOOKUP($B22,[1]FlowData!$A$3:$PL$215,AC$7,FALSE)","v":194},{"$f":"VLOOKUP($B22,[1]FlowData!$A$3:$PL$215,AD$7,FALSE)","v":481},{"$f":"VLOOKUP($B22,[1]FlowData!$A$3:$PL$215,AE$7,FALSE)","v":597},{"$f":"VLOOKUP($B22,[1]FlowData!$A$3:$PL$215,AF$7,FALSE)","v":298},{"$f":"VLOOKUP($B22,[1]FlowData!$A$3:$PL$215,AG$7,FALSE)","v":131},{"$f":"VLOOKUP($B22,[1]FlowData!$A$3:$PL$215,AH$7,FALSE)","v":390},{"$f":"VLOOKUP($B22,[1]FlowData!$A$3:$PL$215,AI$7,FALSE)","v":187},{"$f":"VLOOKUP($B22,[1]FlowData!$A$3:$PL$215,AJ$7,FALSE)","v":105},{"$f":"VLOOKUP($B22,[1]FlowData!$A$3:$PL$215,AK$7,FALSE)","v":58},{"$f":"VLOOKUP($B22,[1]FlowData!$A$3:$PL$215,AL$7,FALSE)","v":131},{"$f":"VLOOKUP($B22,[1]FlowData!$A$3:$PL$215,AM$7,FALSE)","v":85},{"$f":"VLOOKUP($B22,[1]FlowData!$A$3:$PL$215,AN$7,FALSE)","v":49},{"$f":"VLOOKUP($B22,[1]FlowData!$A$3:$PL$215,AO$7,FALSE)","v":26},{"$f":"VLOOKUP($B22,[1]FlowData!$A$3:$PL$215,AP$7,FALSE)","v":60},{"$f":"VLOOKUP($B22,[1]FlowData!$A$3:$PL$215,AQ$7,FALSE)","v":75},{"$f":"VLOOKUP($B22,[1]FlowData!$A$3:$PL$215,AR$7,FALSE)","v":48},{"$f":"VLOOKUP($B22,[1]FlowData!$A$3:$PL$215,AS$7,FALSE)","v":29},{"$f":"VLOOKUP($B22,[1]FlowData!$A$3:$PL$215,AT$7,FALSE)","v":55},{"$f":"VLOOKUP($B22,[1]FlowData!$A$3:$PL$215,AU$7,FALSE)","v":91},{"$f":"VLOOKUP($B22,[1]FlowData!$A$3:$PL$215,AV$7,FALSE)","v":68},{"$f":"VLOOKUP($B22,[1]FlowData!$A$3:$PL$215,AW$7,FALSE)","v":47},{"$f":"VLOOKUP($B22,[1]FlowData!$A$3:$PL$215,AX$7,FALSE)","v":71},{"$f":"VLOOKUP($B22,[1]FlowData!$A$3:$PL$215,AY$7,FALSE)","v":89},{"$f":"VLOOKUP($B22,[1]FlowData!$A$3:$PL$215,AZ$7,FALSE)","v":65},{"$f":"VLOOKUP($B22,[1]FlowData!$A$3:$PL$215,BA$7,FALSE)","v":53},{"$f":"VLOOKUP($B22,[1]FlowData!$A$3:$PL$215,BB$7,FALSE)","v":71},{"$f":"VLOOKUP($B22,[1]FlowData!$A$3:$PL$215,BC$7,FALSE)","v":72},{"$f":"VLOOKUP($B22,[1]FlowData!$A$3:$PL$215,BD$7,FALSE)","v":56},{"$f":"VLOOKUP($B22,[1]FlowData!$A$3:$PL$215,BE$7,FALSE)","v":36},{"$f":"VLOOKUP($B22,[1]FlowData!$A$3:$PL$215,BF$7,FALSE)","v":63}]
[{"$f":"VLOOKUP(B23,'[2]Gages and BCs'!$A$4:$BJ$973,62,FALSE)","v":642},12330000,{"$f":"VLOOKUP(B23,'[2]Gages and BCs'!$A$4:$BJ$973,60,FALSE)","v":"Boulder Creek at Maxville, Montana"},"1939–2009",{"$f":"VLOOKUP($B23,[1]FlowData!$A$3:$PL$215,E$7,FALSE)","v":5.31},{"$f":"VLOOKUP($B23,[1]FlowData!$A$3:$PL$215,F$7,FALSE)","v":6.9909999999999997},{"$f":"VLOOKUP($B23,[1]FlowData!$A$3:$PL$215,G$7,FALSE)","v":51},{"$f":"VLOOKUP($B23,[1]FlowData!$A$3:$PL$215,H$7,FALSE)","v":29},{"$f":"VLOOKUP($B23,[1]FlowData!$A$3:$PL$215,I$7,FALSE)","v":13},{"$f":"VLOOKUP($B23,[1]FlowData!$A$3:$PL$215,J$7,FALSE)","v":45},{"$f":"VLOOKUP($B23,[1]FlowData!$A$3:$PL$215,K$7,FALSE)","v":22},{"$f":"VLOOKUP($B23,[1]FlowData!$A$3:$PL$215,L$7,FALSE)","v":18},{"$f":"VLOOKUP($B23,[1]FlowData!$A$3:$PL$215,M$7,FALSE)","v":15},{"$f":"VLOOKUP($B23,[1]FlowData!$A$3:$PL$215,N$7,FALSE)","v":19},{"$f":"VLOOKUP($B23,[1]FlowData!$A$3:$PL$215,O$7,FALSE)","v":21},{"$f":"VLOOKUP($B23,[1]FlowData!$A$3:$PL$215,P$7,FALSE)","v":19},{"$f":"VLOOKUP($B23,[1]FlowData!$A$3:$PL$215,Q$7,FALSE)","v":15},{"$f":"VLOOKUP($B23,[1]FlowData!$A$3:$PL$215,R$7,FALSE)","v":18},{"$f":"VLOOKUP($B23,[1]FlowData!$A$3:$PL$215,S$7,FALSE)","v":21},{"$f":"VLOOKUP($B23,[1]FlowData!$A$3:$PL$215,T$7,FALSE)","v":18},{"$f":"VLOOKUP($B23,[1]FlowData!$A$3:$PL$215,U$7,FALSE)","v":15},{"$f":"VLOOKUP($B23,[1]FlowData!$A$3:$PL$215,V$7,FALSE)","v":19},{"$f":"VLOOKUP($B23,[1]FlowData!$A$3:$PL$215,W$7,FALSE)","v":35},{"$f":"VLOOKUP($B23,[1]FlowData!$A$3:$PL$215,X$7,FALSE)","v":22},{"$f":"VLOOKUP($B23,[1]FlowData!$A$3:$PL$215,Y$7,FALSE)","v":17},{"$f":"VLOOKUP($B23,[1]FlowData!$A$3:$PL$215,Z$7,FALSE)","v":28},{"$f":"VLOOKUP($B23,[1]FlowData!$A$3:$PL$215,AA$7,FALSE)","v":173},{"$f":"VLOOKUP($B23,[1]FlowData!$A$3:$PL$215,AB$7,FALSE)","v":89},{"$f":"VLOOKUP($B23,[1]FlowData!$A$3:$PL$215,AC$7,FALSE)","v":45},{"$f":"VLOOKUP($B23,[1]FlowData!$A$3:$PL$215,AD$7,FALSE)","v":116},{"$f":"VLOOKUP($B23,[1]FlowData!$A$3:$PL$215,AE$7,FALSE)","v":256},{"$f":"VLOOKUP($B23,[1]FlowData!$A$3:$PL$215,AF$7,FALSE)","v":155},{"$f":"VLOOKUP($B23,[1]FlowData!$A$3:$PL$215,AG$7,FALSE)","v":82},{"$f":"VLOOKUP($B23,[1]FlowData!$A$3:$PL$215,AH$7,FALSE)","v":173},{"$f":"VLOOKUP($B23,[1]FlowData!$A$3:$PL$215,AI$7,FALSE)","v":82},{"$f":"VLOOKUP($B23,[1]FlowData!$A$3:$PL$215,AJ$7,FALSE)","v":45},{"$f":"VLOOKUP($B23,[1]FlowData!$A$3:$PL$215,AK$7,FALSE)","v":22},{"$f":"VLOOKUP($B23,[1]FlowData!$A$3:$PL$215,AL$7,FALSE)","v":58},{"$f":"VLOOKUP($B23,[1]FlowData!$A$3:$PL$215,AM$7,FALSE)","v":29},{"$f":"VLOOKUP($B23,[1]FlowData!$A$3:$PL$215,AN$7,FALSE)","v":17},{"$f":"VLOOKUP($B23,[1]FlowData!$A$3:$PL$215,AO$7,FALSE)","v":11},{"$f":"VLOOKUP($B23,[1]FlowData!$A$3:$PL$215,AP$7,FALSE)","v":21},{"$f":"VLOOKUP($B23,[1]FlowData!$A$3:$PL$215,AQ$7,FALSE)","v":24},{"$f":"VLOOKUP($B23,[1]FlowData!$A$3:$PL$215,AR$7,FALSE)","v":16},{"$f":"VLOOKUP($B23,[1]FlowData!$A$3:$PL$215,AS$7,FALSE)","v":9.3000000000000007},{"$f":"VLOOKUP($B23,[1]FlowData!$A$3:$PL$215,AT$7,FALSE)","v":18},{"$f":"VLOOKUP($B23,[1]FlowData!$A$3:$PL$215,AU$7,FALSE)","v":30},{"$f":"VLOOKUP($B23,[1]FlowData!$A$3:$PL$215,AV$7,FALSE)","v":22},{"$f":"VLOOKUP($B23,[1]FlowData!$A$3:$PL$215,AW$7,FALSE)","v":14},{"$f":"VLOOKUP($B23,[1]FlowData!$A$3:$PL$215,AX$7,FALSE)","v":23},{"$f":"VLOOKUP($B23,[1]FlowData!$A$3:$PL$215,AY$7,FALSE)","v":28},{"$f":"VLOOKUP($B23,[1]FlowData!$A$3:$PL$215,AZ$7,FALSE)","v":22},{"$f":"VLOOKUP($B23,[1]FlowData!$A$3:$PL$215,BA$7,FALSE)","v":18},{"$f":"VLOOKUP($B23,[1]FlowData!$A$3:$PL$215,BB$7,FALSE)","v":24},{"$f":"VLOOKUP($B23,[1]FlowData!$A$3:$PL$215,BC$7,FALSE)","v":25},{"$f":"VLOOKUP($B23,[1]FlowData!$A$3:$PL$215,BD$7,FALSE)","v":21},{"$f":"VLOOKUP($B23,[1]FlowData!$A$3:$PL$215,BE$7,FALSE)","v":16},{"$f":"VLOOKUP($B23,[1]FlowData!$A$3:$PL$215,BF$7,FALSE)","v":21}]
[{"$f":"VLOOKUP(B24,'[2]Gages and BCs'!$A$4:$BJ$973,62,FALSE)","v":646},12331800,{"$f":"VLOOKUP(B24,'[2]Gages and BCs'!$A$4:$BJ$973,60,FALSE)","v":"Clark Fork near Drummond, Montana"},"1993–2009",{"$f":"VLOOKUP($B24,[1]FlowData!$A$3:$PL$215,E$7,FALSE)","v":122.36},{"$f":"VLOOKUP($B24,[1]FlowData!$A$3:$PL$215,F$7,FALSE)","v":152.53800000000001},{"$f":"VLOOKUP($B24,[1]FlowData!$A$3:$PL$215,G$7,FALSE)","v":885},{"$f":"VLOOKUP($B24,[1]FlowData!$A$3:$PL$215,H$7,FALSE)","v":561},{"$f":"VLOOKUP($B24,[1]FlowData!$A$3:$PL$215,I$7,FALSE)","v":379},{"$f":"VLOOKUP($B24,[1]FlowData!$A$3:$PL$215,J$7,FALSE)","v":694},{"$f":"VLOOKUP($B24,[1]FlowData!$A$3:$PL$215,K$7,FALSE)","v":604},{"$f":"VLOOKUP($B24,[1]FlowData!$A$3:$PL$215,L$7,FALSE)","v":473},{"$f":"VLOOKUP($B24,[1]FlowData!$A$3:$PL$215,M$7,FALSE)","v":365},{"$f":"VLOOKUP($B24,[1]FlowData!$A$3:$PL$215,N$7,FALSE)","v":491},{"$f":"VLOOKUP($B24,[1]FlowData!$A$3:$PL$215,O$7,FALSE)","v":683},{"$f":"VLOOKUP($B24,[1]FlowData!$A$3:$PL$215,P$7,FALSE)","v":533},{"$f":"VLOOKUP($B24,[1]FlowData!$A$3:$PL$215,Q$7,FALSE)","v":332},{"$f":"VLOOKUP($B24,[1]FlowData!$A$3:$PL$215,R$7,FALSE)","v":569},{"$f":"VLOOKUP($B24,[1]FlowData!$A$3:$PL$215,S$7,FALSE)","v":784},{"$f":"VLOOKUP($B24,[1]FlowData!$A$3:$PL$215,T$7,FALSE)","v":586},{"$f":"VLOOKUP($B24,[1]FlowData!$A$3:$PL$215,U$7,FALSE)","v":460},{"$f":"VLOOKUP($B24,[1]FlowData!$A$3:$PL$215,V$7,FALSE)","v":669},{"$f":"VLOOKUP($B24,[1]FlowData!$A$3:$PL$215,W$7,FALSE)","v":1040},{"$f":"VLOOKUP($B24,[1]FlowData!$A$3:$PL$215,X$7,FALSE)","v":664},{"$f":"VLOOKUP($B24,[1]FlowData!$A$3:$PL$215,Y$7,FALSE)","v":540},{"$f":"VLOOKUP($B24,[1]FlowData!$A$3:$PL$215,Z$7,FALSE)","v":803},{"$f":"VLOOKUP($B24,[1]FlowData!$A$3:$PL$215,AA$7,FALSE)","v":1600},{"$f":"VLOOKUP($B24,[1]FlowData!$A$3:$PL$215,AB$7,FALSE)","v":1050},{"$f":"VLOOKUP($B24,[1]FlowData!$A$3:$PL$215,AC$7,FALSE)","v":642},{"$f":"VLOOKUP($B24,[1]FlowData!$A$3:$PL$215,AD$7,FALSE)","v":1200},{"$f":"VLOOKUP($B24,[1]FlowData!$A$3:$PL$215,AE$7,FALSE)","v":2350},{"$f":"VLOOKUP($B24,[1]FlowData!$A$3:$PL$215,AF$7,FALSE)","v":1270},{"$f":"VLOOKUP($B24,[1]FlowData!$A$3:$PL$215,AG$7,FALSE)","v":697},{"$f":"VLOOKUP($B24,[1]FlowData!$A$3:$PL$215,AH$7,FALSE)","v":1550},{"$f":"VLOOKUP($B24,[1]FlowData!$A$3:$PL$215,AI$7,FALSE)","v":1010},{"$f":"VLOOKUP($B24,[1]FlowData!$A$3:$PL$215,AJ$7,FALSE)","v":484},{"$f":"VLOOKUP($B24,[1]FlowData!$A$3:$PL$215,AK$7,FALSE)","v":299},{"$f":"VLOOKUP($B24,[1]FlowData!$A$3:$PL$215,AL$7,FALSE)","v":679},{"$f":"VLOOKUP($B24,[1]FlowData!$A$3:$PL$215,AM$7,FALSE)","v":506},{"$f":"VLOOKUP($B24,[1]FlowData!$A$3:$PL$215,AN$7,FALSE)","v":279},{"$f":"VLOOKUP($B24,[1]FlowData!$A$3:$PL$215,AO$7,FALSE)","v":189},{"$f":"VLOOKUP($B24,[1]FlowData!$A$3:$PL$215,AP$7,FALSE)","v":355},{"$f":"VLOOKUP($B24,[1]FlowData!$A$3:$PL$215,AQ$7,FALSE)","v":579},{"$f":"VLOOKUP($B24,[1]FlowData!$A$3:$PL$215,AR$7,FALSE)","v":370},{"$f":"VLOOKUP($B24,[1]FlowData!$A$3:$PL$215,AS$7,FALSE)","v":249},{"$f":"VLOOKUP($B24,[1]FlowData!$A$3:$PL$215,AT$7,FALSE)","v":424},{"$f":"VLOOKUP($B24,[1]FlowData!$A$3:$PL$215,AU$7,FALSE)","v":708},{"$f":"VLOOKUP($B24,[1]FlowData!$A$3:$PL$215,AV$7,FALSE)","v":561},{"$f":"VLOOKUP($B24,[1]FlowData!$A$3:$PL$215,AW$7,FALSE)","v":464},{"$f":"VLOOKUP($B24,[1]FlowData!$A$3:$PL$215,AX$7,FALSE)","v":580},{"$f":"VLOOKUP($B24,[1]FlowData!$A$3:$PL$215,AY$7,FALSE)","v":709},{"$f":"VLOOKUP($B24,[1]FlowData!$A$3:$PL$215,AZ$7,FALSE)","v":560},{"$f":"VLOOKUP($B24,[1]FlowData!$A$3:$PL$215,BA$7,FALSE)","v":476},{"$f":"VLOOKUP($B24,[1]FlowData!$A$3:$PL$215,BB$7,FALSE)","v":585},{"$f":"VLOOKUP($B24,[1]FlowData!$A$3:$PL$215,BC$7,FALSE)","v":605},{"$f":"VLOOKUP($B24,[1]FlowData!$A$3:$PL$215,BD$7,FALSE)","v":480},{"$f":"VLOOKUP($B24,[1]FlowData!$A$3:$PL$215,BE$7,FALSE)","v":402},{"$f":"VLOOKUP($B24,[1]FlowData!$A$3:$PL$215,BF$7,FALSE)","v":497}]
[{"$f":"VLOOKUP(B25,'[2]Gages and BCs'!$A$4:$BJ$973,62,FALSE)","v":648},12332000,{"$f":"VLOOKUP(B25,'[2]Gages and BCs'!$A$4:$BJ$973,60,FALSE)","v":"Middle Fork Rock Creek near Philipsburg, Montana"},"1938–2009",{"$f":"VLOOKUP($B25,[1]FlowData!$A$3:$PL$215,E$7,FALSE)","v":14.352},{"$f":"VLOOKUP($B25,[1]FlowData!$A$3:$PL$215,F$7,FALSE)","v":34.484000000000002},{"$f":"VLOOKUP($B25,[1]FlowData!$A$3:$PL$215,G$7,FALSE)","v":149},{"$f":"VLOOKUP($B25,[1]FlowData!$A$3:$PL$215,H$7,FALSE)","v":49},{"$f":"VLOOKUP($B25,[1]FlowData!$A$3:$PL$215,I$7,FALSE)","v":23},{"$f":"VLOOKUP($B25,[1]FlowData!$A$3:$PL$215,J$7,FALSE)","v":118},{"$f":"VLOOKUP($B25,[1]FlowData!$A$3:$PL$215,K$7,FALSE)","v":39},{"$f":"VLOOKUP($B25,[1]FlowData!$A$3:$PL$215,L$7,FALSE)","v":31},{"$f":"VLOOKUP($B25,[1]FlowData!$A$3:$PL$215,M$7,FALSE)","v":24},{"$f":"VLOOKUP($B25,[1]FlowData!$A$3:$PL$215,N$7,FALSE)","v":32},{"$f":"VLOOKUP($B25,[1]FlowData!$A$3:$PL$215,O$7,FALSE)","v":39},{"$f":"VLOOKUP($B25,[1]FlowData!$A$3:$PL$215,P$7,FALSE)","v":32},{"$f":"VLOOKUP($B25,[1]FlowData!$A$3:$PL$215,Q$7,FALSE)","v":24},{"$f":"VLOOKUP($B25,[1]FlowData!$A$3:$PL$215,R$7,FALSE)","v":33},{"$f":"VLOOKUP($B25,[1]FlowData!$A$3:$PL$215,S$7,FALSE)","v":43},{"$f":"VLOOKUP($B25,[1]FlowData!$A$3:$PL$215,T$7,FALSE)","v":34},{"$f":"VLOOKUP($B25,[1]FlowData!$A$3:$PL$215,U$7,FALSE)","v":27},{"$f":"VLOOKUP($B25,[1]FlowData!$A$3:$PL$215,V$7,FALSE)","v":36},{"$f":"VLOOKUP($B25,[1]FlowData!$A$3:$PL$215,W$7,FALSE)","v":100},{"$f":"VLOOKUP($B25,[1]FlowData!$A$3:$PL$215,X$7,FALSE)","v":55},{"$f":"VLOOKUP($B25,[1]FlowData!$A$3:$PL$215,Y$7,FALSE)","v":36},{"$f":"VLOOKUP($B25,[1]FlowData!$A$3:$PL$215,Z$7,FALSE)","v":74},{"$f":"VLOOKUP($B25,[1]FlowData!$A$3:$PL$215,AA$7,FALSE)","v":497},{"$f":"VLOOKUP($B25,[1]FlowData!$A$3:$PL$215,AB$7,FALSE)","v":274},{"$f":"VLOOKUP($B25,[1]FlowData!$A$3:$PL$215,AC$7,FALSE)","v":147},{"$f":"VLOOKUP($B25,[1]FlowData!$A$3:$PL$215,AD$7,FALSE)","v":337},{"$f":"VLOOKUP($B25,[1]FlowData!$A$3:$PL$215,AE$7,FALSE)","v":673},{"$f":"VLOOKUP($B25,[1]FlowData!$A$3:$PL$215,AF$7,FALSE)","v":426},{"$f":"VLOOKUP($B25,[1]FlowData!$A$3:$PL$215,AG$7,FALSE)","v":258},{"$f":"VLOOKUP($B25,[1]FlowData!$A$3:$PL$215,AH$7,FALSE)","v":474},{"$f":"VLOOKUP($B25,[1]FlowData!$A$3:$PL$215,AI$7,FALSE)","v":239},{"$f":"VLOOKUP($B25,[1]FlowData!$A$3:$PL$215,AJ$7,FALSE)","v":144},{"$f":"VLOOKUP($B25,[1]FlowData!$A$3:$PL$215,AK$7,FALSE)","v":87},{"$f":"VLOOKUP($B25,[1]FlowData!$A$3:$PL$215,AL$7,FALSE)","v":174},{"$f":"VLOOKUP($B25,[1]FlowData!$A$3:$PL$215,AM$7,FALSE)","v":89},{"$f":"VLOOKUP($B25,[1]FlowData!$A$3:$PL$215,AN$7,FALSE)","v":65},{"$f":"VLOOKUP($B25,[1]FlowData!$A$3:$PL$215,AO$7,FALSE)","v":47},{"$f":"VLOOKUP($B25,[1]FlowData!$A$3:$PL$215,AP$7,FALSE)","v":69},{"$f":"VLOOKUP($B25,[1]FlowData!$A$3:$PL$215,AQ$7,FALSE)","v":62},{"$f":"VLOOKUP($B25,[1]FlowData!$A$3:$PL$215,AR$7,FALSE)","v":49},{"$f":"VLOOKUP($B25,[1]FlowData!$A$3:$PL$215,AS$7,FALSE)","v":39},{"$f":"VLOOKUP($B25,[1]FlowData!$A$3:$PL$215,AT$7,FALSE)","v":52},{"$f":"VLOOKUP($B25,[1]FlowData!$A$3:$PL$215,AU$7,FALSE)","v":55},{"$f":"VLOOKUP($B25,[1]FlowData!$A$3:$PL$215,AV$7,FALSE)","v":45},{"$f":"VLOOKUP($B25,[1]FlowData!$A$3:$PL$215,AW$7,FALSE)","v":37},{"$f":"VLOOKUP($B25,[1]FlowData!$A$3:$PL$215,AX$7,FALSE)","v":49},{"$f":"VLOOKUP($B25,[1]FlowData!$A$3:$PL$215,AY$7,FALSE)","v":50},{"$f":"VLOOKUP($B25,[1]FlowData!$A$3:$PL$215,AZ$7,FALSE)","v":40},{"$f":"VLOOKUP($B25,[1]FlowData!$A$3:$PL$215,BA$7,FALSE)","v":33},{"$f":"VLOOKUP($B25,[1]FlowData!$A$3:$PL$215,BB$7,FALSE)","v":43},{"$f":"VLOOKUP($B25,[1]FlowData!$A$3:$PL$215,BC$7,FALSE)","v":43},{"$f":"VLOOKUP($B25,[1]FlowData!$A$3:$PL$215,BD$7,FALSE)","v":34},{"$f":"VLOOKUP($B25,[1]FlowData!$A$3:$PL$215,BE$7,FALSE)","v":27},{"$f":"VLOOKUP($B25,[1]FlowData!$A$3:$PL$215,BF$7,FALSE)","v":36}]
[{"$f":"VLOOKUP(B26,'[2]Gages and BCs'!$A$4:$BJ$973,62,FALSE)","v":649},12334510,{"$f":"VLOOKUP(B26,'[2]Gages and BCs'!$A$4:$BJ$973,60,FALSE)","v":"Rock Creek near Clinton, Montana"},"1973–2009",{"$f":"VLOOKUP($B26,[1]FlowData!$A$3:$PL$215,E$7,FALSE)","v":73.402000000000001},{"$f":"VLOOKUP($B26,[1]FlowData!$A$3:$PL$215,F$7,FALSE)","v":163.09},{"$f":"VLOOKUP($B26,[1]FlowData!$A$3:$PL$215,G$7,FALSE)","v":657},{"$f":"VLOOKUP($B26,[1]FlowData!$A$3:$PL$215,H$7,FALSE)","v":284},{"$f":"VLOOKUP($B26,[1]FlowData!$A$3:$PL$215,I$7,FALSE)","v":128},{"$f":"VLOOKUP($B26,[1]FlowData!$A$3:$PL$215,J$7,FALSE)","v":517},{"$f":"VLOOKUP($B26,[1]FlowData!$A$3:$PL$215,K$7,FALSE)","v":222},{"$f":"VLOOKUP($B26,[1]FlowData!$A$3:$PL$215,L$7,FALSE)","v":170},{"$f":"VLOOKUP($B26,[1]FlowData!$A$3:$PL$215,M$7,FALSE)","v":124},{"$f":"VLOOKUP($B26,[1]FlowData!$A$3:$PL$215,N$7,FALSE)","v":184},{"$f":"VLOOKUP($B26,[1]FlowData!$A$3:$PL$215,O$7,FALSE)","v":215},{"$f":"VLOOKUP($B26,[1]FlowData!$A$3:$PL$215,P$7,FALSE)","v":177},{"$f":"VLOOKUP($B26,[1]FlowData!$A$3:$PL$215,Q$7,FALSE)","v":137},{"$f":"VLOOKUP($B26,[1]FlowData!$A$3:$PL$215,R$7,FALSE)","v":189},{"$f":"VLOOKUP($B26,[1]FlowData!$A$3:$PL$215,S$7,FALSE)","v":299},{"$f":"VLOOKUP($B26,[1]FlowData!$A$3:$PL$215,T$7,FALSE)","v":214},{"$f":"VLOOKUP($B26,[1]FlowData!$A$3:$PL$215,U$7,FALSE)","v":173},{"$f":"VLOOKUP($B26,[1]FlowData!$A$3:$PL$215,V$7,FALSE)","v":244},{"$f":"VLOOKUP($B26,[1]FlowData!$A$3:$PL$215,W$7,FALSE)","v":738},{"$f":"VLOOKUP($B26,[1]FlowData!$A$3:$PL$215,X$7,FALSE)","v":388},{"$f":"VLOOKUP($B26,[1]FlowData!$A$3:$PL$215,Y$7,FALSE)","v":247},{"$f":"VLOOKUP($B26,[1]FlowData!$A$3:$PL$215,Z$7,FALSE)","v":508},{"$f":"VLOOKUP($B26,[1]FlowData!$A$3:$PL$215,AA$7,FALSE)","v":2120},{"$f":"VLOOKUP($B26,[1]FlowData!$A$3:$PL$215,AB$7,FALSE)","v":1210},{"$f":"VLOOKUP($B26,[1]FlowData!$A$3:$PL$215,AC$7,FALSE)","v":763},{"$f":"VLOOKUP($B26,[1]FlowData!$A$3:$PL$215,AD$7,FALSE)","v":1500},{"$f":"VLOOKUP($B26,[1]FlowData!$A$3:$PL$215,AE$7,FALSE)","v":2500},{"$f":"VLOOKUP($B26,[1]FlowData!$A$3:$PL$215,AF$7,FALSE)","v":1440},{"$f":"VLOOKUP($B26,[1]FlowData!$A$3:$PL$215,AG$7,FALSE)","v":777},{"$f":"VLOOKUP($B26,[1]FlowData!$A$3:$PL$215,AH$7,FALSE)","v":1680},{"$f":"VLOOKUP($B26,[1]FlowData!$A$3:$PL$215,AI$7,FALSE)","v":897},{"$f":"VLOOKUP($B26,[1]FlowData!$A$3:$PL$215,AJ$7,FALSE)","v":544},{"$f":"VLOOKUP($B26,[1]FlowData!$A$3:$PL$215,AK$7,FALSE)","v":340},{"$f":"VLOOKUP($B26,[1]FlowData!$A$3:$PL$215,AL$7,FALSE)","v":657},{"$f":"VLOOKUP($B26,[1]FlowData!$A$3:$PL$215,AM$7,FALSE)","v":414},{"$f":"VLOOKUP($B26,[1]FlowData!$A$3:$PL$215,AN$7,FALSE)","v":284},{"$f":"VLOOKUP($B26,[1]FlowData!$A$3:$PL$215,AO$7,FALSE)","v":195},{"$f":"VLOOKUP($B26,[1]FlowData!$A$3:$PL$215,AP$7,FALSE)","v":308},{"$f":"VLOOKUP($B26,[1]FlowData!$A$3:$PL$215,AQ$7,FALSE)","v":330},{"$f":"VLOOKUP($B26,[1]FlowData!$A$3:$PL$215,AR$7,FALSE)","v":261},{"$f":"VLOOKUP($B26,[1]FlowData!$A$3:$PL$215,AS$7,FALSE)","v":179},{"$f":"VLOOKUP($B26,[1]FlowData!$A$3:$PL$215,AT$7,FALSE)","v":261},{"$f":"VLOOKUP($B26,[1]FlowData!$A$3:$PL$215,AU$7,FALSE)","v":291},{"$f":"VLOOKUP($B26,[1]FlowData!$A$3:$PL$215,AV$7,FALSE)","v":242},{"$f":"VLOOKUP($B26,[1]FlowData!$A$3:$PL$215,AW$7,FALSE)","v":192},{"$f":"VLOOKUP($B26,[1]FlowData!$A$3:$PL$215,AX$7,FALSE)","v":248},{"$f":"VLOOKUP($B26,[1]FlowData!$A$3:$PL$215,AY$7,FALSE)","v":265},{"$f":"VLOOKUP($B26,[1]FlowData!$A$3:$PL$215,AZ$7,FALSE)","v":216},{"$f":"VLOOKUP($B26,[1]FlowData!$A$3:$PL$215,BA$7,FALSE)","v":178},{"$f":"VLOOKUP($B26,[1]FlowData!$A$3:$PL$215,BB$7,FALSE)","v":228},{"$f":"VLOOKUP($B26,[1]FlowData!$A$3:$PL$215,BC$7,FALSE)","v":232},{"$f":"VLOOKUP($B26,[1]FlowData!$A$3:$PL$215,BD$7,FALSE)","v":181},{"$f":"VLOOKUP($B26,[1]FlowData!$A$3:$PL$215,BE$7,FALSE)","v":137},{"$f":"VLOOKUP($B26,[1]FlowData!$A$3:$PL$215,BF$7,FALSE)","v":196}]
[{"$f":"VLOOKUP(B27,'[2]Gages and BCs'!$A$4:$BJ$973,62,FALSE)","v":653},12335500,{"$f":"VLOOKUP(B27,'[2]Gages and BCs'!$A$4:$BJ$973,60,FALSE)","v":"Nevada Creek above reservoir, near Helmville, Montana"},"1939–2009",{"$f":"VLOOKUP($B27,[1]FlowData!$A$3:$PL$215,E$7,FALSE)","v":3.0939999999999999},{"$f":"VLOOKUP($B27,[1]FlowData!$A$3:$PL$215,F$7,FALSE)","v":4.9329999999999998},{"$f":"VLOOKUP($B27,[1]FlowData!$A$3:$PL$215,G$7,FALSE)","v":46},{"$f":"VLOOKUP($B27,[1]FlowData!$A$3:$PL$215,H$7,FALSE)","v":30},{"$f":"VLOOKUP($B27,[1]FlowData!$A$3:$PL$215,I$7,FALSE)","v":13},{"$f":"VLOOKUP($B27,[1]FlowData!$A$3:$PL$215,J$7,FALSE)","v":35},{"$f":"VLOOKUP($B27,[1]FlowData!$A$3:$PL$215,K$7,FALSE)","v":19},{"$f":"VLOOKUP($B27,[1]FlowData!$A$3:$PL$215,L$7,FALSE)","v":12},{"$f":"VLOOKUP($B27,[1]FlowData!$A$3:$PL$215,M$7,FALSE)","v":6},{"$f":"VLOOKUP($B27,[1]FlowData!$A$3:$PL$215,N$7,FALSE)","v":12},{"$f":"VLOOKUP($B27,[1]FlowData!$A$3:$PL$215,O$7,FALSE)","v":25},{"$f":"VLOOKUP($B27,[1]FlowData!$A$3:$PL$215,P$7,FALSE)","v":16},{"$f":"VLOOKUP($B27,[1]FlowData!$A$3:$PL$215,Q$7,FALSE)","v":7.6},{"$f":"VLOOKUP($B27,[1]FlowData!$A$3:$PL$215,R$7,FALSE)","v":16},{"$f":"VLOOKUP($B27,[1]FlowData!$A$3:$PL$215,S$7,FALSE)","v":44},{"$f":"VLOOKUP($B27,[1]FlowData!$A$3:$PL$215,T$7,FALSE)","v":21},{"$f":"VLOOKUP($B27,[1]FlowData!$A$3:$PL$215,U$7,FALSE)","v":11},{"$f":"VLOOKUP($B27,[1]FlowData!$A$3:$PL$215,V$7,FALSE)","v":34},{"$f":"VLOOKUP($B27,[1]FlowData!$A$3:$PL$215,W$7,FALSE)","v":92},{"$f":"VLOOKUP($B27,[1]FlowData!$A$3:$PL$215,X$7,FALSE)","v":47},{"$f":"VLOOKUP($B27,[1]FlowData!$A$3:$PL$215,Y$7,FALSE)","v":20},{"$f":"VLOOKUP($B27,[1]FlowData!$A$3:$PL$215,Z$7,FALSE)","v":66},{"$f":"VLOOKUP($B27,[1]FlowData!$A$3:$PL$215,AA$7,FALSE)","v":171},{"$f":"VLOOKUP($B27,[1]FlowData!$A$3:$PL$215,AB$7,FALSE)","v":84},{"$f":"VLOOKUP($B27,[1]FlowData!$A$3:$PL$215,AC$7,FALSE)","v":37},{"$f":"VLOOKUP($B27,[1]FlowData!$A$3:$PL$215,AD$7,FALSE)","v":110},{"$f":"VLOOKUP($B27,[1]FlowData!$A$3:$PL$215,AE$7,FALSE)","v":136},{"$f":"VLOOKUP($B27,[1]FlowData!$A$3:$PL$215,AF$7,FALSE)","v":65},{"$f":"VLOOKUP($B27,[1]FlowData!$A$3:$PL$215,AG$7,FALSE)","v":27},{"$f":"VLOOKUP($B27,[1]FlowData!$A$3:$PL$215,AH$7,FALSE)","v":88},{"$f":"VLOOKUP($B27,[1]FlowData!$A$3:$PL$215,AI$7,FALSE)","v":36},{"$f":"VLOOKUP($B27,[1]FlowData!$A$3:$PL$215,AJ$7,FALSE)","v":23},{"$f":"VLOOKUP($B27,[1]FlowData!$A$3:$PL$215,AK$7,FALSE)","v":12},{"$f":"VLOOKUP($B27,[1]FlowData!$A$3:$PL$215,AL$7,FALSE)","v":27},{"$f":"VLOOKUP($B27,[1]FlowData!$A$3:$PL$215,AM$7,FALSE)","v":20},{"$f":"VLOOKUP($B27,[1]FlowData!$A$3:$PL$215,AN$7,FALSE)","v":12},{"$f":"VLOOKUP($B27,[1]FlowData!$A$3:$PL$215,AO$7,FALSE)","v":7.3},{"$f":"VLOOKUP($B27,[1]FlowData!$A$3:$PL$215,AP$7,FALSE)","v":14},{"$f":"VLOOKUP($B27,[1]FlowData!$A$3:$PL$215,AQ$7,FALSE)","v":14},{"$f":"VLOOKUP($B27,[1]FlowData!$A$3:$PL$215,AR$7,FALSE)","v":9.1},{"$f":"VLOOKUP($B27,[1]FlowData!$A$3:$PL$215,AS$7,FALSE)","v":6},{"$f":"VLOOKUP($B27,[1]FlowData!$A$3:$PL$215,AT$7,FALSE)","v":10},{"$f":"VLOOKUP($B27,[1]FlowData!$A$3:$PL$215,AU$7,FALSE)","v":18},{"$f":"VLOOKUP($B27,[1]FlowData!$A$3:$PL$215,AV$7,FALSE)","v":13},{"$f":"VLOOKUP($B27,[1]FlowData!$A$3:$PL$215,AW$7,FALSE)","v":8.6},{"$f":"VLOOKUP($B27,[1]FlowData!$A$3:$PL$215,AX$7,FALSE)","v":14},{"$f":"VLOOKUP($B27,[1]FlowData!$A$3:$PL$215,AY$7,FALSE)","v":18},{"$f":"VLOOKUP($B27,[1]FlowData!$A$3:$PL$215,AZ$7,FALSE)","v":14},{"$f":"VLOOKUP($B27,[1]FlowData!$A$3:$PL$215,BA$7,FALSE)","v":10},{"$f":"VLOOKUP($B27,[1]FlowData!$A$3:$PL$215,BB$7,FALSE)","v":15},{"$f":"VLOOKUP($B27,[1]FlowData!$A$3:$PL$215,BC$7,FALSE)","v":17},{"$f":"VLOOKUP($B27,[1]FlowData!$A$3:$PL$215,BD$7,FALSE)","v":12},{"$f":"VLOOKUP($B27,[1]FlowData!$A$3:$PL$215,BE$7,FALSE)","v":5.7},{"$f":"VLOOKUP($B27,[1]FlowData!$A$3:$PL$215,BF$7,FALSE)","v":12}]
[{"$f":"VLOOKUP(B28,'[2]Gages and BCs'!$A$4:$BJ$973,62,FALSE)","v":654},12338300,{"$f":"VLOOKUP(B28,'[2]Gages and BCs'!$A$4:$BJ$973,60,FALSE)","v":"North Fork Blackfoot River above Dry Gulch, near Ovando, Montana"},"1998–2009",{"$f":"VLOOKUP($B28,[1]FlowData!$A$3:$PL$215,E$7,FALSE)","v":73.515000000000001},{"$f":"VLOOKUP($B28,[1]FlowData!$A$3:$PL$215,F$7,FALSE)","v":131.53800000000001},{"$f":"VLOOKUP($B28,[1]FlowData!$A$3:$PL$215,G$7,FALSE)","v":481},{"$f":"VLOOKUP($B28,[1]FlowData!$A$3:$PL$215,H$7,FALSE)","v":175},{"$f":"VLOOKUP($B28,[1]FlowData!$A$3:$PL$215,I$7,FALSE)","v":108},{"$f":"VLOOKUP($B28,[1]FlowData!$A$3:$PL$215,J$7,FALSE)","v":369},{"$f":"VLOOKUP($B28,[1]FlowData!$A$3:$PL$215,K$7,FALSE)","v":122},{"$f":"VLOOKUP($B28,[1]FlowData!$A$3:$PL$215,L$7,FALSE)","v":102},{"$f":"VLOOKUP($B28,[1]FlowData!$A$3:$PL$215,M$7,FALSE)","v":92},{"$f":"VLOOKUP($B28,[1]FlowData!$A$3:$PL$215,N$7,FALSE)","v":109},{"$f":"VLOOKUP($B28,[1]FlowData!$A$3:$PL$215,O$7,FALSE)","v":115},{"$f":"VLOOKUP($B28,[1]FlowData!$A$3:$PL$215,P$7,FALSE)","v":93},{"$f":"VLOOKUP($B28,[1]FlowData!$A$3:$PL$215,Q$7,FALSE)","v":84},{"$f":"VLOOKUP($B28,[1]FlowData!$A$3:$PL$215,R$7,FALSE)","v":101},{"$f":"VLOOKUP($B28,[1]FlowData!$A$3:$PL$215,S$7,FALSE)","v":129},{"$f":"VLOOKUP($B28,[1]FlowData!$A$3:$PL$215,T$7,FALSE)","v":100},{"$f":"VLOOKUP($B28,[1]FlowData!$A$3:$PL$215,U$7,FALSE)","v":82},{"$f":"VLOOKUP($B28,[1]FlowData!$A$3:$PL$215,V$7,FALSE)","v":113},{"$f":"VLOOKUP($B28,[1]FlowData!$A$3:$PL$215,W$7,FALSE)","v":538},{"$f":"VLOOKUP($B28,[1]FlowData!$A$3:$PL$215,X$7,FALSE)","v":232},{"$f":"VLOOKUP($B28,[1]FlowData!$A$3:$PL$215,Y$7,FALSE)","v":129},{"$f":"VLOOKUP($B28,[1]FlowData!$A$3:$PL$215,Z$7,FALSE)","v":354},{"$f":"VLOOKUP($B28,[1]FlowData!$A$3:$PL$215,AA$7,FALSE)","v":1710},{"$f":"VLOOKUP($B28,[1]FlowData!$A$3:$PL$215,AB$7,FALSE)","v":1060},{"$f":"VLOOKUP($B28,[1]FlowData!$A$3:$PL$215,AC$7,FALSE)","v":724},{"$f":"VLOOKUP($B28,[1]FlowData!$A$3:$PL$215,AD$7,FALSE)","v":1300},{"$f":"VLOOKUP($B28,[1]FlowData!$A$3:$PL$215,AE$7,FALSE)","v":1650},{"$f":"VLOOKUP($B28,[1]FlowData!$A$3:$PL$215,AF$7,FALSE)","v":1060},{"$f":"VLOOKUP($B28,[1]FlowData!$A$3:$PL$215,AG$7,FALSE)","v":720},{"$f":"VLOOKUP($B28,[1]FlowData!$A$3:$PL$215,AH$7,FALSE)","v":1190},{"$f":"VLOOKUP($B28,[1]FlowData!$A$3:$PL$215,AI$7,FALSE)","v":512},{"$f":"VLOOKUP($B28,[1]FlowData!$A$3:$PL$215,AJ$7,FALSE)","v":349},{"$f":"VLOOKUP($B28,[1]FlowData!$A$3:$PL$215,AK$7,FALSE)","v":268},{"$f":"VLOOKUP($B28,[1]FlowData!$A$3:$PL$215,AL$7,FALSE)","v":418},{"$f":"VLOOKUP($B28,[1]FlowData!$A$3:$PL$215,AM$7,FALSE)","v":253},{"$f":"VLOOKUP($B28,[1]FlowData!$A$3:$PL$215,AN$7,FALSE)","v":213},{"$f":"VLOOKUP($B28,[1]FlowData!$A$3:$PL$215,AO$7,FALSE)","v":183},{"$f":"VLOOKUP($B28,[1]FlowData!$A$3:$PL$215,AP$7,FALSE)","v":219},{"$f":"VLOOKUP($B28,[1]FlowData!$A$3:$PL$215,AQ$7,FALSE)","v":197},{"$f":"VLOOKUP($B28,[1]FlowData!$A$3:$PL$215,AR$7,FALSE)","v":170},{"$f":"VLOOKUP($B28,[1]FlowData!$A$3:$PL$215,AS$7,FALSE)","v":155},{"$f":"VLOOKUP($B28,[1]FlowData!$A$3:$PL$215,AT$7,FALSE)","v":174},{"$f":"VLOOKUP($B28,[1]FlowData!$A$3:$PL$215,AU$7,FALSE)","v":176},{"$f":"VLOOKUP($B28,[1]FlowData!$A$3:$PL$215,AV$7,FALSE)","v":151},{"$f":"VLOOKUP($B28,[1]FlowData!$A$3:$PL$215,AW$7,FALSE)","v":137},{"$f":"VLOOKUP($B28,[1]FlowData!$A$3:$PL$215,AX$7,FALSE)","v":155},{"$f":"VLOOKUP($B28,[1]FlowData!$A$3:$PL$215,AY$7,FALSE)","v":176},{"$f":"VLOOKUP($B28,[1]FlowData!$A$3:$PL$215,AZ$7,FALSE)","v":138},{"$f":"VLOOKUP($B28,[1]FlowData!$A$3:$PL$215,BA$7,FALSE)","v":110},{"$f":"VLOOKUP($B28,[1]FlowData!$A$3:$PL$215,BB$7,FALSE)","v":159},{"$f":"VLOOKUP($B28,[1]FlowData!$A$3:$PL$215,BC$7,FALSE)","v":147},{"$f":"VLOOKUP($B28,[1]FlowData!$A$3:$PL$215,BD$7,FALSE)","v":117},{"$f":"VLOOKUP($B28,[1]FlowData!$A$3:$PL$215,BE$7,FALSE)","v":102},{"$f":"VLOOKUP($B28,[1]FlowData!$A$3:$PL$215,BF$7,FALSE)","v":127}]
[{"$f":"VLOOKUP(B29,'[2]Gages and BCs'!$A$4:$BJ$973,62,FALSE)","v":655},12338500,{"$f":"VLOOKUP(B29,'[2]Gages and BCs'!$A$4:$BJ$973,60,FALSE)","v":"Blackfoot River near Ovando, Montana"},"1941–63",{"$f":"VLOOKUP($B29,[1]FlowData!$A$3:$PL$215,E$7,FALSE)","v":154.40899999999999},{"$f":"VLOOKUP($B29,[1]FlowData!$A$3:$PL$215,F$7,FALSE)","v":306.28199999999998},{"$f":"VLOOKUP($B29,[1]FlowData!$A$3:$PL$215,G$7,FALSE)","v":1060},{"$f":"VLOOKUP($B29,[1]FlowData!$A$3:$PL$215,H$7,FALSE)","v":454},{"$f":"VLOOKUP($B29,[1]FlowData!$A$3:$PL$215,I$7,FALSE)","v":236},{"$f":"VLOOKUP($B29,[1]FlowData!$A$3:$PL$215,J$7,FALSE)","v":855},{"$f":"VLOOKUP($B29,[1]FlowData!$A$3:$PL$215,K$7,FALSE)","v":329},{"$f":"VLOOKUP($B29,[1]FlowData!$A$3:$PL$215,L$7,FALSE)","v":269},{"$f":"VLOOKUP($B29,[1]FlowData!$A$3:$PL$215,M$7,FALSE)","v":219},{"$f":"VLOOKUP($B29,[1]FlowData!$A$3:$PL$215,N$7,FALSE)","v":274},{"$f":"VLOOKUP($B29,[1]FlowData!$A$3:$PL$215,O$7,FALSE)","v":328},{"$f":"VLOOKUP($B29,[1]FlowData!$A$3:$PL$215,P$7,FALSE)","v":267},{"$f":"VLOOKUP($B29,[1]FlowData!$A$3:$PL$215,Q$7,FALSE)","v":223},{"$f":"VLOOKUP($B29,[1]FlowData!$A$3:$PL$215,R$7,FALSE)","v":287},{"$f":"VLOOKUP($B29,[1]FlowData!$A$3:$PL$215,S$7,FALSE)","v":361},{"$f":"VLOOKUP($B29,[1]FlowData!$A$3:$PL$215,T$7,FALSE)","v":295},{"$f":"VLOOKUP($B29,[1]FlowData!$A$3:$PL$215,U$7,FALSE)","v":239},{"$f":"VLOOKUP($B29,[1]FlowData!$A$3:$PL$215,V$7,FALSE)","v":341},{"$f":"VLOOKUP($B29,[1]FlowData!$A$3:$PL$215,W$7,FALSE)","v":1060},{"$f":"VLOOKUP($B29,[1]FlowData!$A$3:$PL$215,X$7,FALSE)","v":545},{"$f":"VLOOKUP($B29,[1]FlowData!$A$3:$PL$215,Y$7,FALSE)","v":316},{"$f":"VLOOKUP($B29,[1]FlowData!$A$3:$PL$215,Z$7,FALSE)","v":721},{"$f":"VLOOKUP($B29,[1]FlowData!$A$3:$PL$215,AA$7,FALSE)","v":3790},{"$f":"VLOOKUP($B29,[1]FlowData!$A$3:$PL$215,AB$7,FALSE)","v":2110},{"$f":"VLOOKUP($B29,[1]FlowData!$A$3:$PL$215,AC$7,FALSE)","v":973},{"$f":"VLOOKUP($B29,[1]FlowData!$A$3:$PL$215,AD$7,FALSE)","v":2460},{"$f":"VLOOKUP($B29,[1]FlowData!$A$3:$PL$215,AE$7,FALSE)","v":4150},{"$f":"VLOOKUP($B29,[1]FlowData!$A$3:$PL$215,AF$7,FALSE)","v":2780},{"$f":"VLOOKUP($B29,[1]FlowData!$A$3:$PL$215,AG$7,FALSE)","v":1560},{"$f":"VLOOKUP($B29,[1]FlowData!$A$3:$PL$215,AH$7,FALSE)","v":3000},{"$f":"VLOOKUP($B29,[1]FlowData!$A$3:$PL$215,AI$7,FALSE)","v":1540},{"$f":"VLOOKUP($B29,[1]FlowData!$A$3:$PL$215,AJ$7,FALSE)","v":941},{"$f":"VLOOKUP($B29,[1]FlowData!$A$3:$PL$215,AK$7,FALSE)","v":623},{"$f":"VLOOKUP($B29,[1]FlowData!$A$3:$PL$215,AL$7,FALSE)","v":1140},{"$f":"VLOOKUP($B29,[1]FlowData!$A$3:$PL$215,AM$7,FALSE)","v":651},{"$f":"VLOOKUP($B29,[1]FlowData!$A$3:$PL$215,AN$7,FALSE)","v":488},{"$f":"VLOOKUP($B29,[1]FlowData!$A$3:$PL$215,AO$7,FALSE)","v":390},{"$f":"VLOOKUP($B29,[1]FlowData!$A$3:$PL$215,AP$7,FALSE)","v":526},{"$f":"VLOOKUP($B29,[1]FlowData!$A$3:$PL$215,AQ$7,FALSE)","v":463},{"$f":"VLOOKUP($B29,[1]FlowData!$A$3:$PL$215,AR$7,FALSE)","v":383},{"$f":"VLOOKUP($B29,[1]FlowData!$A$3:$PL$215,AS$7,FALSE)","v":325},{"$f":"VLOOKUP($B29,[1]FlowData!$A$3:$PL$215,AT$7,FALSE)","v":397},{"$f":"VLOOKUP($B29,[1]FlowData!$A$3:$PL$215,AU$7,FALSE)","v":449},{"$f":"VLOOKUP($B29,[1]FlowData!$A$3:$PL$215,AV$7,FALSE)","v":365},{"$f":"VLOOKUP($B29,[1]FlowData!$A$3:$PL$215,AW$7,FALSE)","v":309},{"$f":"VLOOKUP($B29,[1]FlowData!$A$3:$PL$215,AX$7,FALSE)","v":395},{"$f":"VLOOKUP($B29,[1]FlowData!$A$3:$PL$215,AY$7,FALSE)","v":439},{"$f":"VLOOKUP($B29,[1]FlowData!$A$3:$PL$215,AZ$7,FALSE)","v":355},{"$f":"VLOOKUP($B29,[1]FlowData!$A$3:$PL$215,BA$7,FALSE)","v":297},{"$f":"VLOOKUP($B29,[1]FlowData!$A$3:$PL$215,BB$7,FALSE)","v":377},{"$f":"VLOOKUP($B29,[1]FlowData!$A$3:$PL$215,BC$7,FALSE)","v":388},{"$f":"VLOOKUP($B29,[1]FlowData!$A$3:$PL$215,BD$7,FALSE)","v":301},{"$f":"VLOOKUP($B29,[1]FlowData!$A$3:$PL$215,BE$7,FALSE)","v":252},{"$f":"VLOOKUP($B29,[1]FlowData!$A$3:$PL$215,BF$7,FALSE)","v":324}]
[{"$f":"VLOOKUP(B30,'[2]Gages and BCs'!$A$4:$BJ$973,62,FALSE)","v":659},12338690,{"$f":"VLOOKUP(B30,'[2]Gages and BCs'!$A$4:$BJ$973,60,FALSE)","v":"Monture Creek near Ovando, Montana"},"1974–83",{"$f":"VLOOKUP($B30,[1]FlowData!$A$3:$PL$215,E$7,FALSE)","v":""},{"$f":"VLOOKUP($B30,[1]FlowData!$A$3:$PL$215,F$7,FALSE)","v":""},{"$f":"VLOOKUP($B30,[1]FlowData!$A$3:$PL$215,G$7,FALSE)","v":269},{"$f":"VLOOKUP($B30,[1]FlowData!$A$3:$PL$215,H$7,FALSE)","v":74},{"$f":"VLOOKUP($B30,[1]FlowData!$A$3:$PL$215,I$7,FALSE)","v":40},{"$f":"VLOOKUP($B30,[1]FlowData!$A$3:$PL$215,J$7,FALSE)","v":192},{"$f":"VLOOKUP($B30,[1]FlowData!$A$3:$PL$215,K$7,FALSE)","v":64},{"$f":"VLOOKUP($B30,[1]FlowData!$A$3:$PL$215,L$7,FALSE)","v":36},{"$f":"VLOOKUP($B30,[1]FlowData!$A$3:$PL$215,M$7,FALSE)","v":30},{"$f":"VLOOKUP($B30,[1]FlowData!$A$3:$PL$215,N$7,FALSE)","v":47},{"$f":"VLOOKUP($B30,[1]FlowData!$A$3:$PL$215,O$7,FALSE)","v":62},{"$f":"VLOOKUP($B30,[1]FlowData!$A$3:$PL$215,P$7,FALSE)","v":37},{"$f":"VLOOKUP($B30,[1]FlowData!$A$3:$PL$215,Q$7,FALSE)","v":30},{"$f":"VLOOKUP($B30,[1]FlowData!$A$3:$PL$215,R$7,FALSE)","v":44},{"$f":"VLOOKUP($B30,[1]FlowData!$A$3:$PL$215,S$7,FALSE)","v":70},{"$f":"VLOOKUP($B30,[1]FlowData!$A$3:$PL$215,T$7,FALSE)","v":50},{"$f":"VLOOKUP($B30,[1]FlowData!$A$3:$PL$215,U$7,FALSE)","v":30},{"$f":"VLOOKUP($B30,[1]FlowData!$A$3:$PL$215,V$7,FALSE)","v":56},{"$f":"VLOOKUP($B30,[1]FlowData!$A$3:$PL$215,W$7,FALSE)","v":331},{"$f":"VLOOKUP($B30,[1]FlowData!$A$3:$PL$215,X$7,FALSE)","v":130},{"$f":"VLOOKUP($B30,[1]FlowData!$A$3:$PL$215,Y$7,FALSE)","v":66},{"$f":"VLOOKUP($B30,[1]FlowData!$A$3:$PL$215,Z$7,FALSE)","v":211},{"$f":"VLOOKUP($B30,[1]FlowData!$A$3:$PL$215,AA$7,FALSE)","v":984},{"$f":"VLOOKUP($B30,[1]FlowData!$A$3:$PL$215,AB$7,FALSE)","v":586},{"$f":"VLOOKUP($B30,[1]FlowData!$A$3:$PL$215,AC$7,FALSE)","v":328},{"$f":"VLOOKUP($B30,[1]FlowData!$A$3:$PL$215,AD$7,FALSE)","v":668},{"$f":"VLOOKUP($B30,[1]FlowData!$A$3:$PL$215,AE$7,FALSE)","v":1090},{"$f":"VLOOKUP($B30,[1]FlowData!$A$3:$PL$215,AF$7,FALSE)","v":670},{"$f":"VLOOKUP($B30,[1]FlowData!$A$3:$PL$215,AG$7,FALSE)","v":401},{"$f":"VLOOKUP($B30,[1]FlowData!$A$3:$PL$215,AH$7,FALSE)","v":746},{"$f":"VLOOKUP($B30,[1]FlowData!$A$3:$PL$215,AI$7,FALSE)","v":335},{"$f":"VLOOKUP($B30,[1]FlowData!$A$3:$PL$215,AJ$7,FALSE)","v":193},{"$f":"VLOOKUP($B30,[1]FlowData!$A$3:$PL$215,AK$7,FALSE)","v":112},{"$f":"VLOOKUP($B30,[1]FlowData!$A$3:$PL$215,AL$7,FALSE)","v":247},{"$f":"VLOOKUP($B30,[1]FlowData!$A$3:$PL$215,AM$7,FALSE)","v":103},{"$f":"VLOOKUP($B30,[1]FlowData!$A$3:$PL$215,AN$7,FALSE)","v":81},{"$f":"VLOOKUP($B30,[1]FlowData!$A$3:$PL$215,AO$7,FALSE)","v":64},{"$f":"VLOOKUP($B30,[1]FlowData!$A$3:$PL$215,AP$7,FALSE)","v":83},{"$f":"VLOOKUP($B30,[1]FlowData!$A$3:$PL$215,AQ$7,FALSE)","v":67},{"$f":"VLOOKUP($B30,[1]FlowData!$A$3:$PL$215,AR$7,FALSE)","v":56},{"$f":"VLOOKUP($B30,[1]FlowData!$A$3:$PL$215,AS$7,FALSE)","v":43},{"$f":"VLOOKUP($B30,[1]FlowData!$A$3:$PL$215,AT$7,FALSE)","v":55},{"$f":"VLOOKUP($B30,[1]FlowData!$A$3:$PL$215,AU$7,FALSE)","v":51},{"$f":"VLOOKUP($B30,[1]FlowData!$A$3:$PL$215,AV$7,FALSE)","v":45},{"$f":"VLOOKUP($B30,[1]FlowData!$A$3:$PL$215,AW$7,FALSE)","v":39},{"$f":"VLOOKUP($B30,[1]FlowData!$A$3:$PL$215,AX$7,FALSE)","v":46},{"$f":"VLOOKUP($B30,[1]FlowData!$A$3:$PL$215,AY$7,FALSE)","v":46},{"$f":"VLOOKUP($B30,[1]FlowData!$A$3:$PL$215,AZ$7,FALSE)","v":41},{"$f":"VLOOKUP($B30,[1]FlowData!$A$3:$PL$215,BA$7,FALSE)","v":37},{"$f":"VLOOKUP($B30,[1]FlowData!$A$3:$PL$215,BB$7,FALSE)","v":46},{"$f":"VLOOKUP($B30,[1]FlowData!$A$3:$PL$215,BC$7,FALSE)","v":42},{"$f":"VLOOKUP($B30,[1]FlowData!$A$3:$PL$215,BD$7,FALSE)","v":38},{"$f":"VLOOKUP($B30,[1]FlowData!$A$3:$PL$215,BE$7,FALSE)","v":33},{"$f":"VLOOKUP($B30,[1]FlowData!$A$3:$PL$215,BF$7,FALSE)","v":45}]
[{"$f":"VLOOKUP(B31,'[2]Gages and BCs'!$A$4:$BJ$973,62,FALSE)","v":661},12339450,{"$f":"VLOOKUP(B31,'[2]Gages and BCs'!$A$4:$BJ$973,60,FALSE)","v":"Clearwater River near Clearwater, Montana"},"1975–92",{"$f":"VLOOKUP($B31,[1]FlowData!$A$3:$PL$215,E$7,FALSE)","v":25.152999999999999},{"$f":"VLOOKUP($B31,[1]FlowData!$A$3:$PL$215,F$7,FALSE)","v":31.472999999999999},{"$f":"VLOOKUP($B31,[1]FlowData!$A$3:$PL$215,G$7,FALSE)","v":449},{"$f":"VLOOKUP($B31,[1]FlowData!$A$3:$PL$215,H$7,FALSE)","v":109},{"$f":"VLOOKUP($B31,[1]FlowData!$A$3:$PL$215,I$7,FALSE)","v":52},{"$f":"VLOOKUP($B31,[1]FlowData!$A$3:$PL$215,J$7,FALSE)","v":281},{"$f":"VLOOKUP($B31,[1]FlowData!$A$3:$PL$215,K$7,FALSE)","v":114},{"$f":"VLOOKUP($B31,[1]FlowData!$A$3:$PL$215,L$7,FALSE)","v":79},{"$f":"VLOOKUP($B31,[1]FlowData!$A$3:$PL$215,M$7,FALSE)","v":62},{"$f":"VLOOKUP($B31,[1]FlowData!$A$3:$PL$215,N$7,FALSE)","v":92},{"$f":"VLOOKUP($B31,[1]FlowData!$A$3:$PL$215,O$7,FALSE)","v":114},{"$f":"VLOOKUP($B31,[1]FlowData!$A$3:$PL$215,P$7,FALSE)","v":76},{"$f":"VLOOKUP($B31,[1]FlowData!$A$3:$PL$215,Q$7,FALSE)","v":59},{"$f":"VLOOKUP($B31,[1]FlowData!$A$3:$PL$215,R$7,FALSE)","v":86},{"$f":"VLOOKUP($B31,[1]FlowData!$A$3:$PL$215,S$7,FALSE)","v":194},{"$f":"VLOOKUP($B31,[1]FlowData!$A$3:$PL$215,T$7,FALSE)","v":123},{"$f":"VLOOKUP($B31,[1]FlowData!$A$3:$PL$215,U$7,FALSE)","v":68},{"$f":"VLOOKUP($B31,[1]FlowData!$A$3:$PL$215,V$7,FALSE)","v":160},{"$f":"VLOOKUP($B31,[1]FlowData!$A$3:$PL$215,W$7,FALSE)","v":1030},{"$f":"VLOOKUP($B31,[1]FlowData!$A$3:$PL$215,X$7,FALSE)","v":529},{"$f":"VLOOKUP($B31,[1]FlowData!$A$3:$PL$215,Y$7,FALSE)","v":200},{"$f":"VLOOKUP($B31,[1]FlowData!$A$3:$PL$215,Z$7,FALSE)","v":648},{"$f":"VLOOKUP($B31,[1]FlowData!$A$3:$PL$215,AA$7,FALSE)","v":1410},{"$f":"VLOOKUP($B31,[1]FlowData!$A$3:$PL$215,AB$7,FALSE)","v":904},{"$f":"VLOOKUP($B31,[1]FlowData!$A$3:$PL$215,AC$7,FALSE)","v":612},{"$f":"VLOOKUP($B31,[1]FlowData!$A$3:$PL$215,AD$7,FALSE)","v":1010},{"$f":"VLOOKUP($B31,[1]FlowData!$A$3:$PL$215,AE$7,FALSE)","v":1030},{"$f":"VLOOKUP($B31,[1]FlowData!$A$3:$PL$215,AF$7,FALSE)","v":703},{"$f":"VLOOKUP($B31,[1]FlowData!$A$3:$PL$215,AG$7,FALSE)","v":344},{"$f":"VLOOKUP($B31,[1]FlowData!$A$3:$PL$215,AH$7,FALSE)","v":701},{"$f":"VLOOKUP($B31,[1]FlowData!$A$3:$PL$215,AI$7,FALSE)","v":364},{"$f":"VLOOKUP($B31,[1]FlowData!$A$3:$PL$215,AJ$7,FALSE)","v":182},{"$f":"VLOOKUP($B31,[1]FlowData!$A$3:$PL$215,AK$7,FALSE)","v":91},{"$f":"VLOOKUP($B31,[1]FlowData!$A$3:$PL$215,AL$7,FALSE)","v":233},{"$f":"VLOOKUP($B31,[1]FlowData!$A$3:$PL$215,AM$7,FALSE)","v":111},{"$f":"VLOOKUP($B31,[1]FlowData!$A$3:$PL$215,AN$7,FALSE)","v":70},{"$f":"VLOOKUP($B31,[1]FlowData!$A$3:$PL$215,AO$7,FALSE)","v":40},{"$f":"VLOOKUP($B31,[1]FlowData!$A$3:$PL$215,AP$7,FALSE)","v":76},{"$f":"VLOOKUP($B31,[1]FlowData!$A$3:$PL$215,AQ$7,FALSE)","v":85},{"$f":"VLOOKUP($B31,[1]FlowData!$A$3:$PL$215,AR$7,FALSE)","v":54},{"$f":"VLOOKUP($B31,[1]FlowData!$A$3:$PL$215,AS$7,FALSE)","v":36},{"$f":"VLOOKUP($B31,[1]FlowData!$A$3:$PL$215,AT$7,FALSE)","v":65},{"$f":"VLOOKUP($B31,[1]FlowData!$A$3:$PL$215,AU$7,FALSE)","v":102},{"$f":"VLOOKUP($B31,[1]FlowData!$A$3:$PL$215,AV$7,FALSE)","v":71},{"$f":"VLOOKUP($B31,[1]FlowData!$A$3:$PL$215,AW$7,FALSE)","v":52},{"$f":"VLOOKUP($B31,[1]FlowData!$A$3:$PL$215,AX$7,FALSE)","v":80},{"$f":"VLOOKUP($B31,[1]FlowData!$A$3:$PL$215,AY$7,FALSE)","v":140},{"$f":"VLOOKUP($B31,[1]FlowData!$A$3:$PL$215,AZ$7,FALSE)","v":80},{"$f":"VLOOKUP($B31,[1]FlowData!$A$3:$PL$215,BA$7,FALSE)","v":62},{"$f":"VLOOKUP($B31,[1]FlowData!$A$3:$PL$215,BB$7,FALSE)","v":100},{"$f":"VLOOKUP($B31,[1]FlowData!$A$3:$PL$215,BC$7,FALSE)","v":123},{"$f":"VLOOKUP($B31,[1]FlowData!$A$3:$PL$215,BD$7,FALSE)","v":80},{"$f":"VLOOKUP($B31,[1]FlowData!$A$3:$PL$215,BE$7,FALSE)","v":67},{"$f":"VLOOKUP($B31,[1]FlowData!$A$3:$PL$215,BF$7,FALSE)","v":105}]
[{"$f":"VLOOKUP(B32,'[2]Gages and BCs'!$A$4:$BJ$973,62,FALSE)","v":663},12340000,{"$f":"VLOOKUP(B32,'[2]Gages and BCs'!$A$4:$BJ$973,60,FALSE)","v":"Blackfoot River near Bonner, Montana"},"1900–01, 1903–05, 1940–2009",{"$f":"VLOOKUP($B32,[1]FlowData!$A$3:$PL$215,E$7,FALSE)","v":285.18599999999998},{"$f":"VLOOKUP($B32,[1]FlowData!$A$3:$PL$215,F$7,FALSE)","v":472.31799999999998},{"$f":"VLOOKUP($B32,[1]FlowData!$A$3:$PL$215,G$7,FALSE)","v":2150},{"$f":"VLOOKUP($B32,[1]FlowData!$A$3:$PL$215,H$7,FALSE)","v":740},{"$f":"VLOOKUP($B32,[1]FlowData!$A$3:$PL$215,I$7,FALSE)","v":393},{"$f":"VLOOKUP($B32,[1]FlowData!$A$3:$PL$215,J$7,FALSE)","v":1560},{"$f":"VLOOKUP($B32,[1]FlowData!$A$3:$PL$215,K$7,FALSE)","v":672},{"$f":"VLOOKUP($B32,[1]FlowData!$A$3:$PL$215,L$7,FALSE)","v":529},{"$f":"VLOOKUP($B32,[1]FlowData!$A$3:$PL$215,M$7,FALSE)","v":414},{"$f":"VLOOKUP($B32,[1]FlowData!$A$3:$PL$215,N$7,FALSE)","v":555},{"$f":"VLOOKUP($B32,[1]FlowData!$A$3:$PL$215,O$7,FALSE)","v":680},{"$f":"VLOOKUP($B32,[1]FlowData!$A$3:$PL$215,P$7,FALSE)","v":530},{"$f":"VLOOKUP($B32,[1]FlowData!$A$3:$PL$215,Q$7,FALSE)","v":414},{"$f":"VLOOKUP($B32,[1]FlowData!$A$3:$PL$215,R$7,FALSE)","v":595},{"$f":"VLOOKUP($B32,[1]FlowData!$A$3:$PL$215,S$7,FALSE)","v":966},{"$f":"VLOOKUP($B32,[1]FlowData!$A$3:$PL$215,T$7,FALSE)","v":647},{"$f":"VLOOKUP($B32,[1]FlowData!$A$3:$PL$215,U$7,FALSE)","v":498},{"$f":"VLOOKUP($B32,[1]FlowData!$A$3:$PL$215,V$7,FALSE)","v":786},{"$f":"VLOOKUP($B32,[1]FlowData!$A$3:$PL$215,W$7,FALSE)","v":3060},{"$f":"VLOOKUP($B32,[1]FlowData!$A$3:$PL$215,X$7,FALSE)","v":1580},{"$f":"VLOOKUP($B32,[1]FlowData!$A$3:$PL$215,Y$7,FALSE)","v":907},{"$f":"VLOOKUP($B32,[1]FlowData!$A$3:$PL$215,Z$7,FALSE)","v":2060},{"$f":"VLOOKUP($B32,[1]FlowData!$A$3:$PL$215,AA$7,FALSE)","v":7040},{"$f":"VLOOKUP($B32,[1]FlowData!$A$3:$PL$215,AB$7,FALSE)","v":4180},{"$f":"VLOOKUP($B32,[1]FlowData!$A$3:$PL$215,AC$7,FALSE)","v":2730},{"$f":"VLOOKUP($B32,[1]FlowData!$A$3:$PL$215,AD$7,FALSE)","v":4850},{"$f":"VLOOKUP($B32,[1]FlowData!$A$3:$PL$215,AE$7,FALSE)","v":6650},{"$f":"VLOOKUP($B32,[1]FlowData!$A$3:$PL$215,AF$7,FALSE)","v":4340},{"$f":"VLOOKUP($B32,[1]FlowData!$A$3:$PL$215,AG$7,FALSE)","v":2470},{"$f":"VLOOKUP($B32,[1]FlowData!$A$3:$PL$215,AH$7,FALSE)","v":4710},{"$f":"VLOOKUP($B32,[1]FlowData!$A$3:$PL$215,AI$7,FALSE)","v":2380},{"$f":"VLOOKUP($B32,[1]FlowData!$A$3:$PL$215,AJ$7,FALSE)","v":1460},{"$f":"VLOOKUP($B32,[1]FlowData!$A$3:$PL$215,AK$7,FALSE)","v":930},{"$f":"VLOOKUP($B32,[1]FlowData!$A$3:$PL$215,AL$7,FALSE)","v":1730},{"$f":"VLOOKUP($B32,[1]FlowData!$A$3:$PL$215,AM$7,FALSE)","v":1010},{"$f":"VLOOKUP($B32,[1]FlowData!$A$3:$PL$215,AN$7,FALSE)","v":782},{"$f":"VLOOKUP($B32,[1]FlowData!$A$3:$PL$215,AO$7,FALSE)","v":565},{"$f":"VLOOKUP($B32,[1]FlowData!$A$3:$PL$215,AP$7,FALSE)","v":804},{"$f":"VLOOKUP($B32,[1]FlowData!$A$3:$PL$215,AQ$7,FALSE)","v":791},{"$f":"VLOOKUP($B32,[1]FlowData!$A$3:$PL$215,AR$7,FALSE)","v":655},{"$f":"VLOOKUP($B32,[1]FlowData!$A$3:$PL$215,AS$7,FALSE)","v":494},{"$f":"VLOOKUP($B32,[1]FlowData!$A$3:$PL$215,AT$7,FALSE)","v":654},{"$f":"VLOOKUP($B32,[1]FlowData!$A$3:$PL$215,AU$7,FALSE)","v":734},{"$f":"VLOOKUP($B32,[1]FlowData!$A$3:$PL$215,AV$7,FALSE)","v":616},{"$f":"VLOOKUP($B32,[1]FlowData!$A$3:$PL$215,AW$7,FALSE)","v":494},{"$f":"VLOOKUP($B32,[1]FlowData!$A$3:$PL$215,AX$7,FALSE)","v":643},{"$f":"VLOOKUP($B32,[1]FlowData!$A$3:$PL$215,AY$7,FALSE)","v":759},{"$f":"VLOOKUP($B32,[1]FlowData!$A$3:$PL$215,AZ$7,FALSE)","v":605},{"$f":"VLOOKUP($B32,[1]FlowData!$A$3:$PL$215,BA$7,FALSE)","v":504},{"$f":"VLOOKUP($B32,[1]FlowData!$A$3:$PL$215,BB$7,FALSE)","v":652},{"$f":"VLOOKUP($B32,[1]FlowData!$A$3:$PL$215,BC$7,FALSE)","v":711},{"$f":"VLOOKUP($B32,[1]FlowData!$A$3:$PL$215,BD$7,FALSE)","v":547},{"$f":"VLOOKUP($B32,[1]FlowData!$A$3:$PL$215,BE$7,FALSE)","v":440},{"$f":"VLOOKUP($B32,[1]FlowData!$A$3:$PL$215,BF$7,FALSE)","v":603}]
[{"$f":"VLOOKUP(B33,'[2]Gages and BCs'!$A$4:$BJ$973,62,FALSE)","v":669},12343400,{"$f":"VLOOKUP(B33,'[2]Gages and BCs'!$A$4:$BJ$973,60,FALSE)","v":"East Fork Bitterroot River near Conner, Montana"},"1956–72, 2001–4",{"$f":"VLOOKUP($B33,[1]FlowData!$A$3:$PL$215,E$7,FALSE)","v":41.182000000000002},{"$f":"VLOOKUP($B33,[1]FlowData!$A$3:$PL$215,F$7,FALSE)","v":76.344999999999999},{"$f":"VLOOKUP($B33,[1]FlowData!$A$3:$PL$215,G$7,FALSE)","v":336},{"$f":"VLOOKUP($B33,[1]FlowData!$A$3:$PL$215,H$7,FALSE)","v":126},{"$f":"VLOOKUP($B33,[1]FlowData!$A$3:$PL$215,I$7,FALSE)","v":64},{"$f":"VLOOKUP($B33,[1]FlowData!$A$3:$PL$215,J$7,FALSE)","v":281},{"$f":"VLOOKUP($B33,[1]FlowData!$A$3:$PL$215,K$7,FALSE)","v":101},{"$f":"VLOOKUP($B33,[1]FlowData!$A$3:$PL$215,L$7,FALSE)","v":79},{"$f":"VLOOKUP($B33,[1]FlowData!$A$3:$PL$215,M$7,FALSE)","v":65},{"$f":"VLOOKUP($B33,[1]FlowData!$A$3:$PL$215,N$7,FALSE)","v":84},{"$f":"VLOOKUP($B33,[1]FlowData!$A$3:$PL$215,O$7,FALSE)","v":102},{"$f":"VLOOKUP($B33,[1]FlowData!$A$3:$PL$215,P$7,FALSE)","v":80},{"$f":"VLOOKUP($B33,[1]FlowData!$A$3:$PL$215,Q$7,FALSE)","v":69},{"$f":"VLOOKUP($B33,[1]FlowData!$A$3:$PL$215,R$7,FALSE)","v":89},{"$f":"VLOOKUP($B33,[1]FlowData!$A$3:$PL$215,S$7,FALSE)","v":142},{"$f":"VLOOKUP($B33,[1]FlowData!$A$3:$PL$215,T$7,FALSE)","v":95},{"$f":"VLOOKUP($B33,[1]FlowData!$A$3:$PL$215,U$7,FALSE)","v":76},{"$f":"VLOOKUP($B33,[1]FlowData!$A$3:$PL$215,V$7,FALSE)","v":112},{"$f":"VLOOKUP($B33,[1]FlowData!$A$3:$PL$215,W$7,FALSE)","v":342},{"$f":"VLOOKUP($B33,[1]FlowData!$A$3:$PL$215,X$7,FALSE)","v":206},{"$f":"VLOOKUP($B33,[1]FlowData!$A$3:$PL$215,Y$7,FALSE)","v":133},{"$f":"VLOOKUP($B33,[1]FlowData!$A$3:$PL$215,Z$7,FALSE)","v":257},{"$f":"VLOOKUP($B33,[1]FlowData!$A$3:$PL$215,AA$7,FALSE)","v":1380},{"$f":"VLOOKUP($B33,[1]FlowData!$A$3:$PL$215,AB$7,FALSE)","v":793},{"$f":"VLOOKUP($B33,[1]FlowData!$A$3:$PL$215,AC$7,FALSE)","v":486},{"$f":"VLOOKUP($B33,[1]FlowData!$A$3:$PL$215,AD$7,FALSE)","v":940},{"$f":"VLOOKUP($B33,[1]FlowData!$A$3:$PL$215,AE$7,FALSE)","v":1570},{"$f":"VLOOKUP($B33,[1]FlowData!$A$3:$PL$215,AF$7,FALSE)","v":1010},{"$f":"VLOOKUP($B33,[1]FlowData!$A$3:$PL$215,AG$7,FALSE)","v":541},{"$f":"VLOOKUP($B33,[1]FlowData!$A$3:$PL$215,AH$7,FALSE)","v":1080},{"$f":"VLOOKUP($B33,[1]FlowData!$A$3:$PL$215,AI$7,FALSE)","v":398},{"$f":"VLOOKUP($B33,[1]FlowData!$A$3:$PL$215,AJ$7,FALSE)","v":244},{"$f":"VLOOKUP($B33,[1]FlowData!$A$3:$PL$215,AK$7,FALSE)","v":168},{"$f":"VLOOKUP($B33,[1]FlowData!$A$3:$PL$215,AL$7,FALSE)","v":293},{"$f":"VLOOKUP($B33,[1]FlowData!$A$3:$PL$215,AM$7,FALSE)","v":160},{"$f":"VLOOKUP($B33,[1]FlowData!$A$3:$PL$215,AN$7,FALSE)","v":119},{"$f":"VLOOKUP($B33,[1]FlowData!$A$3:$PL$215,AO$7,FALSE)","v":95},{"$f":"VLOOKUP($B33,[1]FlowData!$A$3:$PL$215,AP$7,FALSE)","v":127},{"$f":"VLOOKUP($B33,[1]FlowData!$A$3:$PL$215,AQ$7,FALSE)","v":136},{"$f":"VLOOKUP($B33,[1]FlowData!$A$3:$PL$215,AR$7,FALSE)","v":107},{"$f":"VLOOKUP($B33,[1]FlowData!$A$3:$PL$215,AS$7,FALSE)","v":87},{"$f":"VLOOKUP($B33,[1]FlowData!$A$3:$PL$215,AT$7,FALSE)","v":113},{"$f":"VLOOKUP($B33,[1]FlowData!$A$3:$PL$215,AU$7,FALSE)","v":134},{"$f":"VLOOKUP($B33,[1]FlowData!$A$3:$PL$215,AV$7,FALSE)","v":106},{"$f":"VLOOKUP($B33,[1]FlowData!$A$3:$PL$215,AW$7,FALSE)","v":86},{"$f":"VLOOKUP($B33,[1]FlowData!$A$3:$PL$215,AX$7,FALSE)","v":113},{"$f":"VLOOKUP($B33,[1]FlowData!$A$3:$PL$215,AY$7,FALSE)","v":121},{"$f":"VLOOKUP($B33,[1]FlowData!$A$3:$PL$215,AZ$7,FALSE)","v":100},{"$f":"VLOOKUP($B33,[1]FlowData!$A$3:$PL$215,BA$7,FALSE)","v":81},{"$f":"VLOOKUP($B33,[1]FlowData!$A$3:$PL$215,BB$7,FALSE)","v":102},{"$f":"VLOOKUP($B33,[1]FlowData!$A$3:$PL$215,BC$7,FALSE)","v":108},{"$f":"VLOOKUP($B33,[1]FlowData!$A$3:$PL$215,BD$7,FALSE)","v":85},{"$f":"VLOOKUP($B33,[1]FlowData!$A$3:$PL$215,BE$7,FALSE)","v":63},{"$f":"VLOOKUP($B33,[1]FlowData!$A$3:$PL$215,BF$7,FALSE)","v":89}]
[{"$f":"VLOOKUP(B34,'[2]Gages and BCs'!$A$4:$BJ$973,62,FALSE)","v":675},12346500,{"$f":"VLOOKUP(B34,'[2]Gages and BCs'!$A$4:$BJ$973,60,FALSE)","v":"Skalkaho Creek near Hamilton, Montana"},"1949–53, 1958–79, 2001–3",{"$f":"VLOOKUP($B34,[1]FlowData!$A$3:$PL$215,E$7,FALSE)","v":16.516999999999999},{"$f":"VLOOKUP($B34,[1]FlowData!$A$3:$PL$215,F$7,FALSE)","v":31.675999999999998},{"$f":"VLOOKUP($B34,[1]FlowData!$A$3:$PL$215,G$7,FALSE)","v":114},{"$f":"VLOOKUP($B34,[1]FlowData!$A$3:$PL$215,H$7,FALSE)","v":42},{"$f":"VLOOKUP($B34,[1]FlowData!$A$3:$PL$215,I$7,FALSE)","v":24},{"$f":"VLOOKUP($B34,[1]FlowData!$A$3:$PL$215,J$7,FALSE)","v":91},{"$f":"VLOOKUP($B34,[1]FlowData!$A$3:$PL$215,K$7,FALSE)","v":31},{"$f":"VLOOKUP($B34,[1]FlowData!$A$3:$PL$215,L$7,FALSE)","v":25},{"$f":"VLOOKUP($B34,[1]FlowData!$A$3:$PL$215,M$7,FALSE)","v":21},{"$f":"VLOOKUP($B34,[1]FlowData!$A$3:$PL$215,N$7,FALSE)","v":26},{"$f":"VLOOKUP($B34,[1]FlowData!$A$3:$PL$215,O$7,FALSE)","v":28},{"$f":"VLOOKUP($B34,[1]FlowData!$A$3:$PL$215,P$7,FALSE)","v":25},{"$f":"VLOOKUP($B34,[1]FlowData!$A$3:$PL$215,Q$7,FALSE)","v":21},{"$f":"VLOOKUP($B34,[1]FlowData!$A$3:$PL$215,R$7,FALSE)","v":25},{"$f":"VLOOKUP($B34,[1]FlowData!$A$3:$PL$215,S$7,FALSE)","v":29},{"$f":"VLOOKUP($B34,[1]FlowData!$A$3:$PL$215,T$7,FALSE)","v":25},{"$f":"VLOOKUP($B34,[1]FlowData!$A$3:$PL$215,U$7,FALSE)","v":21},{"$f":"VLOOKUP($B34,[1]FlowData!$A$3:$PL$215,V$7,FALSE)","v":26},{"$f":"VLOOKUP($B34,[1]FlowData!$A$3:$PL$215,W$7,FALSE)","v":73},{"$f":"VLOOKUP($B34,[1]FlowData!$A$3:$PL$215,X$7,FALSE)","v":39},{"$f":"VLOOKUP($B34,[1]FlowData!$A$3:$PL$215,Y$7,FALSE)","v":27},{"$f":"VLOOKUP($B34,[1]FlowData!$A$3:$PL$215,Z$7,FALSE)","v":52},{"$f":"VLOOKUP($B34,[1]FlowData!$A$3:$PL$215,AA$7,FALSE)","v":367},{"$f":"VLOOKUP($B34,[1]FlowData!$A$3:$PL$215,AB$7,FALSE)","v":187},{"$f":"VLOOKUP($B34,[1]FlowData!$A$3:$PL$215,AC$7,FALSE)","v":96},{"$f":"VLOOKUP($B34,[1]FlowData!$A$3:$PL$215,AD$7,FALSE)","v":232},{"$f":"VLOOKUP($B34,[1]FlowData!$A$3:$PL$215,AE$7,FALSE)","v":490},{"$f":"VLOOKUP($B34,[1]FlowData!$A$3:$PL$215,AF$7,FALSE)","v":386},{"$f":"VLOOKUP($B34,[1]FlowData!$A$3:$PL$215,AG$7,FALSE)","v":214},{"$f":"VLOOKUP($B34,[1]FlowData!$A$3:$PL$215,AH$7,FALSE)","v":373},{"$f":"VLOOKUP($B34,[1]FlowData!$A$3:$PL$215,AI$7,FALSE)","v":190},{"$f":"VLOOKUP($B34,[1]FlowData!$A$3:$PL$215,AJ$7,FALSE)","v":121},{"$f":"VLOOKUP($B34,[1]FlowData!$A$3:$PL$215,AK$7,FALSE)","v":84},{"$f":"VLOOKUP($B34,[1]FlowData!$A$3:$PL$215,AL$7,FALSE)","v":147},{"$f":"VLOOKUP($B34,[1]FlowData!$A$3:$PL$215,AM$7,FALSE)","v":83},{"$f":"VLOOKUP($B34,[1]FlowData!$A$3:$PL$215,AN$7,FALSE)","v":63},{"$f":"VLOOKUP($B34,[1]FlowData!$A$3:$PL$215,AO$7,FALSE)","v":50},{"$f":"VLOOKUP($B34,[1]FlowData!$A$3:$PL$215,AP$7,FALSE)","v":67},{"$f":"VLOOKUP($B34,[1]FlowData!$A$3:$PL$215,AQ$7,FALSE)","v":56},{"$f":"VLOOKUP($B34,[1]FlowData!$A$3:$PL$215,AR$7,FALSE)","v":45},{"$f":"VLOOKUP($B34,[1]FlowData!$A$3:$PL$215,AS$7,FALSE)","v":37},{"$f":"VLOOKUP($B34,[1]FlowData!$A$3:$PL$215,AT$7,FALSE)","v":47},{"$f":"VLOOKUP($B34,[1]FlowData!$A$3:$PL$215,AU$7,FALSE)","v":47},{"$f":"VLOOKUP($B34,[1]FlowData!$A$3:$PL$215,AV$7,FALSE)","v":39},{"$f":"VLOOKUP($B34,[1]FlowData!$A$3:$PL$215,AW$7,FALSE)","v":32},{"$f":"VLOOKUP($B34,[1]FlowData!$A$3:$PL$215,AX$7,FALSE)","v":41},{"$f":"VLOOKUP($B34,[1]FlowData!$A$3:$PL$215,AY$7,FALSE)","v":41},{"$f":"VLOOKUP($B34,[1]FlowData!$A$3:$PL$215,AZ$7,FALSE)","v":34},{"$f":"VLOOKUP($B34,[1]FlowData!$A$3:$PL$215,BA$7,FALSE)","v":29},{"$f":"VLOOKUP($B34,[1]FlowData!$A$3:$PL$215,BB$7,FALSE)","v":35},{"$f":"VLOOKUP($B34,[1]FlowData!$A$3:$PL$215,BC$7,FALSE)","v":34},{"$f":"VLOOKUP($B34,[1]FlowData!$A$3:$PL$215,BD$7,FALSE)","v":28},{"$f":"VLOOKUP($B34,[1]FlowData!$A$3:$PL$215,BE$7,FALSE)","v":24},{"$f":"VLOOKUP($B34,[1]FlowData!$A$3:$PL$215,BF$7,FALSE)","v":29}]
[{"$f":"VLOOKUP(B35,'[2]Gages and BCs'!$A$4:$BJ$973,62,FALSE)","v":676},12347500,{"$f":"VLOOKUP(B35,'[2]Gages and BCs'!$A$4:$BJ$973,60,FALSE)","v":"Blodgett Creek near Corvallis, Montana"},"1947–69",{"$f":"VLOOKUP($B35,[1]FlowData!$A$3:$PL$215,E$7,FALSE)","v":2.3679999999999999},{"$f":"VLOOKUP($B35,[1]FlowData!$A$3:$PL$215,F$7,FALSE)","v":3.7080000000000002},{"$f":"VLOOKUP($B35,[1]FlowData!$A$3:$PL$215,G$7,FALSE)","v":109},{"$f":"VLOOKUP($B35,[1]FlowData!$A$3:$PL$215,H$7,FALSE)","v":24},{"$f":"VLOOKUP($B35,[1]FlowData!$A$3:$PL$215,I$7,FALSE)","v":10},{"$f":"VLOOKUP($B35,[1]FlowData!$A$3:$PL$215,J$7,FALSE)","v":70},{"$f":"VLOOKUP($B35,[1]FlowData!$A$3:$PL$215,K$7,FALSE)","v":22},{"$f":"VLOOKUP($B35,[1]FlowData!$A$3:$PL$215,L$7,FALSE)","v":11},{"$f":"VLOOKUP($B35,[1]FlowData!$A$3:$PL$215,M$7,FALSE)","v":7.2},{"$f":"VLOOKUP($B35,[1]FlowData!$A$3:$PL$215,N$7,FALSE)","v":15},{"$f":"VLOOKUP($B35,[1]FlowData!$A$3:$PL$215,O$7,FALSE)","v":20},{"$f":"VLOOKUP($B35,[1]FlowData!$A$3:$PL$215,P$7,FALSE)","v":13},{"$f":"VLOOKUP($B35,[1]FlowData!$A$3:$PL$215,Q$7,FALSE)","v":7.7},{"$f":"VLOOKUP($B35,[1]FlowData!$A$3:$PL$215,R$7,FALSE)","v":15},{"$f":"VLOOKUP($B35,[1]FlowData!$A$3:$PL$215,S$7,FALSE)","v":21},{"$f":"VLOOKUP($B35,[1]FlowData!$A$3:$PL$215,T$7,FALSE)","v":15},{"$f":"VLOOKUP($B35,[1]FlowData!$A$3:$PL$215,U$7,FALSE)","v":9.6},{"$f":"VLOOKUP($B35,[1]FlowData!$A$3:$PL$215,V$7,FALSE)","v":18},{"$f":"VLOOKUP($B35,[1]FlowData!$A$3:$PL$215,W$7,FALSE)","v":112},{"$f":"VLOOKUP($B35,[1]FlowData!$A$3:$PL$215,X$7,FALSE)","v":50},{"$f":"VLOOKUP($B35,[1]FlowData!$A$3:$PL$215,Y$7,FALSE)","v":27},{"$f":"VLOOKUP($B35,[1]FlowData!$A$3:$PL$215,Z$7,FALSE)","v":75},{"$f":"VLOOKUP($B35,[1]FlowData!$A$3:$PL$215,AA$7,FALSE)","v":360},{"$f":"VLOOKUP($B35,[1]FlowData!$A$3:$PL$215,AB$7,FALSE)","v":241},{"$f":"VLOOKUP($B35,[1]FlowData!$A$3:$PL$215,AC$7,FALSE)","v":127},{"$f":"VLOOKUP($B35,[1]FlowData!$A$3:$PL$215,AD$7,FALSE)","v":254},{"$f":"VLOOKUP($B35,[1]FlowData!$A$3:$PL$215,AE$7,FALSE)","v":362},{"$f":"VLOOKUP($B35,[1]FlowData!$A$3:$PL$215,AF$7,FALSE)","v":258},{"$f":"VLOOKUP($B35,[1]FlowData!$A$3:$PL$215,AG$7,FALSE)","v":168},{"$f":"VLOOKUP($B35,[1]FlowData!$A$3:$PL$215,AH$7,FALSE)","v":269},{"$f":"VLOOKUP($B35,[1]FlowData!$A$3:$PL$215,AI$7,FALSE)","v":143},{"$f":"VLOOKUP($B35,[1]FlowData!$A$3:$PL$215,AJ$7,FALSE)","v":70},{"$f":"VLOOKUP($B35,[1]FlowData!$A$3:$PL$215,AK$7,FALSE)","v":35},{"$f":"VLOOKUP($B35,[1]FlowData!$A$3:$PL$215,AL$7,FALSE)","v":91},{"$f":"VLOOKUP($B35,[1]FlowData!$A$3:$PL$215,AM$7,FALSE)","v":29},{"$f":"VLOOKUP($B35,[1]FlowData!$A$3:$PL$215,AN$7,FALSE)","v":20},{"$f":"VLOOKUP($B35,[1]FlowData!$A$3:$PL$215,AO$7,FALSE)","v":10},{"$f":"VLOOKUP($B35,[1]FlowData!$A$3:$PL$215,AP$7,FALSE)","v":21},{"$f":"VLOOKUP($B35,[1]FlowData!$A$3:$PL$215,AQ$7,FALSE)","v":23},{"$f":"VLOOKUP($B35,[1]FlowData!$A$3:$PL$215,AR$7,FALSE)","v":11},{"$f":"VLOOKUP($B35,[1]FlowData!$A$3:$PL$215,AS$7,FALSE)","v":5.6},{"$f":"VLOOKUP($B35,[1]FlowData!$A$3:$PL$215,AT$7,FALSE)","v":17},{"$f":"VLOOKUP($B35,[1]FlowData!$A$3:$PL$215,AU$7,FALSE)","v":41},{"$f":"VLOOKUP($B35,[1]FlowData!$A$3:$PL$215,AV$7,FALSE)","v":17},{"$f":"VLOOKUP($B35,[1]FlowData!$A$3:$PL$215,AW$7,FALSE)","v":6.5},{"$f":"VLOOKUP($B35,[1]FlowData!$A$3:$PL$215,AX$7,FALSE)","v":27},{"$f":"VLOOKUP($B35,[1]FlowData!$A$3:$PL$215,AY$7,FALSE)","v":40},{"$f":"VLOOKUP($B35,[1]FlowData!$A$3:$PL$215,AZ$7,FALSE)","v":18},{"$f":"VLOOKUP($B35,[1]FlowData!$A$3:$PL$215,BA$7,FALSE)","v":9.4},{"$f":"VLOOKUP($B35,[1]FlowData!$A$3:$PL$215,BB$7,FALSE)","v":26},{"$f":"VLOOKUP($B35,[1]FlowData!$A$3:$PL$215,BC$7,FALSE)","v":32},{"$f":"VLOOKUP($B35,[1]FlowData!$A$3:$PL$215,BD$7,FALSE)","v":17},{"$f":"VLOOKUP($B35,[1]FlowData!$A$3:$PL$215,BE$7,FALSE)","v":8.1},{"$f":"VLOOKUP($B35,[1]FlowData!$A$3:$PL$215,BF$7,FALSE)","v":22}]
[{"$f":"VLOOKUP(B36,'[2]Gages and BCs'!$A$4:$BJ$973,62,FALSE)","v":678},12350000,{"$f":"VLOOKUP(B36,'[2]Gages and BCs'!$A$4:$BJ$973,60,FALSE)","v":"Bear Creek near Victor, Montana"},"1938–54, 1958–59",{"$f":"VLOOKUP($B36,[1]FlowData!$A$3:$PL$215,E$7,FALSE)","v":1.4350000000000001},{"$f":"VLOOKUP($B36,[1]FlowData!$A$3:$PL$215,F$7,FALSE)","v":2.3370000000000002},{"$f":"VLOOKUP($B36,[1]FlowData!$A$3:$PL$215,G$7,FALSE)","v":101},{"$f":"VLOOKUP($B36,[1]FlowData!$A$3:$PL$215,H$7,FALSE)","v":25},{"$f":"VLOOKUP($B36,[1]FlowData!$A$3:$PL$215,I$7,FALSE)","v":10},{"$f":"VLOOKUP($B36,[1]FlowData!$A$3:$PL$215,J$7,FALSE)","v":66},{"$f":"VLOOKUP($B36,[1]FlowData!$A$3:$PL$215,K$7,FALSE)","v":17},{"$f":"VLOOKUP($B36,[1]FlowData!$A$3:$PL$215,L$7,FALSE)","v":12},{"$f":"VLOOKUP($B36,[1]FlowData!$A$3:$PL$215,M$7,FALSE)","v":6.6},{"$f":"VLOOKUP($B36,[1]FlowData!$A$3:$PL$215,N$7,FALSE)","v":13},{"$f":"VLOOKUP($B36,[1]FlowData!$A$3:$PL$215,O$7,FALSE)","v":16},{"$f":"VLOOKUP($B36,[1]FlowData!$A$3:$PL$215,P$7,FALSE)","v":11},{"$f":"VLOOKUP($B36,[1]FlowData!$A$3:$PL$215,Q$7,FALSE)","v":6.8},{"$f":"VLOOKUP($B36,[1]FlowData!$A$3:$PL$215,R$7,FALSE)","v":12},{"$f":"VLOOKUP($B36,[1]FlowData!$A$3:$PL$215,S$7,FALSE)","v":17},{"$f":"VLOOKUP($B36,[1]FlowData!$A$3:$PL$215,T$7,FALSE)","v":12},{"$f":"VLOOKUP($B36,[1]FlowData!$A$3:$PL$215,U$7,FALSE)","v":9.1999999999999993},{"$f":"VLOOKUP($B36,[1]FlowData!$A$3:$PL$215,V$7,FALSE)","v":16},{"$f":"VLOOKUP($B36,[1]FlowData!$A$3:$PL$215,W$7,FALSE)","v":123},{"$f":"VLOOKUP($B36,[1]FlowData!$A$3:$PL$215,X$7,FALSE)","v":60},{"$f":"VLOOKUP($B36,[1]FlowData!$A$3:$PL$215,Y$7,FALSE)","v":25},{"$f":"VLOOKUP($B36,[1]FlowData!$A$3:$PL$215,Z$7,FALSE)","v":81},{"$f":"VLOOKUP($B36,[1]FlowData!$A$3:$PL$215,AA$7,FALSE)","v":363},{"$f":"VLOOKUP($B36,[1]FlowData!$A$3:$PL$215,AB$7,FALSE)","v":228},{"$f":"VLOOKUP($B36,[1]FlowData!$A$3:$PL$215,AC$7,FALSE)","v":120},{"$f":"VLOOKUP($B36,[1]FlowData!$A$3:$PL$215,AD$7,FALSE)","v":252},{"$f":"VLOOKUP($B36,[1]FlowData!$A$3:$PL$215,AE$7,FALSE)","v":344},{"$f":"VLOOKUP($B36,[1]FlowData!$A$3:$PL$215,AF$7,FALSE)","v":217},{"$f":"VLOOKUP($B36,[1]FlowData!$A$3:$PL$215,AG$7,FALSE)","v":134},{"$f":"VLOOKUP($B36,[1]FlowData!$A$3:$PL$215,AH$7,FALSE)","v":243},{"$f":"VLOOKUP($B36,[1]FlowData!$A$3:$PL$215,AI$7,FALSE)","v":130},{"$f":"VLOOKUP($B36,[1]FlowData!$A$3:$PL$215,AJ$7,FALSE)","v":56},{"$f":"VLOOKUP($B36,[1]FlowData!$A$3:$PL$215,AK$7,FALSE)","v":24},{"$f":"VLOOKUP($B36,[1]FlowData!$A$3:$PL$215,AL$7,FALSE)","v":84},{"$f":"VLOOKUP($B36,[1]FlowData!$A$3:$PL$215,AM$7,FALSE)","v":18},{"$f":"VLOOKUP($B36,[1]FlowData!$A$3:$PL$215,AN$7,FALSE)","v":10},{"$f":"VLOOKUP($B36,[1]FlowData!$A$3:$PL$215,AO$7,FALSE)","v":5.9},{"$f":"VLOOKUP($B36,[1]FlowData!$A$3:$PL$215,AP$7,FALSE)","v":13},{"$f":"VLOOKUP($B36,[1]FlowData!$A$3:$PL$215,AQ$7,FALSE)","v":14},{"$f":"VLOOKUP($B36,[1]FlowData!$A$3:$PL$215,AR$7,FALSE)","v":6.4},{"$f":"VLOOKUP($B36,[1]FlowData!$A$3:$PL$215,AS$7,FALSE)","v":2.9},{"$f":"VLOOKUP($B36,[1]FlowData!$A$3:$PL$215,AT$7,FALSE)","v":11},{"$f":"VLOOKUP($B36,[1]FlowData!$A$3:$PL$215,AU$7,FALSE)","v":34},{"$f":"VLOOKUP($B36,[1]FlowData!$A$3:$PL$215,AV$7,FALSE)","v":14},{"$f":"VLOOKUP($B36,[1]FlowData!$A$3:$PL$215,AW$7,FALSE)","v":6.5},{"$f":"VLOOKUP($B36,[1]FlowData!$A$3:$PL$215,AX$7,FALSE)","v":22},{"$f":"VLOOKUP($B36,[1]FlowData!$A$3:$PL$215,AY$7,FALSE)","v":33},{"$f":"VLOOKUP($B36,[1]FlowData!$A$3:$PL$215,AZ$7,FALSE)","v":15},{"$f":"VLOOKUP($B36,[1]FlowData!$A$3:$PL$215,BA$7,FALSE)","v":7.8},{"$f":"VLOOKUP($B36,[1]FlowData!$A$3:$PL$215,BB$7,FALSE)","v":22},{"$f":"VLOOKUP($B36,[1]FlowData!$A$3:$PL$215,BC$7,FALSE)","v":31},{"$f":"VLOOKUP($B36,[1]FlowData!$A$3:$PL$215,BD$7,FALSE)","v":13},{"$f":"VLOOKUP($B36,[1]FlowData!$A$3:$PL$215,BE$7,FALSE)","v":6.1},{"$f":"VLOOKUP($B36,[1]FlowData!$A$3:$PL$215,BF$7,FALSE)","v":19}]
[{"$f":"VLOOKUP(B37,'[2]Gages and BCs'!$A$4:$BJ$973,62,FALSE)","v":681},12350500,{"$f":"VLOOKUP(B37,'[2]Gages and BCs'!$A$4:$BJ$973,60,FALSE)","v":"Kootenai Creek near Stevensville, Montana"},"1949–53, 1958–63",{"$f":"VLOOKUP($B37,[1]FlowData!$A$3:$PL$215,E$7,FALSE)","v":""},{"$f":"VLOOKUP($B37,[1]FlowData!$A$3:$PL$215,F$7,FALSE)","v":""},{"$f":"VLOOKUP($B37,[1]FlowData!$A$3:$PL$215,G$7,FALSE)","v":124},{"$f":"VLOOKUP($B37,[1]FlowData!$A$3:$PL$215,H$7,FALSE)","v":28},{"$f":"VLOOKUP($B37,[1]FlowData!$A$3:$PL$215,I$7,FALSE)","v":12},{"$f":"VLOOKUP($B37,[1]FlowData!$A$3:$PL$215,J$7,FALSE)","v":79},{"$f":"VLOOKUP($B37,[1]FlowData!$A$3:$PL$215,K$7,FALSE)","v":17},{"$f":"VLOOKUP($B37,[1]FlowData!$A$3:$PL$215,L$7,FALSE)","v":12},{"$f":"VLOOKUP($B37,[1]FlowData!$A$3:$PL$215,M$7,FALSE)","v":8.6},{"$f":"VLOOKUP($B37,[1]FlowData!$A$3:$PL$215,N$7,FALSE)","v":13},{"$f":"VLOOKUP($B37,[1]FlowData!$A$3:$PL$215,O$7,FALSE)","v":26},{"$f":"VLOOKUP($B37,[1]FlowData!$A$3:$PL$215,P$7,FALSE)","v":13},{"$f":"VLOOKUP($B37,[1]FlowData!$A$3:$PL$215,Q$7,FALSE)","v":8.8000000000000007},{"$f":"VLOOKUP($B37,[1]FlowData!$A$3:$PL$215,R$7,FALSE)","v":19},{"$f":"VLOOKUP($B37,[1]FlowData!$A$3:$PL$215,S$7,FALSE)","v":22},{"$f":"VLOOKUP($B37,[1]FlowData!$A$3:$PL$215,T$7,FALSE)","v":18},{"$f":"VLOOKUP($B37,[1]FlowData!$A$3:$PL$215,U$7,FALSE)","v":12},{"$f":"VLOOKUP($B37,[1]FlowData!$A$3:$PL$215,V$7,FALSE)","v":19},{"$f":"VLOOKUP($B37,[1]FlowData!$A$3:$PL$215,W$7,FALSE)","v":126},{"$f":"VLOOKUP($B37,[1]FlowData!$A$3:$PL$215,X$7,FALSE)","v":61},{"$f":"VLOOKUP($B37,[1]FlowData!$A$3:$PL$215,Y$7,FALSE)","v":31},{"$f":"VLOOKUP($B37,[1]FlowData!$A$3:$PL$215,Z$7,FALSE)","v":84},{"$f":"VLOOKUP($B37,[1]FlowData!$A$3:$PL$215,AA$7,FALSE)","v":360},{"$f":"VLOOKUP($B37,[1]FlowData!$A$3:$PL$215,AB$7,FALSE)","v":209},{"$f":"VLOOKUP($B37,[1]FlowData!$A$3:$PL$215,AC$7,FALSE)","v":120},{"$f":"VLOOKUP($B37,[1]FlowData!$A$3:$PL$215,AD$7,FALSE)","v":246},{"$f":"VLOOKUP($B37,[1]FlowData!$A$3:$PL$215,AE$7,FALSE)","v":413},{"$f":"VLOOKUP($B37,[1]FlowData!$A$3:$PL$215,AF$7,FALSE)","v":287},{"$f":"VLOOKUP($B37,[1]FlowData!$A$3:$PL$215,AG$7,FALSE)","v":186},{"$f":"VLOOKUP($B37,[1]FlowData!$A$3:$PL$215,AH$7,FALSE)","v":309},{"$f":"VLOOKUP($B37,[1]FlowData!$A$3:$PL$215,AI$7,FALSE)","v":184},{"$f":"VLOOKUP($B37,[1]FlowData!$A$3:$PL$215,AJ$7,FALSE)","v":99},{"$f":"VLOOKUP($B37,[1]FlowData!$A$3:$PL$215,AK$7,FALSE)","v":51},{"$f":"VLOOKUP($B37,[1]FlowData!$A$3:$PL$215,AL$7,FALSE)","v":125},{"$f":"VLOOKUP($B37,[1]FlowData!$A$3:$PL$215,AM$7,FALSE)","v":34},{"$f":"VLOOKUP($B37,[1]FlowData!$A$3:$PL$215,AN$7,FALSE)","v":19},{"$f":"VLOOKUP($B37,[1]FlowData!$A$3:$PL$215,AO$7,FALSE)","v":11},{"$f":"VLOOKUP($B37,[1]FlowData!$A$3:$PL$215,AP$7,FALSE)","v":24},{"$f":"VLOOKUP($B37,[1]FlowData!$A$3:$PL$215,AQ$7,FALSE)","v":24},{"$f":"VLOOKUP($B37,[1]FlowData!$A$3:$PL$215,AR$7,FALSE)","v":13},{"$f":"VLOOKUP($B37,[1]FlowData!$A$3:$PL$215,AS$7,FALSE)","v":7.7},{"$f":"VLOOKUP($B37,[1]FlowData!$A$3:$PL$215,AT$7,FALSE)","v":18},{"$f":"VLOOKUP($B37,[1]FlowData!$A$3:$PL$215,AU$7,FALSE)","v":61},{"$f":"VLOOKUP($B37,[1]FlowData!$A$3:$PL$215,AV$7,FALSE)","v":27},{"$f":"VLOOKUP($B37,[1]FlowData!$A$3:$PL$215,AW$7,FALSE)","v":11},{"$f":"VLOOKUP($B37,[1]FlowData!$A$3:$PL$215,AX$7,FALSE)","v":40},{"$f":"VLOOKUP($B37,[1]FlowData!$A$3:$PL$215,AY$7,FALSE)","v":51},{"$f":"VLOOKUP($B37,[1]FlowData!$A$3:$PL$215,AZ$7,FALSE)","v":24},{"$f":"VLOOKUP($B37,[1]FlowData!$A$3:$PL$215,BA$7,FALSE)","v":12},{"$f":"VLOOKUP($B37,[1]FlowData!$A$3:$PL$215,BB$7,FALSE)","v":33},{"$f":"VLOOKUP($B37,[1]FlowData!$A$3:$PL$215,BC$7,FALSE)","v":32},{"$f":"VLOOKUP($B37,[1]FlowData!$A$3:$PL$215,BD$7,FALSE)","v":15},{"$f":"VLOOKUP($B37,[1]FlowData!$A$3:$PL$215,BE$7,FALSE)","v":9.9},{"$f":"VLOOKUP($B37,[1]FlowData!$A$3:$PL$215,BF$7,FALSE)","v":21}]
[{"$f":"VLOOKUP(B38,'[2]Gages and BCs'!$A$4:$BJ$973,62,FALSE)","v":682},12351000,{"$f":"VLOOKUP(B38,'[2]Gages and BCs'!$A$4:$BJ$973,60,FALSE)","v":"Burnt Fork Bitterroot River near Stevensville, Montana"},"1920, 1939–62",{"$f":"VLOOKUP($B38,[1]FlowData!$A$3:$PL$215,E$7,FALSE)","v":7.1829999999999998},{"$f":"VLOOKUP($B38,[1]FlowData!$A$3:$PL$215,F$7,FALSE)","v":15.085000000000001},{"$f":"VLOOKUP($B38,[1]FlowData!$A$3:$PL$215,G$7,FALSE)","v":60},{"$f":"VLOOKUP($B38,[1]FlowData!$A$3:$PL$215,H$7,FALSE)","v":22},{"$f":"VLOOKUP($B38,[1]FlowData!$A$3:$PL$215,I$7,FALSE)","v":9.8000000000000007},{"$f":"VLOOKUP($B38,[1]FlowData!$A$3:$PL$215,J$7,FALSE)","v":48},{"$f":"VLOOKUP($B38,[1]FlowData!$A$3:$PL$215,K$7,FALSE)","v":19},{"$f":"VLOOKUP($B38,[1]FlowData!$A$3:$PL$215,L$7,FALSE)","v":17},{"$f":"VLOOKUP($B38,[1]FlowData!$A$3:$PL$215,M$7,FALSE)","v":14},{"$f":"VLOOKUP($B38,[1]FlowData!$A$3:$PL$215,N$7,FALSE)","v":17},{"$f":"VLOOKUP($B38,[1]FlowData!$A$3:$PL$215,O$7,FALSE)","v":20},{"$f":"VLOOKUP($B38,[1]FlowData!$A$3:$PL$215,P$7,FALSE)","v":16},{"$f":"VLOOKUP($B38,[1]FlowData!$A$3:$PL$215,Q$7,FALSE)","v":13},{"$f":"VLOOKUP($B38,[1]FlowData!$A$3:$PL$215,R$7,FALSE)","v":16},{"$f":"VLOOKUP($B38,[1]FlowData!$A$3:$PL$215,S$7,FALSE)","v":19},{"$f":"VLOOKUP($B38,[1]FlowData!$A$3:$PL$215,T$7,FALSE)","v":16},{"$f":"VLOOKUP($B38,[1]FlowData!$A$3:$PL$215,U$7,FALSE)","v":13},{"$f":"VLOOKUP($B38,[1]FlowData!$A$3:$PL$215,V$7,FALSE)","v":17},{"$f":"VLOOKUP($B38,[1]FlowData!$A$3:$PL$215,W$7,FALSE)","v":63},{"$f":"VLOOKUP($B38,[1]FlowData!$A$3:$PL$215,X$7,FALSE)","v":31},{"$f":"VLOOKUP($B38,[1]FlowData!$A$3:$PL$215,Y$7,FALSE)","v":18},{"$f":"VLOOKUP($B38,[1]FlowData!$A$3:$PL$215,Z$7,FALSE)","v":42},{"$f":"VLOOKUP($B38,[1]FlowData!$A$3:$PL$215,AA$7,FALSE)","v":214},{"$f":"VLOOKUP($B38,[1]FlowData!$A$3:$PL$215,AB$7,FALSE)","v":108},{"$f":"VLOOKUP($B38,[1]FlowData!$A$3:$PL$215,AC$7,FALSE)","v":62},{"$f":"VLOOKUP($B38,[1]FlowData!$A$3:$PL$215,AD$7,FALSE)","v":141},{"$f":"VLOOKUP($B38,[1]FlowData!$A$3:$PL$215,AE$7,FALSE)","v":251},{"$f":"VLOOKUP($B38,[1]FlowData!$A$3:$PL$215,AF$7,FALSE)","v":166},{"$f":"VLOOKUP($B38,[1]FlowData!$A$3:$PL$215,AG$7,FALSE)","v":95},{"$f":"VLOOKUP($B38,[1]FlowData!$A$3:$PL$215,AH$7,FALSE)","v":180},{"$f":"VLOOKUP($B38,[1]FlowData!$A$3:$PL$215,AI$7,FALSE)","v":87},{"$f":"VLOOKUP($B38,[1]FlowData!$A$3:$PL$215,AJ$7,FALSE)","v":50},{"$f":"VLOOKUP($B38,[1]FlowData!$A$3:$PL$215,AK$7,FALSE)","v":35},{"$f":"VLOOKUP($B38,[1]FlowData!$A$3:$PL$215,AL$7,FALSE)","v":66},{"$f":"VLOOKUP($B38,[1]FlowData!$A$3:$PL$215,AM$7,FALSE)","v":37},{"$f":"VLOOKUP($B38,[1]FlowData!$A$3:$PL$215,AN$7,FALSE)","v":29},{"$f":"VLOOKUP($B38,[1]FlowData!$A$3:$PL$215,AO$7,FALSE)","v":21},{"$f":"VLOOKUP($B38,[1]FlowData!$A$3:$PL$215,AP$7,FALSE)","v":30},{"$f":"VLOOKUP($B38,[1]FlowData!$A$3:$PL$215,AQ$7,FALSE)","v":25},{"$f":"VLOOKUP($B38,[1]FlowData!$A$3:$PL$215,AR$7,FALSE)","v":22},{"$f":"VLOOKUP($B38,[1]FlowData!$A$3:$PL$215,AS$7,FALSE)","v":18},{"$f":"VLOOKUP($B38,[1]FlowData!$A$3:$PL$215,AT$7,FALSE)","v":22},{"$f":"VLOOKUP($B38,[1]FlowData!$A$3:$PL$215,AU$7,FALSE)","v":25},{"$f":"VLOOKUP($B38,[1]FlowData!$A$3:$PL$215,AV$7,FALSE)","v":20},{"$f":"VLOOKUP($B38,[1]FlowData!$A$3:$PL$215,AW$7,FALSE)","v":17},{"$f":"VLOOKUP($B38,[1]FlowData!$A$3:$PL$215,AX$7,FALSE)","v":22},{"$f":"VLOOKUP($B38,[1]FlowData!$A$3:$PL$215,AY$7,FALSE)","v":26},{"$f":"VLOOKUP($B38,[1]FlowData!$A$3:$PL$215,AZ$7,FALSE)","v":20},{"$f":"VLOOKUP($B38,[1]FlowData!$A$3:$PL$215,BA$7,FALSE)","v":17},{"$f":"VLOOKUP($B38,[1]FlowData!$A$3:$PL$215,BB$7,FALSE)","v":22},{"$f":"VLOOKUP($B38,[1]FlowData!$A$3:$PL$215,BC$7,FALSE)","v":24},{"$f":"VLOOKUP($B38,[1]FlowData!$A$3:$PL$215,BD$7,FALSE)","v":19},{"$f":"VLOOKUP($B38,[1]FlowData!$A$3:$PL$215,BE$7,FALSE)","v":16},{"$f":"VLOOKUP($B38,[1]FlowData!$A$3:$PL$215,BF$7,FALSE)","v":20}]
[{"$f":"VLOOKUP(B39,'[2]Gages and BCs'!$A$4:$BJ$973,62,FALSE)","v":683},12351200,{"$f":"VLOOKUP(B39,'[2]Gages and BCs'!$A$4:$BJ$973,60,FALSE)","v":"Bitterroot River near Florence, Montana"},"1958–65, 2003–9",{"$f":"VLOOKUP($B39,[1]FlowData!$A$3:$PL$215,E$7,FALSE)","v":397.22800000000001},{"$f":"VLOOKUP($B39,[1]FlowData!$A$3:$PL$215,F$7,FALSE)","v":443.71},{"$f":"VLOOKUP($B39,[1]FlowData!$A$3:$PL$215,G$7,FALSE)","v":2750},{"$f":"VLOOKUP($B39,[1]FlowData!$A$3:$PL$215,H$7,FALSE)","v":944},{"$f":"VLOOKUP($B39,[1]FlowData!$A$3:$PL$215,I$7,FALSE)","v":523},{"$f":"VLOOKUP($B39,[1]FlowData!$A$3:$PL$215,J$7,FALSE)","v":2130},{"$f":"VLOOKUP($B39,[1]FlowData!$A$3:$PL$215,K$7,FALSE)","v":1050},{"$f":"VLOOKUP($B39,[1]FlowData!$A$3:$PL$215,L$7,FALSE)","v":706},{"$f":"VLOOKUP($B39,[1]FlowData!$A$3:$PL$215,M$7,FALSE)","v":584},{"$f":"VLOOKUP($B39,[1]FlowData!$A$3:$PL$215,N$7,FALSE)","v":807},{"$f":"VLOOKUP($B39,[1]FlowData!$A$3:$PL$215,O$7,FALSE)","v":1070},{"$f":"VLOOKUP($B39,[1]FlowData!$A$3:$PL$215,P$7,FALSE)","v":774},{"$f":"VLOOKUP($B39,[1]FlowData!$A$3:$PL$215,Q$7,FALSE)","v":654},{"$f":"VLOOKUP($B39,[1]FlowData!$A$3:$PL$215,R$7,FALSE)","v":883},{"$f":"VLOOKUP($B39,[1]FlowData!$A$3:$PL$215,S$7,FALSE)","v":1180},{"$f":"VLOOKUP($B39,[1]FlowData!$A$3:$PL$215,T$7,FALSE)","v":838},{"$f":"VLOOKUP($B39,[1]FlowData!$A$3:$PL$215,U$7,FALSE)","v":701},{"$f":"VLOOKUP($B39,[1]FlowData!$A$3:$PL$215,V$7,FALSE)","v":1000},{"$f":"VLOOKUP($B39,[1]FlowData!$A$3:$PL$215,W$7,FALSE)","v":2800},{"$f":"VLOOKUP($B39,[1]FlowData!$A$3:$PL$215,X$7,FALSE)","v":1890},{"$f":"VLOOKUP($B39,[1]FlowData!$A$3:$PL$215,Y$7,FALSE)","v":1160},{"$f":"VLOOKUP($B39,[1]FlowData!$A$3:$PL$215,Z$7,FALSE)","v":2220},{"$f":"VLOOKUP($B39,[1]FlowData!$A$3:$PL$215,AA$7,FALSE)","v":9060},{"$f":"VLOOKUP($B39,[1]FlowData!$A$3:$PL$215,AB$7,FALSE)","v":5160},{"$f":"VLOOKUP($B39,[1]FlowData!$A$3:$PL$215,AC$7,FALSE)","v":3160},{"$f":"VLOOKUP($B39,[1]FlowData!$A$3:$PL$215,AD$7,FALSE)","v":6270},{"$f":"VLOOKUP($B39,[1]FlowData!$A$3:$PL$215,AE$7,FALSE)","v":10900},{"$f":"VLOOKUP($B39,[1]FlowData!$A$3:$PL$215,AF$7,FALSE)","v":7600},{"$f":"VLOOKUP($B39,[1]FlowData!$A$3:$PL$215,AG$7,FALSE)","v":4260},{"$f":"VLOOKUP($B39,[1]FlowData!$A$3:$PL$215,AH$7,FALSE)","v":7780},{"$f":"VLOOKUP($B39,[1]FlowData!$A$3:$PL$215,AI$7,FALSE)","v":2870},{"$f":"VLOOKUP($B39,[1]FlowData!$A$3:$PL$215,AJ$7,FALSE)","v":1400},{"$f":"VLOOKUP($B39,[1]FlowData!$A$3:$PL$215,AK$7,FALSE)","v":690},{"$f":"VLOOKUP($B39,[1]FlowData!$A$3:$PL$215,AL$7,FALSE)","v":1960},{"$f":"VLOOKUP($B39,[1]FlowData!$A$3:$PL$215,AM$7,FALSE)","v":887},{"$f":"VLOOKUP($B39,[1]FlowData!$A$3:$PL$215,AN$7,FALSE)","v":620},{"$f":"VLOOKUP($B39,[1]FlowData!$A$3:$PL$215,AO$7,FALSE)","v":516},{"$f":"VLOOKUP($B39,[1]FlowData!$A$3:$PL$215,AP$7,FALSE)","v":715},{"$f":"VLOOKUP($B39,[1]FlowData!$A$3:$PL$215,AQ$7,FALSE)","v":1120},{"$f":"VLOOKUP($B39,[1]FlowData!$A$3:$PL$215,AR$7,FALSE)","v":735},{"$f":"VLOOKUP($B39,[1]FlowData!$A$3:$PL$215,AS$7,FALSE)","v":554},{"$f":"VLOOKUP($B39,[1]FlowData!$A$3:$PL$215,AT$7,FALSE)","v":918},{"$f":"VLOOKUP($B39,[1]FlowData!$A$3:$PL$215,AU$7,FALSE)","v":1190},{"$f":"VLOOKUP($B39,[1]FlowData!$A$3:$PL$215,AV$7,FALSE)","v":868},{"$f":"VLOOKUP($B39,[1]FlowData!$A$3:$PL$215,AW$7,FALSE)","v":636},{"$f":"VLOOKUP($B39,[1]FlowData!$A$3:$PL$215,AX$7,FALSE)","v":1040},{"$f":"VLOOKUP($B39,[1]FlowData!$A$3:$PL$215,AY$7,FALSE)","v":1380},{"$f":"VLOOKUP($B39,[1]FlowData!$A$3:$PL$215,AZ$7,FALSE)","v":942},{"$f":"VLOOKUP($B39,[1]FlowData!$A$3:$PL$215,BA$7,FALSE)","v":628},{"$f":"VLOOKUP($B39,[1]FlowData!$A$3:$PL$215,BB$7,FALSE)","v":1120},{"$f":"VLOOKUP($B39,[1]FlowData!$A$3:$PL$215,BC$7,FALSE)","v":1180},{"$f":"VLOOKUP($B39,[1]FlowData!$A$3:$PL$215,BD$7,FALSE)","v":811},{"$f":"VLOOKUP($B39,[1]FlowData!$A$3:$PL$215,BE$7,FALSE)","v":619},{"$f":"VLOOKUP($B39,[1]FlowData!$A$3:$PL$215,BF$7,FALSE)","v":937}]
[{"$f":"VLOOKUP(B40,'[2]Gages and BCs'!$A$4:$BJ$973,62,FALSE)","v":685},12352000,{"$f":"VLOOKUP(B40,'[2]Gages and BCs'!$A$4:$BJ$973,60,FALSE)","v":"Lolo Creek above Sleeman Creek, near Lolo, Montana"},"1951–60",{"$f":"VLOOKUP($B40,[1]FlowData!$A$3:$PL$215,E$7,FALSE)","v":""},{"$f":"VLOOKUP($B40,[1]FlowData!$A$3:$PL$215,F$7,FALSE)","v":""},{"$f":"VLOOKUP($B40,[1]FlowData!$A$3:$PL$215,G$7,FALSE)","v":""},{"$f":"VLOOKUP($B40,[1]FlowData!$A$3:$PL$215,H$7,FALSE)","v":""},{"$f":"VLOOKUP($B40,[1]FlowData!$A$3:$PL$215,I$7,FALSE)","v":""},{"$f":"VLOOKUP($B40,[1]FlowData!$A$3:$PL$215,J$7,FALSE)","v":""},{"$f":"VLOOKUP($B40,[1]FlowData!$A$3:$PL$215,K$7,FALSE)","v":119},{"$f":"VLOOKUP($B40,[1]FlowData!$A$3:$PL$215,L$7,FALSE)","v":60},{"$f":"VLOOKUP($B40,[1]FlowData!$A$3:$PL$215,M$7,FALSE)","v":46},{"$f":"VLOOKUP($B40,[1]FlowData!$A$3:$PL$215,N$7,FALSE)","v":77},{"$f":"VLOOKUP($B40,[1]FlowData!$A$3:$PL$215,O$7,FALSE)","v":108},{"$f":"VLOOKUP($B40,[1]FlowData!$A$3:$PL$215,P$7,FALSE)","v":70},{"$f":"VLOOKUP($B40,[1]FlowData!$A$3:$PL$215,Q$7,FALSE)","v":53},{"$f":"VLOOKUP($B40,[1]FlowData!$A$3:$PL$215,R$7,FALSE)","v":91},{"$f":"VLOOKUP($B40,[1]FlowData!$A$3:$PL$215,S$7,FALSE)","v":128},{"$f":"VLOOKUP($B40,[1]FlowData!$A$3:$PL$215,T$7,FALSE)","v":88},{"$f":"VLOOKUP($B40,[1]FlowData!$A$3:$PL$215,U$7,FALSE)","v":57},{"$f":"VLOOKUP($B40,[1]FlowData!$A$3:$PL$215,V$7,FALSE)","v":101},{"$f":"VLOOKUP($B40,[1]FlowData!$A$3:$PL$215,W$7,FALSE)","v":535},{"$f":"VLOOKUP($B40,[1]FlowData!$A$3:$PL$215,X$7,FALSE)","v":302},{"$f":"VLOOKUP($B40,[1]FlowData!$A$3:$PL$215,Y$7,FALSE)","v":134},{"$f":"VLOOKUP($B40,[1]FlowData!$A$3:$PL$215,Z$7,FALSE)","v":372},{"$f":"VLOOKUP($B40,[1]FlowData!$A$3:$PL$215,AA$7,FALSE)","v":1070},{"$f":"VLOOKUP($B40,[1]FlowData!$A$3:$PL$215,AB$7,FALSE)","v":816},{"$f":"VLOOKUP($B40,[1]FlowData!$A$3:$PL$215,AC$7,FALSE)","v":516},{"$f":"VLOOKUP($B40,[1]FlowData!$A$3:$PL$215,AD$7,FALSE)","v":838},{"$f":"VLOOKUP($B40,[1]FlowData!$A$3:$PL$215,AE$7,FALSE)","v":864},{"$f":"VLOOKUP($B40,[1]FlowData!$A$3:$PL$215,AF$7,FALSE)","v":638},{"$f":"VLOOKUP($B40,[1]FlowData!$A$3:$PL$215,AG$7,FALSE)","v":395},{"$f":"VLOOKUP($B40,[1]FlowData!$A$3:$PL$215,AH$7,FALSE)","v":652},{"$f":"VLOOKUP($B40,[1]FlowData!$A$3:$PL$215,AI$7,FALSE)","v":321},{"$f":"VLOOKUP($B40,[1]FlowData!$A$3:$PL$215,AJ$7,FALSE)","v":175},{"$f":"VLOOKUP($B40,[1]FlowData!$A$3:$PL$215,AK$7,FALSE)","v":87},{"$f":"VLOOKUP($B40,[1]FlowData!$A$3:$PL$215,AL$7,FALSE)","v":211},{"$f":"VLOOKUP($B40,[1]FlowData!$A$3:$PL$215,AM$7,FALSE)","v":72},{"$f":"VLOOKUP($B40,[1]FlowData!$A$3:$PL$215,AN$7,FALSE)","v":48},{"$f":"VLOOKUP($B40,[1]FlowData!$A$3:$PL$215,AO$7,FALSE)","v":24},{"$f":"VLOOKUP($B40,[1]FlowData!$A$3:$PL$215,AP$7,FALSE)","v":50},{"$f":"VLOOKUP($B40,[1]FlowData!$A$3:$PL$215,AQ$7,FALSE)","v":59},{"$f":"VLOOKUP($B40,[1]FlowData!$A$3:$PL$215,AR$7,FALSE)","v":39},{"$f":"VLOOKUP($B40,[1]FlowData!$A$3:$PL$215,AS$7,FALSE)","v":18},{"$f":"VLOOKUP($B40,[1]FlowData!$A$3:$PL$215,AT$7,FALSE)","v":43},{"$f":"VLOOKUP($B40,[1]FlowData!$A$3:$PL$215,AU$7,FALSE)","v":""},{"$f":"VLOOKUP($B40,[1]FlowData!$A$3:$PL$215,AV$7,FALSE)","v":""},{"$f":"VLOOKUP($B40,[1]FlowData!$A$3:$PL$215,AW$7,FALSE)","v":""},{"$f":"VLOOKUP($B40,[1]FlowData!$A$3:$PL$215,AX$7,FALSE)","v":""},{"$f":"VLOOKUP($B40,[1]FlowData!$A$3:$PL$215,AY$7,FALSE)","v":134},{"$f":"VLOOKUP($B40,[1]FlowData!$A$3:$PL$215,AZ$7,FALSE)","v":74},{"$f":"VLOOKUP($B40,[1]FlowData!$A$3:$PL$215,BA$7,FALSE)","v":40},{"$f":"VLOOKUP($B40,[1]FlowData!$A$3:$PL$215,BB$7,FALSE)","v":89},{"$f":"VLOOKUP($B40,[1]FlowData!$A$3:$PL$215,BC$7,FALSE)","v":120},{"$f":"VLOOKUP($B40,[1]FlowData!$A$3:$PL$215,BD$7,FALSE)","v":65},{"$f":"VLOOKUP($B40,[1]FlowData!$A$3:$PL$215,BE$7,FALSE)","v":45},{"$f":"VLOOKUP($B40,[1]FlowData!$A$3:$PL$215,BF$7,FALSE)","v":87}]
[{"$f":"VLOOKUP(B41,'[2]Gages and BCs'!$A$4:$BJ$973,62,FALSE)","v":690},12353280,{"$f":"VLOOKUP(B41,'[2]Gages and BCs'!$A$4:$BJ$973,60,FALSE)","v":"Ninemile Creek near Huson, Montana"},"1974–83",{"$f":"VLOOKUP($B41,[1]FlowData!$A$3:$PL$215,E$7,FALSE)","v":""},{"$f":"VLOOKUP($B41,[1]FlowData!$A$3:$PL$215,F$7,FALSE)","v":""},{"$f":"VLOOKUP($B41,[1]FlowData!$A$3:$PL$215,G$7,FALSE)","v":195},{"$f":"VLOOKUP($B41,[1]FlowData!$A$3:$PL$215,H$7,FALSE)","v":56},{"$f":"VLOOKUP($B41,[1]FlowData!$A$3:$PL$215,I$7,FALSE)","v":29},{"$f":"VLOOKUP($B41,[1]FlowData!$A$3:$PL$215,J$7,FALSE)","v":132},{"$f":"VLOOKUP($B41,[1]FlowData!$A$3:$PL$215,K$7,FALSE)","v":60},{"$f":"VLOOKUP($B41,[1]FlowData!$A$3:$PL$215,L$7,FALSE)","v":42},{"$f":"VLOOKUP($B41,[1]FlowData!$A$3:$PL$215,M$7,FALSE)","v":24},{"$f":"VLOOKUP($B41,[1]FlowData!$A$3:$PL$215,N$7,FALSE)","v":54},{"$f":"VLOOKUP($B41,[1]FlowData!$A$3:$PL$215,O$7,FALSE)","v":59},{"$f":"VLOOKUP($B41,[1]FlowData!$A$3:$PL$215,P$7,FALSE)","v":34},{"$f":"VLOOKUP($B41,[1]FlowData!$A$3:$PL$215,Q$7,FALSE)","v":25},{"$f":"VLOOKUP($B41,[1]FlowData!$A$3:$PL$215,R$7,FALSE)","v":48},{"$f":"VLOOKUP($B41,[1]FlowData!$A$3:$PL$215,S$7,FALSE)","v":146},{"$f":"VLOOKUP($B41,[1]FlowData!$A$3:$PL$215,T$7,FALSE)","v":84},{"$f":"VLOOKUP($B41,[1]FlowData!$A$3:$PL$215,U$7,FALSE)","v":36},{"$f":"VLOOKUP($B41,[1]FlowData!$A$3:$PL$215,V$7,FALSE)","v":109},{"$f":"VLOOKUP($B41,[1]FlowData!$A$3:$PL$215,W$7,FALSE)","v":435},{"$f":"VLOOKUP($B41,[1]FlowData!$A$3:$PL$215,X$7,FALSE)","v":224},{"$f":"VLOOKUP($B41,[1]FlowData!$A$3:$PL$215,Y$7,FALSE)","v":95},{"$f":"VLOOKUP($B41,[1]FlowData!$A$3:$PL$215,Z$7,FALSE)","v":271},{"$f":"VLOOKUP($B41,[1]FlowData!$A$3:$PL$215,AA$7,FALSE)","v":677},{"$f":"VLOOKUP($B41,[1]FlowData!$A$3:$PL$215,AB$7,FALSE)","v":458},{"$f":"VLOOKUP($B41,[1]FlowData!$A$3:$PL$215,AC$7,FALSE)","v":257},{"$f":"VLOOKUP($B41,[1]FlowData!$A$3:$PL$215,AD$7,FALSE)","v":479},{"$f":"VLOOKUP($B41,[1]FlowData!$A$3:$PL$215,AE$7,FALSE)","v":504},{"$f":"VLOOKUP($B41,[1]FlowData!$A$3:$PL$215,AF$7,FALSE)","v":296},{"$f":"VLOOKUP($B41,[1]FlowData!$A$3:$PL$215,AG$7,FALSE)","v":170},{"$f":"VLOOKUP($B41,[1]FlowData!$A$3:$PL$215,AH$7,FALSE)","v":339},{"$f":"VLOOKUP($B41,[1]FlowData!$A$3:$PL$215,AI$7,FALSE)","v":144},{"$f":"VLOOKUP($B41,[1]FlowData!$A$3:$PL$215,AJ$7,FALSE)","v":95},{"$f":"VLOOKUP($B41,[1]FlowData!$A$3:$PL$215,AK$7,FALSE)","v":61},{"$f":"VLOOKUP($B41,[1]FlowData!$A$3:$PL$215,AL$7,FALSE)","v":104},{"$f":"VLOOKUP($B41,[1]FlowData!$A$3:$PL$215,AM$7,FALSE)","v":53},{"$f":"VLOOKUP($B41,[1]FlowData!$A$3:$PL$215,AN$7,FALSE)","v":39},{"$f":"VLOOKUP($B41,[1]FlowData!$A$3:$PL$215,AO$7,FALSE)","v":28},{"$f":"VLOOKUP($B41,[1]FlowData!$A$3:$PL$215,AP$7,FALSE)","v":42},{"$f":"VLOOKUP($B41,[1]FlowData!$A$3:$PL$215,AQ$7,FALSE)","v":40},{"$f":"VLOOKUP($B41,[1]FlowData!$A$3:$PL$215,AR$7,FALSE)","v":34},{"$f":"VLOOKUP($B41,[1]FlowData!$A$3:$PL$215,AS$7,FALSE)","v":25},{"$f":"VLOOKUP($B41,[1]FlowData!$A$3:$PL$215,AT$7,FALSE)","v":33},{"$f":"VLOOKUP($B41,[1]FlowData!$A$3:$PL$215,AU$7,FALSE)","v":35},{"$f":"VLOOKUP($B41,[1]FlowData!$A$3:$PL$215,AV$7,FALSE)","v":31},{"$f":"VLOOKUP($B41,[1]FlowData!$A$3:$PL$215,AW$7,FALSE)","v":26},{"$f":"VLOOKUP($B41,[1]FlowData!$A$3:$PL$215,AX$7,FALSE)","v":31},{"$f":"VLOOKUP($B41,[1]FlowData!$A$3:$PL$215,AY$7,FALSE)","v":36},{"$f":"VLOOKUP($B41,[1]FlowData!$A$3:$PL$215,AZ$7,FALSE)","v":31},{"$f":"VLOOKUP($B41,[1]FlowData!$A$3:$PL$215,BA$7,FALSE)","v":27},{"$f":"VLOOKUP($B41,[1]FlowData!$A$3:$PL$215,BB$7,FALSE)","v":32},{"$f":"VLOOKUP($B41,[1]FlowData!$A$3:$PL$215,BC$7,FALSE)","v":53},{"$f":"VLOOKUP($B41,[1]FlowData!$A$3:$PL$215,BD$7,FALSE)","v":31},{"$f":"VLOOKUP($B41,[1]FlowData!$A$3:$PL$215,BE$7,FALSE)","v":25},{"$f":"VLOOKUP($B41,[1]FlowData!$A$3:$PL$215,BF$7,FALSE)","v":43}]
[{"$f":"VLOOKUP(B42,'[2]Gages and BCs'!$A$4:$BJ$973,62,FALSE)","v":695},12354000,{"$f":"VLOOKUP(B42,'[2]Gages and BCs'!$A$4:$BJ$973,60,FALSE)","v":"St. Regis River near St. Regis, Montana"},"1911–14, 1959–75, 2002–9",{"$f":"VLOOKUP($B42,[1]FlowData!$A$3:$PL$215,E$7,FALSE)","v":64.313999999999993},{"$f":"VLOOKUP($B42,[1]FlowData!$A$3:$PL$215,F$7,FALSE)","v":80.762},{"$f":"VLOOKUP($B42,[1]FlowData!$A$3:$PL$215,G$7,FALSE)","v":850},{"$f":"VLOOKUP($B42,[1]FlowData!$A$3:$PL$215,H$7,FALSE)","v":282},{"$f":"VLOOKUP($B42,[1]FlowData!$A$3:$PL$215,I$7,FALSE)","v":137},{"$f":"VLOOKUP($B42,[1]FlowData!$A$3:$PL$215,J$7,FALSE)","v":541},{"$f":"VLOOKUP($B42,[1]FlowData!$A$3:$PL$215,K$7,FALSE)","v":343},{"$f":"VLOOKUP($B42,[1]FlowData!$A$3:$PL$215,L$7,FALSE)","v":231},{"$f":"VLOOKUP($B42,[1]FlowData!$A$3:$PL$215,M$7,FALSE)","v":119},{"$f":"VLOOKUP($B42,[1]FlowData!$A$3:$PL$215,N$7,FALSE)","v":259},{"$f":"VLOOKUP($B42,[1]FlowData!$A$3:$PL$215,O$7,FALSE)","v":368},{"$f":"VLOOKUP($B42,[1]FlowData!$A$3:$PL$215,P$7,FALSE)","v":204},{"$f":"VLOOKUP($B42,[1]FlowData!$A$3:$PL$215,Q$7,FALSE)","v":135},{"$f":"VLOOKUP($B42,[1]FlowData!$A$3:$PL$215,R$7,FALSE)","v":277},{"$f":"VLOOKUP($B42,[1]FlowData!$A$3:$PL$215,S$7,FALSE)","v":574},{"$f":"VLOOKUP($B42,[1]FlowData!$A$3:$PL$215,T$7,FALSE)","v":312},{"$f":"VLOOKUP($B42,[1]FlowData!$A$3:$PL$215,U$7,FALSE)","v":183},{"$f":"VLOOKUP($B42,[1]FlowData!$A$3:$PL$215,V$7,FALSE)","v":421},{"$f":"VLOOKUP($B42,[1]FlowData!$A$3:$PL$215,W$7,FALSE)","v":1620},{"$f":"VLOOKUP($B42,[1]FlowData!$A$3:$PL$215,X$7,FALSE)","v":1050},{"$f":"VLOOKUP($B42,[1]FlowData!$A$3:$PL$215,Y$7,FALSE)","v":601},{"$f":"VLOOKUP($B42,[1]FlowData!$A$3:$PL$215,Z$7,FALSE)","v":1190},{"$f":"VLOOKUP($B42,[1]FlowData!$A$3:$PL$215,AA$7,FALSE)","v":2890},{"$f":"VLOOKUP($B42,[1]FlowData!$A$3:$PL$215,AB$7,FALSE)","v":1810},{"$f":"VLOOKUP($B42,[1]FlowData!$A$3:$PL$215,AC$7,FALSE)","v":1180},{"$f":"VLOOKUP($B42,[1]FlowData!$A$3:$PL$215,AD$7,FALSE)","v":2090},{"$f":"VLOOKUP($B42,[1]FlowData!$A$3:$PL$215,AE$7,FALSE)","v":2160},{"$f":"VLOOKUP($B42,[1]FlowData!$A$3:$PL$215,AF$7,FALSE)","v":1200},{"$f":"VLOOKUP($B42,[1]FlowData!$A$3:$PL$215,AG$7,FALSE)","v":585},{"$f":"VLOOKUP($B42,[1]FlowData!$A$3:$PL$215,AH$7,FALSE)","v":1420},{"$f":"VLOOKUP($B42,[1]FlowData!$A$3:$PL$215,AI$7,FALSE)","v":497},{"$f":"VLOOKUP($B42,[1]FlowData!$A$3:$PL$215,AJ$7,FALSE)","v":291},{"$f":"VLOOKUP($B42,[1]FlowData!$A$3:$PL$215,AK$7,FALSE)","v":191},{"$f":"VLOOKUP($B42,[1]FlowData!$A$3:$PL$215,AL$7,FALSE)","v":378},{"$f":"VLOOKUP($B42,[1]FlowData!$A$3:$PL$215,AM$7,FALSE)","v":184},{"$f":"VLOOKUP($B42,[1]FlowData!$A$3:$PL$215,AN$7,FALSE)","v":146},{"$f":"VLOOKUP($B42,[1]FlowData!$A$3:$PL$215,AO$7,FALSE)","v":108},{"$f":"VLOOKUP($B42,[1]FlowData!$A$3:$PL$215,AP$7,FALSE)","v":150},{"$f":"VLOOKUP($B42,[1]FlowData!$A$3:$PL$215,AQ$7,FALSE)","v":141},{"$f":"VLOOKUP($B42,[1]FlowData!$A$3:$PL$215,AR$7,FALSE)","v":112},{"$f":"VLOOKUP($B42,[1]FlowData!$A$3:$PL$215,AS$7,FALSE)","v":91},{"$f":"VLOOKUP($B42,[1]FlowData!$A$3:$PL$215,AT$7,FALSE)","v":117},{"$f":"VLOOKUP($B42,[1]FlowData!$A$3:$PL$215,AU$7,FALSE)","v":154},{"$f":"VLOOKUP($B42,[1]FlowData!$A$3:$PL$215,AV$7,FALSE)","v":113},{"$f":"VLOOKUP($B42,[1]FlowData!$A$3:$PL$215,AW$7,FALSE)","v":93},{"$f":"VLOOKUP($B42,[1]FlowData!$A$3:$PL$215,AX$7,FALSE)","v":132},{"$f":"VLOOKUP($B42,[1]FlowData!$A$3:$PL$215,AY$7,FALSE)","v":252},{"$f":"VLOOKUP($B42,[1]FlowData!$A$3:$PL$215,AZ$7,FALSE)","v":142},{"$f":"VLOOKUP($B42,[1]FlowData!$A$3:$PL$215,BA$7,FALSE)","v":89},{"$f":"VLOOKUP($B42,[1]FlowData!$A$3:$PL$215,BB$7,FALSE)","v":199},{"$f":"VLOOKUP($B42,[1]FlowData!$A$3:$PL$215,BC$7,FALSE)","v":287},{"$f":"VLOOKUP($B42,[1]FlowData!$A$3:$PL$215,BD$7,FALSE)","v":145},{"$f":"VLOOKUP($B42,[1]FlowData!$A$3:$PL$215,BE$7,FALSE)","v":81},{"$f":"VLOOKUP($B42,[1]FlowData!$A$3:$PL$215,BF$7,FALSE)","v":205}]
[{"$f":"VLOOKUP(B43,'[2]Gages and BCs'!$A$4:$BJ$973,62,FALSE)","v":698},12355000,{"$f":"VLOOKUP(B43,'[2]Gages and BCs'!$A$4:$BJ$973,60,FALSE)","v":"Flathead River at Flathead, British Columbia"},"1929–39, 1941–95, 2000–9",{"$f":"VLOOKUP($B43,[1]FlowData!$A$3:$PL$215,E$7,FALSE)","v":85.245000000000005},{"$f":"VLOOKUP($B43,[1]FlowData!$A$3:$PL$215,F$7,FALSE)","v":167.53},{"$f":"VLOOKUP($B43,[1]FlowData!$A$3:$PL$215,G$7,FALSE)","v":1200},{"$f":"VLOOKUP($B43,[1]FlowData!$A$3:$PL$215,H$7,FALSE)","v":414},{"$f":"VLOOKUP($B43,[1]FlowData!$A$3:$PL$215,I$7,FALSE)","v":199},{"$f":"VLOOKUP($B43,[1]FlowData!$A$3:$PL$215,J$7,FALSE)","v":889},{"$f":"VLOOKUP($B43,[1]FlowData!$A$3:$PL$215,K$7,FALSE)","v":248},{"$f":"VLOOKUP($B43,[1]FlowData!$A$3:$PL$215,L$7,FALSE)","v":158},{"$f":"VLOOKUP($B43,[1]FlowData!$A$3:$PL$215,M$7,FALSE)","v":120},{"$f":"VLOOKUP($B43,[1]FlowData!$A$3:$PL$215,N$7,FALSE)","v":192},{"$f":"VLOOKUP($B43,[1]FlowData!$A$3:$PL$215,O$7,FALSE)","v":216},{"$f":"VLOOKUP($B43,[1]FlowData!$A$3:$PL$215,P$7,FALSE)","v":154},{"$f":"VLOOKUP($B43,[1]FlowData!$A$3:$PL$215,Q$7,FALSE)","v":114},{"$f":"VLOOKUP($B43,[1]FlowData!$A$3:$PL$215,R$7,FALSE)","v":174},{"$f":"VLOOKUP($B43,[1]FlowData!$A$3:$PL$215,S$7,FALSE)","v":236},{"$f":"VLOOKUP($B43,[1]FlowData!$A$3:$PL$215,T$7,FALSE)","v":178},{"$f":"VLOOKUP($B43,[1]FlowData!$A$3:$PL$215,U$7,FALSE)","v":120},{"$f":"VLOOKUP($B43,[1]FlowData!$A$3:$PL$215,V$7,FALSE)","v":208},{"$f":"VLOOKUP($B43,[1]FlowData!$A$3:$PL$215,W$7,FALSE)","v":1390},{"$f":"VLOOKUP($B43,[1]FlowData!$A$3:$PL$215,X$7,FALSE)","v":552},{"$f":"VLOOKUP($B43,[1]FlowData!$A$3:$PL$215,Y$7,FALSE)","v":228},{"$f":"VLOOKUP($B43,[1]FlowData!$A$3:$PL$215,Z$7,FALSE)","v":896},{"$f":"VLOOKUP($B43,[1]FlowData!$A$3:$PL$215,AA$7,FALSE)","v":4990},{"$f":"VLOOKUP($B43,[1]FlowData!$A$3:$PL$215,AB$7,FALSE)","v":3100},{"$f":"VLOOKUP($B43,[1]FlowData!$A$3:$PL$215,AC$7,FALSE)","v":1830},{"$f":"VLOOKUP($B43,[1]FlowData!$A$3:$PL$215,AD$7,FALSE)","v":3460},{"$f":"VLOOKUP($B43,[1]FlowData!$A$3:$PL$215,AE$7,FALSE)","v":4470},{"$f":"VLOOKUP($B43,[1]FlowData!$A$3:$PL$215,AF$7,FALSE)","v":2660},{"$f":"VLOOKUP($B43,[1]FlowData!$A$3:$PL$215,AG$7,FALSE)","v":1500},{"$f":"VLOOKUP($B43,[1]FlowData!$A$3:$PL$215,AH$7,FALSE)","v":3020},{"$f":"VLOOKUP($B43,[1]FlowData!$A$3:$PL$215,AI$7,FALSE)","v":1330},{"$f":"VLOOKUP($B43,[1]FlowData!$A$3:$PL$215,AJ$7,FALSE)","v":769},{"$f":"VLOOKUP($B43,[1]FlowData!$A$3:$PL$215,AK$7,FALSE)","v":480},{"$f":"VLOOKUP($B43,[1]FlowData!$A$3:$PL$215,AL$7,FALSE)","v":949},{"$f":"VLOOKUP($B43,[1]FlowData!$A$3:$PL$215,AM$7,FALSE)","v":478},{"$f":"VLOOKUP($B43,[1]FlowData!$A$3:$PL$215,AN$7,FALSE)","v":343},{"$f":"VLOOKUP($B43,[1]FlowData!$A$3:$PL$215,AO$7,FALSE)","v":251},{"$f":"VLOOKUP($B43,[1]FlowData!$A$3:$PL$215,AP$7,FALSE)","v":376},{"$f":"VLOOKUP($B43,[1]FlowData!$A$3:$PL$215,AQ$7,FALSE)","v":347},{"$f":"VLOOKUP($B43,[1]FlowData!$A$3:$PL$215,AR$7,FALSE)","v":254},{"$f":"VLOOKUP($B43,[1]FlowData!$A$3:$PL$215,AS$7,FALSE)","v":195},{"$f":"VLOOKUP($B43,[1]FlowData!$A$3:$PL$215,AT$7,FALSE)","v":289},{"$f":"VLOOKUP($B43,[1]FlowData!$A$3:$PL$215,AU$7,FALSE)","v":405},{"$f":"VLOOKUP($B43,[1]FlowData!$A$3:$PL$215,AV$7,FALSE)","v":241},{"$f":"VLOOKUP($B43,[1]FlowData!$A$3:$PL$215,AW$7,FALSE)","v":158},{"$f":"VLOOKUP($B43,[1]FlowData!$A$3:$PL$215,AX$7,FALSE)","v":329},{"$f":"VLOOKUP($B43,[1]FlowData!$A$3:$PL$215,AY$7,FALSE)","v":476},{"$f":"VLOOKUP($B43,[1]FlowData!$A$3:$PL$215,AZ$7,FALSE)","v":259},{"$f":"VLOOKUP($B43,[1]FlowData!$A$3:$PL$215,BA$7,FALSE)","v":144},{"$f":"VLOOKUP($B43,[1]FlowData!$A$3:$PL$215,BB$7,FALSE)","v":348},{"$f":"VLOOKUP($B43,[1]FlowData!$A$3:$PL$215,BC$7,FALSE)","v":294},{"$f":"VLOOKUP($B43,[1]FlowData!$A$3:$PL$215,BD$7,FALSE)","v":197},{"$f":"VLOOKUP($B43,[1]FlowData!$A$3:$PL$215,BE$7,FALSE)","v":143},{"$f":"VLOOKUP($B43,[1]FlowData!$A$3:$PL$215,BF$7,FALSE)","v":236}]
[{"$f":"VLOOKUP(B44,'[2]Gages and BCs'!$A$4:$BJ$973,62,FALSE)","v":718},12363920,{"$f":"VLOOKUP(B44,'[2]Gages and BCs'!$A$4:$BJ$973,60,FALSE)","v":"Stillwater River at Olney, Montana"},"1973–82",{"$f":"VLOOKUP($B44,[1]FlowData!$A$3:$PL$215,E$7,FALSE)","v":""},{"$f":"VLOOKUP($B44,[1]FlowData!$A$3:$PL$215,F$7,FALSE)","v":""},{"$f":"VLOOKUP($B44,[1]FlowData!$A$3:$PL$215,G$7,FALSE)","v":228},{"$f":"VLOOKUP($B44,[1]FlowData!$A$3:$PL$215,H$7,FALSE)","v":75},{"$f":"VLOOKUP($B44,[1]FlowData!$A$3:$PL$215,I$7,FALSE)","v":44},{"$f":"VLOOKUP($B44,[1]FlowData!$A$3:$PL$215,J$7,FALSE)","v":148},{"$f":"VLOOKUP($B44,[1]FlowData!$A$3:$PL$215,K$7,FALSE)","v":62},{"$f":"VLOOKUP($B44,[1]FlowData!$A$3:$PL$215,L$7,FALSE)","v":40},{"$f":"VLOOKUP($B44,[1]FlowData!$A$3:$PL$215,M$7,FALSE)","v":32},{"$f":"VLOOKUP($B44,[1]FlowData!$A$3:$PL$215,N$7,FALSE)","v":51},{"$f":"VLOOKUP($B44,[1]FlowData!$A$3:$PL$215,O$7,FALSE)","v":64},{"$f":"VLOOKUP($B44,[1]FlowData!$A$3:$PL$215,P$7,FALSE)","v":42},{"$f":"VLOOKUP($B44,[1]FlowData!$A$3:$PL$215,Q$7,FALSE)","v":34},{"$f":"VLOOKUP($B44,[1]FlowData!$A$3:$PL$215,R$7,FALSE)","v":48},{"$f":"VLOOKUP($B44,[1]FlowData!$A$3:$PL$215,S$7,FALSE)","v":76},{"$f":"VLOOKUP($B44,[1]FlowData!$A$3:$PL$215,T$7,FALSE)","v":49},{"$f":"VLOOKUP($B44,[1]FlowData!$A$3:$PL$215,U$7,FALSE)","v":40},{"$f":"VLOOKUP($B44,[1]FlowData!$A$3:$PL$215,V$7,FALSE)","v":59},{"$f":"VLOOKUP($B44,[1]FlowData!$A$3:$PL$215,W$7,FALSE)","v":258},{"$f":"VLOOKUP($B44,[1]FlowData!$A$3:$PL$215,X$7,FALSE)","v":139},{"$f":"VLOOKUP($B44,[1]FlowData!$A$3:$PL$215,Y$7,FALSE)","v":78},{"$f":"VLOOKUP($B44,[1]FlowData!$A$3:$PL$215,Z$7,FALSE)","v":180},{"$f":"VLOOKUP($B44,[1]FlowData!$A$3:$PL$215,AA$7,FALSE)","v":562},{"$f":"VLOOKUP($B44,[1]FlowData!$A$3:$PL$215,AB$7,FALSE)","v":396},{"$f":"VLOOKUP($B44,[1]FlowData!$A$3:$PL$215,AC$7,FALSE)","v":278},{"$f":"VLOOKUP($B44,[1]FlowData!$A$3:$PL$215,AD$7,FALSE)","v":421},{"$f":"VLOOKUP($B44,[1]FlowData!$A$3:$PL$215,AE$7,FALSE)","v":600},{"$f":"VLOOKUP($B44,[1]FlowData!$A$3:$PL$215,AF$7,FALSE)","v":446},{"$f":"VLOOKUP($B44,[1]FlowData!$A$3:$PL$215,AG$7,FALSE)","v":259},{"$f":"VLOOKUP($B44,[1]FlowData!$A$3:$PL$215,AH$7,FALSE)","v":473},{"$f":"VLOOKUP($B44,[1]FlowData!$A$3:$PL$215,AI$7,FALSE)","v":282},{"$f":"VLOOKUP($B44,[1]FlowData!$A$3:$PL$215,AJ$7,FALSE)","v":193},{"$f":"VLOOKUP($B44,[1]FlowData!$A$3:$PL$215,AK$7,FALSE)","v":109},{"$f":"VLOOKUP($B44,[1]FlowData!$A$3:$PL$215,AL$7,FALSE)","v":210},{"$f":"VLOOKUP($B44,[1]FlowData!$A$3:$PL$215,AM$7,FALSE)","v":141},{"$f":"VLOOKUP($B44,[1]FlowData!$A$3:$PL$215,AN$7,FALSE)","v":98},{"$f":"VLOOKUP($B44,[1]FlowData!$A$3:$PL$215,AO$7,FALSE)","v":63},{"$f":"VLOOKUP($B44,[1]FlowData!$A$3:$PL$215,AP$7,FALSE)","v":99},{"$f":"VLOOKUP($B44,[1]FlowData!$A$3:$PL$215,AQ$7,FALSE)","v":86},{"$f":"VLOOKUP($B44,[1]FlowData!$A$3:$PL$215,AR$7,FALSE)","v":71},{"$f":"VLOOKUP($B44,[1]FlowData!$A$3:$PL$215,AS$7,FALSE)","v":45},{"$f":"VLOOKUP($B44,[1]FlowData!$A$3:$PL$215,AT$7,FALSE)","v":70},{"$f":"VLOOKUP($B44,[1]FlowData!$A$3:$PL$215,AU$7,FALSE)","v":64},{"$f":"VLOOKUP($B44,[1]FlowData!$A$3:$PL$215,AV$7,FALSE)","v":58},{"$f":"VLOOKUP($B44,[1]FlowData!$A$3:$PL$215,AW$7,FALSE)","v":43},{"$f":"VLOOKUP($B44,[1]FlowData!$A$3:$PL$215,AX$7,FALSE)","v":55},{"$f":"VLOOKUP($B44,[1]FlowData!$A$3:$PL$215,AY$7,FALSE)","v":68},{"$f":"VLOOKUP($B44,[1]FlowData!$A$3:$PL$215,AZ$7,FALSE)","v":54},{"$f":"VLOOKUP($B44,[1]FlowData!$A$3:$PL$215,BA$7,FALSE)","v":45},{"$f":"VLOOKUP($B44,[1]FlowData!$A$3:$PL$215,BB$7,FALSE)","v":57},{"$f":"VLOOKUP($B44,[1]FlowData!$A$3:$PL$215,BC$7,FALSE)","v":64},{"$f":"VLOOKUP($B44,[1]FlowData!$A$3:$PL$215,BD$7,FALSE)","v":48},{"$f":"VLOOKUP($B44,[1]FlowData!$A$3:$PL$215,BE$7,FALSE)","v":42},{"$f":"VLOOKUP($B44,[1]FlowData!$A$3:$PL$215,BF$7,FALSE)","v":53}]
[{"$f":"VLOOKUP(B45,'[2]Gages and BCs'!$A$4:$BJ$973,62,FALSE)","v":720},12365000,{"$f":"VLOOKUP(B45,'[2]Gages and BCs'!$A$4:$BJ$973,60,FALSE)","v":"Stillwater River near Whitefish, Montana"},"1931–50, 1973–2006",{"$f":"VLOOKUP($B45,[1]FlowData!$A$3:$PL$215,E$7,FALSE)","v":47.402000000000001},{"$f":"VLOOKUP($B45,[1]FlowData!$A$3:$PL$215,F$7,FALSE)","v":67.275999999999996},{"$f":"VLOOKUP($B45,[1]FlowData!$A$3:$PL$215,G$7,FALSE)","v":539},{"$f":"VLOOKUP($B45,[1]FlowData!$A$3:$PL$215,H$7,FALSE)","v":159},{"$f":"VLOOKUP($B45,[1]FlowData!$A$3:$PL$215,I$7,FALSE)","v":73},{"$f":"VLOOKUP($B45,[1]FlowData!$A$3:$PL$215,J$7,FALSE)","v":355},{"$f":"VLOOKUP($B45,[1]FlowData!$A$3:$PL$215,K$7,FALSE)","v":143},{"$f":"VLOOKUP($B45,[1]FlowData!$A$3:$PL$215,L$7,FALSE)","v":97},{"$f":"VLOOKUP($B45,[1]FlowData!$A$3:$PL$215,M$7,FALSE)","v":72},{"$f":"VLOOKUP($B45,[1]FlowData!$A$3:$PL$215,N$7,FALSE)","v":123},{"$f":"VLOOKUP($B45,[1]FlowData!$A$3:$PL$215,O$7,FALSE)","v":144},{"$f":"VLOOKUP($B45,[1]FlowData!$A$3:$PL$215,P$7,FALSE)","v":102},{"$f":"VLOOKUP($B45,[1]FlowData!$A$3:$PL$215,Q$7,FALSE)","v":74},{"$f":"VLOOKUP($B45,[1]FlowData!$A$3:$PL$215,R$7,FALSE)","v":124},{"$f":"VLOOKUP($B45,[1]FlowData!$A$3:$PL$215,S$7,FALSE)","v":215},{"$f":"VLOOKUP($B45,[1]FlowData!$A$3:$PL$215,T$7,FALSE)","v":128},{"$f":"VLOOKUP($B45,[1]FlowData!$A$3:$PL$215,U$7,FALSE)","v":89},{"$f":"VLOOKUP($B45,[1]FlowData!$A$3:$PL$215,V$7,FALSE)","v":163},{"$f":"VLOOKUP($B45,[1]FlowData!$A$3:$PL$215,W$7,FALSE)","v":1010},{"$f":"VLOOKUP($B45,[1]FlowData!$A$3:$PL$215,X$7,FALSE)","v":492},{"$f":"VLOOKUP($B45,[1]FlowData!$A$3:$PL$215,Y$7,FALSE)","v":230},{"$f":"VLOOKUP($B45,[1]FlowData!$A$3:$PL$215,Z$7,FALSE)","v":660},{"$f":"VLOOKUP($B45,[1]FlowData!$A$3:$PL$215,AA$7,FALSE)","v":1590},{"$f":"VLOOKUP($B45,[1]FlowData!$A$3:$PL$215,AB$7,FALSE)","v":1050},{"$f":"VLOOKUP($B45,[1]FlowData!$A$3:$PL$215,AC$7,FALSE)","v":590},{"$f":"VLOOKUP($B45,[1]FlowData!$A$3:$PL$215,AD$7,FALSE)","v":1150},{"$f":"VLOOKUP($B45,[1]FlowData!$A$3:$PL$215,AE$7,FALSE)","v":1220},{"$f":"VLOOKUP($B45,[1]FlowData!$A$3:$PL$215,AF$7,FALSE)","v":784},{"$f":"VLOOKUP($B45,[1]FlowData!$A$3:$PL$215,AG$7,FALSE)","v":430},{"$f":"VLOOKUP($B45,[1]FlowData!$A$3:$PL$215,AH$7,FALSE)","v":857},{"$f":"VLOOKUP($B45,[1]FlowData!$A$3:$PL$215,AI$7,FALSE)","v":539},{"$f":"VLOOKUP($B45,[1]FlowData!$A$3:$PL$215,AJ$7,FALSE)","v":318},{"$f":"VLOOKUP($B45,[1]FlowData!$A$3:$PL$215,AK$7,FALSE)","v":179},{"$f":"VLOOKUP($B45,[1]FlowData!$A$3:$PL$215,AL$7,FALSE)","v":372},{"$f":"VLOOKUP($B45,[1]FlowData!$A$3:$PL$215,AM$7,FALSE)","v":241},{"$f":"VLOOKUP($B45,[1]FlowData!$A$3:$PL$215,AN$7,FALSE)","v":165},{"$f":"VLOOKUP($B45,[1]FlowData!$A$3:$PL$215,AO$7,FALSE)","v":92},{"$f":"VLOOKUP($B45,[1]FlowData!$A$3:$PL$215,AP$7,FALSE)","v":174},{"$f":"VLOOKUP($B45,[1]FlowData!$A$3:$PL$215,AQ$7,FALSE)","v":164},{"$f":"VLOOKUP($B45,[1]FlowData!$A$3:$PL$215,AR$7,FALSE)","v":124},{"$f":"VLOOKUP($B45,[1]FlowData!$A$3:$PL$215,AS$7,FALSE)","v":76},{"$f":"VLOOKUP($B45,[1]FlowData!$A$3:$PL$215,AT$7,FALSE)","v":125},{"$f":"VLOOKUP($B45,[1]FlowData!$A$3:$PL$215,AU$7,FALSE)","v":138},{"$f":"VLOOKUP($B45,[1]FlowData!$A$3:$PL$215,AV$7,FALSE)","v":109},{"$f":"VLOOKUP($B45,[1]FlowData!$A$3:$PL$215,AW$7,FALSE)","v":74},{"$f":"VLOOKUP($B45,[1]FlowData!$A$3:$PL$215,AX$7,FALSE)","v":113},{"$f":"VLOOKUP($B45,[1]FlowData!$A$3:$PL$215,AY$7,FALSE)","v":153},{"$f":"VLOOKUP($B45,[1]FlowData!$A$3:$PL$215,AZ$7,FALSE)","v":114},{"$f":"VLOOKUP($B45,[1]FlowData!$A$3:$PL$215,BA$7,FALSE)","v":82},{"$f":"VLOOKUP($B45,[1]FlowData!$A$3:$PL$215,BB$7,FALSE)","v":127},{"$f":"VLOOKUP($B45,[1]FlowData!$A$3:$PL$215,BC$7,FALSE)","v":142},{"$f":"VLOOKUP($B45,[1]FlowData!$A$3:$PL$215,BD$7,FALSE)","v":97},{"$f":"VLOOKUP($B45,[1]FlowData!$A$3:$PL$215,BE$7,FALSE)","v":74},{"$f":"VLOOKUP($B45,[1]FlowData!$A$3:$PL$215,BF$7,FALSE)","v":121}]
[{"$f":"VLOOKUP(B46,'[2]Gages and BCs'!$A$4:$BJ$973,62,FALSE)","v":722},12366000,{"$f":"VLOOKUP(B46,'[2]Gages and BCs'!$A$4:$BJ$973,60,FALSE)","v":"Whitefish River near Kalispell, Montana"},"1929–50, 1973–2006",{"$f":"VLOOKUP($B46,[1]FlowData!$A$3:$PL$215,E$7,FALSE)","v":23.332000000000001},{"$f":"VLOOKUP($B46,[1]FlowData!$A$3:$PL$215,F$7,FALSE)","v":28.413},{"$f":"VLOOKUP($B46,[1]FlowData!$A$3:$PL$215,G$7,FALSE)","v":294},{"$f":"VLOOKUP($B46,[1]FlowData!$A$3:$PL$215,H$7,FALSE)","v":104},{"$f":"VLOOKUP($B46,[1]FlowData!$A$3:$PL$215,I$7,FALSE)","v":47},{"$f":"VLOOKUP($B46,[1]FlowData!$A$3:$PL$215,J$7,FALSE)","v":190},{"$f":"VLOOKUP($B46,[1]FlowData!$A$3:$PL$215,K$7,FALSE)","v":94},{"$f":"VLOOKUP($B46,[1]FlowData!$A$3:$PL$215,L$7,FALSE)","v":58},{"$f":"VLOOKUP($B46,[1]FlowData!$A$3:$PL$215,M$7,FALSE)","v":43},{"$f":"VLOOKUP($B46,[1]FlowData!$A$3:$PL$215,N$7,FALSE)","v":72},{"$f":"VLOOKUP($B46,[1]FlowData!$A$3:$PL$215,O$7,FALSE)","v":90},{"$f":"VLOOKUP($B46,[1]FlowData!$A$3:$PL$215,P$7,FALSE)","v":59},{"$f":"VLOOKUP($B46,[1]FlowData!$A$3:$PL$215,Q$7,FALSE)","v":42},{"$f":"VLOOKUP($B46,[1]FlowData!$A$3:$PL$215,R$7,FALSE)","v":70},{"$f":"VLOOKUP($B46,[1]FlowData!$A$3:$PL$215,S$7,FALSE)","v":127},{"$f":"VLOOKUP($B46,[1]FlowData!$A$3:$PL$215,T$7,FALSE)","v":84},{"$f":"VLOOKUP($B46,[1]FlowData!$A$3:$PL$215,U$7,FALSE)","v":58},{"$f":"VLOOKUP($B46,[1]FlowData!$A$3:$PL$215,V$7,FALSE)","v":97},{"$f":"VLOOKUP($B46,[1]FlowData!$A$3:$PL$215,W$7,FALSE)","v":329},{"$f":"VLOOKUP($B46,[1]FlowData!$A$3:$PL$215,X$7,FALSE)","v":188},{"$f":"VLOOKUP($B46,[1]FlowData!$A$3:$PL$215,Y$7,FALSE)","v":112},{"$f":"VLOOKUP($B46,[1]FlowData!$A$3:$PL$215,Z$7,FALSE)","v":227},{"$f":"VLOOKUP($B46,[1]FlowData!$A$3:$PL$215,AA$7,FALSE)","v":705},{"$f":"VLOOKUP($B46,[1]FlowData!$A$3:$PL$215,AB$7,FALSE)","v":490},{"$f":"VLOOKUP($B46,[1]FlowData!$A$3:$PL$215,AC$7,FALSE)","v":357},{"$f":"VLOOKUP($B46,[1]FlowData!$A$3:$PL$215,AD$7,FALSE)","v":527},{"$f":"VLOOKUP($B46,[1]FlowData!$A$3:$PL$215,AE$7,FALSE)","v":805},{"$f":"VLOOKUP($B46,[1]FlowData!$A$3:$PL$215,AF$7,FALSE)","v":598},{"$f":"VLOOKUP($B46,[1]FlowData!$A$3:$PL$215,AG$7,FALSE)","v":375},{"$f":"VLOOKUP($B46,[1]FlowData!$A$3:$PL$215,AH$7,FALSE)","v":606},{"$f":"VLOOKUP($B46,[1]FlowData!$A$3:$PL$215,AI$7,FALSE)","v":392},{"$f":"VLOOKUP($B46,[1]FlowData!$A$3:$PL$215,AJ$7,FALSE)","v":228},{"$f":"VLOOKUP($B46,[1]FlowData!$A$3:$PL$215,AK$7,FALSE)","v":132},{"$f":"VLOOKUP($B46,[1]FlowData!$A$3:$PL$215,AL$7,FALSE)","v":272},{"$f":"VLOOKUP($B46,[1]FlowData!$A$3:$PL$215,AM$7,FALSE)","v":151},{"$f":"VLOOKUP($B46,[1]FlowData!$A$3:$PL$215,AN$7,FALSE)","v":103},{"$f":"VLOOKUP($B46,[1]FlowData!$A$3:$PL$215,AO$7,FALSE)","v":64},{"$f":"VLOOKUP($B46,[1]FlowData!$A$3:$PL$215,AP$7,FALSE)","v":109},{"$f":"VLOOKUP($B46,[1]FlowData!$A$3:$PL$215,AQ$7,FALSE)","v":111},{"$f":"VLOOKUP($B46,[1]FlowData!$A$3:$PL$215,AR$7,FALSE)","v":78},{"$f":"VLOOKUP($B46,[1]FlowData!$A$3:$PL$215,AS$7,FALSE)","v":50},{"$f":"VLOOKUP($B46,[1]FlowData!$A$3:$PL$215,AT$7,FALSE)","v":81},{"$f":"VLOOKUP($B46,[1]FlowData!$A$3:$PL$215,AU$7,FALSE)","v":92},{"$f":"VLOOKUP($B46,[1]FlowData!$A$3:$PL$215,AV$7,FALSE)","v":66},{"$f":"VLOOKUP($B46,[1]FlowData!$A$3:$PL$215,AW$7,FALSE)","v":43},{"$f":"VLOOKUP($B46,[1]FlowData!$A$3:$PL$215,AX$7,FALSE)","v":70},{"$f":"VLOOKUP($B46,[1]FlowData!$A$3:$PL$215,AY$7,FALSE)","v":88},{"$f":"VLOOKUP($B46,[1]FlowData!$A$3:$PL$215,AZ$7,FALSE)","v":69},{"$f":"VLOOKUP($B46,[1]FlowData!$A$3:$PL$215,BA$7,FALSE)","v":47},{"$f":"VLOOKUP($B46,[1]FlowData!$A$3:$PL$215,BB$7,FALSE)","v":72},{"$f":"VLOOKUP($B46,[1]FlowData!$A$3:$PL$215,BC$7,FALSE)","v":96},{"$f":"VLOOKUP($B46,[1]FlowData!$A$3:$PL$215,BD$7,FALSE)","v":59},{"$f":"VLOOKUP($B46,[1]FlowData!$A$3:$PL$215,BE$7,FALSE)","v":45},{"$f":"VLOOKUP($B46,[1]FlowData!$A$3:$PL$215,BF$7,FALSE)","v":72}]
[{"$f":"VLOOKUP(B47,'[2]Gages and BCs'!$A$4:$BJ$973,62,FALSE)","v":724},12367500,{"$f":"VLOOKUP(B47,'[2]Gages and BCs'!$A$4:$BJ$973,60,FALSE)","v":"Ashley Creek near Kalispell, Montana"},"1931–32, 1934–50, 1973–74",{"$f":"VLOOKUP($B47,[1]FlowData!$A$3:$PL$215,E$7,FALSE)","v":0},{"$f":"VLOOKUP($B47,[1]FlowData!$A$3:$PL$215,F$7,FALSE)","v":0},{"$f":"VLOOKUP($B47,[1]FlowData!$A$3:$PL$215,G$7,FALSE)","v":42},{"$f":"VLOOKUP($B47,[1]FlowData!$A$3:$PL$215,H$7,FALSE)","v":17},{"$f":"VLOOKUP($B47,[1]FlowData!$A$3:$PL$215,I$7,FALSE)","v":4.9000000000000004},{"$f":"VLOOKUP($B47,[1]FlowData!$A$3:$PL$215,J$7,FALSE)","v":34},{"$f":"VLOOKUP($B47,[1]FlowData!$A$3:$PL$215,K$7,FALSE)","v":12},{"$f":"VLOOKUP($B47,[1]FlowData!$A$3:$PL$215,L$7,FALSE)","v":4.0999999999999996},{"$f":"VLOOKUP($B47,[1]FlowData!$A$3:$PL$215,M$7,FALSE)","v":0.71},{"$f":"VLOOKUP($B47,[1]FlowData!$A$3:$PL$215,N$7,FALSE)","v":8},{"$f":"VLOOKUP($B47,[1]FlowData!$A$3:$PL$215,O$7,FALSE)","v":16},{"$f":"VLOOKUP($B47,[1]FlowData!$A$3:$PL$215,P$7,FALSE)","v":2.9},{"$f":"VLOOKUP($B47,[1]FlowData!$A$3:$PL$215,Q$7,FALSE)","v":0.23},{"$f":"VLOOKUP($B47,[1]FlowData!$A$3:$PL$215,R$7,FALSE)","v":7.4},{"$f":"VLOOKUP($B47,[1]FlowData!$A$3:$PL$215,S$7,FALSE)","v":26},{"$f":"VLOOKUP($B47,[1]FlowData!$A$3:$PL$215,T$7,FALSE)","v":14},{"$f":"VLOOKUP($B47,[1]FlowData!$A$3:$PL$215,U$7,FALSE)","v":3.1},{"$f":"VLOOKUP($B47,[1]FlowData!$A$3:$PL$215,V$7,FALSE)","v":18},{"$f":"VLOOKUP($B47,[1]FlowData!$A$3:$PL$215,W$7,FALSE)","v":121},{"$f":"VLOOKUP($B47,[1]FlowData!$A$3:$PL$215,X$7,FALSE)","v":34},{"$f":"VLOOKUP($B47,[1]FlowData!$A$3:$PL$215,Y$7,FALSE)","v":17},{"$f":"VLOOKUP($B47,[1]FlowData!$A$3:$PL$215,Z$7,FALSE)","v":67},{"$f":"VLOOKUP($B47,[1]FlowData!$A$3:$PL$215,AA$7,FALSE)","v":178},{"$f":"VLOOKUP($B47,[1]FlowData!$A$3:$PL$215,AB$7,FALSE)","v":54},{"$f":"VLOOKUP($B47,[1]FlowData!$A$3:$PL$215,AC$7,FALSE)","v":27},{"$f":"VLOOKUP($B47,[1]FlowData!$A$3:$PL$215,AD$7,FALSE)","v":109},{"$f":"VLOOKUP($B47,[1]FlowData!$A$3:$PL$215,AE$7,FALSE)","v":142},{"$f":"VLOOKUP($B47,[1]FlowData!$A$3:$PL$215,AF$7,FALSE)","v":44},{"$f":"VLOOKUP($B47,[1]FlowData!$A$3:$PL$215,AG$7,FALSE)","v":26},{"$f":"VLOOKUP($B47,[1]FlowData!$A$3:$PL$215,AH$7,FALSE)","v":78},{"$f":"VLOOKUP($B47,[1]FlowData!$A$3:$PL$215,AI$7,FALSE)","v":53},{"$f":"VLOOKUP($B47,[1]FlowData!$A$3:$PL$215,AJ$7,FALSE)","v":26},{"$f":"VLOOKUP($B47,[1]FlowData!$A$3:$PL$215,AK$7,FALSE)","v":14},{"$f":"VLOOKUP($B47,[1]FlowData!$A$3:$PL$215,AL$7,FALSE)","v":36},{"$f":"VLOOKUP($B47,[1]FlowData!$A$3:$PL$215,AM$7,FALSE)","v":22},{"$f":"VLOOKUP($B47,[1]FlowData!$A$3:$PL$215,AN$7,FALSE)","v":9.5},{"$f":"VLOOKUP($B47,[1]FlowData!$A$3:$PL$215,AO$7,FALSE)","v":1.7},{"$f":"VLOOKUP($B47,[1]FlowData!$A$3:$PL$215,AP$7,FALSE)","v":14},{"$f":"VLOOKUP($B47,[1]FlowData!$A$3:$PL$215,AQ$7,FALSE)","v":14},{"$f":"VLOOKUP($B47,[1]FlowData!$A$3:$PL$215,AR$7,FALSE)","v":4.4000000000000004},{"$f":"VLOOKUP($B47,[1]FlowData!$A$3:$PL$215,AS$7,FALSE)","v":0.39},{"$f":"VLOOKUP($B47,[1]FlowData!$A$3:$PL$215,AT$7,FALSE)","v":7.2},{"$f":"VLOOKUP($B47,[1]FlowData!$A$3:$PL$215,AU$7,FALSE)","v":12},{"$f":"VLOOKUP($B47,[1]FlowData!$A$3:$PL$215,AV$7,FALSE)","v":4},{"$f":"VLOOKUP($B47,[1]FlowData!$A$3:$PL$215,AW$7,FALSE)","v":0.46},{"$f":"VLOOKUP($B47,[1]FlowData!$A$3:$PL$215,AX$7,FALSE)","v":6.3},{"$f":"VLOOKUP($B47,[1]FlowData!$A$3:$PL$215,AY$7,FALSE)","v":13},{"$f":"VLOOKUP($B47,[1]FlowData!$A$3:$PL$215,AZ$7,FALSE)","v":5},{"$f":"VLOOKUP($B47,[1]FlowData!$A$3:$PL$215,BA$7,FALSE)","v":0.98},{"$f":"VLOOKUP($B47,[1]FlowData!$A$3:$PL$215,BB$7,FALSE)","v":7.3},{"$f":"VLOOKUP($B47,[1]FlowData!$A$3:$PL$215,BC$7,FALSE)","v":11},{"$f":"VLOOKUP($B47,[1]FlowData!$A$3:$PL$215,BD$7,FALSE)","v":3.7},{"$f":"VLOOKUP($B47,[1]FlowData!$A$3:$PL$215,BE$7,FALSE)","v":0.45},{"$f":"VLOOKUP($B47,[1]FlowData!$A$3:$PL$215,BF$7,FALSE)","v":6}]
[{"$f":"VLOOKUP(B48,'[2]Gages and BCs'!$A$4:$BJ$973,62,FALSE)","v":725},12369200,{"$f":"VLOOKUP(B48,'[2]Gages and BCs'!$A$4:$BJ$973,60,FALSE)","v":"Swan River near Condon, Montana"},"1973–92",{"$f":"VLOOKUP($B48,[1]FlowData!$A$3:$PL$215,E$7,FALSE)","v":21.591000000000001},{"$f":"VLOOKUP($B48,[1]FlowData!$A$3:$PL$215,F$7,FALSE)","v":29.696000000000002},{"$f":"VLOOKUP($B48,[1]FlowData!$A$3:$PL$215,G$7,FALSE)","v":271},{"$f":"VLOOKUP($B48,[1]FlowData!$A$3:$PL$215,H$7,FALSE)","v":77},{"$f":"VLOOKUP($B48,[1]FlowData!$A$3:$PL$215,I$7,FALSE)","v":39},{"$f":"VLOOKUP($B48,[1]FlowData!$A$3:$PL$215,J$7,FALSE)","v":159},{"$f":"VLOOKUP($B48,[1]FlowData!$A$3:$PL$215,K$7,FALSE)","v":64},{"$f":"VLOOKUP($B48,[1]FlowData!$A$3:$PL$215,L$7,FALSE)","v":45},{"$f":"VLOOKUP($B48,[1]FlowData!$A$3:$PL$215,M$7,FALSE)","v":32},{"$f":"VLOOKUP($B48,[1]FlowData!$A$3:$PL$215,N$7,FALSE)","v":52},{"$f":"VLOOKUP($B48,[1]FlowData!$A$3:$PL$215,O$7,FALSE)","v":59},{"$f":"VLOOKUP($B48,[1]FlowData!$A$3:$PL$215,P$7,FALSE)","v":44},{"$f":"VLOOKUP($B48,[1]FlowData!$A$3:$PL$215,Q$7,FALSE)","v":33},{"$f":"VLOOKUP($B48,[1]FlowData!$A$3:$PL$215,R$7,FALSE)","v":49},{"$f":"VLOOKUP($B48,[1]FlowData!$A$3:$PL$215,S$7,FALSE)","v":91},{"$f":"VLOOKUP($B48,[1]FlowData!$A$3:$PL$215,T$7,FALSE)","v":58},{"$f":"VLOOKUP($B48,[1]FlowData!$A$3:$PL$215,U$7,FALSE)","v":37},{"$f":"VLOOKUP($B48,[1]FlowData!$A$3:$PL$215,V$7,FALSE)","v":72},{"$f":"VLOOKUP($B48,[1]FlowData!$A$3:$PL$215,W$7,FALSE)","v":309},{"$f":"VLOOKUP($B48,[1]FlowData!$A$3:$PL$215,X$7,FALSE)","v":176},{"$f":"VLOOKUP($B48,[1]FlowData!$A$3:$PL$215,Y$7,FALSE)","v":76},{"$f":"VLOOKUP($B48,[1]FlowData!$A$3:$PL$215,Z$7,FALSE)","v":209},{"$f":"VLOOKUP($B48,[1]FlowData!$A$3:$PL$215,AA$7,FALSE)","v":552},{"$f":"VLOOKUP($B48,[1]FlowData!$A$3:$PL$215,AB$7,FALSE)","v":384},{"$f":"VLOOKUP($B48,[1]FlowData!$A$3:$PL$215,AC$7,FALSE)","v":248},{"$f":"VLOOKUP($B48,[1]FlowData!$A$3:$PL$215,AD$7,FALSE)","v":414},{"$f":"VLOOKUP($B48,[1]FlowData!$A$3:$PL$215,AE$7,FALSE)","v":644},{"$f":"VLOOKUP($B48,[1]FlowData!$A$3:$PL$215,AF$7,FALSE)","v":440},{"$f":"VLOOKUP($B48,[1]FlowData!$A$3:$PL$215,AG$7,FALSE)","v":318},{"$f":"VLOOKUP($B48,[1]FlowData!$A$3:$PL$215,AH$7,FALSE)","v":486},{"$f":"VLOOKUP($B48,[1]FlowData!$A$3:$PL$215,AI$7,FALSE)","v":393},{"$f":"VLOOKUP($B48,[1]FlowData!$A$3:$PL$215,AJ$7,FALSE)","v":236},{"$f":"VLOOKUP($B48,[1]FlowData!$A$3:$PL$215,AK$7,FALSE)","v":119},{"$f":"VLOOKUP($B48,[1]FlowData!$A$3:$PL$215,AL$7,FALSE)","v":269},{"$f":"VLOOKUP($B48,[1]FlowData!$A$3:$PL$215,AM$7,FALSE)","v":145},{"$f":"VLOOKUP($B48,[1]FlowData!$A$3:$PL$215,AN$7,FALSE)","v":87},{"$f":"VLOOKUP($B48,[1]FlowData!$A$3:$PL$215,AO$7,FALSE)","v":57},{"$f":"VLOOKUP($B48,[1]FlowData!$A$3:$PL$215,AP$7,FALSE)","v":100},{"$f":"VLOOKUP($B48,[1]FlowData!$A$3:$PL$215,AQ$7,FALSE)","v":88},{"$f":"VLOOKUP($B48,[1]FlowData!$A$3:$PL$215,AR$7,FALSE)","v":61},{"$f":"VLOOKUP($B48,[1]FlowData!$A$3:$PL$215,AS$7,FALSE)","v":41},{"$f":"VLOOKUP($B48,[1]FlowData!$A$3:$PL$215,AT$7,FALSE)","v":69},{"$f":"VLOOKUP($B48,[1]FlowData!$A$3:$PL$215,AU$7,FALSE)","v":77},{"$f":"VLOOKUP($B48,[1]FlowData!$A$3:$PL$215,AV$7,FALSE)","v":52},{"$f":"VLOOKUP($B48,[1]FlowData!$A$3:$PL$215,AW$7,FALSE)","v":34},{"$f":"VLOOKUP($B48,[1]FlowData!$A$3:$PL$215,AX$7,FALSE)","v":58},{"$f":"VLOOKUP($B48,[1]FlowData!$A$3:$PL$215,AY$7,FALSE)","v":89},{"$f":"VLOOKUP($B48,[1]FlowData!$A$3:$PL$215,AZ$7,FALSE)","v":56},{"$f":"VLOOKUP($B48,[1]FlowData!$A$3:$PL$215,BA$7,FALSE)","v":40},{"$f":"VLOOKUP($B48,[1]FlowData!$A$3:$PL$215,BB$7,FALSE)","v":69},{"$f":"VLOOKUP($B48,[1]FlowData!$A$3:$PL$215,BC$7,FALSE)","v":75},{"$f":"VLOOKUP($B48,[1]FlowData!$A$3:$PL$215,BD$7,FALSE)","v":48},{"$f":"VLOOKUP($B48,[1]FlowData!$A$3:$PL$215,BE$7,FALSE)","v":38},{"$f":"VLOOKUP($B48,[1]FlowData!$A$3:$PL$215,BF$7,FALSE)","v":62}]
[{"$f":"VLOOKUP(B49,'[2]Gages and BCs'!$A$4:$BJ$973,62,FALSE)","v":728},12370000,{"$f":"VLOOKUP(B49,'[2]Gages and BCs'!$A$4:$BJ$973,60,FALSE)","v":"Swan River near Bigfork, Montana"},"1922–2009",{"$f":"VLOOKUP($B49,[1]FlowData!$A$3:$PL$215,E$7,FALSE)","v":272.47000000000003},{"$f":"VLOOKUP($B49,[1]FlowData!$A$3:$PL$215,F$7,FALSE)","v":347.54700000000003},{"$f":"VLOOKUP($B49,[1]FlowData!$A$3:$PL$215,G$7,FALSE)","v":1770},{"$f":"VLOOKUP($B49,[1]FlowData!$A$3:$PL$215,H$7,FALSE)","v":682},{"$f":"VLOOKUP($B49,[1]FlowData!$A$3:$PL$215,I$7,FALSE)","v":370},{"$f":"VLOOKUP($B49,[1]FlowData!$A$3:$PL$215,J$7,FALSE)","v":1130},{"$f":"VLOOKUP($B49,[1]FlowData!$A$3:$PL$215,K$7,FALSE)","v":593},{"$f":"VLOOKUP($B49,[1]FlowData!$A$3:$PL$215,L$7,FALSE)","v":442},{"$f":"VLOOKUP($B49,[1]FlowData!$A$3:$PL$215,M$7,FALSE)","v":357},{"$f":"VLOOKUP($B49,[1]FlowData!$A$3:$PL$215,N$7,FALSE)","v":496},{"$f":"VLOOKUP($B49,[1]FlowData!$A$3:$PL$215,O$7,FALSE)","v":594},{"$f":"VLOOKUP($B49,[1]FlowData!$A$3:$PL$215,P$7,FALSE)","v":436},{"$f":"VLOOKUP($B49,[1]FlowData!$A$3:$PL$215,Q$7,FALSE)","v":339},{"$f":"VLOOKUP($B49,[1]FlowData!$A$3:$PL$215,R$7,FALSE)","v":496},{"$f":"VLOOKUP($B49,[1]FlowData!$A$3:$PL$215,S$7,FALSE)","v":826},{"$f":"VLOOKUP($B49,[1]FlowData!$A$3:$PL$215,T$7,FALSE)","v":538},{"$f":"VLOOKUP($B49,[1]FlowData!$A$3:$PL$215,U$7,FALSE)","v":391},{"$f":"VLOOKUP($B49,[1]FlowData!$A$3:$PL$215,V$7,FALSE)","v":637},{"$f":"VLOOKUP($B49,[1]FlowData!$A$3:$PL$215,W$7,FALSE)","v":2080},{"$f":"VLOOKUP($B49,[1]FlowData!$A$3:$PL$215,X$7,FALSE)","v":1300},{"$f":"VLOOKUP($B49,[1]FlowData!$A$3:$PL$215,Y$7,FALSE)","v":792},{"$f":"VLOOKUP($B49,[1]FlowData!$A$3:$PL$215,Z$7,FALSE)","v":1500},{"$f":"VLOOKUP($B49,[1]FlowData!$A$3:$PL$215,AA$7,FALSE)","v":3670},{"$f":"VLOOKUP($B49,[1]FlowData!$A$3:$PL$215,AB$7,FALSE)","v":2600},{"$f":"VLOOKUP($B49,[1]FlowData!$A$3:$PL$215,AC$7,FALSE)","v":1780},{"$f":"VLOOKUP($B49,[1]FlowData!$A$3:$PL$215,AD$7,FALSE)","v":2800},{"$f":"VLOOKUP($B49,[1]FlowData!$A$3:$PL$215,AE$7,FALSE)","v":4210},{"$f":"VLOOKUP($B49,[1]FlowData!$A$3:$PL$215,AF$7,FALSE)","v":3120},{"$f":"VLOOKUP($B49,[1]FlowData!$A$3:$PL$215,AG$7,FALSE)","v":2200},{"$f":"VLOOKUP($B49,[1]FlowData!$A$3:$PL$215,AH$7,FALSE)","v":3270},{"$f":"VLOOKUP($B49,[1]FlowData!$A$3:$PL$215,AI$7,FALSE)","v":2260},{"$f":"VLOOKUP($B49,[1]FlowData!$A$3:$PL$215,AJ$7,FALSE)","v":1400},{"$f":"VLOOKUP($B49,[1]FlowData!$A$3:$PL$215,AK$7,FALSE)","v":891},{"$f":"VLOOKUP($B49,[1]FlowData!$A$3:$PL$215,AL$7,FALSE)","v":1610},{"$f":"VLOOKUP($B49,[1]FlowData!$A$3:$PL$215,AM$7,FALSE)","v":891},{"$f":"VLOOKUP($B49,[1]FlowData!$A$3:$PL$215,AN$7,FALSE)","v":644},{"$f":"VLOOKUP($B49,[1]FlowData!$A$3:$PL$215,AO$7,FALSE)","v":470},{"$f":"VLOOKUP($B49,[1]FlowData!$A$3:$PL$215,AP$7,FALSE)","v":687},{"$f":"VLOOKUP($B49,[1]FlowData!$A$3:$PL$215,AQ$7,FALSE)","v":643},{"$f":"VLOOKUP($B49,[1]FlowData!$A$3:$PL$215,AR$7,FALSE)","v":495},{"$f":"VLOOKUP($B49,[1]FlowData!$A$3:$PL$215,AS$7,FALSE)","v":380},{"$f":"VLOOKUP($B49,[1]FlowData!$A$3:$PL$215,AT$7,FALSE)","v":531},{"$f":"VLOOKUP($B49,[1]FlowData!$A$3:$PL$215,AU$7,FALSE)","v":644},{"$f":"VLOOKUP($B49,[1]FlowData!$A$3:$PL$215,AV$7,FALSE)","v":500},{"$f":"VLOOKUP($B49,[1]FlowData!$A$3:$PL$215,AW$7,FALSE)","v":375},{"$f":"VLOOKUP($B49,[1]FlowData!$A$3:$PL$215,AX$7,FALSE)","v":545},{"$f":"VLOOKUP($B49,[1]FlowData!$A$3:$PL$215,AY$7,FALSE)","v":713},{"$f":"VLOOKUP($B49,[1]FlowData!$A$3:$PL$215,AZ$7,FALSE)","v":536},{"$f":"VLOOKUP($B49,[1]FlowData!$A$3:$PL$215,BA$7,FALSE)","v":403},{"$f":"VLOOKUP($B49,[1]FlowData!$A$3:$PL$215,BB$7,FALSE)","v":595},{"$f":"VLOOKUP($B49,[1]FlowData!$A$3:$PL$215,BC$7,FALSE)","v":670},{"$f":"VLOOKUP($B49,[1]FlowData!$A$3:$PL$215,BD$7,FALSE)","v":492},{"$f":"VLOOKUP($B49,[1]FlowData!$A$3:$PL$215,BE$7,FALSE)","v":382},{"$f":"VLOOKUP($B49,[1]FlowData!$A$3:$PL$215,BF$7,FALSE)","v":562}]
[{"$f":"VLOOKUP(B50,'[2]Gages and BCs'!$A$4:$BJ$973,62,FALSE)","v":731},12371100,{"$f":"VLOOKUP(B50,'[2]Gages and BCs'!$A$4:$BJ$973,60,FALSE)","v":"Hell Roaring Creek near Polson, Montana"},"1917–32",{"$f":"VLOOKUP($B50,[1]FlowData!$A$3:$PL$215,E$7,FALSE)","v":2.3439999999999999},{"$f":"VLOOKUP($B50,[1]FlowData!$A$3:$PL$215,F$7,FALSE)","v":3.2320000000000002},{"$f":"VLOOKUP($B50,[1]FlowData!$A$3:$PL$215,G$7,FALSE)","v":7},{"$f":"VLOOKUP($B50,[1]FlowData!$A$3:$PL$215,H$7,FALSE)","v":5},{"$f":"VLOOKUP($B50,[1]FlowData!$A$3:$PL$215,I$7,FALSE)","v":3.7},{"$f":"VLOOKUP($B50,[1]FlowData!$A$3:$PL$215,J$7,FALSE)","v":6.7},{"$f":"VLOOKUP($B50,[1]FlowData!$A$3:$PL$215,K$7,FALSE)","v":5.4},{"$f":"VLOOKUP($B50,[1]FlowData!$A$3:$PL$215,L$7,FALSE)","v":4.5},{"$f":"VLOOKUP($B50,[1]FlowData!$A$3:$PL$215,M$7,FALSE)","v":3.6},{"$f":"VLOOKUP($B50,[1]FlowData!$A$3:$PL$215,N$7,FALSE)","v":4.7},{"$f":"VLOOKUP($B50,[1]FlowData!$A$3:$PL$215,O$7,FALSE)","v":5.4},{"$f":"VLOOKUP($B50,[1]FlowData!$A$3:$PL$215,P$7,FALSE)","v":4.4000000000000004},{"$f":"VLOOKUP($B50,[1]FlowData!$A$3:$PL$215,Q$7,FALSE)","v":3.7},{"$f":"VLOOKUP($B50,[1]FlowData!$A$3:$PL$215,R$7,FALSE)","v":4.5},{"$f":"VLOOKUP($B50,[1]FlowData!$A$3:$PL$215,S$7,FALSE)","v":5.2},{"$f":"VLOOKUP($B50,[1]FlowData!$A$3:$PL$215,T$7,FALSE)","v":4},{"$f":"VLOOKUP($B50,[1]FlowData!$A$3:$PL$215,U$7,FALSE)","v":3.3},{"$f":"VLOOKUP($B50,[1]FlowData!$A$3:$PL$215,V$7,FALSE)","v":4.3},{"$f":"VLOOKUP($B50,[1]FlowData!$A$3:$PL$215,W$7,FALSE)","v":9},{"$f":"VLOOKUP($B50,[1]FlowData!$A$3:$PL$215,X$7,FALSE)","v":5.2},{"$f":"VLOOKUP($B50,[1]FlowData!$A$3:$PL$215,Y$7,FALSE)","v":3.7},{"$f":"VLOOKUP($B50,[1]FlowData!$A$3:$PL$215,Z$7,FALSE)","v":7.2},{"$f":"VLOOKUP($B50,[1]FlowData!$A$3:$PL$215,AA$7,FALSE)","v":21},{"$f":"VLOOKUP($B50,[1]FlowData!$A$3:$PL$215,AB$7,FALSE)","v":8.6999999999999993},{"$f":"VLOOKUP($B50,[1]FlowData!$A$3:$PL$215,AC$7,FALSE)","v":5.0999999999999996},{"$f":"VLOOKUP($B50,[1]FlowData!$A$3:$PL$215,AD$7,FALSE)","v":13},{"$f":"VLOOKUP($B50,[1]FlowData!$A$3:$PL$215,AE$7,FALSE)","v":24},{"$f":"VLOOKUP($B50,[1]FlowData!$A$3:$PL$215,AF$7,FALSE)","v":10},{"$f":"VLOOKUP($B50,[1]FlowData!$A$3:$PL$215,AG$7,FALSE)","v":5.0999999999999996},{"$f":"VLOOKUP($B50,[1]FlowData!$A$3:$PL$215,AH$7,FALSE)","v":14},{"$f":"VLOOKUP($B50,[1]FlowData!$A$3:$PL$215,AI$7,FALSE)","v":9},{"$f":"VLOOKUP($B50,[1]FlowData!$A$3:$PL$215,AJ$7,FALSE)","v":5.6},{"$f":"VLOOKUP($B50,[1]FlowData!$A$3:$PL$215,AK$7,FALSE)","v":4},{"$f":"VLOOKUP($B50,[1]FlowData!$A$3:$PL$215,AL$7,FALSE)","v":7.3},{"$f":"VLOOKUP($B50,[1]FlowData!$A$3:$PL$215,AM$7,FALSE)","v":7.2},{"$f":"VLOOKUP($B50,[1]FlowData!$A$3:$PL$215,AN$7,FALSE)","v":5.6},{"$f":"VLOOKUP($B50,[1]FlowData!$A$3:$PL$215,AO$7,FALSE)","v":4.3},{"$f":"VLOOKUP($B50,[1]FlowData!$A$3:$PL$215,AP$7,FALSE)","v":5.8},{"$f":"VLOOKUP($B50,[1]FlowData!$A$3:$PL$215,AQ$7,FALSE)","v":6.5},{"$f":"VLOOKUP($B50,[1]FlowData!$A$3:$PL$215,AR$7,FALSE)","v":5.2},{"$f":"VLOOKUP($B50,[1]FlowData!$A$3:$PL$215,AS$7,FALSE)","v":4.0999999999999996},{"$f":"VLOOKUP($B50,[1]FlowData!$A$3:$PL$215,AT$7,FALSE)","v":5.3},{"$f":"VLOOKUP($B50,[1]FlowData!$A$3:$PL$215,AU$7,FALSE)","v":6.5},{"$f":"VLOOKUP($B50,[1]FlowData!$A$3:$PL$215,AV$7,FALSE)","v":4.7},{"$f":"VLOOKUP($B50,[1]FlowData!$A$3:$PL$215,AW$7,FALSE)","v":3.8},{"$f":"VLOOKUP($B50,[1]FlowData!$A$3:$PL$215,AX$7,FALSE)","v":5},{"$f":"VLOOKUP($B50,[1]FlowData!$A$3:$PL$215,AY$7,FALSE)","v":6.1},{"$f":"VLOOKUP($B50,[1]FlowData!$A$3:$PL$215,AZ$7,FALSE)","v":5.0999999999999996},{"$f":"VLOOKUP($B50,[1]FlowData!$A$3:$PL$215,BA$7,FALSE)","v":4.2},{"$f":"VLOOKUP($B50,[1]FlowData!$A$3:$PL$215,BB$7,FALSE)","v":5.2},{"$f":"VLOOKUP($B50,[1]FlowData!$A$3:$PL$215,BC$7,FALSE)","v":6},{"$f":"VLOOKUP($B50,[1]FlowData!$A$3:$PL$215,BD$7,FALSE)","v":5},{"$f":"VLOOKUP($B50,[1]FlowData!$A$3:$PL$215,BE$7,FALSE)","v":4.2},{"$f":"VLOOKUP($B50,[1]FlowData!$A$3:$PL$215,BF$7,FALSE)","v":5.3}]
[{"$f":"VLOOKUP(B51,'[2]Gages and BCs'!$A$4:$BJ$973,62,FALSE)","v":733},12374250,{"$f":"VLOOKUP(B51,'[2]Gages and BCs'!$A$4:$BJ$973,60,FALSE)","v":"Mill Creek above Bassoo Creek, near Niarada, Montana"},"1983–2009",{"$f":"VLOOKUP($B51,[1]FlowData!$A$3:$PL$215,E$7,FALSE)","v":1.383},{"$f":"VLOOKUP($B51,[1]FlowData!$A$3:$PL$215,F$7,FALSE)","v":1.72},{"$f":"VLOOKUP($B51,[1]FlowData!$A$3:$PL$215,G$7,FALSE)","v":11},{"$f":"VLOOKUP($B51,[1]FlowData!$A$3:$PL$215,H$7,FALSE)","v":5},{"$f":"VLOOKUP($B51,[1]FlowData!$A$3:$PL$215,I$7,FALSE)","v":2.5},{"$f":"VLOOKUP($B51,[1]FlowData!$A$3:$PL$215,J$7,FALSE)","v":7.9},{"$f":"VLOOKUP($B51,[1]FlowData!$A$3:$PL$215,K$7,FALSE)","v":3.9},{"$f":"VLOOKUP($B51,[1]FlowData!$A$3:$PL$215,L$7,FALSE)","v":2.5},{"$f":"VLOOKUP($B51,[1]FlowData!$A$3:$PL$215,M$7,FALSE)","v":1.5},{"$f":"VLOOKUP($B51,[1]FlowData!$A$3:$PL$215,N$7,FALSE)","v":3.4},{"$f":"VLOOKUP($B51,[1]FlowData!$A$3:$PL$215,O$7,FALSE)","v":4.0999999999999996},{"$f":"VLOOKUP($B51,[1]FlowData!$A$3:$PL$215,P$7,FALSE)","v":2.7},{"$f":"VLOOKUP($B51,[1]FlowData!$A$3:$PL$215,Q$7,FALSE)","v":1.7},{"$f":"VLOOKUP($B51,[1]FlowData!$A$3:$PL$215,R$7,FALSE)","v":3.6},{"$f":"VLOOKUP($B51,[1]FlowData!$A$3:$PL$215,S$7,FALSE)","v":8.9},{"$f":"VLOOKUP($B51,[1]FlowData!$A$3:$PL$215,T$7,FALSE)","v":3.9},{"$f":"VLOOKUP($B51,[1]FlowData!$A$3:$PL$215,U$7,FALSE)","v":2.4},{"$f":"VLOOKUP($B51,[1]FlowData!$A$3:$PL$215,V$7,FALSE)","v":6.9},{"$f":"VLOOKUP($B51,[1]FlowData!$A$3:$PL$215,W$7,FALSE)","v":29},{"$f":"VLOOKUP($B51,[1]FlowData!$A$3:$PL$215,X$7,FALSE)","v":12},{"$f":"VLOOKUP($B51,[1]FlowData!$A$3:$PL$215,Y$7,FALSE)","v":6.5},{"$f":"VLOOKUP($B51,[1]FlowData!$A$3:$PL$215,Z$7,FALSE)","v":20},{"$f":"VLOOKUP($B51,[1]FlowData!$A$3:$PL$215,AA$7,FALSE)","v":34},{"$f":"VLOOKUP($B51,[1]FlowData!$A$3:$PL$215,AB$7,FALSE)","v":19},{"$f":"VLOOKUP($B51,[1]FlowData!$A$3:$PL$215,AC$7,FALSE)","v":12},{"$f":"VLOOKUP($B51,[1]FlowData!$A$3:$PL$215,AD$7,FALSE)","v":26},{"$f":"VLOOKUP($B51,[1]FlowData!$A$3:$PL$215,AE$7,FALSE)","v":21},{"$f":"VLOOKUP($B51,[1]FlowData!$A$3:$PL$215,AF$7,FALSE)","v":12},{"$f":"VLOOKUP($B51,[1]FlowData!$A$3:$PL$215,AG$7,FALSE)","v":6.5},{"$f":"VLOOKUP($B51,[1]FlowData!$A$3:$PL$215,AH$7,FALSE)","v":15},{"$f":"VLOOKUP($B51,[1]FlowData!$A$3:$PL$215,AI$7,FALSE)","v":7.1},{"$f":"VLOOKUP($B51,[1]FlowData!$A$3:$PL$215,AJ$7,FALSE)","v":4.5},{"$f":"VLOOKUP($B51,[1]FlowData!$A$3:$PL$215,AK$7,FALSE)","v":3},{"$f":"VLOOKUP($B51,[1]FlowData!$A$3:$PL$215,AL$7,FALSE)","v":5.4},{"$f":"VLOOKUP($B51,[1]FlowData!$A$3:$PL$215,AM$7,FALSE)","v":3.8},{"$f":"VLOOKUP($B51,[1]FlowData!$A$3:$PL$215,AN$7,FALSE)","v":2.8},{"$f":"VLOOKUP($B51,[1]FlowData!$A$3:$PL$215,AO$7,FALSE)","v":2.1},{"$f":"VLOOKUP($B51,[1]FlowData!$A$3:$PL$215,AP$7,FALSE)","v":3},{"$f":"VLOOKUP($B51,[1]FlowData!$A$3:$PL$215,AQ$7,FALSE)","v":2.9},{"$f":"VLOOKUP($B51,[1]FlowData!$A$3:$PL$215,AR$7,FALSE)","v":2.4},{"$f":"VLOOKUP($B51,[1]FlowData!$A$3:$PL$215,AS$7,FALSE)","v":1.9},{"$f":"VLOOKUP($B51,[1]FlowData!$A$3:$PL$215,AT$7,FALSE)","v":2.4},{"$f":"VLOOKUP($B51,[1]FlowData!$A$3:$PL$215,AU$7,FALSE)","v":2.9},{"$f":"VLOOKUP($B51,[1]FlowData!$A$3:$PL$215,AV$7,FALSE)","v":2.4},{"$f":"VLOOKUP($B51,[1]FlowData!$A$3:$PL$215,AW$7,FALSE)","v":2},{"$f":"VLOOKUP($B51,[1]FlowData!$A$3:$PL$215,AX$7,FALSE)","v":2.5},{"$f":"VLOOKUP($B51,[1]FlowData!$A$3:$PL$215,AY$7,FALSE)","v":3.8},{"$f":"VLOOKUP($B51,[1]FlowData!$A$3:$PL$215,AZ$7,FALSE)","v":2.7},{"$f":"VLOOKUP($B51,[1]FlowData!$A$3:$PL$215,BA$7,FALSE)","v":1.9},{"$f":"VLOOKUP($B51,[1]FlowData!$A$3:$PL$215,BB$7,FALSE)","v":3.4},{"$f":"VLOOKUP($B51,[1]FlowData!$A$3:$PL$215,BC$7,FALSE)","v":3.7},{"$f":"VLOOKUP($B51,[1]FlowData!$A$3:$PL$215,BD$7,FALSE)","v":2.6},{"$f":"VLOOKUP($B51,[1]FlowData!$A$3:$PL$215,BE$7,FALSE)","v":1.8},{"$f":"VLOOKUP($B51,[1]FlowData!$A$3:$PL$215,BF$7,FALSE)","v":3.4}]
[{"$f":"VLOOKUP(B52,'[2]Gages and BCs'!$A$4:$BJ$973,62,FALSE)","v":738},12377150,{"$f":"VLOOKUP(B52,'[2]Gages and BCs'!$A$4:$BJ$973,60,FALSE)","v":"Mission Creek above reservoir, near St. Ignatius, Montana"},"1983–2009",{"$f":"VLOOKUP($B52,[1]FlowData!$A$3:$PL$215,E$7,FALSE)","v":6.62},{"$f":"VLOOKUP($B52,[1]FlowData!$A$3:$PL$215,F$7,FALSE)","v":15.506},{"$f":"VLOOKUP($B52,[1]FlowData!$A$3:$PL$215,G$7,FALSE)","v":76},{"$f":"VLOOKUP($B52,[1]FlowData!$A$3:$PL$215,H$7,FALSE)","v":22},{"$f":"VLOOKUP($B52,[1]FlowData!$A$3:$PL$215,I$7,FALSE)","v":11},{"$f":"VLOOKUP($B52,[1]FlowData!$A$3:$PL$215,J$7,FALSE)","v":48},{"$f":"VLOOKUP($B52,[1]FlowData!$A$3:$PL$215,K$7,FALSE)","v":12},{"$f":"VLOOKUP($B52,[1]FlowData!$A$3:$PL$215,L$7,FALSE)","v":10},{"$f":"VLOOKUP($B52,[1]FlowData!$A$3:$PL$215,M$7,FALSE)","v":8.6999999999999993},{"$f":"VLOOKUP($B52,[1]FlowData!$A$3:$PL$215,N$7,FALSE)","v":11},{"$f":"VLOOKUP($B52,[1]FlowData!$A$3:$PL$215,O$7,FALSE)","v":11},{"$f":"VLOOKUP($B52,[1]FlowData!$A$3:$PL$215,P$7,FALSE)","v":8.9},{"$f":"VLOOKUP($B52,[1]FlowData!$A$3:$PL$215,Q$7,FALSE)","v":7.7},{"$f":"VLOOKUP($B52,[1]FlowData!$A$3:$PL$215,R$7,FALSE)","v":9.1999999999999993},{"$f":"VLOOKUP($B52,[1]FlowData!$A$3:$PL$215,S$7,FALSE)","v":13},{"$f":"VLOOKUP($B52,[1]FlowData!$A$3:$PL$215,T$7,FALSE)","v":9.9},{"$f":"VLOOKUP($B52,[1]FlowData!$A$3:$PL$215,U$7,FALSE)","v":8.3000000000000007},{"$f":"VLOOKUP($B52,[1]FlowData!$A$3:$PL$215,V$7,FALSE)","v":10},{"$f":"VLOOKUP($B52,[1]FlowData!$A$3:$PL$215,W$7,FALSE)","v":34},{"$f":"VLOOKUP($B52,[1]FlowData!$A$3:$PL$215,X$7,FALSE)","v":18},{"$f":"VLOOKUP($B52,[1]FlowData!$A$3:$PL$215,Y$7,FALSE)","v":10},{"$f":"VLOOKUP($B52,[1]FlowData!$A$3:$PL$215,Z$7,FALSE)","v":24},{"$f":"VLOOKUP($B52,[1]FlowData!$A$3:$PL$215,AA$7,FALSE)","v":153},{"$f":"VLOOKUP($B52,[1]FlowData!$A$3:$PL$215,AB$7,FALSE)","v":83},{"$f":"VLOOKUP($B52,[1]FlowData!$A$3:$PL$215,AC$7,FALSE)","v":36},{"$f":"VLOOKUP($B52,[1]FlowData!$A$3:$PL$215,AD$7,FALSE)","v":101},{"$f":"VLOOKUP($B52,[1]FlowData!$A$3:$PL$215,AE$7,FALSE)","v":229},{"$f":"VLOOKUP($B52,[1]FlowData!$A$3:$PL$215,AF$7,FALSE)","v":158},{"$f":"VLOOKUP($B52,[1]FlowData!$A$3:$PL$215,AG$7,FALSE)","v":115},{"$f":"VLOOKUP($B52,[1]FlowData!$A$3:$PL$215,AH$7,FALSE)","v":174},{"$f":"VLOOKUP($B52,[1]FlowData!$A$3:$PL$215,AI$7,FALSE)","v":155},{"$f":"VLOOKUP($B52,[1]FlowData!$A$3:$PL$215,AJ$7,FALSE)","v":102},{"$f":"VLOOKUP($B52,[1]FlowData!$A$3:$PL$215,AK$7,FALSE)","v":64},{"$f":"VLOOKUP($B52,[1]FlowData!$A$3:$PL$215,AL$7,FALSE)","v":113},{"$f":"VLOOKUP($B52,[1]FlowData!$A$3:$PL$215,AM$7,FALSE)","v":60},{"$f":"VLOOKUP($B52,[1]FlowData!$A$3:$PL$215,AN$7,FALSE)","v":43},{"$f":"VLOOKUP($B52,[1]FlowData!$A$3:$PL$215,AO$7,FALSE)","v":30},{"$f":"VLOOKUP($B52,[1]FlowData!$A$3:$PL$215,AP$7,FALSE)","v":48},{"$f":"VLOOKUP($B52,[1]FlowData!$A$3:$PL$215,AQ$7,FALSE)","v":37},{"$f":"VLOOKUP($B52,[1]FlowData!$A$3:$PL$215,AR$7,FALSE)","v":27},{"$f":"VLOOKUP($B52,[1]FlowData!$A$3:$PL$215,AS$7,FALSE)","v":20},{"$f":"VLOOKUP($B52,[1]FlowData!$A$3:$PL$215,AT$7,FALSE)","v":30},{"$f":"VLOOKUP($B52,[1]FlowData!$A$3:$PL$215,AU$7,FALSE)","v":32},{"$f":"VLOOKUP($B52,[1]FlowData!$A$3:$PL$215,AV$7,FALSE)","v":24},{"$f":"VLOOKUP($B52,[1]FlowData!$A$3:$PL$215,AW$7,FALSE)","v":17},{"$f":"VLOOKUP($B52,[1]FlowData!$A$3:$PL$215,AX$7,FALSE)","v":25},{"$f":"VLOOKUP($B52,[1]FlowData!$A$3:$PL$215,AY$7,FALSE)","v":25},{"$f":"VLOOKUP($B52,[1]FlowData!$A$3:$PL$215,AZ$7,FALSE)","v":18},{"$f":"VLOOKUP($B52,[1]FlowData!$A$3:$PL$215,BA$7,FALSE)","v":14},{"$f":"VLOOKUP($B52,[1]FlowData!$A$3:$PL$215,BB$7,FALSE)","v":20},{"$f":"VLOOKUP($B52,[1]FlowData!$A$3:$PL$215,BC$7,FALSE)","v":16},{"$f":"VLOOKUP($B52,[1]FlowData!$A$3:$PL$215,BD$7,FALSE)","v":13},{"$f":"VLOOKUP($B52,[1]FlowData!$A$3:$PL$215,BE$7,FALSE)","v":10},{"$f":"VLOOKUP($B52,[1]FlowData!$A$3:$PL$215,BF$7,FALSE)","v":13}]
[{"$f":"VLOOKUP(B53,'[2]Gages and BCs'!$A$4:$BJ$973,62,FALSE)","v":739},12378000,{"$f":"VLOOKUP(B53,'[2]Gages and BCs'!$A$4:$BJ$973,60,FALSE)","v":"Mission Creek near St. Ignatius, Montana"},"1907–17",{"$f":"VLOOKUP($B53,[1]FlowData!$A$3:$PL$215,E$7,FALSE)","v":""},{"$f":"VLOOKUP($B53,[1]FlowData!$A$3:$PL$215,F$7,FALSE)","v":28.875},{"$f":"VLOOKUP($B53,[1]FlowData!$A$3:$PL$215,G$7,FALSE)","v":""},{"$f":"VLOOKUP($B53,[1]FlowData!$A$3:$PL$215,H$7,FALSE)","v":""},{"$f":"VLOOKUP($B53,[1]FlowData!$A$3:$PL$215,I$7,FALSE)","v":""},{"$f":"VLOOKUP($B53,[1]FlowData!$A$3:$PL$215,J$7,FALSE)","v":""},{"$f":"VLOOKUP($B53,[1]FlowData!$A$3:$PL$215,K$7,FALSE)","v":""},{"$f":"VLOOKUP($B53,[1]FlowData!$A$3:$PL$215,L$7,FALSE)","v":""},{"$f":"VLOOKUP($B53,[1]FlowData!$A$3:$PL$215,M$7,FALSE)","v":""},{"$f":"VLOOKUP($B53,[1]FlowData!$A$3:$PL$215,N$7,FALSE)","v":""},{"$f":"VLOOKUP($B53,[1]FlowData!$A$3:$PL$215,O$7,FALSE)","v":17},{"$f":"VLOOKUP($B53,[1]FlowData!$A$3:$PL$215,P$7,FALSE)","v":13},{"$f":"VLOOKUP($B53,[1]FlowData!$A$3:$PL$215,Q$7,FALSE)","v":11},{"$f":"VLOOKUP($B53,[1]FlowData!$A$3:$PL$215,R$7,FALSE)","v":14},{"$f":"VLOOKUP($B53,[1]FlowData!$A$3:$PL$215,S$7,FALSE)","v":16},{"$f":"VLOOKUP($B53,[1]FlowData!$A$3:$PL$215,T$7,FALSE)","v":14},{"$f":"VLOOKUP($B53,[1]FlowData!$A$3:$PL$215,U$7,FALSE)","v":11},{"$f":"VLOOKUP($B53,[1]FlowData!$A$3:$PL$215,V$7,FALSE)","v":14},{"$f":"VLOOKUP($B53,[1]FlowData!$A$3:$PL$215,W$7,FALSE)","v":37},{"$f":"VLOOKUP($B53,[1]FlowData!$A$3:$PL$215,X$7,FALSE)","v":21},{"$f":"VLOOKUP($B53,[1]FlowData!$A$3:$PL$215,Y$7,FALSE)","v":14},{"$f":"VLOOKUP($B53,[1]FlowData!$A$3:$PL$215,Z$7,FALSE)","v":29},{"$f":"VLOOKUP($B53,[1]FlowData!$A$3:$PL$215,AA$7,FALSE)","v":133},{"$f":"VLOOKUP($B53,[1]FlowData!$A$3:$PL$215,AB$7,FALSE)","v":77},{"$f":"VLOOKUP($B53,[1]FlowData!$A$3:$PL$215,AC$7,FALSE)","v":36},{"$f":"VLOOKUP($B53,[1]FlowData!$A$3:$PL$215,AD$7,FALSE)","v":88},{"$f":"VLOOKUP($B53,[1]FlowData!$A$3:$PL$215,AE$7,FALSE)","v":311},{"$f":"VLOOKUP($B53,[1]FlowData!$A$3:$PL$215,AF$7,FALSE)","v":228},{"$f":"VLOOKUP($B53,[1]FlowData!$A$3:$PL$215,AG$7,FALSE)","v":152},{"$f":"VLOOKUP($B53,[1]FlowData!$A$3:$PL$215,AH$7,FALSE)","v":273},{"$f":"VLOOKUP($B53,[1]FlowData!$A$3:$PL$215,AI$7,FALSE)","v":284},{"$f":"VLOOKUP($B53,[1]FlowData!$A$3:$PL$215,AJ$7,FALSE)","v":202},{"$f":"VLOOKUP($B53,[1]FlowData!$A$3:$PL$215,AK$7,FALSE)","v":118},{"$f":"VLOOKUP($B53,[1]FlowData!$A$3:$PL$215,AL$7,FALSE)","v":204},{"$f":"VLOOKUP($B53,[1]FlowData!$A$3:$PL$215,AM$7,FALSE)","v":110},{"$f":"VLOOKUP($B53,[1]FlowData!$A$3:$PL$215,AN$7,FALSE)","v":83},{"$f":"VLOOKUP($B53,[1]FlowData!$A$3:$PL$215,AO$7,FALSE)","v":57},{"$f":"VLOOKUP($B53,[1]FlowData!$A$3:$PL$215,AP$7,FALSE)","v":88},{"$f":"VLOOKUP($B53,[1]FlowData!$A$3:$PL$215,AQ$7,FALSE)","v":73},{"$f":"VLOOKUP($B53,[1]FlowData!$A$3:$PL$215,AR$7,FALSE)","v":53},{"$f":"VLOOKUP($B53,[1]FlowData!$A$3:$PL$215,AS$7,FALSE)","v":39},{"$f":"VLOOKUP($B53,[1]FlowData!$A$3:$PL$215,AT$7,FALSE)","v":55},{"$f":"VLOOKUP($B53,[1]FlowData!$A$3:$PL$215,AU$7,FALSE)","v":51},{"$f":"VLOOKUP($B53,[1]FlowData!$A$3:$PL$215,AV$7,FALSE)","v":45},{"$f":"VLOOKUP($B53,[1]FlowData!$A$3:$PL$215,AW$7,FALSE)","v":34},{"$f":"VLOOKUP($B53,[1]FlowData!$A$3:$PL$215,AX$7,FALSE)","v":44},{"$f":"VLOOKUP($B53,[1]FlowData!$A$3:$PL$215,AY$7,FALSE)","v":44},{"$f":"VLOOKUP($B53,[1]FlowData!$A$3:$PL$215,AZ$7,FALSE)","v":32},{"$f":"VLOOKUP($B53,[1]FlowData!$A$3:$PL$215,BA$7,FALSE)","v":26},{"$f":"VLOOKUP($B53,[1]FlowData!$A$3:$PL$215,BB$7,FALSE)","v":34},{"$f":"VLOOKUP($B53,[1]FlowData!$A$3:$PL$215,BC$7,FALSE)","v":31},{"$f":"VLOOKUP($B53,[1]FlowData!$A$3:$PL$215,BD$7,FALSE)","v":25},{"$f":"VLOOKUP($B53,[1]FlowData!$A$3:$PL$215,BE$7,FALSE)","v":18},{"$f":"VLOOKUP($B53,[1]FlowData!$A$3:$PL$215,BF$7,FALSE)","v":24}]
[{"$f":"VLOOKUP(B54,'[2]Gages and BCs'!$A$4:$BJ$973,62,FALSE)","v":740},12381400,{"$f":"VLOOKUP(B54,'[2]Gages and BCs'!$A$4:$BJ$973,60,FALSE)","v":"South Fork Jocko River near Arlee, Montana"},"1983–2009",{"$f":"VLOOKUP($B54,[1]FlowData!$A$3:$PL$215,E$7,FALSE)","v":3.7559999999999998},{"$f":"VLOOKUP($B54,[1]FlowData!$A$3:$PL$215,F$7,FALSE)","v":16.067},{"$f":"VLOOKUP($B54,[1]FlowData!$A$3:$PL$215,G$7,FALSE)","v":83},{"$f":"VLOOKUP($B54,[1]FlowData!$A$3:$PL$215,H$7,FALSE)","v":30},{"$f":"VLOOKUP($B54,[1]FlowData!$A$3:$PL$215,I$7,FALSE)","v":13},{"$f":"VLOOKUP($B54,[1]FlowData!$A$3:$PL$215,J$7,FALSE)","v":58},{"$f":"VLOOKUP($B54,[1]FlowData!$A$3:$PL$215,K$7,FALSE)","v":17},{"$f":"VLOOKUP($B54,[1]FlowData!$A$3:$PL$215,L$7,FALSE)","v":11},{"$f":"VLOOKUP($B54,[1]FlowData!$A$3:$PL$215,M$7,FALSE)","v":7.6},{"$f":"VLOOKUP($B54,[1]FlowData!$A$3:$PL$215,N$7,FALSE)","v":13},{"$f":"VLOOKUP($B54,[1]FlowData!$A$3:$PL$215,O$7,FALSE)","v":15},{"$f":"VLOOKUP($B54,[1]FlowData!$A$3:$PL$215,P$7,FALSE)","v":11},{"$f":"VLOOKUP($B54,[1]FlowData!$A$3:$PL$215,Q$7,FALSE)","v":7.4},{"$f":"VLOOKUP($B54,[1]FlowData!$A$3:$PL$215,R$7,FALSE)","v":11},{"$f":"VLOOKUP($B54,[1]FlowData!$A$3:$PL$215,S$7,FALSE)","v":21},{"$f":"VLOOKUP($B54,[1]FlowData!$A$3:$PL$215,T$7,FALSE)","v":14},{"$f":"VLOOKUP($B54,[1]FlowData!$A$3:$PL$215,U$7,FALSE)","v":9},{"$f":"VLOOKUP($B54,[1]FlowData!$A$3:$PL$215,V$7,FALSE)","v":17},{"$f":"VLOOKUP($B54,[1]FlowData!$A$3:$PL$215,W$7,FALSE)","v":90},{"$f":"VLOOKUP($B54,[1]FlowData!$A$3:$PL$215,X$7,FALSE)","v":40},{"$f":"VLOOKUP($B54,[1]FlowData!$A$3:$PL$215,Y$7,FALSE)","v":18},{"$f":"VLOOKUP($B54,[1]FlowData!$A$3:$PL$215,Z$7,FALSE)","v":56},{"$f":"VLOOKUP($B54,[1]FlowData!$A$3:$PL$215,AA$7,FALSE)","v":281},{"$f":"VLOOKUP($B54,[1]FlowData!$A$3:$PL$215,AB$7,FALSE)","v":171},{"$f":"VLOOKUP($B54,[1]FlowData!$A$3:$PL$215,AC$7,FALSE)","v":105},{"$f":"VLOOKUP($B54,[1]FlowData!$A$3:$PL$215,AD$7,FALSE)","v":201},{"$f":"VLOOKUP($B54,[1]FlowData!$A$3:$PL$215,AE$7,FALSE)","v":284},{"$f":"VLOOKUP($B54,[1]FlowData!$A$3:$PL$215,AF$7,FALSE)","v":180},{"$f":"VLOOKUP($B54,[1]FlowData!$A$3:$PL$215,AG$7,FALSE)","v":113},{"$f":"VLOOKUP($B54,[1]FlowData!$A$3:$PL$215,AH$7,FALSE)","v":201},{"$f":"VLOOKUP($B54,[1]FlowData!$A$3:$PL$215,AI$7,FALSE)","v":99},{"$f":"VLOOKUP($B54,[1]FlowData!$A$3:$PL$215,AJ$7,FALSE)","v":71},{"$f":"VLOOKUP($B54,[1]FlowData!$A$3:$PL$215,AK$7,FALSE)","v":49},{"$f":"VLOOKUP($B54,[1]FlowData!$A$3:$PL$215,AL$7,FALSE)","v":78},{"$f":"VLOOKUP($B54,[1]FlowData!$A$3:$PL$215,AM$7,FALSE)","v":47},{"$f":"VLOOKUP($B54,[1]FlowData!$A$3:$PL$215,AN$7,FALSE)","v":38},{"$f":"VLOOKUP($B54,[1]FlowData!$A$3:$PL$215,AO$7,FALSE)","v":28},{"$f":"VLOOKUP($B54,[1]FlowData!$A$3:$PL$215,AP$7,FALSE)","v":38},{"$f":"VLOOKUP($B54,[1]FlowData!$A$3:$PL$215,AQ$7,FALSE)","v":32},{"$f":"VLOOKUP($B54,[1]FlowData!$A$3:$PL$215,AR$7,FALSE)","v":26},{"$f":"VLOOKUP($B54,[1]FlowData!$A$3:$PL$215,AS$7,FALSE)","v":20},{"$f":"VLOOKUP($B54,[1]FlowData!$A$3:$PL$215,AT$7,FALSE)","v":27},{"$f":"VLOOKUP($B54,[1]FlowData!$A$3:$PL$215,AU$7,FALSE)","v":25},{"$f":"VLOOKUP($B54,[1]FlowData!$A$3:$PL$215,AV$7,FALSE)","v":20},{"$f":"VLOOKUP($B54,[1]FlowData!$A$3:$PL$215,AW$7,FALSE)","v":17},{"$f":"VLOOKUP($B54,[1]FlowData!$A$3:$PL$215,AX$7,FALSE)","v":21},{"$f":"VLOOKUP($B54,[1]FlowData!$A$3:$PL$215,AY$7,FALSE)","v":22},{"$f":"VLOOKUP($B54,[1]FlowData!$A$3:$PL$215,AZ$7,FALSE)","v":17},{"$f":"VLOOKUP($B54,[1]FlowData!$A$3:$PL$215,BA$7,FALSE)","v":13},{"$f":"VLOOKUP($B54,[1]FlowData!$A$3:$PL$215,BB$7,FALSE)","v":19},{"$f":"VLOOKUP($B54,[1]FlowData!$A$3:$PL$215,BC$7,FALSE)","v":19},{"$f":"VLOOKUP($B54,[1]FlowData!$A$3:$PL$215,BD$7,FALSE)","v":13},{"$f":"VLOOKUP($B54,[1]FlowData!$A$3:$PL$215,BE$7,FALSE)","v":8.9},{"$f":"VLOOKUP($B54,[1]FlowData!$A$3:$PL$215,BF$7,FALSE)","v":15}]
[{"$f":"VLOOKUP(B55,'[2]Gages and BCs'!$A$4:$BJ$973,62,FALSE)","v":741},12383500,{"$f":"VLOOKUP(B55,'[2]Gages and BCs'!$A$4:$BJ$973,60,FALSE)","v":"Big Knife Creek near Arlee , Montana"},"1911, 1913, 1915, 1983–2009",{"$f":"VLOOKUP($B55,[1]FlowData!$A$3:$PL$215,E$7,FALSE)","v":2.9239999999999999},{"$f":"VLOOKUP($B55,[1]FlowData!$A$3:$PL$215,F$7,FALSE)","v":6.66},{"$f":"VLOOKUP($B55,[1]FlowData!$A$3:$PL$215,G$7,FALSE)","v":14},{"$f":"VLOOKUP($B55,[1]FlowData!$A$3:$PL$215,H$7,FALSE)","v":7.6},{"$f":"VLOOKUP($B55,[1]FlowData!$A$3:$PL$215,I$7,FALSE)","v":4.9000000000000004},{"$f":"VLOOKUP($B55,[1]FlowData!$A$3:$PL$215,J$7,FALSE)","v":10},{"$f":"VLOOKUP($B55,[1]FlowData!$A$3:$PL$215,K$7,FALSE)","v":5.9},{"$f":"VLOOKUP($B55,[1]FlowData!$A$3:$PL$215,L$7,FALSE)","v":5},{"$f":"VLOOKUP($B55,[1]FlowData!$A$3:$PL$215,M$7,FALSE)","v":4.2},{"$f":"VLOOKUP($B55,[1]FlowData!$A$3:$PL$215,N$7,FALSE)","v":5},{"$f":"VLOOKUP($B55,[1]FlowData!$A$3:$PL$215,O$7,FALSE)","v":5.0999999999999996},{"$f":"VLOOKUP($B55,[1]FlowData!$A$3:$PL$215,P$7,FALSE)","v":4.4000000000000004},{"$f":"VLOOKUP($B55,[1]FlowData!$A$3:$PL$215,Q$7,FALSE)","v":3.9},{"$f":"VLOOKUP($B55,[1]FlowData!$A$3:$PL$215,R$7,FALSE)","v":4.5},{"$f":"VLOOKUP($B55,[1]FlowData!$A$3:$PL$215,S$7,FALSE)","v":5.2},{"$f":"VLOOKUP($B55,[1]FlowData!$A$3:$PL$215,T$7,FALSE)","v":4.3},{"$f":"VLOOKUP($B55,[1]FlowData!$A$3:$PL$215,U$7,FALSE)","v":3.8},{"$f":"VLOOKUP($B55,[1]FlowData!$A$3:$PL$215,V$7,FALSE)","v":4.5},{"$f":"VLOOKUP($B55,[1]FlowData!$A$3:$PL$215,W$7,FALSE)","v":8},{"$f":"VLOOKUP($B55,[1]FlowData!$A$3:$PL$215,X$7,FALSE)","v":5.3},{"$f":"VLOOKUP($B55,[1]FlowData!$A$3:$PL$215,Y$7,FALSE)","v":4.2},{"$f":"VLOOKUP($B55,[1]FlowData!$A$3:$PL$215,Z$7,FALSE)","v":6.1},{"$f":"VLOOKUP($B55,[1]FlowData!$A$3:$PL$215,AA$7,FALSE)","v":23},{"$f":"VLOOKUP($B55,[1]FlowData!$A$3:$PL$215,AB$7,FALSE)","v":13},{"$f":"VLOOKUP($B55,[1]FlowData!$A$3:$PL$215,AC$7,FALSE)","v":8},{"$f":"VLOOKUP($B55,[1]FlowData!$A$3:$PL$215,AD$7,FALSE)","v":16},{"$f":"VLOOKUP($B55,[1]FlowData!$A$3:$PL$215,AE$7,FALSE)","v":37},{"$f":"VLOOKUP($B55,[1]FlowData!$A$3:$PL$215,AF$7,FALSE)","v":27},{"$f":"VLOOKUP($B55,[1]FlowData!$A$3:$PL$215,AG$7,FALSE)","v":18},{"$f":"VLOOKUP($B55,[1]FlowData!$A$3:$PL$215,AH$7,FALSE)","v":28},{"$f":"VLOOKUP($B55,[1]FlowData!$A$3:$PL$215,AI$7,FALSE)","v":25},{"$f":"VLOOKUP($B55,[1]FlowData!$A$3:$PL$215,AJ$7,FALSE)","v":18},{"$f":"VLOOKUP($B55,[1]FlowData!$A$3:$PL$215,AK$7,FALSE)","v":14},{"$f":"VLOOKUP($B55,[1]FlowData!$A$3:$PL$215,AL$7,FALSE)","v":20},{"$f":"VLOOKUP($B55,[1]FlowData!$A$3:$PL$215,AM$7,FALSE)","v":15},{"$f":"VLOOKUP($B55,[1]FlowData!$A$3:$PL$215,AN$7,FALSE)","v":12},{"$f":"VLOOKUP($B55,[1]FlowData!$A$3:$PL$215,AO$7,FALSE)","v":11},{"$f":"VLOOKUP($B55,[1]FlowData!$A$3:$PL$215,AP$7,FALSE)","v":13},{"$f":"VLOOKUP($B55,[1]FlowData!$A$3:$PL$215,AQ$7,FALSE)","v":12},{"$f":"VLOOKUP($B55,[1]FlowData!$A$3:$PL$215,AR$7,FALSE)","v":10},{"$f":"VLOOKUP($B55,[1]FlowData!$A$3:$PL$215,AS$7,FALSE)","v":8.4},{"$f":"VLOOKUP($B55,[1]FlowData!$A$3:$PL$215,AT$7,FALSE)","v":10},{"$f":"VLOOKUP($B55,[1]FlowData!$A$3:$PL$215,AU$7,FALSE)","v":9.4},{"$f":"VLOOKUP($B55,[1]FlowData!$A$3:$PL$215,AV$7,FALSE)","v":8.1999999999999993},{"$f":"VLOOKUP($B55,[1]FlowData!$A$3:$PL$215,AW$7,FALSE)","v":6.9},{"$f":"VLOOKUP($B55,[1]FlowData!$A$3:$PL$215,AX$7,FALSE)","v":8.1},{"$f":"VLOOKUP($B55,[1]FlowData!$A$3:$PL$215,AY$7,FALSE)","v":7.8},{"$f":"VLOOKUP($B55,[1]FlowData!$A$3:$PL$215,AZ$7,FALSE)","v":6.9},{"$f":"VLOOKUP($B55,[1]FlowData!$A$3:$PL$215,BA$7,FALSE)","v":5.7},{"$f":"VLOOKUP($B55,[1]FlowData!$A$3:$PL$215,BB$7,FALSE)","v":6.8},{"$f":"VLOOKUP($B55,[1]FlowData!$A$3:$PL$215,BC$7,FALSE)","v":6.8},{"$f":"VLOOKUP($B55,[1]FlowData!$A$3:$PL$215,BD$7,FALSE)","v":5.7},{"$f":"VLOOKUP($B55,[1]FlowData!$A$3:$PL$215,BE$7,FALSE)","v":4.9000000000000004},{"$f":"VLOOKUP($B55,[1]FlowData!$A$3:$PL$215,BF$7,FALSE)","v":5.8}]
[{"$f":"VLOOKUP(B56,'[2]Gages and BCs'!$A$4:$BJ$973,62,FALSE)","v":742},12387450,{"$f":"VLOOKUP(B56,'[2]Gages and BCs'!$A$4:$BJ$973,60,FALSE)","v":"Valley Creek near Arlee, Montana"},"1983–2008",{"$f":"VLOOKUP($B56,[1]FlowData!$A$3:$PL$215,E$7,FALSE)","v":""},{"$f":"VLOOKUP($B56,[1]FlowData!$A$3:$PL$215,F$7,FALSE)","v":6.6429999999999998},{"$f":"VLOOKUP($B56,[1]FlowData!$A$3:$PL$215,G$7,FALSE)","v":""},{"$f":"VLOOKUP($B56,[1]FlowData!$A$3:$PL$215,H$7,FALSE)","v":""},{"$f":"VLOOKUP($B56,[1]FlowData!$A$3:$PL$215,I$7,FALSE)","v":""},{"$f":"VLOOKUP($B56,[1]FlowData!$A$3:$PL$215,J$7,FALSE)","v":""},{"$f":"VLOOKUP($B56,[1]FlowData!$A$3:$PL$215,K$7,FALSE)","v":""},{"$f":"VLOOKUP($B56,[1]FlowData!$A$3:$PL$215,L$7,FALSE)","v":""},{"$f":"VLOOKUP($B56,[1]FlowData!$A$3:$PL$215,M$7,FALSE)","v":""},{"$f":"VLOOKUP($B56,[1]FlowData!$A$3:$PL$215,N$7,FALSE)","v":""},{"$f":"VLOOKUP($B56,[1]FlowData!$A$3:$PL$215,O$7,FALSE)","v":""},{"$f":"VLOOKUP($B56,[1]FlowData!$A$3:$PL$215,P$7,FALSE)","v":""},{"$f":"VLOOKUP($B56,[1]FlowData!$A$3:$PL$215,Q$7,FALSE)","v":""},{"$f":"VLOOKUP($B56,[1]FlowData!$A$3:$PL$215,R$7,FALSE)","v":""},{"$f":"VLOOKUP($B56,[1]FlowData!$A$3:$PL$215,S$7,FALSE)","v":""},{"$f":"VLOOKUP($B56,[1]FlowData!$A$3:$PL$215,T$7,FALSE)","v":""},{"$f":"VLOOKUP($B56,[1]FlowData!$A$3:$PL$215,U$7,FALSE)","v":""},{"$f":"VLOOKUP($B56,[1]FlowData!$A$3:$PL$215,V$7,FALSE)","v":""},{"$f":"VLOOKUP($B56,[1]FlowData!$A$3:$PL$215,W$7,FALSE)","v":19},{"$f":"VLOOKUP($B56,[1]FlowData!$A$3:$PL$215,X$7,FALSE)","v":11},{"$f":"VLOOKUP($B56,[1]FlowData!$A$3:$PL$215,Y$7,FALSE)","v":7.5},{"$f":"VLOOKUP($B56,[1]FlowData!$A$3:$PL$215,Z$7,FALSE)","v":14},{"$f":"VLOOKUP($B56,[1]FlowData!$A$3:$PL$215,AA$7,FALSE)","v":43},{"$f":"VLOOKUP($B56,[1]FlowData!$A$3:$PL$215,AB$7,FALSE)","v":27},{"$f":"VLOOKUP($B56,[1]FlowData!$A$3:$PL$215,AC$7,FALSE)","v":20},{"$f":"VLOOKUP($B56,[1]FlowData!$A$3:$PL$215,AD$7,FALSE)","v":32},{"$f":"VLOOKUP($B56,[1]FlowData!$A$3:$PL$215,AE$7,FALSE)","v":38},{"$f":"VLOOKUP($B56,[1]FlowData!$A$3:$PL$215,AF$7,FALSE)","v":24},{"$f":"VLOOKUP($B56,[1]FlowData!$A$3:$PL$215,AG$7,FALSE)","v":15},{"$f":"VLOOKUP($B56,[1]FlowData!$A$3:$PL$215,AH$7,FALSE)","v":28},{"$f":"VLOOKUP($B56,[1]FlowData!$A$3:$PL$215,AI$7,FALSE)","v":17},{"$f":"VLOOKUP($B56,[1]FlowData!$A$3:$PL$215,AJ$7,FALSE)","v":13},{"$f":"VLOOKUP($B56,[1]FlowData!$A$3:$PL$215,AK$7,FALSE)","v":9.6},{"$f":"VLOOKUP($B56,[1]FlowData!$A$3:$PL$215,AL$7,FALSE)","v":14},{"$f":"VLOOKUP($B56,[1]FlowData!$A$3:$PL$215,AM$7,FALSE)","v":12},{"$f":"VLOOKUP($B56,[1]FlowData!$A$3:$PL$215,AN$7,FALSE)","v":9.9},{"$f":"VLOOKUP($B56,[1]FlowData!$A$3:$PL$215,AO$7,FALSE)","v":7.6},{"$f":"VLOOKUP($B56,[1]FlowData!$A$3:$PL$215,AP$7,FALSE)","v":10},{"$f":"VLOOKUP($B56,[1]FlowData!$A$3:$PL$215,AQ$7,FALSE)","v":10},{"$f":"VLOOKUP($B56,[1]FlowData!$A$3:$PL$215,AR$7,FALSE)","v":9},{"$f":"VLOOKUP($B56,[1]FlowData!$A$3:$PL$215,AS$7,FALSE)","v":7},{"$f":"VLOOKUP($B56,[1]FlowData!$A$3:$PL$215,AT$7,FALSE)","v":8.9},{"$f":"VLOOKUP($B56,[1]FlowData!$A$3:$PL$215,AU$7,FALSE)","v":9.5},{"$f":"VLOOKUP($B56,[1]FlowData!$A$3:$PL$215,AV$7,FALSE)","v":8.3000000000000007},{"$f":"VLOOKUP($B56,[1]FlowData!$A$3:$PL$215,AW$7,FALSE)","v":6.7},{"$f":"VLOOKUP($B56,[1]FlowData!$A$3:$PL$215,AX$7,FALSE)","v":8.3000000000000007},{"$f":"VLOOKUP($B56,[1]FlowData!$A$3:$PL$215,AY$7,FALSE)","v":""},{"$f":"VLOOKUP($B56,[1]FlowData!$A$3:$PL$215,AZ$7,FALSE)","v":""},{"$f":"VLOOKUP($B56,[1]FlowData!$A$3:$PL$215,BA$7,FALSE)","v":""},{"$f":"VLOOKUP($B56,[1]FlowData!$A$3:$PL$215,BB$7,FALSE)","v":""},{"$f":"VLOOKUP($B56,[1]FlowData!$A$3:$PL$215,BC$7,FALSE)","v":""},{"$f":"VLOOKUP($B56,[1]FlowData!$A$3:$PL$215,BD$7,FALSE)","v":""},{"$f":"VLOOKUP($B56,[1]FlowData!$A$3:$PL$215,BE$7,FALSE)","v":""},{"$f":"VLOOKUP($B56,[1]FlowData!$A$3:$PL$215,BF$7,FALSE)","v":""}]
[{"$f":"VLOOKUP(B57,'[2]Gages and BCs'!$A$4:$BJ$973,62,FALSE)","v":743},12388200,{"$f":"VLOOKUP(B57,'[2]Gages and BCs'!$A$4:$BJ$973,60,FALSE)","v":"Jocko River at Dixon, Montana"},"1990–2009",{"$f":"VLOOKUP($B57,[1]FlowData!$A$3:$PL$215,E$7,FALSE)","v":87.664000000000001},{"$f":"VLOOKUP($B57,[1]FlowData!$A$3:$PL$215,F$7,FALSE)","v":138.89500000000001},{"$f":"VLOOKUP($B57,[1]FlowData!$A$3:$PL$215,G$7,FALSE)","v":251},{"$f":"VLOOKUP($B57,[1]FlowData!$A$3:$PL$215,H$7,FALSE)","v":182},{"$f":"VLOOKUP($B57,[1]FlowData!$A$3:$PL$215,I$7,FALSE)","v":112},{"$f":"VLOOKUP($B57,[1]FlowData!$A$3:$PL$215,J$7,FALSE)","v":232},{"$f":"VLOOKUP($B57,[1]FlowData!$A$3:$PL$215,K$7,FALSE)","v":158},{"$f":"VLOOKUP($B57,[1]FlowData!$A$3:$PL$215,L$7,FALSE)","v":129},{"$f":"VLOOKUP($B57,[1]FlowData!$A$3:$PL$215,M$7,FALSE)","v":115},{"$f":"VLOOKUP($B57,[1]FlowData!$A$3:$PL$215,N$7,FALSE)","v":138},{"$f":"VLOOKUP($B57,[1]FlowData!$A$3:$PL$215,O$7,FALSE)","v":153},{"$f":"VLOOKUP($B57,[1]FlowData!$A$3:$PL$215,P$7,FALSE)","v":124},{"$f":"VLOOKUP($B57,[1]FlowData!$A$3:$PL$215,Q$7,FALSE)","v":111},{"$f":"VLOOKUP($B57,[1]FlowData!$A$3:$PL$215,R$7,FALSE)","v":134},{"$f":"VLOOKUP($B57,[1]FlowData!$A$3:$PL$215,S$7,FALSE)","v":171},{"$f":"VLOOKUP($B57,[1]FlowData!$A$3:$PL$215,T$7,FALSE)","v":136},{"$f":"VLOOKUP($B57,[1]FlowData!$A$3:$PL$215,U$7,FALSE)","v":119},{"$f":"VLOOKUP($B57,[1]FlowData!$A$3:$PL$215,V$7,FALSE)","v":150},{"$f":"VLOOKUP($B57,[1]FlowData!$A$3:$PL$215,W$7,FALSE)","v":298},{"$f":"VLOOKUP($B57,[1]FlowData!$A$3:$PL$215,X$7,FALSE)","v":184},{"$f":"VLOOKUP($B57,[1]FlowData!$A$3:$PL$215,Y$7,FALSE)","v":142},{"$f":"VLOOKUP($B57,[1]FlowData!$A$3:$PL$215,Z$7,FALSE)","v":225},{"$f":"VLOOKUP($B57,[1]FlowData!$A$3:$PL$215,AA$7,FALSE)","v":632},{"$f":"VLOOKUP($B57,[1]FlowData!$A$3:$PL$215,AB$7,FALSE)","v":339},{"$f":"VLOOKUP($B57,[1]FlowData!$A$3:$PL$215,AC$7,FALSE)","v":216},{"$f":"VLOOKUP($B57,[1]FlowData!$A$3:$PL$215,AD$7,FALSE)","v":438},{"$f":"VLOOKUP($B57,[1]FlowData!$A$3:$PL$215,AE$7,FALSE)","v":868},{"$f":"VLOOKUP($B57,[1]FlowData!$A$3:$PL$215,AF$7,FALSE)","v":489},{"$f":"VLOOKUP($B57,[1]FlowData!$A$3:$PL$215,AG$7,FALSE)","v":264},{"$f":"VLOOKUP($B57,[1]FlowData!$A$3:$PL$215,AH$7,FALSE)","v":581},{"$f":"VLOOKUP($B57,[1]FlowData!$A$3:$PL$215,AI$7,FALSE)","v":324},{"$f":"VLOOKUP($B57,[1]FlowData!$A$3:$PL$215,AJ$7,FALSE)","v":205},{"$f":"VLOOKUP($B57,[1]FlowData!$A$3:$PL$215,AK$7,FALSE)","v":159},{"$f":"VLOOKUP($B57,[1]FlowData!$A$3:$PL$215,AL$7,FALSE)","v":259},{"$f":"VLOOKUP($B57,[1]FlowData!$A$3:$PL$215,AM$7,FALSE)","v":199},{"$f":"VLOOKUP($B57,[1]FlowData!$A$3:$PL$215,AN$7,FALSE)","v":172},{"$f":"VLOOKUP($B57,[1]FlowData!$A$3:$PL$215,AO$7,FALSE)","v":143},{"$f":"VLOOKUP($B57,[1]FlowData!$A$3:$PL$215,AP$7,FALSE)","v":174},{"$f":"VLOOKUP($B57,[1]FlowData!$A$3:$PL$215,AQ$7,FALSE)","v":205},{"$f":"VLOOKUP($B57,[1]FlowData!$A$3:$PL$215,AR$7,FALSE)","v":185},{"$f":"VLOOKUP($B57,[1]FlowData!$A$3:$PL$215,AS$7,FALSE)","v":153},{"$f":"VLOOKUP($B57,[1]FlowData!$A$3:$PL$215,AT$7,FALSE)","v":183},{"$f":"VLOOKUP($B57,[1]FlowData!$A$3:$PL$215,AU$7,FALSE)","v":208},{"$f":"VLOOKUP($B57,[1]FlowData!$A$3:$PL$215,AV$7,FALSE)","v":183},{"$f":"VLOOKUP($B57,[1]FlowData!$A$3:$PL$215,AW$7,FALSE)","v":155},{"$f":"VLOOKUP($B57,[1]FlowData!$A$3:$PL$215,AX$7,FALSE)","v":184},{"$f":"VLOOKUP($B57,[1]FlowData!$A$3:$PL$215,AY$7,FALSE)","v":204},{"$f":"VLOOKUP($B57,[1]FlowData!$A$3:$PL$215,AZ$7,FALSE)","v":174},{"$f":"VLOOKUP($B57,[1]FlowData!$A$3:$PL$215,BA$7,FALSE)","v":147},{"$f":"VLOOKUP($B57,[1]FlowData!$A$3:$PL$215,BB$7,FALSE)","v":181},{"$f":"VLOOKUP($B57,[1]FlowData!$A$3:$PL$215,BC$7,FALSE)","v":181},{"$f":"VLOOKUP($B57,[1]FlowData!$A$3:$PL$215,BD$7,FALSE)","v":149},{"$f":"VLOOKUP($B57,[1]FlowData!$A$3:$PL$215,BE$7,FALSE)","v":129},{"$f":"VLOOKUP($B57,[1]FlowData!$A$3:$PL$215,BF$7,FALSE)","v":158}]
[{"$f":"VLOOKUP(B58,'[2]Gages and BCs'!$A$4:$BJ$973,62,FALSE)","v":744},12388400,{"$f":"VLOOKUP(B58,'[2]Gages and BCs'!$A$4:$BJ$973,60,FALSE)","v":"Revais Creek below West Fork, near Dixon, Montana"},"1983–2009",{"$f":"VLOOKUP($B58,[1]FlowData!$A$3:$PL$215,E$7,FALSE)","v":3.15},{"$f":"VLOOKUP($B58,[1]FlowData!$A$3:$PL$215,F$7,FALSE)","v":4.2919999999999998},{"$f":"VLOOKUP($B58,[1]FlowData!$A$3:$PL$215,G$7,FALSE)","v":23},{"$f":"VLOOKUP($B58,[1]FlowData!$A$3:$PL$215,H$7,FALSE)","v":10},{"$f":"VLOOKUP($B58,[1]FlowData!$A$3:$PL$215,I$7,FALSE)","v":5.4},{"$f":"VLOOKUP($B58,[1]FlowData!$A$3:$PL$215,J$7,FALSE)","v":18},{"$f":"VLOOKUP($B58,[1]FlowData!$A$3:$PL$215,K$7,FALSE)","v":6.8},{"$f":"VLOOKUP($B58,[1]FlowData!$A$3:$PL$215,L$7,FALSE)","v":4.8},{"$f":"VLOOKUP($B58,[1]FlowData!$A$3:$PL$215,M$7,FALSE)","v":3.8},{"$f":"VLOOKUP($B58,[1]FlowData!$A$3:$PL$215,N$7,FALSE)","v":5.5},{"$f":"VLOOKUP($B58,[1]FlowData!$A$3:$PL$215,O$7,FALSE)","v":6.3},{"$f":"VLOOKUP($B58,[1]FlowData!$A$3:$PL$215,P$7,FALSE)","v":4.7},{"$f":"VLOOKUP($B58,[1]FlowData!$A$3:$PL$215,Q$7,FALSE)","v":3.8},{"$f":"VLOOKUP($B58,[1]FlowData!$A$3:$PL$215,R$7,FALSE)","v":5.6},{"$f":"VLOOKUP($B58,[1]FlowData!$A$3:$PL$215,S$7,FALSE)","v":9.8000000000000007},{"$f":"VLOOKUP($B58,[1]FlowData!$A$3:$PL$215,T$7,FALSE)","v":5.8},{"$f":"VLOOKUP($B58,[1]FlowData!$A$3:$PL$215,U$7,FALSE)","v":4.3},{"$f":"VLOOKUP($B58,[1]FlowData!$A$3:$PL$215,V$7,FALSE)","v":8.1},{"$f":"VLOOKUP($B58,[1]FlowData!$A$3:$PL$215,W$7,FALSE)","v":34},{"$f":"VLOOKUP($B58,[1]FlowData!$A$3:$PL$215,X$7,FALSE)","v":16},{"$f":"VLOOKUP($B58,[1]FlowData!$A$3:$PL$215,Y$7,FALSE)","v":7.8},{"$f":"VLOOKUP($B58,[1]FlowData!$A$3:$PL$215,Z$7,FALSE)","v":22},{"$f":"VLOOKUP($B58,[1]FlowData!$A$3:$PL$215,AA$7,FALSE)","v":95},{"$f":"VLOOKUP($B58,[1]FlowData!$A$3:$PL$215,AB$7,FALSE)","v":54},{"$f":"VLOOKUP($B58,[1]FlowData!$A$3:$PL$215,AC$7,FALSE)","v":34},{"$f":"VLOOKUP($B58,[1]FlowData!$A$3:$PL$215,AD$7,FALSE)","v":69},{"$f":"VLOOKUP($B58,[1]FlowData!$A$3:$PL$215,AE$7,FALSE)","v":81},{"$f":"VLOOKUP($B58,[1]FlowData!$A$3:$PL$215,AF$7,FALSE)","v":47},{"$f":"VLOOKUP($B58,[1]FlowData!$A$3:$PL$215,AG$7,FALSE)","v":26},{"$f":"VLOOKUP($B58,[1]FlowData!$A$3:$PL$215,AH$7,FALSE)","v":55},{"$f":"VLOOKUP($B58,[1]FlowData!$A$3:$PL$215,AI$7,FALSE)","v":20},{"$f":"VLOOKUP($B58,[1]FlowData!$A$3:$PL$215,AJ$7,FALSE)","v":14},{"$f":"VLOOKUP($B58,[1]FlowData!$A$3:$PL$215,AK$7,FALSE)","v":10},{"$f":"VLOOKUP($B58,[1]FlowData!$A$3:$PL$215,AL$7,FALSE)","v":16},{"$f":"VLOOKUP($B58,[1]FlowData!$A$3:$PL$215,AM$7,FALSE)","v":9.4},{"$f":"VLOOKUP($B58,[1]FlowData!$A$3:$PL$215,AN$7,FALSE)","v":7.7},{"$f":"VLOOKUP($B58,[1]FlowData!$A$3:$PL$215,AO$7,FALSE)","v":6.3},{"$f":"VLOOKUP($B58,[1]FlowData!$A$3:$PL$215,AP$7,FALSE)","v":7.9},{"$f":"VLOOKUP($B58,[1]FlowData!$A$3:$PL$215,AQ$7,FALSE)","v":7.5},{"$f":"VLOOKUP($B58,[1]FlowData!$A$3:$PL$215,AR$7,FALSE)","v":6},{"$f":"VLOOKUP($B58,[1]FlowData!$A$3:$PL$215,AS$7,FALSE)","v":4.8},{"$f":"VLOOKUP($B58,[1]FlowData!$A$3:$PL$215,AT$7,FALSE)","v":6.2},{"$f":"VLOOKUP($B58,[1]FlowData!$A$3:$PL$215,AU$7,FALSE)","v":7.5},{"$f":"VLOOKUP($B58,[1]FlowData!$A$3:$PL$215,AV$7,FALSE)","v":5.7},{"$f":"VLOOKUP($B58,[1]FlowData!$A$3:$PL$215,AW$7,FALSE)","v":4.5999999999999996},{"$f":"VLOOKUP($B58,[1]FlowData!$A$3:$PL$215,AX$7,FALSE)","v":6.2},{"$f":"VLOOKUP($B58,[1]FlowData!$A$3:$PL$215,AY$7,FALSE)","v":8.1},{"$f":"VLOOKUP($B58,[1]FlowData!$A$3:$PL$215,AZ$7,FALSE)","v":5.9},{"$f":"VLOOKUP($B58,[1]FlowData!$A$3:$PL$215,BA$7,FALSE)","v":4.7},{"$f":"VLOOKUP($B58,[1]FlowData!$A$3:$PL$215,BB$7,FALSE)","v":6.7},{"$f":"VLOOKUP($B58,[1]FlowData!$A$3:$PL$215,BC$7,FALSE)","v":7.2},{"$f":"VLOOKUP($B58,[1]FlowData!$A$3:$PL$215,BD$7,FALSE)","v":5.3},{"$f":"VLOOKUP($B58,[1]FlowData!$A$3:$PL$215,BE$7,FALSE)","v":3.9},{"$f":"VLOOKUP($B58,[1]FlowData!$A$3:$PL$215,BF$7,FALSE)","v":6.5}]
[{"$f":"VLOOKUP(B59,'[2]Gages and BCs'!$A$4:$BJ$973,62,FALSE)","v":748},12389500,{"$f":"VLOOKUP(B59,'[2]Gages and BCs'!$A$4:$BJ$973,60,FALSE)","v":"Thompson River near Thompson Falls, Montana"},"1911, 1956–2009",{"$f":"VLOOKUP($B59,[1]FlowData!$A$3:$PL$215,E$7,FALSE)","v":90.599000000000004},{"$f":"VLOOKUP($B59,[1]FlowData!$A$3:$PL$215,F$7,FALSE)","v":135.08199999999999},{"$f":"VLOOKUP($B59,[1]FlowData!$A$3:$PL$215,G$7,FALSE)","v":604},{"$f":"VLOOKUP($B59,[1]FlowData!$A$3:$PL$215,H$7,FALSE)","v":231},{"$f":"VLOOKUP($B59,[1]FlowData!$A$3:$PL$215,I$7,FALSE)","v":122},{"$f":"VLOOKUP($B59,[1]FlowData!$A$3:$PL$215,J$7,FALSE)","v":433},{"$f":"VLOOKUP($B59,[1]FlowData!$A$3:$PL$215,K$7,FALSE)","v":268},{"$f":"VLOOKUP($B59,[1]FlowData!$A$3:$PL$215,L$7,FALSE)","v":164},{"$f":"VLOOKUP($B59,[1]FlowData!$A$3:$PL$215,M$7,FALSE)","v":102},{"$f":"VLOOKUP($B59,[1]FlowData!$A$3:$PL$215,N$7,FALSE)","v":202},{"$f":"VLOOKUP($B59,[1]FlowData!$A$3:$PL$215,O$7,FALSE)","v":304},{"$f":"VLOOKUP($B59,[1]FlowData!$A$3:$PL$215,P$7,FALSE)","v":180},{"$f":"VLOOKUP($B59,[1]FlowData!$A$3:$PL$215,Q$7,FALSE)","v":108},{"$f":"VLOOKUP($B59,[1]FlowData!$A$3:$PL$215,R$7,FALSE)","v":242},{"$f":"VLOOKUP($B59,[1]FlowData!$A$3:$PL$215,S$7,FALSE)","v":428},{"$f":"VLOOKUP($B59,[1]FlowData!$A$3:$PL$215,T$7,FALSE)","v":269},{"$f":"VLOOKUP($B59,[1]FlowData!$A$3:$PL$215,U$7,FALSE)","v":180},{"$f":"VLOOKUP($B59,[1]FlowData!$A$3:$PL$215,V$7,FALSE)","v":345},{"$f":"VLOOKUP($B59,[1]FlowData!$A$3:$PL$215,W$7,FALSE)","v":1120},{"$f":"VLOOKUP($B59,[1]FlowData!$A$3:$PL$215,X$7,FALSE)","v":622},{"$f":"VLOOKUP($B59,[1]FlowData!$A$3:$PL$215,Y$7,FALSE)","v":358},{"$f":"VLOOKUP($B59,[1]FlowData!$A$3:$PL$215,Z$7,FALSE)","v":774},{"$f":"VLOOKUP($B59,[1]FlowData!$A$3:$PL$215,AA$7,FALSE)","v":1790},{"$f":"VLOOKUP($B59,[1]FlowData!$A$3:$PL$215,AB$7,FALSE)","v":1150},{"$f":"VLOOKUP($B59,[1]FlowData!$A$3:$PL$215,AC$7,FALSE)","v":706},{"$f":"VLOOKUP($B59,[1]FlowData!$A$3:$PL$215,AD$7,FALSE)","v":1310},{"$f":"VLOOKUP($B59,[1]FlowData!$A$3:$PL$215,AE$7,FALSE)","v":1420},{"$f":"VLOOKUP($B59,[1]FlowData!$A$3:$PL$215,AF$7,FALSE)","v":902},{"$f":"VLOOKUP($B59,[1]FlowData!$A$3:$PL$215,AG$7,FALSE)","v":474},{"$f":"VLOOKUP($B59,[1]FlowData!$A$3:$PL$215,AH$7,FALSE)","v":996},{"$f":"VLOOKUP($B59,[1]FlowData!$A$3:$PL$215,AI$7,FALSE)","v":523},{"$f":"VLOOKUP($B59,[1]FlowData!$A$3:$PL$215,AJ$7,FALSE)","v":360},{"$f":"VLOOKUP($B59,[1]FlowData!$A$3:$PL$215,AK$7,FALSE)","v":240},{"$f":"VLOOKUP($B59,[1]FlowData!$A$3:$PL$215,AL$7,FALSE)","v":396},{"$f":"VLOOKUP($B59,[1]FlowData!$A$3:$PL$215,AM$7,FALSE)","v":289},{"$f":"VLOOKUP($B59,[1]FlowData!$A$3:$PL$215,AN$7,FALSE)","v":231},{"$f":"VLOOKUP($B59,[1]FlowData!$A$3:$PL$215,AO$7,FALSE)","v":166},{"$f":"VLOOKUP($B59,[1]FlowData!$A$3:$PL$215,AP$7,FALSE)","v":233},{"$f":"VLOOKUP($B59,[1]FlowData!$A$3:$PL$215,AQ$7,FALSE)","v":231},{"$f":"VLOOKUP($B59,[1]FlowData!$A$3:$PL$215,AR$7,FALSE)","v":191},{"$f":"VLOOKUP($B59,[1]FlowData!$A$3:$PL$215,AS$7,FALSE)","v":143},{"$f":"VLOOKUP($B59,[1]FlowData!$A$3:$PL$215,AT$7,FALSE)","v":190},{"$f":"VLOOKUP($B59,[1]FlowData!$A$3:$PL$215,AU$7,FALSE)","v":207},{"$f":"VLOOKUP($B59,[1]FlowData!$A$3:$PL$215,AV$7,FALSE)","v":175},{"$f":"VLOOKUP($B59,[1]FlowData!$A$3:$PL$215,AW$7,FALSE)","v":138},{"$f":"VLOOKUP($B59,[1]FlowData!$A$3:$PL$215,AX$7,FALSE)","v":178},{"$f":"VLOOKUP($B59,[1]FlowData!$A$3:$PL$215,AY$7,FALSE)","v":232},{"$f":"VLOOKUP($B59,[1]FlowData!$A$3:$PL$215,AZ$7,FALSE)","v":174},{"$f":"VLOOKUP($B59,[1]FlowData!$A$3:$PL$215,BA$7,FALSE)","v":136},{"$f":"VLOOKUP($B59,[1]FlowData!$A$3:$PL$215,BB$7,FALSE)","v":195},{"$f":"VLOOKUP($B59,[1]FlowData!$A$3:$PL$215,BC$7,FALSE)","v":244},{"$f":"VLOOKUP($B59,[1]FlowData!$A$3:$PL$215,BD$7,FALSE)","v":173},{"$f":"VLOOKUP($B59,[1]FlowData!$A$3:$PL$215,BE$7,FALSE)","v":130},{"$f":"VLOOKUP($B59,[1]FlowData!$A$3:$PL$215,BF$7,FALSE)","v":201}]
[{"$f":"VLOOKUP(B60,'[2]Gages and BCs'!$A$4:$BJ$973,62,FALSE)","v":749},12390700,{"$f":"VLOOKUP(B60,'[2]Gages and BCs'!$A$4:$BJ$973,60,FALSE)","v":"Prospect Creek at Thompson Falls, Montana"},"1956–2009",{"$f":"VLOOKUP($B60,[1]FlowData!$A$3:$PL$215,E$7,FALSE)","v":30.553000000000001},{"$f":"VLOOKUP($B60,[1]FlowData!$A$3:$PL$215,F$7,FALSE)","v":39.33},{"$f":"VLOOKUP($B60,[1]FlowData!$A$3:$PL$215,G$7,FALSE)","v":369},{"$f":"VLOOKUP($B60,[1]FlowData!$A$3:$PL$215,H$7,FALSE)","v":154},{"$f":"VLOOKUP($B60,[1]FlowData!$A$3:$PL$215,I$7,FALSE)","v":75},{"$f":"VLOOKUP($B60,[1]FlowData!$A$3:$PL$215,J$7,FALSE)","v":234},{"$f":"VLOOKUP($B60,[1]FlowData!$A$3:$PL$215,K$7,FALSE)","v":186},{"$f":"VLOOKUP($B60,[1]FlowData!$A$3:$PL$215,L$7,FALSE)","v":124},{"$f":"VLOOKUP($B60,[1]FlowData!$A$3:$PL$215,M$7,FALSE)","v":63},{"$f":"VLOOKUP($B60,[1]FlowData!$A$3:$PL$215,N$7,FALSE)","v":117},{"$f":"VLOOKUP($B60,[1]FlowData!$A$3:$PL$215,O$7,FALSE)","v":199},{"$f":"VLOOKUP($B60,[1]FlowData!$A$3:$PL$215,P$7,FALSE)","v":122},{"$f":"VLOOKUP($B60,[1]FlowData!$A$3:$PL$215,Q$7,FALSE)","v":62},{"$f":"VLOOKUP($B60,[1]FlowData!$A$3:$PL$215,R$7,FALSE)","v":154},{"$f":"VLOOKUP($B60,[1]FlowData!$A$3:$PL$215,S$7,FALSE)","v":300},{"$f":"VLOOKUP($B60,[1]FlowData!$A$3:$PL$215,T$7,FALSE)","v":165},{"$f":"VLOOKUP($B60,[1]FlowData!$A$3:$PL$215,U$7,FALSE)","v":90},{"$f":"VLOOKUP($B60,[1]FlowData!$A$3:$PL$215,V$7,FALSE)","v":220},{"$f":"VLOOKUP($B60,[1]FlowData!$A$3:$PL$215,W$7,FALSE)","v":690},{"$f":"VLOOKUP($B60,[1]FlowData!$A$3:$PL$215,X$7,FALSE)","v":405},{"$f":"VLOOKUP($B60,[1]FlowData!$A$3:$PL$215,Y$7,FALSE)","v":230},{"$f":"VLOOKUP($B60,[1]FlowData!$A$3:$PL$215,Z$7,FALSE)","v":485},{"$f":"VLOOKUP($B60,[1]FlowData!$A$3:$PL$215,AA$7,FALSE)","v":1120},{"$f":"VLOOKUP($B60,[1]FlowData!$A$3:$PL$215,AB$7,FALSE)","v":697},{"$f":"VLOOKUP($B60,[1]FlowData!$A$3:$PL$215,AC$7,FALSE)","v":448},{"$f":"VLOOKUP($B60,[1]FlowData!$A$3:$PL$215,AD$7,FALSE)","v":794},{"$f":"VLOOKUP($B60,[1]FlowData!$A$3:$PL$215,AE$7,FALSE)","v":789},{"$f":"VLOOKUP($B60,[1]FlowData!$A$3:$PL$215,AF$7,FALSE)","v":462},{"$f":"VLOOKUP($B60,[1]FlowData!$A$3:$PL$215,AG$7,FALSE)","v":225},{"$f":"VLOOKUP($B60,[1]FlowData!$A$3:$PL$215,AH$7,FALSE)","v":526},{"$f":"VLOOKUP($B60,[1]FlowData!$A$3:$PL$215,AI$7,FALSE)","v":200},{"$f":"VLOOKUP($B60,[1]FlowData!$A$3:$PL$215,AJ$7,FALSE)","v":133},{"$f":"VLOOKUP($B60,[1]FlowData!$A$3:$PL$215,AK$7,FALSE)","v":97},{"$f":"VLOOKUP($B60,[1]FlowData!$A$3:$PL$215,AL$7,FALSE)","v":158},{"$f":"VLOOKUP($B60,[1]FlowData!$A$3:$PL$215,AM$7,FALSE)","v":99},{"$f":"VLOOKUP($B60,[1]FlowData!$A$3:$PL$215,AN$7,FALSE)","v":82},{"$f":"VLOOKUP($B60,[1]FlowData!$A$3:$PL$215,AO$7,FALSE)","v":64},{"$f":"VLOOKUP($B60,[1]FlowData!$A$3:$PL$215,AP$7,FALSE)","v":82},{"$f":"VLOOKUP($B60,[1]FlowData!$A$3:$PL$215,AQ$7,FALSE)","v":73},{"$f":"VLOOKUP($B60,[1]FlowData!$A$3:$PL$215,AR$7,FALSE)","v":63},{"$f":"VLOOKUP($B60,[1]FlowData!$A$3:$PL$215,AS$7,FALSE)","v":48},{"$f":"VLOOKUP($B60,[1]FlowData!$A$3:$PL$215,AT$7,FALSE)","v":61},{"$f":"VLOOKUP($B60,[1]FlowData!$A$3:$PL$215,AU$7,FALSE)","v":62},{"$f":"VLOOKUP($B60,[1]FlowData!$A$3:$PL$215,AV$7,FALSE)","v":51},{"$f":"VLOOKUP($B60,[1]FlowData!$A$3:$PL$215,AW$7,FALSE)","v":40},{"$f":"VLOOKUP($B60,[1]FlowData!$A$3:$PL$215,AX$7,FALSE)","v":53},{"$f":"VLOOKUP($B60,[1]FlowData!$A$3:$PL$215,AY$7,FALSE)","v":134},{"$f":"VLOOKUP($B60,[1]FlowData!$A$3:$PL$215,AZ$7,FALSE)","v":93},{"$f":"VLOOKUP($B60,[1]FlowData!$A$3:$PL$215,BA$7,FALSE)","v":52},{"$f":"VLOOKUP($B60,[1]FlowData!$A$3:$PL$215,BB$7,FALSE)","v":79},{"$f":"VLOOKUP($B60,[1]FlowData!$A$3:$PL$215,BC$7,FALSE)","v":144},{"$f":"VLOOKUP($B60,[1]FlowData!$A$3:$PL$215,BD$7,FALSE)","v":87},{"$f":"VLOOKUP($B60,[1]FlowData!$A$3:$PL$215,BE$7,FALSE)","v":49},{"$f":"VLOOKUP($B60,[1]FlowData!$A$3:$PL$215,BF$7,FALSE)","v":110}]
[{"$f":"VLOOKUP(B61,'[2]Gages and BCs'!$A$4:$BJ$973,62,FALSE)","v":755},12391550,{"$f":"VLOOKUP(B61,'[2]Gages and BCs'!$A$4:$BJ$973,60,FALSE)","v":"Bull River near Noxon, Montana"},"1973–82",{"$f":"VLOOKUP($B61,[1]FlowData!$A$3:$PL$215,E$7,FALSE)","v":""},{"$f":"VLOOKUP($B61,[1]FlowData!$A$3:$PL$215,F$7,FALSE)","v":""},{"$f":"VLOOKUP($B61,[1]FlowData!$A$3:$PL$215,G$7,FALSE)","v":610},{"$f":"VLOOKUP($B61,[1]FlowData!$A$3:$PL$215,H$7,FALSE)","v":210},{"$f":"VLOOKUP($B61,[1]FlowData!$A$3:$PL$215,I$7,FALSE)","v":101},{"$f":"VLOOKUP($B61,[1]FlowData!$A$3:$PL$215,J$7,FALSE)","v":389},{"$f":"VLOOKUP($B61,[1]FlowData!$A$3:$PL$215,K$7,FALSE)","v":300},{"$f":"VLOOKUP($B61,[1]FlowData!$A$3:$PL$215,L$7,FALSE)","v":171},{"$f":"VLOOKUP($B61,[1]FlowData!$A$3:$PL$215,M$7,FALSE)","v":92},{"$f":"VLOOKUP($B61,[1]FlowData!$A$3:$PL$215,N$7,FALSE)","v":261},{"$f":"VLOOKUP($B61,[1]FlowData!$A$3:$PL$215,O$7,FALSE)","v":275},{"$f":"VLOOKUP($B61,[1]FlowData!$A$3:$PL$215,P$7,FALSE)","v":171},{"$f":"VLOOKUP($B61,[1]FlowData!$A$3:$PL$215,Q$7,FALSE)","v":104},{"$f":"VLOOKUP($B61,[1]FlowData!$A$3:$PL$215,R$7,FALSE)","v":246},{"$f":"VLOOKUP($B61,[1]FlowData!$A$3:$PL$215,S$7,FALSE)","v":380},{"$f":"VLOOKUP($B61,[1]FlowData!$A$3:$PL$215,T$7,FALSE)","v":256},{"$f":"VLOOKUP($B61,[1]FlowData!$A$3:$PL$215,U$7,FALSE)","v":187},{"$f":"VLOOKUP($B61,[1]FlowData!$A$3:$PL$215,V$7,FALSE)","v":300},{"$f":"VLOOKUP($B61,[1]FlowData!$A$3:$PL$215,W$7,FALSE)","v":736},{"$f":"VLOOKUP($B61,[1]FlowData!$A$3:$PL$215,X$7,FALSE)","v":435},{"$f":"VLOOKUP($B61,[1]FlowData!$A$3:$PL$215,Y$7,FALSE)","v":272},{"$f":"VLOOKUP($B61,[1]FlowData!$A$3:$PL$215,Z$7,FALSE)","v":531},{"$f":"VLOOKUP($B61,[1]FlowData!$A$3:$PL$215,AA$7,FALSE)","v":1470},{"$f":"VLOOKUP($B61,[1]FlowData!$A$3:$PL$215,AB$7,FALSE)","v":1010},{"$f":"VLOOKUP($B61,[1]FlowData!$A$3:$PL$215,AC$7,FALSE)","v":697},{"$f":"VLOOKUP($B61,[1]FlowData!$A$3:$PL$215,AD$7,FALSE)","v":1080},{"$f":"VLOOKUP($B61,[1]FlowData!$A$3:$PL$215,AE$7,FALSE)","v":1430},{"$f":"VLOOKUP($B61,[1]FlowData!$A$3:$PL$215,AF$7,FALSE)","v":893},{"$f":"VLOOKUP($B61,[1]FlowData!$A$3:$PL$215,AG$7,FALSE)","v":535},{"$f":"VLOOKUP($B61,[1]FlowData!$A$3:$PL$215,AH$7,FALSE)","v":1030},{"$f":"VLOOKUP($B61,[1]FlowData!$A$3:$PL$215,AI$7,FALSE)","v":598},{"$f":"VLOOKUP($B61,[1]FlowData!$A$3:$PL$215,AJ$7,FALSE)","v":322},{"$f":"VLOOKUP($B61,[1]FlowData!$A$3:$PL$215,AK$7,FALSE)","v":183},{"$f":"VLOOKUP($B61,[1]FlowData!$A$3:$PL$215,AL$7,FALSE)","v":396},{"$f":"VLOOKUP($B61,[1]FlowData!$A$3:$PL$215,AM$7,FALSE)","v":205},{"$f":"VLOOKUP($B61,[1]FlowData!$A$3:$PL$215,AN$7,FALSE)","v":148},{"$f":"VLOOKUP($B61,[1]FlowData!$A$3:$PL$215,AO$7,FALSE)","v":106},{"$f":"VLOOKUP($B61,[1]FlowData!$A$3:$PL$215,AP$7,FALSE)","v":155},{"$f":"VLOOKUP($B61,[1]FlowData!$A$3:$PL$215,AQ$7,FALSE)","v":140},{"$f":"VLOOKUP($B61,[1]FlowData!$A$3:$PL$215,AR$7,FALSE)","v":117},{"$f":"VLOOKUP($B61,[1]FlowData!$A$3:$PL$215,AS$7,FALSE)","v":93},{"$f":"VLOOKUP($B61,[1]FlowData!$A$3:$PL$215,AT$7,FALSE)","v":118},{"$f":"VLOOKUP($B61,[1]FlowData!$A$3:$PL$215,AU$7,FALSE)","v":120},{"$f":"VLOOKUP($B61,[1]FlowData!$A$3:$PL$215,AV$7,FALSE)","v":102},{"$f":"VLOOKUP($B61,[1]FlowData!$A$3:$PL$215,AW$7,FALSE)","v":88},{"$f":"VLOOKUP($B61,[1]FlowData!$A$3:$PL$215,AX$7,FALSE)","v":103},{"$f":"VLOOKUP($B61,[1]FlowData!$A$3:$PL$215,AY$7,FALSE)","v":198},{"$f":"VLOOKUP($B61,[1]FlowData!$A$3:$PL$215,AZ$7,FALSE)","v":120},{"$f":"VLOOKUP($B61,[1]FlowData!$A$3:$PL$215,BA$7,FALSE)","v":92},{"$f":"VLOOKUP($B61,[1]FlowData!$A$3:$PL$215,BB$7,FALSE)","v":157},{"$f":"VLOOKUP($B61,[1]FlowData!$A$3:$PL$215,BC$7,FALSE)","v":369},{"$f":"VLOOKUP($B61,[1]FlowData!$A$3:$PL$215,BD$7,FALSE)","v":189},{"$f":"VLOOKUP($B61,[1]FlowData!$A$3:$PL$215,BE$7,FALSE)","v":93},{"$f":"VLOOKUP($B61,[1]FlowData!$A$3:$PL$215,BF$7,FALSE)","v":282}]
["Northwest hydrologic region"]
[{"$f":"VLOOKUP(B63,'[2]Gages and BCs'!$A$4:$BJ$973,62,FALSE)","v":2},5011000,{"$f":"VLOOKUP(B63,'[2]Gages and BCs'!$A$4:$BJ$973,60,FALSE)","v":"Belly River near Mountain View, Alberta"},"1912–78",{"$f":"VLOOKUP($B63,[1]FlowData!$A$3:$PL$215,E$7,FALSE)","v":22.178000000000001},{"$f":"VLOOKUP($B63,[1]FlowData!$A$3:$PL$215,F$7,FALSE)","v":67.141999999999996},{"$f":"VLOOKUP($B63,[1]FlowData!$A$3:$PL$215,G$7,FALSE)","v":515},{"$f":"VLOOKUP($B63,[1]FlowData!$A$3:$PL$215,H$7,FALSE)","v":283},{"$f":"VLOOKUP($B63,[1]FlowData!$A$3:$PL$215,I$7,FALSE)","v":117},{"$f":"VLOOKUP($B63,[1]FlowData!$A$3:$PL$215,J$7,FALSE)","v":314},{"$f":"VLOOKUP($B63,[1]FlowData!$A$3:$PL$215,K$7,FALSE)","v":85},{"$f":"VLOOKUP($B63,[1]FlowData!$A$3:$PL$215,L$7,FALSE)","v":61},{"$f":"VLOOKUP($B63,[1]FlowData!$A$3:$PL$215,M$7,FALSE)","v":45},{"$f":"VLOOKUP($B63,[1]FlowData!$A$3:$PL$215,N$7,FALSE)","v":68},{"$f":"VLOOKUP($B63,[1]FlowData!$A$3:$PL$215,O$7,FALSE)","v":82},{"$f":"VLOOKUP($B63,[1]FlowData!$A$3:$PL$215,P$7,FALSE)","v":62},{"$f":"VLOOKUP($B63,[1]FlowData!$A$3:$PL$215,Q$7,FALSE)","v":36},{"$f":"VLOOKUP($B63,[1]FlowData!$A$3:$PL$215,R$7,FALSE)","v":68},{"$f":"VLOOKUP($B63,[1]FlowData!$A$3:$PL$215,S$7,FALSE)","v":82},{"$f":"VLOOKUP($B63,[1]FlowData!$A$3:$PL$215,T$7,FALSE)","v":59},{"$f":"VLOOKUP($B63,[1]FlowData!$A$3:$PL$215,U$7,FALSE)","v":41},{"$f":"VLOOKUP($B63,[1]FlowData!$A$3:$PL$215,V$7,FALSE)","v":69},{"$f":"VLOOKUP($B63,[1]FlowData!$A$3:$PL$215,W$7,FALSE)","v":299},{"$f":"VLOOKUP($B63,[1]FlowData!$A$3:$PL$215,X$7,FALSE)","v":143},{"$f":"VLOOKUP($B63,[1]FlowData!$A$3:$PL$215,Y$7,FALSE)","v":79},{"$f":"VLOOKUP($B63,[1]FlowData!$A$3:$PL$215,Z$7,FALSE)","v":207},{"$f":"VLOOKUP($B63,[1]FlowData!$A$3:$PL$215,AA$7,FALSE)","v":1150},{"$f":"VLOOKUP($B63,[1]FlowData!$A$3:$PL$215,AB$7,FALSE)","v":710},{"$f":"VLOOKUP($B63,[1]FlowData!$A$3:$PL$215,AC$7,FALSE)","v":405},{"$f":"VLOOKUP($B63,[1]FlowData!$A$3:$PL$215,AD$7,FALSE)","v":786},{"$f":"VLOOKUP($B63,[1]FlowData!$A$3:$PL$215,AE$7,FALSE)","v":1490},{"$f":"VLOOKUP($B63,[1]FlowData!$A$3:$PL$215,AF$7,FALSE)","v":1010},{"$f":"VLOOKUP($B63,[1]FlowData!$A$3:$PL$215,AG$7,FALSE)","v":669},{"$f":"VLOOKUP($B63,[1]FlowData!$A$3:$PL$215,AH$7,FALSE)","v":1120},{"$f":"VLOOKUP($B63,[1]FlowData!$A$3:$PL$215,AI$7,FALSE)","v":822},{"$f":"VLOOKUP($B63,[1]FlowData!$A$3:$PL$215,AJ$7,FALSE)","v":535},{"$f":"VLOOKUP($B63,[1]FlowData!$A$3:$PL$215,AK$7,FALSE)","v":346},{"$f":"VLOOKUP($B63,[1]FlowData!$A$3:$PL$215,AL$7,FALSE)","v":603},{"$f":"VLOOKUP($B63,[1]FlowData!$A$3:$PL$215,AM$7,FALSE)","v":340},{"$f":"VLOOKUP($B63,[1]FlowData!$A$3:$PL$215,AN$7,FALSE)","v":246},{"$f":"VLOOKUP($B63,[1]FlowData!$A$3:$PL$215,AO$7,FALSE)","v":159},{"$f":"VLOOKUP($B63,[1]FlowData!$A$3:$PL$215,AP$7,FALSE)","v":260},{"$f":"VLOOKUP($B63,[1]FlowData!$A$3:$PL$215,AQ$7,FALSE)","v":232},{"$f":"VLOOKUP($B63,[1]FlowData!$A$3:$PL$215,AR$7,FALSE)","v":149},{"$f":"VLOOKUP($B63,[1]FlowData!$A$3:$PL$215,AS$7,FALSE)","v":98},{"$f":"VLOOKUP($B63,[1]FlowData!$A$3:$PL$215,AT$7,FALSE)","v":177},{"$f":"VLOOKUP($B63,[1]FlowData!$A$3:$PL$215,AU$7,FALSE)","v":245},{"$f":"VLOOKUP($B63,[1]FlowData!$A$3:$PL$215,AV$7,FALSE)","v":142},{"$f":"VLOOKUP($B63,[1]FlowData!$A$3:$PL$215,AW$7,FALSE)","v":85},{"$f":"VLOOKUP($B63,[1]FlowData!$A$3:$PL$215,AX$7,FALSE)","v":178},{"$f":"VLOOKUP($B63,[1]FlowData!$A$3:$PL$215,AY$7,FALSE)","v":173},{"$f":"VLOOKUP($B63,[1]FlowData!$A$3:$PL$215,AZ$7,FALSE)","v":117},{"$f":"VLOOKUP($B63,[1]FlowData!$A$3:$PL$215,BA$7,FALSE)","v":73},{"$f":"VLOOKUP($B63,[1]FlowData!$A$3:$PL$215,BB$7,FALSE)","v":128},{"$f":"VLOOKUP($B63,[1]FlowData!$A$3:$PL$215,BC$7,FALSE)","v":108},{"$f":"VLOOKUP($B63,[1]FlowData!$A$3:$PL$215,BD$7,FALSE)","v":80},{"$f":"VLOOKUP($B63,[1]FlowData!$A$3:$PL$215,BE$7,FALSE)","v":53},{"$f":"VLOOKUP($B63,[1]FlowData!$A$3:$PL$215,BF$7,FALSE)","v":86}]
[{"$f":"VLOOKUP(B64,'[2]Gages and BCs'!$A$4:$BJ$973,62,FALSE)","v":3},5011500,{"$f":"VLOOKUP(B64,'[2]Gages and BCs'!$A$4:$BJ$973,60,FALSE)","v":"Waterton River near international boundary"},"1947–63",{"$f":"VLOOKUP($B64,[1]FlowData!$A$3:$PL$215,E$7,FALSE)","v":""},{"$f":"VLOOKUP($B64,[1]FlowData!$A$3:$PL$215,F$7,FALSE)","v":36.795000000000002},{"$f":"VLOOKUP($B64,[1]FlowData!$A$3:$PL$215,G$7,FALSE)","v":417},{"$f":"VLOOKUP($B64,[1]FlowData!$A$3:$PL$215,H$7,FALSE)","v":91},{"$f":"VLOOKUP($B64,[1]FlowData!$A$3:$PL$215,I$7,FALSE)","v":41},{"$f":"VLOOKUP($B64,[1]FlowData!$A$3:$PL$215,J$7,FALSE)","v":274},{"$f":"VLOOKUP($B64,[1]FlowData!$A$3:$PL$215,K$7,FALSE)","v":44},{"$f":"VLOOKUP($B64,[1]FlowData!$A$3:$PL$215,L$7,FALSE)","v":31},{"$f":"VLOOKUP($B64,[1]FlowData!$A$3:$PL$215,M$7,FALSE)","v":23},{"$f":"VLOOKUP($B64,[1]FlowData!$A$3:$PL$215,N$7,FALSE)","v":36},{"$f":"VLOOKUP($B64,[1]FlowData!$A$3:$PL$215,O$7,FALSE)","v":40},{"$f":"VLOOKUP($B64,[1]FlowData!$A$3:$PL$215,P$7,FALSE)","v":25},{"$f":"VLOOKUP($B64,[1]FlowData!$A$3:$PL$215,Q$7,FALSE)","v":18},{"$f":"VLOOKUP($B64,[1]FlowData!$A$3:$PL$215,R$7,FALSE)","v":32},{"$f":"VLOOKUP($B64,[1]FlowData!$A$3:$PL$215,S$7,FALSE)","v":35},{"$f":"VLOOKUP($B64,[1]FlowData!$A$3:$PL$215,T$7,FALSE)","v":24},{"$f":"VLOOKUP($B64,[1]FlowData!$A$3:$PL$215,U$7,FALSE)","v":17},{"$f":"VLOOKUP($B64,[1]FlowData!$A$3:$PL$215,V$7,FALSE)","v":27},{"$f":"VLOOKUP($B64,[1]FlowData!$A$3:$PL$215,W$7,FALSE)","v":192},{"$f":"VLOOKUP($B64,[1]FlowData!$A$3:$PL$215,X$7,FALSE)","v":58},{"$f":"VLOOKUP($B64,[1]FlowData!$A$3:$PL$215,Y$7,FALSE)","v":27},{"$f":"VLOOKUP($B64,[1]FlowData!$A$3:$PL$215,Z$7,FALSE)","v":129},{"$f":"VLOOKUP($B64,[1]FlowData!$A$3:$PL$215,AA$7,FALSE)","v":1250},{"$f":"VLOOKUP($B64,[1]FlowData!$A$3:$PL$215,AB$7,FALSE)","v":786},{"$f":"VLOOKUP($B64,[1]FlowData!$A$3:$PL$215,AC$7,FALSE)","v":337},{"$f":"VLOOKUP($B64,[1]FlowData!$A$3:$PL$215,AD$7,FALSE)","v":820},{"$f":"VLOOKUP($B64,[1]FlowData!$A$3:$PL$215,AE$7,FALSE)","v":1500},{"$f":"VLOOKUP($B64,[1]FlowData!$A$3:$PL$215,AF$7,FALSE)","v":1050},{"$f":"VLOOKUP($B64,[1]FlowData!$A$3:$PL$215,AG$7,FALSE)","v":720},{"$f":"VLOOKUP($B64,[1]FlowData!$A$3:$PL$215,AH$7,FALSE)","v":1140},{"$f":"VLOOKUP($B64,[1]FlowData!$A$3:$PL$215,AI$7,FALSE)","v":796},{"$f":"VLOOKUP($B64,[1]FlowData!$A$3:$PL$215,AJ$7,FALSE)","v":402},{"$f":"VLOOKUP($B64,[1]FlowData!$A$3:$PL$215,AK$7,FALSE)","v":219},{"$f":"VLOOKUP($B64,[1]FlowData!$A$3:$PL$215,AL$7,FALSE)","v":520},{"$f":"VLOOKUP($B64,[1]FlowData!$A$3:$PL$215,AM$7,FALSE)","v":173},{"$f":"VLOOKUP($B64,[1]FlowData!$A$3:$PL$215,AN$7,FALSE)","v":116},{"$f":"VLOOKUP($B64,[1]FlowData!$A$3:$PL$215,AO$7,FALSE)","v":81},{"$f":"VLOOKUP($B64,[1]FlowData!$A$3:$PL$215,AP$7,FALSE)","v":130},{"$f":"VLOOKUP($B64,[1]FlowData!$A$3:$PL$215,AQ$7,FALSE)","v":121},{"$f":"VLOOKUP($B64,[1]FlowData!$A$3:$PL$215,AR$7,FALSE)","v":73},{"$f":"VLOOKUP($B64,[1]FlowData!$A$3:$PL$215,AS$7,FALSE)","v":52},{"$f":"VLOOKUP($B64,[1]FlowData!$A$3:$PL$215,AT$7,FALSE)","v":99},{"$f":"VLOOKUP($B64,[1]FlowData!$A$3:$PL$215,AU$7,FALSE)","v":239},{"$f":"VLOOKUP($B64,[1]FlowData!$A$3:$PL$215,AV$7,FALSE)","v":110},{"$f":"VLOOKUP($B64,[1]FlowData!$A$3:$PL$215,AW$7,FALSE)","v":43},{"$f":"VLOOKUP($B64,[1]FlowData!$A$3:$PL$215,AX$7,FALSE)","v":161},{"$f":"VLOOKUP($B64,[1]FlowData!$A$3:$PL$215,AY$7,FALSE)","v":130},{"$f":"VLOOKUP($B64,[1]FlowData!$A$3:$PL$215,AZ$7,FALSE)","v":77},{"$f":"VLOOKUP($B64,[1]FlowData!$A$3:$PL$215,BA$7,FALSE)","v":43},{"$f":"VLOOKUP($B64,[1]FlowData!$A$3:$PL$215,BB$7,FALSE)","v":94},{"$f":"VLOOKUP($B64,[1]FlowData!$A$3:$PL$215,BC$7,FALSE)","v":82},{"$f":"VLOOKUP($B64,[1]FlowData!$A$3:$PL$215,BD$7,FALSE)","v":46},{"$f":"VLOOKUP($B64,[1]FlowData!$A$3:$PL$215,BE$7,FALSE)","v":31},{"$f":"VLOOKUP($B64,[1]FlowData!$A$3:$PL$215,BF$7,FALSE)","v":59}]
[{"$f":"VLOOKUP(B65,'[2]Gages and BCs'!$A$4:$BJ$973,62,FALSE)","v":4},5012500,{"$f":"VLOOKUP(B65,'[2]Gages and BCs'!$A$4:$BJ$973,60,FALSE)","v":"Boundary Creek at international boundary"},"1948–63",{"$f":"VLOOKUP($B65,[1]FlowData!$A$3:$PL$215,E$7,FALSE)","v":""},{"$f":"VLOOKUP($B65,[1]FlowData!$A$3:$PL$215,F$7,FALSE)","v":12.949},{"$f":"VLOOKUP($B65,[1]FlowData!$A$3:$PL$215,G$7,FALSE)","v":123},{"$f":"VLOOKUP($B65,[1]FlowData!$A$3:$PL$215,H$7,FALSE)","v":30},{"$f":"VLOOKUP($B65,[1]FlowData!$A$3:$PL$215,I$7,FALSE)","v":14},{"$f":"VLOOKUP($B65,[1]FlowData!$A$3:$PL$215,J$7,FALSE)","v":78},{"$f":"VLOOKUP($B65,[1]FlowData!$A$3:$PL$215,K$7,FALSE)","v":21},{"$f":"VLOOKUP($B65,[1]FlowData!$A$3:$PL$215,L$7,FALSE)","v":13},{"$f":"VLOOKUP($B65,[1]FlowData!$A$3:$PL$215,M$7,FALSE)","v":8.8000000000000007},{"$f":"VLOOKUP($B65,[1]FlowData!$A$3:$PL$215,N$7,FALSE)","v":15},{"$f":"VLOOKUP($B65,[1]FlowData!$A$3:$PL$215,O$7,FALSE)","v":16},{"$f":"VLOOKUP($B65,[1]FlowData!$A$3:$PL$215,P$7,FALSE)","v":11},{"$f":"VLOOKUP($B65,[1]FlowData!$A$3:$PL$215,Q$7,FALSE)","v":7.3},{"$f":"VLOOKUP($B65,[1]FlowData!$A$3:$PL$215,R$7,FALSE)","v":13},{"$f":"VLOOKUP($B65,[1]FlowData!$A$3:$PL$215,S$7,FALSE)","v":14},{"$f":"VLOOKUP($B65,[1]FlowData!$A$3:$PL$215,T$7,FALSE)","v":12},{"$f":"VLOOKUP($B65,[1]FlowData!$A$3:$PL$215,U$7,FALSE)","v":6.8},{"$f":"VLOOKUP($B65,[1]FlowData!$A$3:$PL$215,V$7,FALSE)","v":11},{"$f":"VLOOKUP($B65,[1]FlowData!$A$3:$PL$215,W$7,FALSE)","v":60},{"$f":"VLOOKUP($B65,[1]FlowData!$A$3:$PL$215,X$7,FALSE)","v":24},{"$f":"VLOOKUP($B65,[1]FlowData!$A$3:$PL$215,Y$7,FALSE)","v":11},{"$f":"VLOOKUP($B65,[1]FlowData!$A$3:$PL$215,Z$7,FALSE)","v":41},{"$f":"VLOOKUP($B65,[1]FlowData!$A$3:$PL$215,AA$7,FALSE)","v":325},{"$f":"VLOOKUP($B65,[1]FlowData!$A$3:$PL$215,AB$7,FALSE)","v":201},{"$f":"VLOOKUP($B65,[1]FlowData!$A$3:$PL$215,AC$7,FALSE)","v":100},{"$f":"VLOOKUP($B65,[1]FlowData!$A$3:$PL$215,AD$7,FALSE)","v":212},{"$f":"VLOOKUP($B65,[1]FlowData!$A$3:$PL$215,AE$7,FALSE)","v":368},{"$f":"VLOOKUP($B65,[1]FlowData!$A$3:$PL$215,AF$7,FALSE)","v":279},{"$f":"VLOOKUP($B65,[1]FlowData!$A$3:$PL$215,AG$7,FALSE)","v":188},{"$f":"VLOOKUP($B65,[1]FlowData!$A$3:$PL$215,AH$7,FALSE)","v":284},{"$f":"VLOOKUP($B65,[1]FlowData!$A$3:$PL$215,AI$7,FALSE)","v":192},{"$f":"VLOOKUP($B65,[1]FlowData!$A$3:$PL$215,AJ$7,FALSE)","v":108},{"$f":"VLOOKUP($B65,[1]FlowData!$A$3:$PL$215,AK$7,FALSE)","v":73},{"$f":"VLOOKUP($B65,[1]FlowData!$A$3:$PL$215,AL$7,FALSE)","v":137},{"$f":"VLOOKUP($B65,[1]FlowData!$A$3:$PL$215,AM$7,FALSE)","v":61},{"$f":"VLOOKUP($B65,[1]FlowData!$A$3:$PL$215,AN$7,FALSE)","v":43},{"$f":"VLOOKUP($B65,[1]FlowData!$A$3:$PL$215,AO$7,FALSE)","v":31},{"$f":"VLOOKUP($B65,[1]FlowData!$A$3:$PL$215,AP$7,FALSE)","v":47},{"$f":"VLOOKUP($B65,[1]FlowData!$A$3:$PL$215,AQ$7,FALSE)","v":42},{"$f":"VLOOKUP($B65,[1]FlowData!$A$3:$PL$215,AR$7,FALSE)","v":26},{"$f":"VLOOKUP($B65,[1]FlowData!$A$3:$PL$215,AS$7,FALSE)","v":19},{"$f":"VLOOKUP($B65,[1]FlowData!$A$3:$PL$215,AT$7,FALSE)","v":35},{"$f":"VLOOKUP($B65,[1]FlowData!$A$3:$PL$215,AU$7,FALSE)","v":73},{"$f":"VLOOKUP($B65,[1]FlowData!$A$3:$PL$215,AV$7,FALSE)","v":34},{"$f":"VLOOKUP($B65,[1]FlowData!$A$3:$PL$215,AW$7,FALSE)","v":16},{"$f":"VLOOKUP($B65,[1]FlowData!$A$3:$PL$215,AX$7,FALSE)","v":50},{"$f":"VLOOKUP($B65,[1]FlowData!$A$3:$PL$215,AY$7,FALSE)","v":44},{"$f":"VLOOKUP($B65,[1]FlowData!$A$3:$PL$215,AZ$7,FALSE)","v":28},{"$f":"VLOOKUP($B65,[1]FlowData!$A$3:$PL$215,BA$7,FALSE)","v":17},{"$f":"VLOOKUP($B65,[1]FlowData!$A$3:$PL$215,BB$7,FALSE)","v":32},{"$f":"VLOOKUP($B65,[1]FlowData!$A$3:$PL$215,BC$7,FALSE)","v":26},{"$f":"VLOOKUP($B65,[1]FlowData!$A$3:$PL$215,BD$7,FALSE)","v":18},{"$f":"VLOOKUP($B65,[1]FlowData!$A$3:$PL$215,BE$7,FALSE)","v":12},{"$f":"VLOOKUP($B65,[1]FlowData!$A$3:$PL$215,BF$7,FALSE)","v":21}]
[{"$f":"VLOOKUP(B66,'[2]Gages and BCs'!$A$4:$BJ$973,62,FALSE)","v":6},5013700,{"$f":"VLOOKUP(B66,'[2]Gages and BCs'!$A$4:$BJ$973,60,FALSE)","v":"St. Mary River above Swiftcurrent Creek, near Babb, Montana"},"1902–15",{"$f":"VLOOKUP($B66,[1]FlowData!$A$3:$PL$215,E$7,FALSE)","v":""},{"$f":"VLOOKUP($B66,[1]FlowData!$A$3:$PL$215,F$7,FALSE)","v":179.80799999999999},{"$f":"VLOOKUP($B66,[1]FlowData!$A$3:$PL$215,G$7,FALSE)","v":""},{"$f":"VLOOKUP($B66,[1]FlowData!$A$3:$PL$215,H$7,FALSE)","v":""},{"$f":"VLOOKUP($B66,[1]FlowData!$A$3:$PL$215,I$7,FALSE)","v":""},{"$f":"VLOOKUP($B66,[1]FlowData!$A$3:$PL$215,J$7,FALSE)","v":""},{"$f":"VLOOKUP($B66,[1]FlowData!$A$3:$PL$215,K$7,FALSE)","v":""},{"$f":"VLOOKUP($B66,[1]FlowData!$A$3:$PL$215,L$7,FALSE)","v":""},{"$f":"VLOOKUP($B66,[1]FlowData!$A$3:$PL$215,M$7,FALSE)","v":""},{"$f":"VLOOKUP($B66,[1]FlowData!$A$3:$PL$215,N$7,FALSE)","v":""},{"$f":"VLOOKUP($B66,[1]FlowData!$A$3:$PL$215,O$7,FALSE)","v":""},{"$f":"VLOOKUP($B66,[1]FlowData!$A$3:$PL$215,P$7,FALSE)","v":""},{"$f":"VLOOKUP($B66,[1]FlowData!$A$3:$PL$215,Q$7,FALSE)","v":""},{"$f":"VLOOKUP($B66,[1]FlowData!$A$3:$PL$215,R$7,FALSE)","v":""},{"$f":"VLOOKUP($B66,[1]FlowData!$A$3:$PL$215,S$7,FALSE)","v":""},{"$f":"VLOOKUP($B66,[1]FlowData!$A$3:$PL$215,T$7,FALSE)","v":""},{"$f":"VLOOKUP($B66,[1]FlowData!$A$3:$PL$215,U$7,FALSE)","v":""},{"$f":"VLOOKUP($B66,[1]FlowData!$A$3:$PL$215,V$7,FALSE)","v":""},{"$f":"VLOOKUP($B66,[1]FlowData!$A$3:$PL$215,W$7,FALSE)","v":326},{"$f":"VLOOKUP($B66,[1]FlowData!$A$3:$PL$215,X$7,FALSE)","v":161},{"$f":"VLOOKUP($B66,[1]FlowData!$A$3:$PL$215,Y$7,FALSE)","v":97},{"$f":"VLOOKUP($B66,[1]FlowData!$A$3:$PL$215,Z$7,FALSE)","v":237},{"$f":"VLOOKUP($B66,[1]FlowData!$A$3:$PL$215,AA$7,FALSE)","v":1440},{"$f":"VLOOKUP($B66,[1]FlowData!$A$3:$PL$215,AB$7,FALSE)","v":900},{"$f":"VLOOKUP($B66,[1]FlowData!$A$3:$PL$215,AC$7,FALSE)","v":512},{"$f":"VLOOKUP($B66,[1]FlowData!$A$3:$PL$215,AD$7,FALSE)","v":1000},{"$f":"VLOOKUP($B66,[1]FlowData!$A$3:$PL$215,AE$7,FALSE)","v":2530},{"$f":"VLOOKUP($B66,[1]FlowData!$A$3:$PL$215,AF$7,FALSE)","v":1770},{"$f":"VLOOKUP($B66,[1]FlowData!$A$3:$PL$215,AG$7,FALSE)","v":1240},{"$f":"VLOOKUP($B66,[1]FlowData!$A$3:$PL$215,AH$7,FALSE)","v":1980},{"$f":"VLOOKUP($B66,[1]FlowData!$A$3:$PL$215,AI$7,FALSE)","v":1680},{"$f":"VLOOKUP($B66,[1]FlowData!$A$3:$PL$215,AJ$7,FALSE)","v":1140},{"$f":"VLOOKUP($B66,[1]FlowData!$A$3:$PL$215,AK$7,FALSE)","v":834},{"$f":"VLOOKUP($B66,[1]FlowData!$A$3:$PL$215,AL$7,FALSE)","v":1300},{"$f":"VLOOKUP($B66,[1]FlowData!$A$3:$PL$215,AM$7,FALSE)","v":760},{"$f":"VLOOKUP($B66,[1]FlowData!$A$3:$PL$215,AN$7,FALSE)","v":627},{"$f":"VLOOKUP($B66,[1]FlowData!$A$3:$PL$215,AO$7,FALSE)","v":463},{"$f":"VLOOKUP($B66,[1]FlowData!$A$3:$PL$215,AP$7,FALSE)","v":633},{"$f":"VLOOKUP($B66,[1]FlowData!$A$3:$PL$215,AQ$7,FALSE)","v":578},{"$f":"VLOOKUP($B66,[1]FlowData!$A$3:$PL$215,AR$7,FALSE)","v":345},{"$f":"VLOOKUP($B66,[1]FlowData!$A$3:$PL$215,AS$7,FALSE)","v":270},{"$f":"VLOOKUP($B66,[1]FlowData!$A$3:$PL$215,AT$7,FALSE)","v":406},{"$f":"VLOOKUP($B66,[1]FlowData!$A$3:$PL$215,AU$7,FALSE)","v":505},{"$f":"VLOOKUP($B66,[1]FlowData!$A$3:$PL$215,AV$7,FALSE)","v":282},{"$f":"VLOOKUP($B66,[1]FlowData!$A$3:$PL$215,AW$7,FALSE)","v":210},{"$f":"VLOOKUP($B66,[1]FlowData!$A$3:$PL$215,AX$7,FALSE)","v":345},{"$f":"VLOOKUP($B66,[1]FlowData!$A$3:$PL$215,AY$7,FALSE)","v":414},{"$f":"VLOOKUP($B66,[1]FlowData!$A$3:$PL$215,AZ$7,FALSE)","v":216},{"$f":"VLOOKUP($B66,[1]FlowData!$A$3:$PL$215,BA$7,FALSE)","v":134},{"$f":"VLOOKUP($B66,[1]FlowData!$A$3:$PL$215,BB$7,FALSE)","v":269},{"$f":"VLOOKUP($B66,[1]FlowData!$A$3:$PL$215,BC$7,FALSE)","v":""},{"$f":"VLOOKUP($B66,[1]FlowData!$A$3:$PL$215,BD$7,FALSE)","v":""},{"$f":"VLOOKUP($B66,[1]FlowData!$A$3:$PL$215,BE$7,FALSE)","v":""},{"$f":"VLOOKUP($B66,[1]FlowData!$A$3:$PL$215,BF$7,FALSE)","v":""}]
[{"$f":"VLOOKUP(B67,'[2]Gages and BCs'!$A$4:$BJ$973,62,FALSE)","v":9},5014500,{"$f":"VLOOKUP(B67,'[2]Gages and BCs'!$A$4:$BJ$973,60,FALSE)","v":"Swiftcurrent Creek at Many Glacier, Montana"},"1913, 1915–34, 1936–2009",{"$f":"VLOOKUP($B67,[1]FlowData!$A$3:$PL$215,E$7,FALSE)","v":8.0579999999999998},{"$f":"VLOOKUP($B67,[1]FlowData!$A$3:$PL$215,F$7,FALSE)","v":29.81},{"$f":"VLOOKUP($B67,[1]FlowData!$A$3:$PL$215,G$7,FALSE)","v":236},{"$f":"VLOOKUP($B67,[1]FlowData!$A$3:$PL$215,H$7,FALSE)","v":104},{"$f":"VLOOKUP($B67,[1]FlowData!$A$3:$PL$215,I$7,FALSE)","v":42},{"$f":"VLOOKUP($B67,[1]FlowData!$A$3:$PL$215,J$7,FALSE)","v":140},{"$f":"VLOOKUP($B67,[1]FlowData!$A$3:$PL$215,K$7,FALSE)","v":42},{"$f":"VLOOKUP($B67,[1]FlowData!$A$3:$PL$215,L$7,FALSE)","v":24},{"$f":"VLOOKUP($B67,[1]FlowData!$A$3:$PL$215,M$7,FALSE)","v":14},{"$f":"VLOOKUP($B67,[1]FlowData!$A$3:$PL$215,N$7,FALSE)","v":33},{"$f":"VLOOKUP($B67,[1]FlowData!$A$3:$PL$215,O$7,FALSE)","v":35},{"$f":"VLOOKUP($B67,[1]FlowData!$A$3:$PL$215,P$7,FALSE)","v":22},{"$f":"VLOOKUP($B67,[1]FlowData!$A$3:$PL$215,Q$7,FALSE)","v":14},{"$f":"VLOOKUP($B67,[1]FlowData!$A$3:$PL$215,R$7,FALSE)","v":27},{"$f":"VLOOKUP($B67,[1]FlowData!$A$3:$PL$215,S$7,FALSE)","v":42},{"$f":"VLOOKUP($B67,[1]FlowData!$A$3:$PL$215,T$7,FALSE)","v":23},{"$f":"VLOOKUP($B67,[1]FlowData!$A$3:$PL$215,U$7,FALSE)","v":12},{"$f":"VLOOKUP($B67,[1]FlowData!$A$3:$PL$215,V$7,FALSE)","v":32},{"$f":"VLOOKUP($B67,[1]FlowData!$A$3:$PL$215,W$7,FALSE)","v":154},{"$f":"VLOOKUP($B67,[1]FlowData!$A$3:$PL$215,X$7,FALSE)","v":70},{"$f":"VLOOKUP($B67,[1]FlowData!$A$3:$PL$215,Y$7,FALSE)","v":31},{"$f":"VLOOKUP($B67,[1]FlowData!$A$3:$PL$215,Z$7,FALSE)","v":104},{"$f":"VLOOKUP($B67,[1]FlowData!$A$3:$PL$215,AA$7,FALSE)","v":559},{"$f":"VLOOKUP($B67,[1]FlowData!$A$3:$PL$215,AB$7,FALSE)","v":337},{"$f":"VLOOKUP($B67,[1]FlowData!$A$3:$PL$215,AC$7,FALSE)","v":172},{"$f":"VLOOKUP($B67,[1]FlowData!$A$3:$PL$215,AD$7,FALSE)","v":375},{"$f":"VLOOKUP($B67,[1]FlowData!$A$3:$PL$215,AE$7,FALSE)","v":657},{"$f":"VLOOKUP($B67,[1]FlowData!$A$3:$PL$215,AF$7,FALSE)","v":452},{"$f":"VLOOKUP($B67,[1]FlowData!$A$3:$PL$215,AG$7,FALSE)","v":302},{"$f":"VLOOKUP($B67,[1]FlowData!$A$3:$PL$215,AH$7,FALSE)","v":485},{"$f":"VLOOKUP($B67,[1]FlowData!$A$3:$PL$215,AI$7,FALSE)","v":348},{"$f":"VLOOKUP($B67,[1]FlowData!$A$3:$PL$215,AJ$7,FALSE)","v":224},{"$f":"VLOOKUP($B67,[1]FlowData!$A$3:$PL$215,AK$7,FALSE)","v":151},{"$f":"VLOOKUP($B67,[1]FlowData!$A$3:$PL$215,AL$7,FALSE)","v":257},{"$f":"VLOOKUP($B67,[1]FlowData!$A$3:$PL$215,AM$7,FALSE)","v":150},{"$f":"VLOOKUP($B67,[1]FlowData!$A$3:$PL$215,AN$7,FALSE)","v":105},{"$f":"VLOOKUP($B67,[1]FlowData!$A$3:$PL$215,AO$7,FALSE)","v":75},{"$f":"VLOOKUP($B67,[1]FlowData!$A$3:$PL$215,AP$7,FALSE)","v":115},{"$f":"VLOOKUP($B67,[1]FlowData!$A$3:$PL$215,AQ$7,FALSE)","v":106},{"$f":"VLOOKUP($B67,[1]FlowData!$A$3:$PL$215,AR$7,FALSE)","v":70},{"$f":"VLOOKUP($B67,[1]FlowData!$A$3:$PL$215,AS$7,FALSE)","v":48},{"$f":"VLOOKUP($B67,[1]FlowData!$A$3:$PL$215,AT$7,FALSE)","v":84},{"$f":"VLOOKUP($B67,[1]FlowData!$A$3:$PL$215,AU$7,FALSE)","v":110},{"$f":"VLOOKUP($B67,[1]FlowData!$A$3:$PL$215,AV$7,FALSE)","v":62},{"$f":"VLOOKUP($B67,[1]FlowData!$A$3:$PL$215,AW$7,FALSE)","v":32},{"$f":"VLOOKUP($B67,[1]FlowData!$A$3:$PL$215,AX$7,FALSE)","v":84},{"$f":"VLOOKUP($B67,[1]FlowData!$A$3:$PL$215,AY$7,FALSE)","v":95},{"$f":"VLOOKUP($B67,[1]FlowData!$A$3:$PL$215,AZ$7,FALSE)","v":59},{"$f":"VLOOKUP($B67,[1]FlowData!$A$3:$PL$215,BA$7,FALSE)","v":24},{"$f":"VLOOKUP($B67,[1]FlowData!$A$3:$PL$215,BB$7,FALSE)","v":74},{"$f":"VLOOKUP($B67,[1]FlowData!$A$3:$PL$215,BC$7,FALSE)","v":49},{"$f":"VLOOKUP($B67,[1]FlowData!$A$3:$PL$215,BD$7,FALSE)","v":31},{"$f":"VLOOKUP($B67,[1]FlowData!$A$3:$PL$215,BE$7,FALSE)","v":17},{"$f":"VLOOKUP($B67,[1]FlowData!$A$3:$PL$215,BF$7,FALSE)","v":37}]
[{"$f":"VLOOKUP(B68,'[2]Gages and BCs'!$A$4:$BJ$973,62,FALSE)","v":10},5015000,{"$f":"VLOOKUP(B68,'[2]Gages and BCs'!$A$4:$BJ$973,60,FALSE)","v":"Canyon Creek near Many Glacier, Montana"},"1918, 1921–23, 1925, 1928–34, 1936",{"$f":"VLOOKUP($B68,[1]FlowData!$A$3:$PL$215,E$7,FALSE)","v":""},{"$f":"VLOOKUP($B68,[1]FlowData!$A$3:$PL$215,F$7,FALSE)","v":5.476},{"$f":"VLOOKUP($B68,[1]FlowData!$A$3:$PL$215,G$7,FALSE)","v":""},{"$f":"VLOOKUP($B68,[1]FlowData!$A$3:$PL$215,H$7,FALSE)","v":""},{"$f":"VLOOKUP($B68,[1]FlowData!$A$3:$PL$215,I$7,FALSE)","v":""},{"$f":"VLOOKUP($B68,[1]FlowData!$A$3:$PL$215,J$7,FALSE)","v":""},{"$f":"VLOOKUP($B68,[1]FlowData!$A$3:$PL$215,K$7,FALSE)","v":""},{"$f":"VLOOKUP($B68,[1]FlowData!$A$3:$PL$215,L$7,FALSE)","v":""},{"$f":"VLOOKUP($B68,[1]FlowData!$A$3:$PL$215,M$7,FALSE)","v":""},{"$f":"VLOOKUP($B68,[1]FlowData!$A$3:$PL$215,N$7,FALSE)","v":""},{"$f":"VLOOKUP($B68,[1]FlowData!$A$3:$PL$215,O$7,FALSE)","v":""},{"$f":"VLOOKUP($B68,[1]FlowData!$A$3:$PL$215,P$7,FALSE)","v":""},{"$f":"VLOOKUP($B68,[1]FlowData!$A$3:$PL$215,Q$7,FALSE)","v":""},{"$f":"VLOOKUP($B68,[1]FlowData!$A$3:$PL$215,R$7,FALSE)","v":""},{"$f":"VLOOKUP($B68,[1]FlowData!$A$3:$PL$215,S$7,FALSE)","v":""},{"$f":"VLOOKUP($B68,[1]FlowData!$A$3:$PL$215,T$7,FALSE)","v":""},{"$f":"VLOOKUP($B68,[1]FlowData!$A$3:$PL$215,U$7,FALSE)","v":""},{"$f":"VLOOKUP($B68,[1]FlowData!$A$3:$PL$215,V$7,FALSE)","v":""},{"$f":"VLOOKUP($B68,[1]FlowData!$A$3:$PL$215,W$7,FALSE)","v":""},{"$f":"VLOOKUP($B68,[1]FlowData!$A$3:$PL$215,X$7,FALSE)","v":""},{"$f":"VLOOKUP($B68,[1]FlowData!$A$3:$PL$215,Y$7,FALSE)","v":""},{"$f":"VLOOKUP($B68,[1]FlowData!$A$3:$PL$215,Z$7,FALSE)","v":""},{"$f":"VLOOKUP($B68,[1]FlowData!$A$3:$PL$215,AA$7,FALSE)","v":91},{"$f":"VLOOKUP($B68,[1]FlowData!$A$3:$PL$215,AB$7,FALSE)","v":52},{"$f":"VLOOKUP($B68,[1]FlowData!$A$3:$PL$215,AC$7,FALSE)","v":27},{"$f":"VLOOKUP($B68,[1]FlowData!$A$3:$PL$215,AD$7,FALSE)","v":60},{"$f":"VLOOKUP($B68,[1]FlowData!$A$3:$PL$215,AE$7,FALSE)","v":98},{"$f":"VLOOKUP($B68,[1]FlowData!$A$3:$PL$215,AF$7,FALSE)","v":67},{"$f":"VLOOKUP($B68,[1]FlowData!$A$3:$PL$215,AG$7,FALSE)","v":44},{"$f":"VLOOKUP($B68,[1]FlowData!$A$3:$PL$215,AH$7,FALSE)","v":74},{"$f":"VLOOKUP($B68,[1]FlowData!$A$3:$PL$215,AI$7,FALSE)","v":51},{"$f":"VLOOKUP($B68,[1]FlowData!$A$3:$PL$215,AJ$7,FALSE)","v":34},{"$f":"VLOOKUP($B68,[1]FlowData!$A$3:$PL$215,AK$7,FALSE)","v":23},{"$f":"VLOOKUP($B68,[1]FlowData!$A$3:$PL$215,AL$7,FALSE)","v":38},{"$f":"VLOOKUP($B68,[1]FlowData!$A$3:$PL$215,AM$7,FALSE)","v":24},{"$f":"VLOOKUP($B68,[1]FlowData!$A$3:$PL$215,AN$7,FALSE)","v":18},{"$f":"VLOOKUP($B68,[1]FlowData!$A$3:$PL$215,AO$7,FALSE)","v":13},{"$f":"VLOOKUP($B68,[1]FlowData!$A$3:$PL$215,AP$7,FALSE)","v":19},{"$f":"VLOOKUP($B68,[1]FlowData!$A$3:$PL$215,AQ$7,FALSE)","v":19},{"$f":"VLOOKUP($B68,[1]FlowData!$A$3:$PL$215,AR$7,FALSE)","v":12},{"$f":"VLOOKUP($B68,[1]FlowData!$A$3:$PL$215,AS$7,FALSE)","v":7.6},{"$f":"VLOOKUP($B68,[1]FlowData!$A$3:$PL$215,AT$7,FALSE)","v":13},{"$f":"VLOOKUP($B68,[1]FlowData!$A$3:$PL$215,AU$7,FALSE)","v":17},{"$f":"VLOOKUP($B68,[1]FlowData!$A$3:$PL$215,AV$7,FALSE)","v":11},{"$f":"VLOOKUP($B68,[1]FlowData!$A$3:$PL$215,AW$7,FALSE)","v":7.1},{"$f":"VLOOKUP($B68,[1]FlowData!$A$3:$PL$215,AX$7,FALSE)","v":16},{"$f":"VLOOKUP($B68,[1]FlowData!$A$3:$PL$215,AY$7,FALSE)","v":""},{"$f":"VLOOKUP($B68,[1]FlowData!$A$3:$PL$215,AZ$7,FALSE)","v":""},{"$f":"VLOOKUP($B68,[1]FlowData!$A$3:$PL$215,BA$7,FALSE)","v":""},{"$f":"VLOOKUP($B68,[1]FlowData!$A$3:$PL$215,BB$7,FALSE)","v":""},{"$f":"VLOOKUP($B68,[1]FlowData!$A$3:$PL$215,BC$7,FALSE)","v":""},{"$f":"VLOOKUP($B68,[1]FlowData!$A$3:$PL$215,BD$7,FALSE)","v":""},{"$f":"VLOOKUP($B68,[1]FlowData!$A$3:$PL$215,BE$7,FALSE)","v":""},{"$f":"VLOOKUP($B68,[1]FlowData!$A$3:$PL$215,BF$7,FALSE)","v":""}]
[{"$f":"VLOOKUP(B69,'[2]Gages and BCs'!$A$4:$BJ$973,62,FALSE)","v":14},5020500,{"$f":"VLOOKUP(B69,'[2]Gages and BCs'!$A$4:$BJ$973,60,FALSE)","v":"St. Mary River at international boundary"},"1903–10, 1912–16",{"$f":"VLOOKUP($B69,[1]FlowData!$A$3:$PL$215,E$7,FALSE)","v":""},{"$f":"VLOOKUP($B69,[1]FlowData!$A$3:$PL$215,F$7,FALSE)","v":305.69299999999998},{"$f":"VLOOKUP($B69,[1]FlowData!$A$3:$PL$215,G$7,FALSE)","v":""},{"$f":"VLOOKUP($B69,[1]FlowData!$A$3:$PL$215,H$7,FALSE)","v":""},{"$f":"VLOOKUP($B69,[1]FlowData!$A$3:$PL$215,I$7,FALSE)","v":""},{"$f":"VLOOKUP($B69,[1]FlowData!$A$3:$PL$215,J$7,FALSE)","v":""},{"$f":"VLOOKUP($B69,[1]FlowData!$A$3:$PL$215,K$7,FALSE)","v":""},{"$f":"VLOOKUP($B69,[1]FlowData!$A$3:$PL$215,L$7,FALSE)","v":""},{"$f":"VLOOKUP($B69,[1]FlowData!$A$3:$PL$215,M$7,FALSE)","v":""},{"$f":"VLOOKUP($B69,[1]FlowData!$A$3:$PL$215,N$7,FALSE)","v":""},{"$f":"VLOOKUP($B69,[1]FlowData!$A$3:$PL$215,O$7,FALSE)","v":""},{"$f":"VLOOKUP($B69,[1]FlowData!$A$3:$PL$215,P$7,FALSE)","v":""},{"$f":"VLOOKUP($B69,[1]FlowData!$A$3:$PL$215,Q$7,FALSE)","v":""},{"$f":"VLOOKUP($B69,[1]FlowData!$A$3:$PL$215,R$7,FALSE)","v":""},{"$f":"VLOOKUP($B69,[1]FlowData!$A$3:$PL$215,S$7,FALSE)","v":""},{"$f":"VLOOKUP($B69,[1]FlowData!$A$3:$PL$215,T$7,FALSE)","v":""},{"$f":"VLOOKUP($B69,[1]FlowData!$A$3:$PL$215,U$7,FALSE)","v":""},{"$f":"VLOOKUP($B69,[1]FlowData!$A$3:$PL$215,V$7,FALSE)","v":""},{"$f":"VLOOKUP($B69,[1]FlowData!$A$3:$PL$215,W$7,FALSE)","v":939},{"$f":"VLOOKUP($B69,[1]FlowData!$A$3:$PL$215,X$7,FALSE)","v":581},{"$f":"VLOOKUP($B69,[1]FlowData!$A$3:$PL$215,Y$7,FALSE)","v":279},{"$f":"VLOOKUP($B69,[1]FlowData!$A$3:$PL$215,Z$7,FALSE)","v":647},{"$f":"VLOOKUP($B69,[1]FlowData!$A$3:$PL$215,AA$7,FALSE)","v":2650},{"$f":"VLOOKUP($B69,[1]FlowData!$A$3:$PL$215,AB$7,FALSE)","v":1760},{"$f":"VLOOKUP($B69,[1]FlowData!$A$3:$PL$215,AC$7,FALSE)","v":1200},{"$f":"VLOOKUP($B69,[1]FlowData!$A$3:$PL$215,AD$7,FALSE)","v":1910},{"$f":"VLOOKUP($B69,[1]FlowData!$A$3:$PL$215,AE$7,FALSE)","v":4900},{"$f":"VLOOKUP($B69,[1]FlowData!$A$3:$PL$215,AF$7,FALSE)","v":3090},{"$f":"VLOOKUP($B69,[1]FlowData!$A$3:$PL$215,AG$7,FALSE)","v":2210},{"$f":"VLOOKUP($B69,[1]FlowData!$A$3:$PL$215,AH$7,FALSE)","v":3680},{"$f":"VLOOKUP($B69,[1]FlowData!$A$3:$PL$215,AI$7,FALSE)","v":2780},{"$f":"VLOOKUP($B69,[1]FlowData!$A$3:$PL$215,AJ$7,FALSE)","v":1900},{"$f":"VLOOKUP($B69,[1]FlowData!$A$3:$PL$215,AK$7,FALSE)","v":1390},{"$f":"VLOOKUP($B69,[1]FlowData!$A$3:$PL$215,AL$7,FALSE)","v":2140},{"$f":"VLOOKUP($B69,[1]FlowData!$A$3:$PL$215,AM$7,FALSE)","v":1300},{"$f":"VLOOKUP($B69,[1]FlowData!$A$3:$PL$215,AN$7,FALSE)","v":985},{"$f":"VLOOKUP($B69,[1]FlowData!$A$3:$PL$215,AO$7,FALSE)","v":716},{"$f":"VLOOKUP($B69,[1]FlowData!$A$3:$PL$215,AP$7,FALSE)","v":1030},{"$f":"VLOOKUP($B69,[1]FlowData!$A$3:$PL$215,AQ$7,FALSE)","v":873},{"$f":"VLOOKUP($B69,[1]FlowData!$A$3:$PL$215,AR$7,FALSE)","v":598},{"$f":"VLOOKUP($B69,[1]FlowData!$A$3:$PL$215,AS$7,FALSE)","v":436},{"$f":"VLOOKUP($B69,[1]FlowData!$A$3:$PL$215,AT$7,FALSE)","v":678},{"$f":"VLOOKUP($B69,[1]FlowData!$A$3:$PL$215,AU$7,FALSE)","v":838},{"$f":"VLOOKUP($B69,[1]FlowData!$A$3:$PL$215,AV$7,FALSE)","v":581},{"$f":"VLOOKUP($B69,[1]FlowData!$A$3:$PL$215,AW$7,FALSE)","v":402},{"$f":"VLOOKUP($B69,[1]FlowData!$A$3:$PL$215,AX$7,FALSE)","v":630},{"$f":"VLOOKUP($B69,[1]FlowData!$A$3:$PL$215,AY$7,FALSE)","v":664},{"$f":"VLOOKUP($B69,[1]FlowData!$A$3:$PL$215,AZ$7,FALSE)","v":416},{"$f":"VLOOKUP($B69,[1]FlowData!$A$3:$PL$215,BA$7,FALSE)","v":282},{"$f":"VLOOKUP($B69,[1]FlowData!$A$3:$PL$215,BB$7,FALSE)","v":476},{"$f":"VLOOKUP($B69,[1]FlowData!$A$3:$PL$215,BC$7,FALSE)","v":""},{"$f":"VLOOKUP($B69,[1]FlowData!$A$3:$PL$215,BD$7,FALSE)","v":""},{"$f":"VLOOKUP($B69,[1]FlowData!$A$3:$PL$215,BE$7,FALSE)","v":""},{"$f":"VLOOKUP($B69,[1]FlowData!$A$3:$PL$215,BF$7,FALSE)","v":""}]
[{"$f":"VLOOKUP(B70,'[2]Gages and BCs'!$A$4:$BJ$973,62,FALSE)","v":112},6073000,{"$f":"VLOOKUP(B70,'[2]Gages and BCs'!$A$4:$BJ$973,60,FALSE)","v":"Dearborn River near Clemons, Montana"},"1921–23, 1929–32, 1934–53",{"$f":"VLOOKUP($B70,[1]FlowData!$A$3:$PL$215,E$7,FALSE)","v":10.509},{"$f":"VLOOKUP($B70,[1]FlowData!$A$3:$PL$215,F$7,FALSE)","v":11.587},{"$f":"VLOOKUP($B70,[1]FlowData!$A$3:$PL$215,G$7,FALSE)","v":161},{"$f":"VLOOKUP($B70,[1]FlowData!$A$3:$PL$215,H$7,FALSE)","v":79},{"$f":"VLOOKUP($B70,[1]FlowData!$A$3:$PL$215,I$7,FALSE)","v":36},{"$f":"VLOOKUP($B70,[1]FlowData!$A$3:$PL$215,J$7,FALSE)","v":131},{"$f":"VLOOKUP($B70,[1]FlowData!$A$3:$PL$215,K$7,FALSE)","v":46},{"$f":"VLOOKUP($B70,[1]FlowData!$A$3:$PL$215,L$7,FALSE)","v":29},{"$f":"VLOOKUP($B70,[1]FlowData!$A$3:$PL$215,M$7,FALSE)","v":23},{"$f":"VLOOKUP($B70,[1]FlowData!$A$3:$PL$215,N$7,FALSE)","v":33},{"$f":"VLOOKUP($B70,[1]FlowData!$A$3:$PL$215,O$7,FALSE)","v":43},{"$f":"VLOOKUP($B70,[1]FlowData!$A$3:$PL$215,P$7,FALSE)","v":31},{"$f":"VLOOKUP($B70,[1]FlowData!$A$3:$PL$215,Q$7,FALSE)","v":23},{"$f":"VLOOKUP($B70,[1]FlowData!$A$3:$PL$215,R$7,FALSE)","v":33},{"$f":"VLOOKUP($B70,[1]FlowData!$A$3:$PL$215,S$7,FALSE)","v":43},{"$f":"VLOOKUP($B70,[1]FlowData!$A$3:$PL$215,T$7,FALSE)","v":32},{"$f":"VLOOKUP($B70,[1]FlowData!$A$3:$PL$215,U$7,FALSE)","v":24},{"$f":"VLOOKUP($B70,[1]FlowData!$A$3:$PL$215,V$7,FALSE)","v":37},{"$f":"VLOOKUP($B70,[1]FlowData!$A$3:$PL$215,W$7,FALSE)","v":197},{"$f":"VLOOKUP($B70,[1]FlowData!$A$3:$PL$215,X$7,FALSE)","v":68},{"$f":"VLOOKUP($B70,[1]FlowData!$A$3:$PL$215,Y$7,FALSE)","v":31},{"$f":"VLOOKUP($B70,[1]FlowData!$A$3:$PL$215,Z$7,FALSE)","v":129},{"$f":"VLOOKUP($B70,[1]FlowData!$A$3:$PL$215,AA$7,FALSE)","v":554},{"$f":"VLOOKUP($B70,[1]FlowData!$A$3:$PL$215,AB$7,FALSE)","v":322},{"$f":"VLOOKUP($B70,[1]FlowData!$A$3:$PL$215,AC$7,FALSE)","v":156},{"$f":"VLOOKUP($B70,[1]FlowData!$A$3:$PL$215,AD$7,FALSE)","v":375},{"$f":"VLOOKUP($B70,[1]FlowData!$A$3:$PL$215,AE$7,FALSE)","v":683},{"$f":"VLOOKUP($B70,[1]FlowData!$A$3:$PL$215,AF$7,FALSE)","v":346},{"$f":"VLOOKUP($B70,[1]FlowData!$A$3:$PL$215,AG$7,FALSE)","v":144},{"$f":"VLOOKUP($B70,[1]FlowData!$A$3:$PL$215,AH$7,FALSE)","v":451},{"$f":"VLOOKUP($B70,[1]FlowData!$A$3:$PL$215,AI$7,FALSE)","v":187},{"$f":"VLOOKUP($B70,[1]FlowData!$A$3:$PL$215,AJ$7,FALSE)","v":82},{"$f":"VLOOKUP($B70,[1]FlowData!$A$3:$PL$215,AK$7,FALSE)","v":31},{"$f":"VLOOKUP($B70,[1]FlowData!$A$3:$PL$215,AL$7,FALSE)","v":123},{"$f":"VLOOKUP($B70,[1]FlowData!$A$3:$PL$215,AM$7,FALSE)","v":68},{"$f":"VLOOKUP($B70,[1]FlowData!$A$3:$PL$215,AN$7,FALSE)","v":35},{"$f":"VLOOKUP($B70,[1]FlowData!$A$3:$PL$215,AO$7,FALSE)","v":18},{"$f":"VLOOKUP($B70,[1]FlowData!$A$3:$PL$215,AP$7,FALSE)","v":47},{"$f":"VLOOKUP($B70,[1]FlowData!$A$3:$PL$215,AQ$7,FALSE)","v":52},{"$f":"VLOOKUP($B70,[1]FlowData!$A$3:$PL$215,AR$7,FALSE)","v":27},{"$f":"VLOOKUP($B70,[1]FlowData!$A$3:$PL$215,AS$7,FALSE)","v":14},{"$f":"VLOOKUP($B70,[1]FlowData!$A$3:$PL$215,AT$7,FALSE)","v":35},{"$f":"VLOOKUP($B70,[1]FlowData!$A$3:$PL$215,AU$7,FALSE)","v":60},{"$f":"VLOOKUP($B70,[1]FlowData!$A$3:$PL$215,AV$7,FALSE)","v":41},{"$f":"VLOOKUP($B70,[1]FlowData!$A$3:$PL$215,AW$7,FALSE)","v":22},{"$f":"VLOOKUP($B70,[1]FlowData!$A$3:$PL$215,AX$7,FALSE)","v":44},{"$f":"VLOOKUP($B70,[1]FlowData!$A$3:$PL$215,AY$7,FALSE)","v":60},{"$f":"VLOOKUP($B70,[1]FlowData!$A$3:$PL$215,AZ$7,FALSE)","v":37},{"$f":"VLOOKUP($B70,[1]FlowData!$A$3:$PL$215,BA$7,FALSE)","v":28},{"$f":"VLOOKUP($B70,[1]FlowData!$A$3:$PL$215,BB$7,FALSE)","v":46},{"$f":"VLOOKUP($B70,[1]FlowData!$A$3:$PL$215,BC$7,FALSE)","v":55},{"$f":"VLOOKUP($B70,[1]FlowData!$A$3:$PL$215,BD$7,FALSE)","v":33},{"$f":"VLOOKUP($B70,[1]FlowData!$A$3:$PL$215,BE$7,FALSE)","v":25},{"$f":"VLOOKUP($B70,[1]FlowData!$A$3:$PL$215,BF$7,FALSE)","v":41}]
[{"$f":"VLOOKUP(B71,'[2]Gages and BCs'!$A$4:$BJ$973,62,FALSE)","v":129},6078500,{"$f":"VLOOKUP(B71,'[2]Gages and BCs'!$A$4:$BJ$973,60,FALSE)","v":"North Fork Sun River near Augusta, Montana"},"1946–68, 1989–92, 2008",{"$f":"VLOOKUP($B71,[1]FlowData!$A$3:$PL$215,E$7,FALSE)","v":36.170999999999999},{"$f":"VLOOKUP($B71,[1]FlowData!$A$3:$PL$215,F$7,FALSE)","v":80.328999999999994},{"$f":"VLOOKUP($B71,[1]FlowData!$A$3:$PL$215,G$7,FALSE)","v":712},{"$f":"VLOOKUP($B71,[1]FlowData!$A$3:$PL$215,H$7,FALSE)","v":455},{"$f":"VLOOKUP($B71,[1]FlowData!$A$3:$PL$215,I$7,FALSE)","v":198},{"$f":"VLOOKUP($B71,[1]FlowData!$A$3:$PL$215,J$7,FALSE)","v":363},{"$f":"VLOOKUP($B71,[1]FlowData!$A$3:$PL$215,K$7,FALSE)","v":80},{"$f":"VLOOKUP($B71,[1]FlowData!$A$3:$PL$215,L$7,FALSE)","v":64},{"$f":"VLOOKUP($B71,[1]FlowData!$A$3:$PL$215,M$7,FALSE)","v":53},{"$f":"VLOOKUP($B71,[1]FlowData!$A$3:$PL$215,N$7,FALSE)","v":66},{"$f":"VLOOKUP($B71,[1]FlowData!$A$3:$PL$215,O$7,FALSE)","v":78},{"$f":"VLOOKUP($B71,[1]FlowData!$A$3:$PL$215,P$7,FALSE)","v":63},{"$f":"VLOOKUP($B71,[1]FlowData!$A$3:$PL$215,Q$7,FALSE)","v":52},{"$f":"VLOOKUP($B71,[1]FlowData!$A$3:$PL$215,R$7,FALSE)","v":66},{"$f":"VLOOKUP($B71,[1]FlowData!$A$3:$PL$215,S$7,FALSE)","v":80},{"$f":"VLOOKUP($B71,[1]FlowData!$A$3:$PL$215,T$7,FALSE)","v":63},{"$f":"VLOOKUP($B71,[1]FlowData!$A$3:$PL$215,U$7,FALSE)","v":52},{"$f":"VLOOKUP($B71,[1]FlowData!$A$3:$PL$215,V$7,FALSE)","v":68},{"$f":"VLOOKUP($B71,[1]FlowData!$A$3:$PL$215,W$7,FALSE)","v":383},{"$f":"VLOOKUP($B71,[1]FlowData!$A$3:$PL$215,X$7,FALSE)","v":164},{"$f":"VLOOKUP($B71,[1]FlowData!$A$3:$PL$215,Y$7,FALSE)","v":78},{"$f":"VLOOKUP($B71,[1]FlowData!$A$3:$PL$215,Z$7,FALSE)","v":271},{"$f":"VLOOKUP($B71,[1]FlowData!$A$3:$PL$215,AA$7,FALSE)","v":1900},{"$f":"VLOOKUP($B71,[1]FlowData!$A$3:$PL$215,AB$7,FALSE)","v":1160},{"$f":"VLOOKUP($B71,[1]FlowData!$A$3:$PL$215,AC$7,FALSE)","v":585},{"$f":"VLOOKUP($B71,[1]FlowData!$A$3:$PL$215,AD$7,FALSE)","v":1270},{"$f":"VLOOKUP($B71,[1]FlowData!$A$3:$PL$215,AE$7,FALSE)","v":2090},{"$f":"VLOOKUP($B71,[1]FlowData!$A$3:$PL$215,AF$7,FALSE)","v":1350},{"$f":"VLOOKUP($B71,[1]FlowData!$A$3:$PL$215,AG$7,FALSE)","v":757},{"$f":"VLOOKUP($B71,[1]FlowData!$A$3:$PL$215,AH$7,FALSE)","v":1470},{"$f":"VLOOKUP($B71,[1]FlowData!$A$3:$PL$215,AI$7,FALSE)","v":659},{"$f":"VLOOKUP($B71,[1]FlowData!$A$3:$PL$215,AJ$7,FALSE)","v":371},{"$f":"VLOOKUP($B71,[1]FlowData!$A$3:$PL$215,AK$7,FALSE)","v":241},{"$f":"VLOOKUP($B71,[1]FlowData!$A$3:$PL$215,AL$7,FALSE)","v":487},{"$f":"VLOOKUP($B71,[1]FlowData!$A$3:$PL$215,AM$7,FALSE)","v":212},{"$f":"VLOOKUP($B71,[1]FlowData!$A$3:$PL$215,AN$7,FALSE)","v":162},{"$f":"VLOOKUP($B71,[1]FlowData!$A$3:$PL$215,AO$7,FALSE)","v":128},{"$f":"VLOOKUP($B71,[1]FlowData!$A$3:$PL$215,AP$7,FALSE)","v":172},{"$f":"VLOOKUP($B71,[1]FlowData!$A$3:$PL$215,AQ$7,FALSE)","v":151},{"$f":"VLOOKUP($B71,[1]FlowData!$A$3:$PL$215,AR$7,FALSE)","v":114},{"$f":"VLOOKUP($B71,[1]FlowData!$A$3:$PL$215,AS$7,FALSE)","v":95},{"$f":"VLOOKUP($B71,[1]FlowData!$A$3:$PL$215,AT$7,FALSE)","v":129},{"$f":"VLOOKUP($B71,[1]FlowData!$A$3:$PL$215,AU$7,FALSE)","v":150},{"$f":"VLOOKUP($B71,[1]FlowData!$A$3:$PL$215,AV$7,FALSE)","v":105},{"$f":"VLOOKUP($B71,[1]FlowData!$A$3:$PL$215,AW$7,FALSE)","v":83},{"$f":"VLOOKUP($B71,[1]FlowData!$A$3:$PL$215,AX$7,FALSE)","v":122},{"$f":"VLOOKUP($B71,[1]FlowData!$A$3:$PL$215,AY$7,FALSE)","v":122},{"$f":"VLOOKUP($B71,[1]FlowData!$A$3:$PL$215,AZ$7,FALSE)","v":91},{"$f":"VLOOKUP($B71,[1]FlowData!$A$3:$PL$215,BA$7,FALSE)","v":73},{"$f":"VLOOKUP($B71,[1]FlowData!$A$3:$PL$215,BB$7,FALSE)","v":100},{"$f":"VLOOKUP($B71,[1]FlowData!$A$3:$PL$215,BC$7,FALSE)","v":102},{"$f":"VLOOKUP($B71,[1]FlowData!$A$3:$PL$215,BD$7,FALSE)","v":74},{"$f":"VLOOKUP($B71,[1]FlowData!$A$3:$PL$215,BE$7,FALSE)","v":60},{"$f":"VLOOKUP($B71,[1]FlowData!$A$3:$PL$215,BF$7,FALSE)","v":82}]
[{"$f":"VLOOKUP(B72,'[2]Gages and BCs'!$A$4:$BJ$973,62,FALSE)","v":131},6080000,{"$f":"VLOOKUP(B72,'[2]Gages and BCs'!$A$4:$BJ$973,60,FALSE)","v":"Sun River near Augusta, Montana"},"1905–22, 1924–25",{"$f":"VLOOKUP($B72,[1]FlowData!$A$3:$PL$215,E$7,FALSE)","v":""},{"$f":"VLOOKUP($B72,[1]FlowData!$A$3:$PL$215,F$7,FALSE)","v":164.18899999999999},{"$f":"VLOOKUP($B72,[1]FlowData!$A$3:$PL$215,G$7,FALSE)","v":""},{"$f":"VLOOKUP($B72,[1]FlowData!$A$3:$PL$215,H$7,FALSE)","v":""},{"$f":"VLOOKUP($B72,[1]FlowData!$A$3:$PL$215,I$7,FALSE)","v":""},{"$f":"VLOOKUP($B72,[1]FlowData!$A$3:$PL$215,J$7,FALSE)","v":""},{"$f":"VLOOKUP($B72,[1]FlowData!$A$3:$PL$215,K$7,FALSE)","v":""},{"$f":"VLOOKUP($B72,[1]FlowData!$A$3:$PL$215,L$7,FALSE)","v":""},{"$f":"VLOOKUP($B72,[1]FlowData!$A$3:$PL$215,M$7,FALSE)","v":""},{"$f":"VLOOKUP($B72,[1]FlowData!$A$3:$PL$215,N$7,FALSE)","v":""},{"$f":"VLOOKUP($B72,[1]FlowData!$A$3:$PL$215,O$7,FALSE)","v":281},{"$f":"VLOOKUP($B72,[1]FlowData!$A$3:$PL$215,P$7,FALSE)","v":195},{"$f":"VLOOKUP($B72,[1]FlowData!$A$3:$PL$215,Q$7,FALSE)","v":134},{"$f":"VLOOKUP($B72,[1]FlowData!$A$3:$PL$215,R$7,FALSE)","v":224},{"$f":"VLOOKUP($B72,[1]FlowData!$A$3:$PL$215,S$7,FALSE)","v":356},{"$f":"VLOOKUP($B72,[1]FlowData!$A$3:$PL$215,T$7,FALSE)","v":185},{"$f":"VLOOKUP($B72,[1]FlowData!$A$3:$PL$215,U$7,FALSE)","v":132},{"$f":"VLOOKUP($B72,[1]FlowData!$A$3:$PL$215,V$7,FALSE)","v":239},{"$f":"VLOOKUP($B72,[1]FlowData!$A$3:$PL$215,W$7,FALSE)","v":1180},{"$f":"VLOOKUP($B72,[1]FlowData!$A$3:$PL$215,X$7,FALSE)","v":473},{"$f":"VLOOKUP($B72,[1]FlowData!$A$3:$PL$215,Y$7,FALSE)","v":239},{"$f":"VLOOKUP($B72,[1]FlowData!$A$3:$PL$215,Z$7,FALSE)","v":742},{"$f":"VLOOKUP($B72,[1]FlowData!$A$3:$PL$215,AA$7,FALSE)","v":3730},{"$f":"VLOOKUP($B72,[1]FlowData!$A$3:$PL$215,AB$7,FALSE)","v":2330},{"$f":"VLOOKUP($B72,[1]FlowData!$A$3:$PL$215,AC$7,FALSE)","v":1370},{"$f":"VLOOKUP($B72,[1]FlowData!$A$3:$PL$215,AD$7,FALSE)","v":2650},{"$f":"VLOOKUP($B72,[1]FlowData!$A$3:$PL$215,AE$7,FALSE)","v":5240},{"$f":"VLOOKUP($B72,[1]FlowData!$A$3:$PL$215,AF$7,FALSE)","v":3050},{"$f":"VLOOKUP($B72,[1]FlowData!$A$3:$PL$215,AG$7,FALSE)","v":1700},{"$f":"VLOOKUP($B72,[1]FlowData!$A$3:$PL$215,AH$7,FALSE)","v":3660},{"$f":"VLOOKUP($B72,[1]FlowData!$A$3:$PL$215,AI$7,FALSE)","v":1680},{"$f":"VLOOKUP($B72,[1]FlowData!$A$3:$PL$215,AJ$7,FALSE)","v":979},{"$f":"VLOOKUP($B72,[1]FlowData!$A$3:$PL$215,AK$7,FALSE)","v":569},{"$f":"VLOOKUP($B72,[1]FlowData!$A$3:$PL$215,AL$7,FALSE)","v":1270},{"$f":"VLOOKUP($B72,[1]FlowData!$A$3:$PL$215,AM$7,FALSE)","v":612},{"$f":"VLOOKUP($B72,[1]FlowData!$A$3:$PL$215,AN$7,FALSE)","v":392},{"$f":"VLOOKUP($B72,[1]FlowData!$A$3:$PL$215,AO$7,FALSE)","v":264},{"$f":"VLOOKUP($B72,[1]FlowData!$A$3:$PL$215,AP$7,FALSE)","v":452},{"$f":"VLOOKUP($B72,[1]FlowData!$A$3:$PL$215,AQ$7,FALSE)","v":443},{"$f":"VLOOKUP($B72,[1]FlowData!$A$3:$PL$215,AR$7,FALSE)","v":316},{"$f":"VLOOKUP($B72,[1]FlowData!$A$3:$PL$215,AS$7,FALSE)","v":243},{"$f":"VLOOKUP($B72,[1]FlowData!$A$3:$PL$215,AT$7,FALSE)","v":344},{"$f":"VLOOKUP($B72,[1]FlowData!$A$3:$PL$215,AU$7,FALSE)","v":386},{"$f":"VLOOKUP($B72,[1]FlowData!$A$3:$PL$215,AV$7,FALSE)","v":316},{"$f":"VLOOKUP($B72,[1]FlowData!$A$3:$PL$215,AW$7,FALSE)","v":208},{"$f":"VLOOKUP($B72,[1]FlowData!$A$3:$PL$215,AX$7,FALSE)","v":305},{"$f":"VLOOKUP($B72,[1]FlowData!$A$3:$PL$215,AY$7,FALSE)","v":414},{"$f":"VLOOKUP($B72,[1]FlowData!$A$3:$PL$215,AZ$7,FALSE)","v":283},{"$f":"VLOOKUP($B72,[1]FlowData!$A$3:$PL$215,BA$7,FALSE)","v":175},{"$f":"VLOOKUP($B72,[1]FlowData!$A$3:$PL$215,BB$7,FALSE)","v":310},{"$f":"VLOOKUP($B72,[1]FlowData!$A$3:$PL$215,BC$7,FALSE)","v":300},{"$f":"VLOOKUP($B72,[1]FlowData!$A$3:$PL$215,BD$7,FALSE)","v":227},{"$f":"VLOOKUP($B72,[1]FlowData!$A$3:$PL$215,BE$7,FALSE)","v":146},{"$f":"VLOOKUP($B72,[1]FlowData!$A$3:$PL$215,BF$7,FALSE)","v":231}]
[{"$f":"VLOOKUP(B73,'[2]Gages and BCs'!$A$4:$BJ$973,62,FALSE)","v":133},6081500,{"$f":"VLOOKUP(B73,'[2]Gages and BCs'!$A$4:$BJ$973,60,FALSE)","v":"Willow Creek near Augusta, Montana"},"1905–25",{"$f":"VLOOKUP($B73,[1]FlowData!$A$3:$PL$215,E$7,FALSE)","v":1.2330000000000001},{"$f":"VLOOKUP($B73,[1]FlowData!$A$3:$PL$215,F$7,FALSE)","v":4.6349999999999998},{"$f":"VLOOKUP($B73,[1]FlowData!$A$3:$PL$215,G$7,FALSE)","v":41},{"$f":"VLOOKUP($B73,[1]FlowData!$A$3:$PL$215,H$7,FALSE)","v":26},{"$f":"VLOOKUP($B73,[1]FlowData!$A$3:$PL$215,I$7,FALSE)","v":10},{"$f":"VLOOKUP($B73,[1]FlowData!$A$3:$PL$215,J$7,FALSE)","v":36},{"$f":"VLOOKUP($B73,[1]FlowData!$A$3:$PL$215,K$7,FALSE)","v":15},{"$f":"VLOOKUP($B73,[1]FlowData!$A$3:$PL$215,L$7,FALSE)","v":8.6999999999999993},{"$f":"VLOOKUP($B73,[1]FlowData!$A$3:$PL$215,M$7,FALSE)","v":5.0999999999999996},{"$f":"VLOOKUP($B73,[1]FlowData!$A$3:$PL$215,N$7,FALSE)","v":12},{"$f":"VLOOKUP($B73,[1]FlowData!$A$3:$PL$215,O$7,FALSE)","v":25},{"$f":"VLOOKUP($B73,[1]FlowData!$A$3:$PL$215,P$7,FALSE)","v":16},{"$f":"VLOOKUP($B73,[1]FlowData!$A$3:$PL$215,Q$7,FALSE)","v":6.8},{"$f":"VLOOKUP($B73,[1]FlowData!$A$3:$PL$215,R$7,FALSE)","v":19},{"$f":"VLOOKUP($B73,[1]FlowData!$A$3:$PL$215,S$7,FALSE)","v":21},{"$f":"VLOOKUP($B73,[1]FlowData!$A$3:$PL$215,T$7,FALSE)","v":13},{"$f":"VLOOKUP($B73,[1]FlowData!$A$3:$PL$215,U$7,FALSE)","v":5.5},{"$f":"VLOOKUP($B73,[1]FlowData!$A$3:$PL$215,V$7,FALSE)","v":16},{"$f":"VLOOKUP($B73,[1]FlowData!$A$3:$PL$215,W$7,FALSE)","v":35},{"$f":"VLOOKUP($B73,[1]FlowData!$A$3:$PL$215,X$7,FALSE)","v":20},{"$f":"VLOOKUP($B73,[1]FlowData!$A$3:$PL$215,Y$7,FALSE)","v":11},{"$f":"VLOOKUP($B73,[1]FlowData!$A$3:$PL$215,Z$7,FALSE)","v":24},{"$f":"VLOOKUP($B73,[1]FlowData!$A$3:$PL$215,AA$7,FALSE)","v":79},{"$f":"VLOOKUP($B73,[1]FlowData!$A$3:$PL$215,AB$7,FALSE)","v":48},{"$f":"VLOOKUP($B73,[1]FlowData!$A$3:$PL$215,AC$7,FALSE)","v":22},{"$f":"VLOOKUP($B73,[1]FlowData!$A$3:$PL$215,AD$7,FALSE)","v":67},{"$f":"VLOOKUP($B73,[1]FlowData!$A$3:$PL$215,AE$7,FALSE)","v":124},{"$f":"VLOOKUP($B73,[1]FlowData!$A$3:$PL$215,AF$7,FALSE)","v":58},{"$f":"VLOOKUP($B73,[1]FlowData!$A$3:$PL$215,AG$7,FALSE)","v":22},{"$f":"VLOOKUP($B73,[1]FlowData!$A$3:$PL$215,AH$7,FALSE)","v":99},{"$f":"VLOOKUP($B73,[1]FlowData!$A$3:$PL$215,AI$7,FALSE)","v":56},{"$f":"VLOOKUP($B73,[1]FlowData!$A$3:$PL$215,AJ$7,FALSE)","v":26},{"$f":"VLOOKUP($B73,[1]FlowData!$A$3:$PL$215,AK$7,FALSE)","v":9.5},{"$f":"VLOOKUP($B73,[1]FlowData!$A$3:$PL$215,AL$7,FALSE)","v":39},{"$f":"VLOOKUP($B73,[1]FlowData!$A$3:$PL$215,AM$7,FALSE)","v":29},{"$f":"VLOOKUP($B73,[1]FlowData!$A$3:$PL$215,AN$7,FALSE)","v":14},{"$f":"VLOOKUP($B73,[1]FlowData!$A$3:$PL$215,AO$7,FALSE)","v":3},{"$f":"VLOOKUP($B73,[1]FlowData!$A$3:$PL$215,AP$7,FALSE)","v":18},{"$f":"VLOOKUP($B73,[1]FlowData!$A$3:$PL$215,AQ$7,FALSE)","v":20},{"$f":"VLOOKUP($B73,[1]FlowData!$A$3:$PL$215,AR$7,FALSE)","v":10},{"$f":"VLOOKUP($B73,[1]FlowData!$A$3:$PL$215,AS$7,FALSE)","v":4.7},{"$f":"VLOOKUP($B73,[1]FlowData!$A$3:$PL$215,AT$7,FALSE)","v":13},{"$f":"VLOOKUP($B73,[1]FlowData!$A$3:$PL$215,AU$7,FALSE)","v":22},{"$f":"VLOOKUP($B73,[1]FlowData!$A$3:$PL$215,AV$7,FALSE)","v":14},{"$f":"VLOOKUP($B73,[1]FlowData!$A$3:$PL$215,AW$7,FALSE)","v":7.6},{"$f":"VLOOKUP($B73,[1]FlowData!$A$3:$PL$215,AX$7,FALSE)","v":15},{"$f":"VLOOKUP($B73,[1]FlowData!$A$3:$PL$215,AY$7,FALSE)","v":18},{"$f":"VLOOKUP($B73,[1]FlowData!$A$3:$PL$215,AZ$7,FALSE)","v":13},{"$f":"VLOOKUP($B73,[1]FlowData!$A$3:$PL$215,BA$7,FALSE)","v":9.1999999999999993},{"$f":"VLOOKUP($B73,[1]FlowData!$A$3:$PL$215,BB$7,FALSE)","v":14},{"$f":"VLOOKUP($B73,[1]FlowData!$A$3:$PL$215,BC$7,FALSE)","v":14},{"$f":"VLOOKUP($B73,[1]FlowData!$A$3:$PL$215,BD$7,FALSE)","v":9.3000000000000007},{"$f":"VLOOKUP($B73,[1]FlowData!$A$3:$PL$215,BE$7,FALSE)","v":5.3},{"$f":"VLOOKUP($B73,[1]FlowData!$A$3:$PL$215,BF$7,FALSE)","v":11}]
[{"$f":"VLOOKUP(B74,'[2]Gages and BCs'!$A$4:$BJ$973,62,FALSE)","v":134},6084500,{"$f":"VLOOKUP(B74,'[2]Gages and BCs'!$A$4:$BJ$973,60,FALSE)","v":"Elk Creek at Augusta, Montana"},"1905–08, 1910–19, 1921–24",{"$f":"VLOOKUP($B74,[1]FlowData!$A$3:$PL$215,E$7,FALSE)","v":""},{"$f":"VLOOKUP($B74,[1]FlowData!$A$3:$PL$215,F$7,FALSE)","v":4.3559999999999999},{"$f":"VLOOKUP($B74,[1]FlowData!$A$3:$PL$215,G$7,FALSE)","v":""},{"$f":"VLOOKUP($B74,[1]FlowData!$A$3:$PL$215,H$7,FALSE)","v":""},{"$f":"VLOOKUP($B74,[1]FlowData!$A$3:$PL$215,I$7,FALSE)","v":""},{"$f":"VLOOKUP($B74,[1]FlowData!$A$3:$PL$215,J$7,FALSE)","v":""},{"$f":"VLOOKUP($B74,[1]FlowData!$A$3:$PL$215,K$7,FALSE)","v":""},{"$f":"VLOOKUP($B74,[1]FlowData!$A$3:$PL$215,L$7,FALSE)","v":""},{"$f":"VLOOKUP($B74,[1]FlowData!$A$3:$PL$215,M$7,FALSE)","v":""},{"$f":"VLOOKUP($B74,[1]FlowData!$A$3:$PL$215,N$7,FALSE)","v":""},{"$f":"VLOOKUP($B74,[1]FlowData!$A$3:$PL$215,O$7,FALSE)","v":""},{"$f":"VLOOKUP($B74,[1]FlowData!$A$3:$PL$215,P$7,FALSE)","v":""},{"$f":"VLOOKUP($B74,[1]FlowData!$A$3:$PL$215,Q$7,FALSE)","v":""},{"$f":"VLOOKUP($B74,[1]FlowData!$A$3:$PL$215,R$7,FALSE)","v":""},{"$f":"VLOOKUP($B74,[1]FlowData!$A$3:$PL$215,S$7,FALSE)","v":""},{"$f":"VLOOKUP($B74,[1]FlowData!$A$3:$PL$215,T$7,FALSE)","v":""},{"$f":"VLOOKUP($B74,[1]FlowData!$A$3:$PL$215,U$7,FALSE)","v":""},{"$f":"VLOOKUP($B74,[1]FlowData!$A$3:$PL$215,V$7,FALSE)","v":""},{"$f":"VLOOKUP($B74,[1]FlowData!$A$3:$PL$215,W$7,FALSE)","v":97},{"$f":"VLOOKUP($B74,[1]FlowData!$A$3:$PL$215,X$7,FALSE)","v":58},{"$f":"VLOOKUP($B74,[1]FlowData!$A$3:$PL$215,Y$7,FALSE)","v":33},{"$f":"VLOOKUP($B74,[1]FlowData!$A$3:$PL$215,Z$7,FALSE)","v":69},{"$f":"VLOOKUP($B74,[1]FlowData!$A$3:$PL$215,AA$7,FALSE)","v":386},{"$f":"VLOOKUP($B74,[1]FlowData!$A$3:$PL$215,AB$7,FALSE)","v":178},{"$f":"VLOOKUP($B74,[1]FlowData!$A$3:$PL$215,AC$7,FALSE)","v":55},{"$f":"VLOOKUP($B74,[1]FlowData!$A$3:$PL$215,AD$7,FALSE)","v":262},{"$f":"VLOOKUP($B74,[1]FlowData!$A$3:$PL$215,AE$7,FALSE)","v":552},{"$f":"VLOOKUP($B74,[1]FlowData!$A$3:$PL$215,AF$7,FALSE)","v":238},{"$f":"VLOOKUP($B74,[1]FlowData!$A$3:$PL$215,AG$7,FALSE)","v":86},{"$f":"VLOOKUP($B74,[1]FlowData!$A$3:$PL$215,AH$7,FALSE)","v":385},{"$f":"VLOOKUP($B74,[1]FlowData!$A$3:$PL$215,AI$7,FALSE)","v":167},{"$f":"VLOOKUP($B74,[1]FlowData!$A$3:$PL$215,AJ$7,FALSE)","v":68},{"$f":"VLOOKUP($B74,[1]FlowData!$A$3:$PL$215,AK$7,FALSE)","v":26},{"$f":"VLOOKUP($B74,[1]FlowData!$A$3:$PL$215,AL$7,FALSE)","v":105},{"$f":"VLOOKUP($B74,[1]FlowData!$A$3:$PL$215,AM$7,FALSE)","v":67},{"$f":"VLOOKUP($B74,[1]FlowData!$A$3:$PL$215,AN$7,FALSE)","v":34},{"$f":"VLOOKUP($B74,[1]FlowData!$A$3:$PL$215,AO$7,FALSE)","v":12},{"$f":"VLOOKUP($B74,[1]FlowData!$A$3:$PL$215,AP$7,FALSE)","v":45},{"$f":"VLOOKUP($B74,[1]FlowData!$A$3:$PL$215,AQ$7,FALSE)","v":61},{"$f":"VLOOKUP($B74,[1]FlowData!$A$3:$PL$215,AR$7,FALSE)","v":31},{"$f":"VLOOKUP($B74,[1]FlowData!$A$3:$PL$215,AS$7,FALSE)","v":9},{"$f":"VLOOKUP($B74,[1]FlowData!$A$3:$PL$215,AT$7,FALSE)","v":34},{"$f":"VLOOKUP($B74,[1]FlowData!$A$3:$PL$215,AU$7,FALSE)","v":68},{"$f":"VLOOKUP($B74,[1]FlowData!$A$3:$PL$215,AV$7,FALSE)","v":42},{"$f":"VLOOKUP($B74,[1]FlowData!$A$3:$PL$215,AW$7,FALSE)","v":23},{"$f":"VLOOKUP($B74,[1]FlowData!$A$3:$PL$215,AX$7,FALSE)","v":48},{"$f":"VLOOKUP($B74,[1]FlowData!$A$3:$PL$215,AY$7,FALSE)","v":""},{"$f":"VLOOKUP($B74,[1]FlowData!$A$3:$PL$215,AZ$7,FALSE)","v":""},{"$f":"VLOOKUP($B74,[1]FlowData!$A$3:$PL$215,BA$7,FALSE)","v":""},{"$f":"VLOOKUP($B74,[1]FlowData!$A$3:$PL$215,BB$7,FALSE)","v":""},{"$f":"VLOOKUP($B74,[1]FlowData!$A$3:$PL$215,BC$7,FALSE)","v":""},{"$f":"VLOOKUP($B74,[1]FlowData!$A$3:$PL$215,BD$7,FALSE)","v":""},{"$f":"VLOOKUP($B74,[1]FlowData!$A$3:$PL$215,BE$7,FALSE)","v":""},{"$f":"VLOOKUP($B74,[1]FlowData!$A$3:$PL$215,BF$7,FALSE)","v":""}]
[{"$f":"VLOOKUP(B75,'[2]Gages and BCs'!$A$4:$BJ$973,62,FALSE)","v":149},6092000,{"$f":"VLOOKUP(B75,'[2]Gages and BCs'!$A$4:$BJ$973,60,FALSE)","v":"Two Medicine River near Browning, Montana"},"1910–11, 1913–24, 1951–77",{"$f":"VLOOKUP($B75,[1]FlowData!$A$3:$PL$215,E$7,FALSE)","v":2.9660000000000002},{"$f":"VLOOKUP($B75,[1]FlowData!$A$3:$PL$215,F$7,FALSE)","v":9.3989999999999991},{"$f":"VLOOKUP($B75,[1]FlowData!$A$3:$PL$215,G$7,FALSE)","v":1130},{"$f":"VLOOKUP($B75,[1]FlowData!$A$3:$PL$215,H$7,FALSE)","v":707},{"$f":"VLOOKUP($B75,[1]FlowData!$A$3:$PL$215,I$7,FALSE)","v":284},{"$f":"VLOOKUP($B75,[1]FlowData!$A$3:$PL$215,J$7,FALSE)","v":361},{"$f":"VLOOKUP($B75,[1]FlowData!$A$3:$PL$215,K$7,FALSE)","v":110},{"$f":"VLOOKUP($B75,[1]FlowData!$A$3:$PL$215,L$7,FALSE)","v":66},{"$f":"VLOOKUP($B75,[1]FlowData!$A$3:$PL$215,M$7,FALSE)","v":36},{"$f":"VLOOKUP($B75,[1]FlowData!$A$3:$PL$215,N$7,FALSE)","v":79},{"$f":"VLOOKUP($B75,[1]FlowData!$A$3:$PL$215,O$7,FALSE)","v":114},{"$f":"VLOOKUP($B75,[1]FlowData!$A$3:$PL$215,P$7,FALSE)","v":72},{"$f":"VLOOKUP($B75,[1]FlowData!$A$3:$PL$215,Q$7,FALSE)","v":45},{"$f":"VLOOKUP($B75,[1]FlowData!$A$3:$PL$215,R$7,FALSE)","v":88},{"$f":"VLOOKUP($B75,[1]FlowData!$A$3:$PL$215,S$7,FALSE)","v":177},{"$f":"VLOOKUP($B75,[1]FlowData!$A$3:$PL$215,T$7,FALSE)","v":92},{"$f":"VLOOKUP($B75,[1]FlowData!$A$3:$PL$215,U$7,FALSE)","v":42},{"$f":"VLOOKUP($B75,[1]FlowData!$A$3:$PL$215,V$7,FALSE)","v":135},{"$f":"VLOOKUP($B75,[1]FlowData!$A$3:$PL$215,W$7,FALSE)","v":764},{"$f":"VLOOKUP($B75,[1]FlowData!$A$3:$PL$215,X$7,FALSE)","v":345},{"$f":"VLOOKUP($B75,[1]FlowData!$A$3:$PL$215,Y$7,FALSE)","v":152},{"$f":"VLOOKUP($B75,[1]FlowData!$A$3:$PL$215,Z$7,FALSE)","v":475},{"$f":"VLOOKUP($B75,[1]FlowData!$A$3:$PL$215,AA$7,FALSE)","v":1860},{"$f":"VLOOKUP($B75,[1]FlowData!$A$3:$PL$215,AB$7,FALSE)","v":1250},{"$f":"VLOOKUP($B75,[1]FlowData!$A$3:$PL$215,AC$7,FALSE)","v":808},{"$f":"VLOOKUP($B75,[1]FlowData!$A$3:$PL$215,AD$7,FALSE)","v":1400},{"$f":"VLOOKUP($B75,[1]FlowData!$A$3:$PL$215,AE$7,FALSE)","v":2200},{"$f":"VLOOKUP($B75,[1]FlowData!$A$3:$PL$215,AF$7,FALSE)","v":1170},{"$f":"VLOOKUP($B75,[1]FlowData!$A$3:$PL$215,AG$7,FALSE)","v":473},{"$f":"VLOOKUP($B75,[1]FlowData!$A$3:$PL$215,AH$7,FALSE)","v":1450},{"$f":"VLOOKUP($B75,[1]FlowData!$A$3:$PL$215,AI$7,FALSE)","v":599},{"$f":"VLOOKUP($B75,[1]FlowData!$A$3:$PL$215,AJ$7,FALSE)","v":271},{"$f":"VLOOKUP($B75,[1]FlowData!$A$3:$PL$215,AK$7,FALSE)","v":112},{"$f":"VLOOKUP($B75,[1]FlowData!$A$3:$PL$215,AL$7,FALSE)","v":383},{"$f":"VLOOKUP($B75,[1]FlowData!$A$3:$PL$215,AM$7,FALSE)","v":139},{"$f":"VLOOKUP($B75,[1]FlowData!$A$3:$PL$215,AN$7,FALSE)","v":69},{"$f":"VLOOKUP($B75,[1]FlowData!$A$3:$PL$215,AO$7,FALSE)","v":27},{"$f":"VLOOKUP($B75,[1]FlowData!$A$3:$PL$215,AP$7,FALSE)","v":91},{"$f":"VLOOKUP($B75,[1]FlowData!$A$3:$PL$215,AQ$7,FALSE)","v":142},{"$f":"VLOOKUP($B75,[1]FlowData!$A$3:$PL$215,AR$7,FALSE)","v":65},{"$f":"VLOOKUP($B75,[1]FlowData!$A$3:$PL$215,AS$7,FALSE)","v":24},{"$f":"VLOOKUP($B75,[1]FlowData!$A$3:$PL$215,AT$7,FALSE)","v":101},{"$f":"VLOOKUP($B75,[1]FlowData!$A$3:$PL$215,AU$7,FALSE)","v":205},{"$f":"VLOOKUP($B75,[1]FlowData!$A$3:$PL$215,AV$7,FALSE)","v":92},{"$f":"VLOOKUP($B75,[1]FlowData!$A$3:$PL$215,AW$7,FALSE)","v":40},{"$f":"VLOOKUP($B75,[1]FlowData!$A$3:$PL$215,AX$7,FALSE)","v":131},{"$f":"VLOOKUP($B75,[1]FlowData!$A$3:$PL$215,AY$7,FALSE)","v":171},{"$f":"VLOOKUP($B75,[1]FlowData!$A$3:$PL$215,AZ$7,FALSE)","v":84},{"$f":"VLOOKUP($B75,[1]FlowData!$A$3:$PL$215,BA$7,FALSE)","v":47},{"$f":"VLOOKUP($B75,[1]FlowData!$A$3:$PL$215,BB$7,FALSE)","v":112},{"$f":"VLOOKUP($B75,[1]FlowData!$A$3:$PL$215,BC$7,FALSE)","v":142},{"$f":"VLOOKUP($B75,[1]FlowData!$A$3:$PL$215,BD$7,FALSE)","v":71},{"$f":"VLOOKUP($B75,[1]FlowData!$A$3:$PL$215,BE$7,FALSE)","v":32},{"$f":"VLOOKUP($B75,[1]FlowData!$A$3:$PL$215,BF$7,FALSE)","v":92}]
[{"$f":"VLOOKUP(B76,'[2]Gages and BCs'!$A$4:$BJ$973,62,FALSE)","v":150},6092500,{"$f":"VLOOKUP(B76,'[2]Gages and BCs'!$A$4:$BJ$973,60,FALSE)","v":"Badger Creek near Browning, Montana"},"1951–73",{"$f":"VLOOKUP($B76,[1]FlowData!$A$3:$PL$215,E$7,FALSE)","v":36.076000000000001},{"$f":"VLOOKUP($B76,[1]FlowData!$A$3:$PL$215,F$7,FALSE)","v":93.884},{"$f":"VLOOKUP($B76,[1]FlowData!$A$3:$PL$215,G$7,FALSE)","v":544},{"$f":"VLOOKUP($B76,[1]FlowData!$A$3:$PL$215,H$7,FALSE)","v":348},{"$f":"VLOOKUP($B76,[1]FlowData!$A$3:$PL$215,I$7,FALSE)","v":153},{"$f":"VLOOKUP($B76,[1]FlowData!$A$3:$PL$215,J$7,FALSE)","v":229},{"$f":"VLOOKUP($B76,[1]FlowData!$A$3:$PL$215,K$7,FALSE)","v":103},{"$f":"VLOOKUP($B76,[1]FlowData!$A$3:$PL$215,L$7,FALSE)","v":85},{"$f":"VLOOKUP($B76,[1]FlowData!$A$3:$PL$215,M$7,FALSE)","v":61},{"$f":"VLOOKUP($B76,[1]FlowData!$A$3:$PL$215,N$7,FALSE)","v":83},{"$f":"VLOOKUP($B76,[1]FlowData!$A$3:$PL$215,O$7,FALSE)","v":104},{"$f":"VLOOKUP($B76,[1]FlowData!$A$3:$PL$215,P$7,FALSE)","v":90},{"$f":"VLOOKUP($B76,[1]FlowData!$A$3:$PL$215,Q$7,FALSE)","v":70},{"$f":"VLOOKUP($B76,[1]FlowData!$A$3:$PL$215,R$7,FALSE)","v":92},{"$f":"VLOOKUP($B76,[1]FlowData!$A$3:$PL$215,S$7,FALSE)","v":109},{"$f":"VLOOKUP($B76,[1]FlowData!$A$3:$PL$215,T$7,FALSE)","v":89},{"$f":"VLOOKUP($B76,[1]FlowData!$A$3:$PL$215,U$7,FALSE)","v":73},{"$f":"VLOOKUP($B76,[1]FlowData!$A$3:$PL$215,V$7,FALSE)","v":96},{"$f":"VLOOKUP($B76,[1]FlowData!$A$3:$PL$215,W$7,FALSE)","v":233},{"$f":"VLOOKUP($B76,[1]FlowData!$A$3:$PL$215,X$7,FALSE)","v":136},{"$f":"VLOOKUP($B76,[1]FlowData!$A$3:$PL$215,Y$7,FALSE)","v":94},{"$f":"VLOOKUP($B76,[1]FlowData!$A$3:$PL$215,Z$7,FALSE)","v":179},{"$f":"VLOOKUP($B76,[1]FlowData!$A$3:$PL$215,AA$7,FALSE)","v":923},{"$f":"VLOOKUP($B76,[1]FlowData!$A$3:$PL$215,AB$7,FALSE)","v":601},{"$f":"VLOOKUP($B76,[1]FlowData!$A$3:$PL$215,AC$7,FALSE)","v":349},{"$f":"VLOOKUP($B76,[1]FlowData!$A$3:$PL$215,AD$7,FALSE)","v":651},{"$f":"VLOOKUP($B76,[1]FlowData!$A$3:$PL$215,AE$7,FALSE)","v":1090},{"$f":"VLOOKUP($B76,[1]FlowData!$A$3:$PL$215,AF$7,FALSE)","v":649},{"$f":"VLOOKUP($B76,[1]FlowData!$A$3:$PL$215,AG$7,FALSE)","v":373},{"$f":"VLOOKUP($B76,[1]FlowData!$A$3:$PL$215,AH$7,FALSE)","v":753},{"$f":"VLOOKUP($B76,[1]FlowData!$A$3:$PL$215,AI$7,FALSE)","v":369},{"$f":"VLOOKUP($B76,[1]FlowData!$A$3:$PL$215,AJ$7,FALSE)","v":245},{"$f":"VLOOKUP($B76,[1]FlowData!$A$3:$PL$215,AK$7,FALSE)","v":181},{"$f":"VLOOKUP($B76,[1]FlowData!$A$3:$PL$215,AL$7,FALSE)","v":287},{"$f":"VLOOKUP($B76,[1]FlowData!$A$3:$PL$215,AM$7,FALSE)","v":189},{"$f":"VLOOKUP($B76,[1]FlowData!$A$3:$PL$215,AN$7,FALSE)","v":154},{"$f":"VLOOKUP($B76,[1]FlowData!$A$3:$PL$215,AO$7,FALSE)","v":125},{"$f":"VLOOKUP($B76,[1]FlowData!$A$3:$PL$215,AP$7,FALSE)","v":158},{"$f":"VLOOKUP($B76,[1]FlowData!$A$3:$PL$215,AQ$7,FALSE)","v":147},{"$f":"VLOOKUP($B76,[1]FlowData!$A$3:$PL$215,AR$7,FALSE)","v":123},{"$f":"VLOOKUP($B76,[1]FlowData!$A$3:$PL$215,AS$7,FALSE)","v":105},{"$f":"VLOOKUP($B76,[1]FlowData!$A$3:$PL$215,AT$7,FALSE)","v":128},{"$f":"VLOOKUP($B76,[1]FlowData!$A$3:$PL$215,AU$7,FALSE)","v":157},{"$f":"VLOOKUP($B76,[1]FlowData!$A$3:$PL$215,AV$7,FALSE)","v":122},{"$f":"VLOOKUP($B76,[1]FlowData!$A$3:$PL$215,AW$7,FALSE)","v":109},{"$f":"VLOOKUP($B76,[1]FlowData!$A$3:$PL$215,AX$7,FALSE)","v":132},{"$f":"VLOOKUP($B76,[1]FlowData!$A$3:$PL$215,AY$7,FALSE)","v":136},{"$f":"VLOOKUP($B76,[1]FlowData!$A$3:$PL$215,AZ$7,FALSE)","v":113},{"$f":"VLOOKUP($B76,[1]FlowData!$A$3:$PL$215,BA$7,FALSE)","v":87},{"$f":"VLOOKUP($B76,[1]FlowData!$A$3:$PL$215,BB$7,FALSE)","v":112},{"$f":"VLOOKUP($B76,[1]FlowData!$A$3:$PL$215,BC$7,FALSE)","v":122},{"$f":"VLOOKUP($B76,[1]FlowData!$A$3:$PL$215,BD$7,FALSE)","v":97},{"$f":"VLOOKUP($B76,[1]FlowData!$A$3:$PL$215,BE$7,FALSE)","v":69},{"$f":"VLOOKUP($B76,[1]FlowData!$A$3:$PL$215,BF$7,FALSE)","v":95}]
[{"$f":"VLOOKUP(B77,'[2]Gages and BCs'!$A$4:$BJ$973,62,FALSE)","v":158},6098500,{"$f":"VLOOKUP(B77,'[2]Gages and BCs'!$A$4:$BJ$973,60,FALSE)","v":"Cut Bank Creek near Browning, Montana"},"1920, 1922, 1991–2007, 2009",{"$f":"VLOOKUP($B77,[1]FlowData!$A$3:$PL$215,E$7,FALSE)","v":9.4960000000000004},{"$f":"VLOOKUP($B77,[1]FlowData!$A$3:$PL$215,F$7,FALSE)","v":16.102},{"$f":"VLOOKUP($B77,[1]FlowData!$A$3:$PL$215,G$7,FALSE)","v":196},{"$f":"VLOOKUP($B77,[1]FlowData!$A$3:$PL$215,H$7,FALSE)","v":91},{"$f":"VLOOKUP($B77,[1]FlowData!$A$3:$PL$215,I$7,FALSE)","v":40},{"$f":"VLOOKUP($B77,[1]FlowData!$A$3:$PL$215,J$7,FALSE)","v":123},{"$f":"VLOOKUP($B77,[1]FlowData!$A$3:$PL$215,K$7,FALSE)","v":41},{"$f":"VLOOKUP($B77,[1]FlowData!$A$3:$PL$215,L$7,FALSE)","v":28},{"$f":"VLOOKUP($B77,[1]FlowData!$A$3:$PL$215,M$7,FALSE)","v":21},{"$f":"VLOOKUP($B77,[1]FlowData!$A$3:$PL$215,N$7,FALSE)","v":34},{"$f":"VLOOKUP($B77,[1]FlowData!$A$3:$PL$215,O$7,FALSE)","v":42},{"$f":"VLOOKUP($B77,[1]FlowData!$A$3:$PL$215,P$7,FALSE)","v":27},{"$f":"VLOOKUP($B77,[1]FlowData!$A$3:$PL$215,Q$7,FALSE)","v":19},{"$f":"VLOOKUP($B77,[1]FlowData!$A$3:$PL$215,R$7,FALSE)","v":37},{"$f":"VLOOKUP($B77,[1]FlowData!$A$3:$PL$215,S$7,FALSE)","v":70},{"$f":"VLOOKUP($B77,[1]FlowData!$A$3:$PL$215,T$7,FALSE)","v":43},{"$f":"VLOOKUP($B77,[1]FlowData!$A$3:$PL$215,U$7,FALSE)","v":24},{"$f":"VLOOKUP($B77,[1]FlowData!$A$3:$PL$215,V$7,FALSE)","v":59},{"$f":"VLOOKUP($B77,[1]FlowData!$A$3:$PL$215,W$7,FALSE)","v":196},{"$f":"VLOOKUP($B77,[1]FlowData!$A$3:$PL$215,X$7,FALSE)","v":106},{"$f":"VLOOKUP($B77,[1]FlowData!$A$3:$PL$215,Y$7,FALSE)","v":58},{"$f":"VLOOKUP($B77,[1]FlowData!$A$3:$PL$215,Z$7,FALSE)","v":133},{"$f":"VLOOKUP($B77,[1]FlowData!$A$3:$PL$215,AA$7,FALSE)","v":577},{"$f":"VLOOKUP($B77,[1]FlowData!$A$3:$PL$215,AB$7,FALSE)","v":335},{"$f":"VLOOKUP($B77,[1]FlowData!$A$3:$PL$215,AC$7,FALSE)","v":196},{"$f":"VLOOKUP($B77,[1]FlowData!$A$3:$PL$215,AD$7,FALSE)","v":399},{"$f":"VLOOKUP($B77,[1]FlowData!$A$3:$PL$215,AE$7,FALSE)","v":685},{"$f":"VLOOKUP($B77,[1]FlowData!$A$3:$PL$215,AF$7,FALSE)","v":415},{"$f":"VLOOKUP($B77,[1]FlowData!$A$3:$PL$215,AG$7,FALSE)","v":255},{"$f":"VLOOKUP($B77,[1]FlowData!$A$3:$PL$215,AH$7,FALSE)","v":475},{"$f":"VLOOKUP($B77,[1]FlowData!$A$3:$PL$215,AI$7,FALSE)","v":256},{"$f":"VLOOKUP($B77,[1]FlowData!$A$3:$PL$215,AJ$7,FALSE)","v":141},{"$f":"VLOOKUP($B77,[1]FlowData!$A$3:$PL$215,AK$7,FALSE)","v":75},{"$f":"VLOOKUP($B77,[1]FlowData!$A$3:$PL$215,AL$7,FALSE)","v":172},{"$f":"VLOOKUP($B77,[1]FlowData!$A$3:$PL$215,AM$7,FALSE)","v":85},{"$f":"VLOOKUP($B77,[1]FlowData!$A$3:$PL$215,AN$7,FALSE)","v":49},{"$f":"VLOOKUP($B77,[1]FlowData!$A$3:$PL$215,AO$7,FALSE)","v":23},{"$f":"VLOOKUP($B77,[1]FlowData!$A$3:$PL$215,AP$7,FALSE)","v":55},{"$f":"VLOOKUP($B77,[1]FlowData!$A$3:$PL$215,AQ$7,FALSE)","v":59},{"$f":"VLOOKUP($B77,[1]FlowData!$A$3:$PL$215,AR$7,FALSE)","v":35},{"$f":"VLOOKUP($B77,[1]FlowData!$A$3:$PL$215,AS$7,FALSE)","v":19},{"$f":"VLOOKUP($B77,[1]FlowData!$A$3:$PL$215,AT$7,FALSE)","v":39},{"$f":"VLOOKUP($B77,[1]FlowData!$A$3:$PL$215,AU$7,FALSE)","v":75},{"$f":"VLOOKUP($B77,[1]FlowData!$A$3:$PL$215,AV$7,FALSE)","v":43},{"$f":"VLOOKUP($B77,[1]FlowData!$A$3:$PL$215,AW$7,FALSE)","v":28},{"$f":"VLOOKUP($B77,[1]FlowData!$A$3:$PL$215,AX$7,FALSE)","v":56},{"$f":"VLOOKUP($B77,[1]FlowData!$A$3:$PL$215,AY$7,FALSE)","v":81},{"$f":"VLOOKUP($B77,[1]FlowData!$A$3:$PL$215,AZ$7,FALSE)","v":58},{"$f":"VLOOKUP($B77,[1]FlowData!$A$3:$PL$215,BA$7,FALSE)","v":34},{"$f":"VLOOKUP($B77,[1]FlowData!$A$3:$PL$215,BB$7,FALSE)","v":69},{"$f":"VLOOKUP($B77,[1]FlowData!$A$3:$PL$215,BC$7,FALSE)","v":48},{"$f":"VLOOKUP($B77,[1]FlowData!$A$3:$PL$215,BD$7,FALSE)","v":33},{"$f":"VLOOKUP($B77,[1]FlowData!$A$3:$PL$215,BE$7,FALSE)","v":24},{"$f":"VLOOKUP($B77,[1]FlowData!$A$3:$PL$215,BF$7,FALSE)","v":41}]
[{"$f":"VLOOKUP(B78,'[2]Gages and BCs'!$A$4:$BJ$973,62,FALSE)","v":178},6102500,{"$f":"VLOOKUP(B78,'[2]Gages and BCs'!$A$4:$BJ$973,60,FALSE)","v":"Teton River below South Fork, near Choteau, Montana"},"1948–54, 1998–2001, 2004–8",{"$f":"VLOOKUP($B78,[1]FlowData!$A$3:$PL$215,E$7,FALSE)","v":""},{"$f":"VLOOKUP($B78,[1]FlowData!$A$3:$PL$215,F$7,FALSE)","v":57.679000000000002},{"$f":"VLOOKUP($B78,[1]FlowData!$A$3:$PL$215,G$7,FALSE)","v":""},{"$f":"VLOOKUP($B78,[1]FlowData!$A$3:$PL$215,H$7,FALSE)","v":""},{"$f":"VLOOKUP($B78,[1]FlowData!$A$3:$PL$215,I$7,FALSE)","v":""},{"$f":"VLOOKUP($B78,[1]FlowData!$A$3:$PL$215,J$7,FALSE)","v":""},{"$f":"VLOOKUP($B78,[1]FlowData!$A$3:$PL$215,K$7,FALSE)","v":""},{"$f":"VLOOKUP($B78,[1]FlowData!$A$3:$PL$215,L$7,FALSE)","v":""},{"$f":"VLOOKUP($B78,[1]FlowData!$A$3:$PL$215,M$7,FALSE)","v":""},{"$f":"VLOOKUP($B78,[1]FlowData!$A$3:$PL$215,N$7,FALSE)","v":""},{"$f":"VLOOKUP($B78,[1]FlowData!$A$3:$PL$215,O$7,FALSE)","v":""},{"$f":"VLOOKUP($B78,[1]FlowData!$A$3:$PL$215,P$7,FALSE)","v":""},{"$f":"VLOOKUP($B78,[1]FlowData!$A$3:$PL$215,Q$7,FALSE)","v":""},{"$f":"VLOOKUP($B78,[1]FlowData!$A$3:$PL$215,R$7,FALSE)","v":""},{"$f":"VLOOKUP($B78,[1]FlowData!$A$3:$PL$215,S$7,FALSE)","v":""},{"$f":"VLOOKUP($B78,[1]FlowData!$A$3:$PL$215,T$7,FALSE)","v":""},{"$f":"VLOOKUP($B78,[1]FlowData!$A$3:$PL$215,U$7,FALSE)","v":""},{"$f":"VLOOKUP($B78,[1]FlowData!$A$3:$PL$215,V$7,FALSE)","v":""},{"$f":"VLOOKUP($B78,[1]FlowData!$A$3:$PL$215,W$7,FALSE)","v":95},{"$f":"VLOOKUP($B78,[1]FlowData!$A$3:$PL$215,X$7,FALSE)","v":66},{"$f":"VLOOKUP($B78,[1]FlowData!$A$3:$PL$215,Y$7,FALSE)","v":49},{"$f":"VLOOKUP($B78,[1]FlowData!$A$3:$PL$215,Z$7,FALSE)","v":78},{"$f":"VLOOKUP($B78,[1]FlowData!$A$3:$PL$215,AA$7,FALSE)","v":457},{"$f":"VLOOKUP($B78,[1]FlowData!$A$3:$PL$215,AB$7,FALSE)","v":245},{"$f":"VLOOKUP($B78,[1]FlowData!$A$3:$PL$215,AC$7,FALSE)","v":130},{"$f":"VLOOKUP($B78,[1]FlowData!$A$3:$PL$215,AD$7,FALSE)","v":312},{"$f":"VLOOKUP($B78,[1]FlowData!$A$3:$PL$215,AE$7,FALSE)","v":630},{"$f":"VLOOKUP($B78,[1]FlowData!$A$3:$PL$215,AF$7,FALSE)","v":333},{"$f":"VLOOKUP($B78,[1]FlowData!$A$3:$PL$215,AG$7,FALSE)","v":210},{"$f":"VLOOKUP($B78,[1]FlowData!$A$3:$PL$215,AH$7,FALSE)","v":447},{"$f":"VLOOKUP($B78,[1]FlowData!$A$3:$PL$215,AI$7,FALSE)","v":302},{"$f":"VLOOKUP($B78,[1]FlowData!$A$3:$PL$215,AJ$7,FALSE)","v":147},{"$f":"VLOOKUP($B78,[1]FlowData!$A$3:$PL$215,AK$7,FALSE)","v":99},{"$f":"VLOOKUP($B78,[1]FlowData!$A$3:$PL$215,AL$7,FALSE)","v":208},{"$f":"VLOOKUP($B78,[1]FlowData!$A$3:$PL$215,AM$7,FALSE)","v":133},{"$f":"VLOOKUP($B78,[1]FlowData!$A$3:$PL$215,AN$7,FALSE)","v":97},{"$f":"VLOOKUP($B78,[1]FlowData!$A$3:$PL$215,AO$7,FALSE)","v":73},{"$f":"VLOOKUP($B78,[1]FlowData!$A$3:$PL$215,AP$7,FALSE)","v":106},{"$f":"VLOOKUP($B78,[1]FlowData!$A$3:$PL$215,AQ$7,FALSE)","v":98},{"$f":"VLOOKUP($B78,[1]FlowData!$A$3:$PL$215,AR$7,FALSE)","v":79},{"$f":"VLOOKUP($B78,[1]FlowData!$A$3:$PL$215,AS$7,FALSE)","v":63},{"$f":"VLOOKUP($B78,[1]FlowData!$A$3:$PL$215,AT$7,FALSE)","v":82},{"$f":"VLOOKUP($B78,[1]FlowData!$A$3:$PL$215,AU$7,FALSE)","v":87},{"$f":"VLOOKUP($B78,[1]FlowData!$A$3:$PL$215,AV$7,FALSE)","v":73},{"$f":"VLOOKUP($B78,[1]FlowData!$A$3:$PL$215,AW$7,FALSE)","v":58},{"$f":"VLOOKUP($B78,[1]FlowData!$A$3:$PL$215,AX$7,FALSE)","v":75},{"$f":"VLOOKUP($B78,[1]FlowData!$A$3:$PL$215,AY$7,FALSE)","v":""},{"$f":"VLOOKUP($B78,[1]FlowData!$A$3:$PL$215,AZ$7,FALSE)","v":""},{"$f":"VLOOKUP($B78,[1]FlowData!$A$3:$PL$215,BA$7,FALSE)","v":""},{"$f":"VLOOKUP($B78,[1]FlowData!$A$3:$PL$215,BB$7,FALSE)","v":""},{"$f":"VLOOKUP($B78,[1]FlowData!$A$3:$PL$215,BC$7,FALSE)","v":""},{"$f":"VLOOKUP($B78,[1]FlowData!$A$3:$PL$215,BD$7,FALSE)","v":""},{"$f":"VLOOKUP($B78,[1]FlowData!$A$3:$PL$215,BE$7,FALSE)","v":""},{"$f":"VLOOKUP($B78,[1]FlowData!$A$3:$PL$215,BF$7,FALSE)","v":""}]
[{"$f":"VLOOKUP(B79,'[2]Gages and BCs'!$A$4:$BJ$973,62,FALSE)","v":268},6132200,{"$f":"VLOOKUP(B79,'[2]Gages and BCs'!$A$4:$BJ$973,60,FALSE)","v":"South Fork Milk River near Babb, Montana"},"1961–2007, 2009",{"$f":"VLOOKUP($B79,[1]FlowData!$A$3:$PL$215,E$7,FALSE)","v":""},{"$f":"VLOOKUP($B79,[1]FlowData!$A$3:$PL$215,F$7,FALSE)","v":2.7469999999999999},{"$f":"VLOOKUP($B79,[1]FlowData!$A$3:$PL$215,G$7,FALSE)","v":""},{"$f":"VLOOKUP($B79,[1]FlowData!$A$3:$PL$215,H$7,FALSE)","v":""},{"$f":"VLOOKUP($B79,[1]FlowData!$A$3:$PL$215,I$7,FALSE)","v":""},{"$f":"VLOOKUP($B79,[1]FlowData!$A$3:$PL$215,J$7,FALSE)","v":""},{"$f":"VLOOKUP($B79,[1]FlowData!$A$3:$PL$215,K$7,FALSE)","v":""},{"$f":"VLOOKUP($B79,[1]FlowData!$A$3:$PL$215,L$7,FALSE)","v":""},{"$f":"VLOOKUP($B79,[1]FlowData!$A$3:$PL$215,M$7,FALSE)","v":""},{"$f":"VLOOKUP($B79,[1]FlowData!$A$3:$PL$215,N$7,FALSE)","v":""},{"$f":"VLOOKUP($B79,[1]FlowData!$A$3:$PL$215,O$7,FALSE)","v":""},{"$f":"VLOOKUP($B79,[1]FlowData!$A$3:$PL$215,P$7,FALSE)","v":""},{"$f":"VLOOKUP($B79,[1]FlowData!$A$3:$PL$215,Q$7,FALSE)","v":""},{"$f":"VLOOKUP($B79,[1]FlowData!$A$3:$PL$215,R$7,FALSE)","v":""},{"$f":"VLOOKUP($B79,[1]FlowData!$A$3:$PL$215,S$7,FALSE)","v":38},{"$f":"VLOOKUP($B79,[1]FlowData!$A$3:$PL$215,T$7,FALSE)","v":17},{"$f":"VLOOKUP($B79,[1]FlowData!$A$3:$PL$215,U$7,FALSE)","v":7.5},{"$f":"VLOOKUP($B79,[1]FlowData!$A$3:$PL$215,V$7,FALSE)","v":31},{"$f":"VLOOKUP($B79,[1]FlowData!$A$3:$PL$215,W$7,FALSE)","v":89},{"$f":"VLOOKUP($B79,[1]FlowData!$A$3:$PL$215,X$7,FALSE)","v":49},{"$f":"VLOOKUP($B79,[1]FlowData!$A$3:$PL$215,Y$7,FALSE)","v":25},{"$f":"VLOOKUP($B79,[1]FlowData!$A$3:$PL$215,Z$7,FALSE)","v":63},{"$f":"VLOOKUP($B79,[1]FlowData!$A$3:$PL$215,AA$7,FALSE)","v":122},{"$f":"VLOOKUP($B79,[1]FlowData!$A$3:$PL$215,AB$7,FALSE)","v":60},{"$f":"VLOOKUP($B79,[1]FlowData!$A$3:$PL$215,AC$7,FALSE)","v":31},{"$f":"VLOOKUP($B79,[1]FlowData!$A$3:$PL$215,AD$7,FALSE)","v":82},{"$f":"VLOOKUP($B79,[1]FlowData!$A$3:$PL$215,AE$7,FALSE)","v":175},{"$f":"VLOOKUP($B79,[1]FlowData!$A$3:$PL$215,AF$7,FALSE)","v":109},{"$f":"VLOOKUP($B79,[1]FlowData!$A$3:$PL$215,AG$7,FALSE)","v":43},{"$f":"VLOOKUP($B79,[1]FlowData!$A$3:$PL$215,AH$7,FALSE)","v":86},{"$f":"VLOOKUP($B79,[1]FlowData!$A$3:$PL$215,AI$7,FALSE)","v":53},{"$f":"VLOOKUP($B79,[1]FlowData!$A$3:$PL$215,AJ$7,FALSE)","v":27},{"$f":"VLOOKUP($B79,[1]FlowData!$A$3:$PL$215,AK$7,FALSE)","v":10},{"$f":"VLOOKUP($B79,[1]FlowData!$A$3:$PL$215,AL$7,FALSE)","v":35},{"$f":"VLOOKUP($B79,[1]FlowData!$A$3:$PL$215,AM$7,FALSE)","v":26},{"$f":"VLOOKUP($B79,[1]FlowData!$A$3:$PL$215,AN$7,FALSE)","v":14},{"$f":"VLOOKUP($B79,[1]FlowData!$A$3:$PL$215,AO$7,FALSE)","v":4.5},{"$f":"VLOOKUP($B79,[1]FlowData!$A$3:$PL$215,AP$7,FALSE)","v":17},{"$f":"VLOOKUP($B79,[1]FlowData!$A$3:$PL$215,AQ$7,FALSE)","v":21},{"$f":"VLOOKUP($B79,[1]FlowData!$A$3:$PL$215,AR$7,FALSE)","v":11},{"$f":"VLOOKUP($B79,[1]FlowData!$A$3:$PL$215,AS$7,FALSE)","v":4.7},{"$f":"VLOOKUP($B79,[1]FlowData!$A$3:$PL$215,AT$7,FALSE)","v":14},{"$f":"VLOOKUP($B79,[1]FlowData!$A$3:$PL$215,AU$7,FALSE)","v":23},{"$f":"VLOOKUP($B79,[1]FlowData!$A$3:$PL$215,AV$7,FALSE)","v":15},{"$f":"VLOOKUP($B79,[1]FlowData!$A$3:$PL$215,AW$7,FALSE)","v":8.1999999999999993},{"$f":"VLOOKUP($B79,[1]FlowData!$A$3:$PL$215,AX$7,FALSE)","v":17},{"$f":"VLOOKUP($B79,[1]FlowData!$A$3:$PL$215,AY$7,FALSE)","v":""},{"$f":"VLOOKUP($B79,[1]FlowData!$A$3:$PL$215,AZ$7,FALSE)","v":""},{"$f":"VLOOKUP($B79,[1]FlowData!$A$3:$PL$215,BA$7,FALSE)","v":""},{"$f":"VLOOKUP($B79,[1]FlowData!$A$3:$PL$215,BB$7,FALSE)","v":""},{"$f":"VLOOKUP($B79,[1]FlowData!$A$3:$PL$215,BC$7,FALSE)","v":""},{"$f":"VLOOKUP($B79,[1]FlowData!$A$3:$PL$215,BD$7,FALSE)","v":""},{"$f":"VLOOKUP($B79,[1]FlowData!$A$3:$PL$215,BE$7,FALSE)","v":""},{"$f":"VLOOKUP($B79,[1]FlowData!$A$3:$PL$215,BF$7,FALSE)","v":""}]
[{"$f":"VLOOKUP(B80,'[2]Gages and BCs'!$A$4:$BJ$973,62,FALSE)","v":272},6133500,{"$f":"VLOOKUP(B80,'[2]Gages and BCs'!$A$4:$BJ$973,60,FALSE)","v":"North Fork Milk River above St. Mary Canal, near Browning, Montana"},"1929, 1931, 1933, 1936–37, 1939–46, 1950, 1952–53, 1956, 1961, 1965–2009",{"$f":"VLOOKUP($B80,[1]FlowData!$A$3:$PL$215,E$7,FALSE)","v":""},{"$f":"VLOOKUP($B80,[1]FlowData!$A$3:$PL$215,F$7,FALSE)","v":6.45},{"$f":"VLOOKUP($B80,[1]FlowData!$A$3:$PL$215,G$7,FALSE)","v":""},{"$f":"VLOOKUP($B80,[1]FlowData!$A$3:$PL$215,H$7,FALSE)","v":""},{"$f":"VLOOKUP($B80,[1]FlowData!$A$3:$PL$215,I$7,FALSE)","v":""},{"$f":"VLOOKUP($B80,[1]FlowData!$A$3:$PL$215,J$7,FALSE)","v":""},{"$f":"VLOOKUP($B80,[1]FlowData!$A$3:$PL$215,K$7,FALSE)","v":""},{"$f":"VLOOKUP($B80,[1]FlowData!$A$3:$PL$215,L$7,FALSE)","v":""},{"$f":"VLOOKUP($B80,[1]FlowData!$A$3:$PL$215,M$7,FALSE)","v":""},{"$f":"VLOOKUP($B80,[1]FlowData!$A$3:$PL$215,N$7,FALSE)","v":""},{"$f":"VLOOKUP($B80,[1]FlowData!$A$3:$PL$215,O$7,FALSE)","v":""},{"$f":"VLOOKUP($B80,[1]FlowData!$A$3:$PL$215,P$7,FALSE)","v":""},{"$f":"VLOOKUP($B80,[1]FlowData!$A$3:$PL$215,Q$7,FALSE)","v":""},{"$f":"VLOOKUP($B80,[1]FlowData!$A$3:$PL$215,R$7,FALSE)","v":""},{"$f":"VLOOKUP($B80,[1]FlowData!$A$3:$PL$215,S$7,FALSE)","v":31},{"$f":"VLOOKUP($B80,[1]FlowData!$A$3:$PL$215,T$7,FALSE)","v":21},{"$f":"VLOOKUP($B80,[1]FlowData!$A$3:$PL$215,U$7,FALSE)","v":10},{"$f":"VLOOKUP($B80,[1]FlowData!$A$3:$PL$215,V$7,FALSE)","v":23},{"$f":"VLOOKUP($B80,[1]FlowData!$A$3:$PL$215,W$7,FALSE)","v":49},{"$f":"VLOOKUP($B80,[1]FlowData!$A$3:$PL$215,X$7,FALSE)","v":32},{"$f":"VLOOKUP($B80,[1]FlowData!$A$3:$PL$215,Y$7,FALSE)","v":15},{"$f":"VLOOKUP($B80,[1]FlowData!$A$3:$PL$215,Z$7,FALSE)","v":36},{"$f":"VLOOKUP($B80,[1]FlowData!$A$3:$PL$215,AA$7,FALSE)","v":46},{"$f":"VLOOKUP($B80,[1]FlowData!$A$3:$PL$215,AB$7,FALSE)","v":30},{"$f":"VLOOKUP($B80,[1]FlowData!$A$3:$PL$215,AC$7,FALSE)","v":13},{"$f":"VLOOKUP($B80,[1]FlowData!$A$3:$PL$215,AD$7,FALSE)","v":33},{"$f":"VLOOKUP($B80,[1]FlowData!$A$3:$PL$215,AE$7,FALSE)","v":39},{"$f":"VLOOKUP($B80,[1]FlowData!$A$3:$PL$215,AF$7,FALSE)","v":25},{"$f":"VLOOKUP($B80,[1]FlowData!$A$3:$PL$215,AG$7,FALSE)","v":12},{"$f":"VLOOKUP($B80,[1]FlowData!$A$3:$PL$215,AH$7,FALSE)","v":30},{"$f":"VLOOKUP($B80,[1]FlowData!$A$3:$PL$215,AI$7,FALSE)","v":26},{"$f":"VLOOKUP($B80,[1]FlowData!$A$3:$PL$215,AJ$7,FALSE)","v":15},{"$f":"VLOOKUP($B80,[1]FlowData!$A$3:$PL$215,AK$7,FALSE)","v":7.3},{"$f":"VLOOKUP($B80,[1]FlowData!$A$3:$PL$215,AL$7,FALSE)","v":19},{"$f":"VLOOKUP($B80,[1]FlowData!$A$3:$PL$215,AM$7,FALSE)","v":23},{"$f":"VLOOKUP($B80,[1]FlowData!$A$3:$PL$215,AN$7,FALSE)","v":13},{"$f":"VLOOKUP($B80,[1]FlowData!$A$3:$PL$215,AO$7,FALSE)","v":7.7},{"$f":"VLOOKUP($B80,[1]FlowData!$A$3:$PL$215,AP$7,FALSE)","v":16},{"$f":"VLOOKUP($B80,[1]FlowData!$A$3:$PL$215,AQ$7,FALSE)","v":25},{"$f":"VLOOKUP($B80,[1]FlowData!$A$3:$PL$215,AR$7,FALSE)","v":14},{"$f":"VLOOKUP($B80,[1]FlowData!$A$3:$PL$215,AS$7,FALSE)","v":6.3},{"$f":"VLOOKUP($B80,[1]FlowData!$A$3:$PL$215,AT$7,FALSE)","v":17},{"$f":"VLOOKUP($B80,[1]FlowData!$A$3:$PL$215,AU$7,FALSE)","v":24},{"$f":"VLOOKUP($B80,[1]FlowData!$A$3:$PL$215,AV$7,FALSE)","v":15},{"$f":"VLOOKUP($B80,[1]FlowData!$A$3:$PL$215,AW$7,FALSE)","v":10},{"$f":"VLOOKUP($B80,[1]FlowData!$A$3:$PL$215,AX$7,FALSE)","v":17},{"$f":"VLOOKUP($B80,[1]FlowData!$A$3:$PL$215,AY$7,FALSE)","v":""},{"$f":"VLOOKUP($B80,[1]FlowData!$A$3:$PL$215,AZ$7,FALSE)","v":""},{"$f":"VLOOKUP($B80,[1]FlowData!$A$3:$PL$215,BA$7,FALSE)","v":""},{"$f":"VLOOKUP($B80,[1]FlowData!$A$3:$PL$215,BB$7,FALSE)","v":""},{"$f":"VLOOKUP($B80,[1]FlowData!$A$3:$PL$215,BC$7,FALSE)","v":""},{"$f":"VLOOKUP($B80,[1]FlowData!$A$3:$PL$215,BD$7,FALSE)","v":""},{"$f":"VLOOKUP($B80,[1]FlowData!$A$3:$PL$215,BE$7,FALSE)","v":""},{"$f":"VLOOKUP($B80,[1]FlowData!$A$3:$PL$215,BF$7,FALSE)","v":""}]
[{"$f":"VLOOKUP(B81,'[2]Gages and BCs'!$A$4:$BJ$973,62,FALSE)","v":651},12335000,{"$f":"VLOOKUP(B81,'[2]Gages and BCs'!$A$4:$BJ$973,60,FALSE)","v":"Blackfoot River near Helmville, Montana"},"1941–53",{"$f":"VLOOKUP($B81,[1]FlowData!$A$3:$PL$215,E$7,FALSE)","v":71.613},{"$f":"VLOOKUP($B81,[1]FlowData!$A$3:$PL$215,F$7,FALSE)","v":128.96199999999999},{"$f":"VLOOKUP($B81,[1]FlowData!$A$3:$PL$215,G$7,FALSE)","v":430},{"$f":"VLOOKUP($B81,[1]FlowData!$A$3:$PL$215,H$7,FALSE)","v":193},{"$f":"VLOOKUP($B81,[1]FlowData!$A$3:$PL$215,I$7,FALSE)","v":104},{"$f":"VLOOKUP($B81,[1]FlowData!$A$3:$PL$215,J$7,FALSE)","v":352},{"$f":"VLOOKUP($B81,[1]FlowData!$A$3:$PL$215,K$7,FALSE)","v":139},{"$f":"VLOOKUP($B81,[1]FlowData!$A$3:$PL$215,L$7,FALSE)","v":121},{"$f":"VLOOKUP($B81,[1]FlowData!$A$3:$PL$215,M$7,FALSE)","v":95},{"$f":"VLOOKUP($B81,[1]FlowData!$A$3:$PL$215,N$7,FALSE)","v":119},{"$f":"VLOOKUP($B81,[1]FlowData!$A$3:$PL$215,O$7,FALSE)","v":138},{"$f":"VLOOKUP($B81,[1]FlowData!$A$3:$PL$215,P$7,FALSE)","v":119},{"$f":"VLOOKUP($B81,[1]FlowData!$A$3:$PL$215,Q$7,FALSE)","v":95},{"$f":"VLOOKUP($B81,[1]FlowData!$A$3:$PL$215,R$7,FALSE)","v":121},{"$f":"VLOOKUP($B81,[1]FlowData!$A$3:$PL$215,S$7,FALSE)","v":142},{"$f":"VLOOKUP($B81,[1]FlowData!$A$3:$PL$215,T$7,FALSE)","v":116},{"$f":"VLOOKUP($B81,[1]FlowData!$A$3:$PL$215,U$7,FALSE)","v":100},{"$f":"VLOOKUP($B81,[1]FlowData!$A$3:$PL$215,V$7,FALSE)","v":125},{"$f":"VLOOKUP($B81,[1]FlowData!$A$3:$PL$215,W$7,FALSE)","v":358},{"$f":"VLOOKUP($B81,[1]FlowData!$A$3:$PL$215,X$7,FALSE)","v":174},{"$f":"VLOOKUP($B81,[1]FlowData!$A$3:$PL$215,Y$7,FALSE)","v":113},{"$f":"VLOOKUP($B81,[1]FlowData!$A$3:$PL$215,Z$7,FALSE)","v":271},{"$f":"VLOOKUP($B81,[1]FlowData!$A$3:$PL$215,AA$7,FALSE)","v":1530},{"$f":"VLOOKUP($B81,[1]FlowData!$A$3:$PL$215,AB$7,FALSE)","v":798},{"$f":"VLOOKUP($B81,[1]FlowData!$A$3:$PL$215,AC$7,FALSE)","v":298},{"$f":"VLOOKUP($B81,[1]FlowData!$A$3:$PL$215,AD$7,FALSE)","v":970},{"$f":"VLOOKUP($B81,[1]FlowData!$A$3:$PL$215,AE$7,FALSE)","v":1790},{"$f":"VLOOKUP($B81,[1]FlowData!$A$3:$PL$215,AF$7,FALSE)","v":1130},{"$f":"VLOOKUP($B81,[1]FlowData!$A$3:$PL$215,AG$7,FALSE)","v":605},{"$f":"VLOOKUP($B81,[1]FlowData!$A$3:$PL$215,AH$7,FALSE)","v":1260},{"$f":"VLOOKUP($B81,[1]FlowData!$A$3:$PL$215,AI$7,FALSE)","v":676},{"$f":"VLOOKUP($B81,[1]FlowData!$A$3:$PL$215,AJ$7,FALSE)","v":415},{"$f":"VLOOKUP($B81,[1]FlowData!$A$3:$PL$215,AK$7,FALSE)","v":267},{"$f":"VLOOKUP($B81,[1]FlowData!$A$3:$PL$215,AL$7,FALSE)","v":500},{"$f":"VLOOKUP($B81,[1]FlowData!$A$3:$PL$215,AM$7,FALSE)","v":298},{"$f":"VLOOKUP($B81,[1]FlowData!$A$3:$PL$215,AN$7,FALSE)","v":222},{"$f":"VLOOKUP($B81,[1]FlowData!$A$3:$PL$215,AO$7,FALSE)","v":168},{"$f":"VLOOKUP($B81,[1]FlowData!$A$3:$PL$215,AP$7,FALSE)","v":235},{"$f":"VLOOKUP($B81,[1]FlowData!$A$3:$PL$215,AQ$7,FALSE)","v":206},{"$f":"VLOOKUP($B81,[1]FlowData!$A$3:$PL$215,AR$7,FALSE)","v":171},{"$f":"VLOOKUP($B81,[1]FlowData!$A$3:$PL$215,AS$7,FALSE)","v":144},{"$f":"VLOOKUP($B81,[1]FlowData!$A$3:$PL$215,AT$7,FALSE)","v":173},{"$f":"VLOOKUP($B81,[1]FlowData!$A$3:$PL$215,AU$7,FALSE)","v":191},{"$f":"VLOOKUP($B81,[1]FlowData!$A$3:$PL$215,AV$7,FALSE)","v":161},{"$f":"VLOOKUP($B81,[1]FlowData!$A$3:$PL$215,AW$7,FALSE)","v":123},{"$f":"VLOOKUP($B81,[1]FlowData!$A$3:$PL$215,AX$7,FALSE)","v":159},{"$f":"VLOOKUP($B81,[1]FlowData!$A$3:$PL$215,AY$7,FALSE)","v":178},{"$f":"VLOOKUP($B81,[1]FlowData!$A$3:$PL$215,AZ$7,FALSE)","v":150},{"$f":"VLOOKUP($B81,[1]FlowData!$A$3:$PL$215,BA$7,FALSE)","v":124},{"$f":"VLOOKUP($B81,[1]FlowData!$A$3:$PL$215,BB$7,FALSE)","v":149},{"$f":"VLOOKUP($B81,[1]FlowData!$A$3:$PL$215,BC$7,FALSE)","v":155},{"$f":"VLOOKUP($B81,[1]FlowData!$A$3:$PL$215,BD$7,FALSE)","v":134},{"$f":"VLOOKUP($B81,[1]FlowData!$A$3:$PL$215,BE$7,FALSE)","v":103},{"$f":"VLOOKUP($B81,[1]FlowData!$A$3:$PL$215,BF$7,FALSE)","v":132}]
[{"$f":"VLOOKUP(B82,'[2]Gages and BCs'!$A$4:$BJ$973,62,FALSE)","v":700},12355500,{"$f":"VLOOKUP(B82,'[2]Gages and BCs'!$A$4:$BJ$973,60,FALSE)","v":"North Fork Flathead River near Columbia Falls, Montana"},"1911–17, 1931–32, 1934–2009",{"$f":"VLOOKUP($B82,[1]FlowData!$A$3:$PL$215,E$7,FALSE)","v":327.83800000000002},{"$f":"VLOOKUP($B82,[1]FlowData!$A$3:$PL$215,F$7,FALSE)","v":667.26400000000001},{"$f":"VLOOKUP($B82,[1]FlowData!$A$3:$PL$215,G$7,FALSE)","v":4550},{"$f":"VLOOKUP($B82,[1]FlowData!$A$3:$PL$215,H$7,FALSE)","v":1710},{"$f":"VLOOKUP($B82,[1]FlowData!$A$3:$PL$215,I$7,FALSE)","v":787},{"$f":"VLOOKUP($B82,[1]FlowData!$A$3:$PL$215,J$7,FALSE)","v":2960},{"$f":"VLOOKUP($B82,[1]FlowData!$A$3:$PL$215,K$7,FALSE)","v":982},{"$f":"VLOOKUP($B82,[1]FlowData!$A$3:$PL$215,L$7,FALSE)","v":659},{"$f":"VLOOKUP($B82,[1]FlowData!$A$3:$PL$215,M$7,FALSE)","v":476},{"$f":"VLOOKUP($B82,[1]FlowData!$A$3:$PL$215,N$7,FALSE)","v":775},{"$f":"VLOOKUP($B82,[1]FlowData!$A$3:$PL$215,O$7,FALSE)","v":876},{"$f":"VLOOKUP($B82,[1]FlowData!$A$3:$PL$215,P$7,FALSE)","v":646},{"$f":"VLOOKUP($B82,[1]FlowData!$A$3:$PL$215,Q$7,FALSE)","v":486},{"$f":"VLOOKUP($B82,[1]FlowData!$A$3:$PL$215,R$7,FALSE)","v":737},{"$f":"VLOOKUP($B82,[1]FlowData!$A$3:$PL$215,S$7,FALSE)","v":1160},{"$f":"VLOOKUP($B82,[1]FlowData!$A$3:$PL$215,T$7,FALSE)","v":767},{"$f":"VLOOKUP($B82,[1]FlowData!$A$3:$PL$215,U$7,FALSE)","v":504},{"$f":"VLOOKUP($B82,[1]FlowData!$A$3:$PL$215,V$7,FALSE)","v":922},{"$f":"VLOOKUP($B82,[1]FlowData!$A$3:$PL$215,W$7,FALSE)","v":4910},{"$f":"VLOOKUP($B82,[1]FlowData!$A$3:$PL$215,X$7,FALSE)","v":2490},{"$f":"VLOOKUP($B82,[1]FlowData!$A$3:$PL$215,Y$7,FALSE)","v":1150},{"$f":"VLOOKUP($B82,[1]FlowData!$A$3:$PL$215,Z$7,FALSE)","v":3250},{"$f":"VLOOKUP($B82,[1]FlowData!$A$3:$PL$215,AA$7,FALSE)","v":13400},{"$f":"VLOOKUP($B82,[1]FlowData!$A$3:$PL$215,AB$7,FALSE)","v":8820},{"$f":"VLOOKUP($B82,[1]FlowData!$A$3:$PL$215,AC$7,FALSE)","v":5680},{"$f":"VLOOKUP($B82,[1]FlowData!$A$3:$PL$215,AD$7,FALSE)","v":9710},{"$f":"VLOOKUP($B82,[1]FlowData!$A$3:$PL$215,AE$7,FALSE)","v":13800},{"$f":"VLOOKUP($B82,[1]FlowData!$A$3:$PL$215,AF$7,FALSE)","v":9270},{"$f":"VLOOKUP($B82,[1]FlowData!$A$3:$PL$215,AG$7,FALSE)","v":5620},{"$f":"VLOOKUP($B82,[1]FlowData!$A$3:$PL$215,AH$7,FALSE)","v":9970},{"$f":"VLOOKUP($B82,[1]FlowData!$A$3:$PL$215,AI$7,FALSE)","v":5520},{"$f":"VLOOKUP($B82,[1]FlowData!$A$3:$PL$215,AJ$7,FALSE)","v":3350},{"$f":"VLOOKUP($B82,[1]FlowData!$A$3:$PL$215,AK$7,FALSE)","v":2100},{"$f":"VLOOKUP($B82,[1]FlowData!$A$3:$PL$215,AL$7,FALSE)","v":3990},{"$f":"VLOOKUP($B82,[1]FlowData!$A$3:$PL$215,AM$7,FALSE)","v":2070},{"$f":"VLOOKUP($B82,[1]FlowData!$A$3:$PL$215,AN$7,FALSE)","v":1460},{"$f":"VLOOKUP($B82,[1]FlowData!$A$3:$PL$215,AO$7,FALSE)","v":1080},{"$f":"VLOOKUP($B82,[1]FlowData!$A$3:$PL$215,AP$7,FALSE)","v":1600},{"$f":"VLOOKUP($B82,[1]FlowData!$A$3:$PL$215,AQ$7,FALSE)","v":1410},{"$f":"VLOOKUP($B82,[1]FlowData!$A$3:$PL$215,AR$7,FALSE)","v":1030},{"$f":"VLOOKUP($B82,[1]FlowData!$A$3:$PL$215,AS$7,FALSE)","v":823},{"$f":"VLOOKUP($B82,[1]FlowData!$A$3:$PL$215,AT$7,FALSE)","v":1150},{"$f":"VLOOKUP($B82,[1]FlowData!$A$3:$PL$215,AU$7,FALSE)","v":1450},{"$f":"VLOOKUP($B82,[1]FlowData!$A$3:$PL$215,AV$7,FALSE)","v":957},{"$f":"VLOOKUP($B82,[1]FlowData!$A$3:$PL$215,AW$7,FALSE)","v":749},{"$f":"VLOOKUP($B82,[1]FlowData!$A$3:$PL$215,AX$7,FALSE)","v":1160},{"$f":"VLOOKUP($B82,[1]FlowData!$A$3:$PL$215,AY$7,FALSE)","v":1530},{"$f":"VLOOKUP($B82,[1]FlowData!$A$3:$PL$215,AZ$7,FALSE)","v":1020},{"$f":"VLOOKUP($B82,[1]FlowData!$A$3:$PL$215,BA$7,FALSE)","v":519},{"$f":"VLOOKUP($B82,[1]FlowData!$A$3:$PL$215,BB$7,FALSE)","v":1230},{"$f":"VLOOKUP($B82,[1]FlowData!$A$3:$PL$215,BC$7,FALSE)","v":1130},{"$f":"VLOOKUP($B82,[1]FlowData!$A$3:$PL$215,BD$7,FALSE)","v":771},{"$f":"VLOOKUP($B82,[1]FlowData!$A$3:$PL$215,BE$7,FALSE)","v":564},{"$f":"VLOOKUP($B82,[1]FlowData!$A$3:$PL$215,BF$7,FALSE)","v":912}]
[{"$f":"VLOOKUP(B83,'[2]Gages and BCs'!$A$4:$BJ$973,62,FALSE)","v":704},12357000,{"$f":"VLOOKUP(B83,'[2]Gages and BCs'!$A$4:$BJ$973,60,FALSE)","v":"Middle Fork Flathead River at Essex, Montana"},"1940–53, 1956–64",{"$f":"VLOOKUP($B83,[1]FlowData!$A$3:$PL$215,E$7,FALSE)","v":84.692999999999998},{"$f":"VLOOKUP($B83,[1]FlowData!$A$3:$PL$215,F$7,FALSE)","v":152.934},{"$f":"VLOOKUP($B83,[1]FlowData!$A$3:$PL$215,G$7,FALSE)","v":1480},{"$f":"VLOOKUP($B83,[1]FlowData!$A$3:$PL$215,H$7,FALSE)","v":897},{"$f":"VLOOKUP($B83,[1]FlowData!$A$3:$PL$215,I$7,FALSE)","v":386},{"$f":"VLOOKUP($B83,[1]FlowData!$A$3:$PL$215,J$7,FALSE)","v":1090},{"$f":"VLOOKUP($B83,[1]FlowData!$A$3:$PL$215,K$7,FALSE)","v":287},{"$f":"VLOOKUP($B83,[1]FlowData!$A$3:$PL$215,L$7,FALSE)","v":195},{"$f":"VLOOKUP($B83,[1]FlowData!$A$3:$PL$215,M$7,FALSE)","v":127},{"$f":"VLOOKUP($B83,[1]FlowData!$A$3:$PL$215,N$7,FALSE)","v":223},{"$f":"VLOOKUP($B83,[1]FlowData!$A$3:$PL$215,O$7,FALSE)","v":303},{"$f":"VLOOKUP($B83,[1]FlowData!$A$3:$PL$215,P$7,FALSE)","v":197},{"$f":"VLOOKUP($B83,[1]FlowData!$A$3:$PL$215,Q$7,FALSE)","v":128},{"$f":"VLOOKUP($B83,[1]FlowData!$A$3:$PL$215,R$7,FALSE)","v":238},{"$f":"VLOOKUP($B83,[1]FlowData!$A$3:$PL$215,S$7,FALSE)","v":318},{"$f":"VLOOKUP($B83,[1]FlowData!$A$3:$PL$215,T$7,FALSE)","v":209},{"$f":"VLOOKUP($B83,[1]FlowData!$A$3:$PL$215,U$7,FALSE)","v":150},{"$f":"VLOOKUP($B83,[1]FlowData!$A$3:$PL$215,V$7,FALSE)","v":251},{"$f":"VLOOKUP($B83,[1]FlowData!$A$3:$PL$215,W$7,FALSE)","v":1970},{"$f":"VLOOKUP($B83,[1]FlowData!$A$3:$PL$215,X$7,FALSE)","v":896},{"$f":"VLOOKUP($B83,[1]FlowData!$A$3:$PL$215,Y$7,FALSE)","v":394},{"$f":"VLOOKUP($B83,[1]FlowData!$A$3:$PL$215,Z$7,FALSE)","v":1320},{"$f":"VLOOKUP($B83,[1]FlowData!$A$3:$PL$215,AA$7,FALSE)","v":6130},{"$f":"VLOOKUP($B83,[1]FlowData!$A$3:$PL$215,AB$7,FALSE)","v":4080},{"$f":"VLOOKUP($B83,[1]FlowData!$A$3:$PL$215,AC$7,FALSE)","v":2360},{"$f":"VLOOKUP($B83,[1]FlowData!$A$3:$PL$215,AD$7,FALSE)","v":4350},{"$f":"VLOOKUP($B83,[1]FlowData!$A$3:$PL$215,AE$7,FALSE)","v":5640},{"$f":"VLOOKUP($B83,[1]FlowData!$A$3:$PL$215,AF$7,FALSE)","v":3240},{"$f":"VLOOKUP($B83,[1]FlowData!$A$3:$PL$215,AG$7,FALSE)","v":1730},{"$f":"VLOOKUP($B83,[1]FlowData!$A$3:$PL$215,AH$7,FALSE)","v":3790},{"$f":"VLOOKUP($B83,[1]FlowData!$A$3:$PL$215,AI$7,FALSE)","v":1460},{"$f":"VLOOKUP($B83,[1]FlowData!$A$3:$PL$215,AJ$7,FALSE)","v":744},{"$f":"VLOOKUP($B83,[1]FlowData!$A$3:$PL$215,AK$7,FALSE)","v":447},{"$f":"VLOOKUP($B83,[1]FlowData!$A$3:$PL$215,AL$7,FALSE)","v":1040},{"$f":"VLOOKUP($B83,[1]FlowData!$A$3:$PL$215,AM$7,FALSE)","v":410},{"$f":"VLOOKUP($B83,[1]FlowData!$A$3:$PL$215,AN$7,FALSE)","v":304},{"$f":"VLOOKUP($B83,[1]FlowData!$A$3:$PL$215,AO$7,FALSE)","v":227},{"$f":"VLOOKUP($B83,[1]FlowData!$A$3:$PL$215,AP$7,FALSE)","v":326},{"$f":"VLOOKUP($B83,[1]FlowData!$A$3:$PL$215,AQ$7,FALSE)","v":285},{"$f":"VLOOKUP($B83,[1]FlowData!$A$3:$PL$215,AR$7,FALSE)","v":225},{"$f":"VLOOKUP($B83,[1]FlowData!$A$3:$PL$215,AS$7,FALSE)","v":189},{"$f":"VLOOKUP($B83,[1]FlowData!$A$3:$PL$215,AT$7,FALSE)","v":244},{"$f":"VLOOKUP($B83,[1]FlowData!$A$3:$PL$215,AU$7,FALSE)","v":500},{"$f":"VLOOKUP($B83,[1]FlowData!$A$3:$PL$215,AV$7,FALSE)","v":243},{"$f":"VLOOKUP($B83,[1]FlowData!$A$3:$PL$215,AW$7,FALSE)","v":165},{"$f":"VLOOKUP($B83,[1]FlowData!$A$3:$PL$215,AX$7,FALSE)","v":357},{"$f":"VLOOKUP($B83,[1]FlowData!$A$3:$PL$215,AY$7,FALSE)","v":492},{"$f":"VLOOKUP($B83,[1]FlowData!$A$3:$PL$215,AZ$7,FALSE)","v":277},{"$f":"VLOOKUP($B83,[1]FlowData!$A$3:$PL$215,BA$7,FALSE)","v":155},{"$f":"VLOOKUP($B83,[1]FlowData!$A$3:$PL$215,BB$7,FALSE)","v":355},{"$f":"VLOOKUP($B83,[1]FlowData!$A$3:$PL$215,BC$7,FALSE)","v":493},{"$f":"VLOOKUP($B83,[1]FlowData!$A$3:$PL$215,BD$7,FALSE)","v":248},{"$f":"VLOOKUP($B83,[1]FlowData!$A$3:$PL$215,BE$7,FALSE)","v":151},{"$f":"VLOOKUP($B83,[1]FlowData!$A$3:$PL$215,BF$7,FALSE)","v":333}]
[{"$f":"VLOOKUP(B84,'[2]Gages and BCs'!$A$4:$BJ$973,62,FALSE)","v":708},12358500,{"$f":"VLOOKUP(B84,'[2]Gages and BCs'!$A$4:$BJ$973,60,FALSE)","v":"Middle Fork Flathead River near West Glacier, Montana"},"1940–2000, 2005–9",{"$f":"VLOOKUP($B84,[1]FlowData!$A$3:$PL$215,E$7,FALSE)","v":279.291},{"$f":"VLOOKUP($B84,[1]FlowData!$A$3:$PL$215,F$7,FALSE)","v":469.90800000000002},{"$f":"VLOOKUP($B84,[1]FlowData!$A$3:$PL$215,G$7,FALSE)","v":4640},{"$f":"VLOOKUP($B84,[1]FlowData!$A$3:$PL$215,H$7,FALSE)","v":2380},{"$f":"VLOOKUP($B84,[1]FlowData!$A$3:$PL$215,I$7,FALSE)","v":1050},{"$f":"VLOOKUP($B84,[1]FlowData!$A$3:$PL$215,J$7,FALSE)","v":2890},{"$f":"VLOOKUP($B84,[1]FlowData!$A$3:$PL$215,K$7,FALSE)","v":954},{"$f":"VLOOKUP($B84,[1]FlowData!$A$3:$PL$215,L$7,FALSE)","v":615},{"$f":"VLOOKUP($B84,[1]FlowData!$A$3:$PL$215,M$7,FALSE)","v":358},{"$f":"VLOOKUP($B84,[1]FlowData!$A$3:$PL$215,N$7,FALSE)","v":736},{"$f":"VLOOKUP($B84,[1]FlowData!$A$3:$PL$215,O$7,FALSE)","v":901},{"$f":"VLOOKUP($B84,[1]FlowData!$A$3:$PL$215,P$7,FALSE)","v":578},{"$f":"VLOOKUP($B84,[1]FlowData!$A$3:$PL$215,Q$7,FALSE)","v":370},{"$f":"VLOOKUP($B84,[1]FlowData!$A$3:$PL$215,R$7,FALSE)","v":720},{"$f":"VLOOKUP($B84,[1]FlowData!$A$3:$PL$215,S$7,FALSE)","v":1130},{"$f":"VLOOKUP($B84,[1]FlowData!$A$3:$PL$215,T$7,FALSE)","v":688},{"$f":"VLOOKUP($B84,[1]FlowData!$A$3:$PL$215,U$7,FALSE)","v":413},{"$f":"VLOOKUP($B84,[1]FlowData!$A$3:$PL$215,V$7,FALSE)","v":893},{"$f":"VLOOKUP($B84,[1]FlowData!$A$3:$PL$215,W$7,FALSE)","v":4750},{"$f":"VLOOKUP($B84,[1]FlowData!$A$3:$PL$215,X$7,FALSE)","v":2390},{"$f":"VLOOKUP($B84,[1]FlowData!$A$3:$PL$215,Y$7,FALSE)","v":1180},{"$f":"VLOOKUP($B84,[1]FlowData!$A$3:$PL$215,Z$7,FALSE)","v":3190},{"$f":"VLOOKUP($B84,[1]FlowData!$A$3:$PL$215,AA$7,FALSE)","v":13700},{"$f":"VLOOKUP($B84,[1]FlowData!$A$3:$PL$215,AB$7,FALSE)","v":8750},{"$f":"VLOOKUP($B84,[1]FlowData!$A$3:$PL$215,AC$7,FALSE)","v":5400},{"$f":"VLOOKUP($B84,[1]FlowData!$A$3:$PL$215,AD$7,FALSE)","v":9630},{"$f":"VLOOKUP($B84,[1]FlowData!$A$3:$PL$215,AE$7,FALSE)","v":13900},{"$f":"VLOOKUP($B84,[1]FlowData!$A$3:$PL$215,AF$7,FALSE)","v":9340},{"$f":"VLOOKUP($B84,[1]FlowData!$A$3:$PL$215,AG$7,FALSE)","v":5930},{"$f":"VLOOKUP($B84,[1]FlowData!$A$3:$PL$215,AH$7,FALSE)","v":10000},{"$f":"VLOOKUP($B84,[1]FlowData!$A$3:$PL$215,AI$7,FALSE)","v":5640},{"$f":"VLOOKUP($B84,[1]FlowData!$A$3:$PL$215,AJ$7,FALSE)","v":3270},{"$f":"VLOOKUP($B84,[1]FlowData!$A$3:$PL$215,AK$7,FALSE)","v":1950},{"$f":"VLOOKUP($B84,[1]FlowData!$A$3:$PL$215,AL$7,FALSE)","v":3910},{"$f":"VLOOKUP($B84,[1]FlowData!$A$3:$PL$215,AM$7,FALSE)","v":1760},{"$f":"VLOOKUP($B84,[1]FlowData!$A$3:$PL$215,AN$7,FALSE)","v":1250},{"$f":"VLOOKUP($B84,[1]FlowData!$A$3:$PL$215,AO$7,FALSE)","v":882},{"$f":"VLOOKUP($B84,[1]FlowData!$A$3:$PL$215,AP$7,FALSE)","v":1350},{"$f":"VLOOKUP($B84,[1]FlowData!$A$3:$PL$215,AQ$7,FALSE)","v":1170},{"$f":"VLOOKUP($B84,[1]FlowData!$A$3:$PL$215,AR$7,FALSE)","v":809},{"$f":"VLOOKUP($B84,[1]FlowData!$A$3:$PL$215,AS$7,FALSE)","v":613},{"$f":"VLOOKUP($B84,[1]FlowData!$A$3:$PL$215,AT$7,FALSE)","v":934},{"$f":"VLOOKUP($B84,[1]FlowData!$A$3:$PL$215,AU$7,FALSE)","v":1450},{"$f":"VLOOKUP($B84,[1]FlowData!$A$3:$PL$215,AV$7,FALSE)","v":803},{"$f":"VLOOKUP($B84,[1]FlowData!$A$3:$PL$215,AW$7,FALSE)","v":512},{"$f":"VLOOKUP($B84,[1]FlowData!$A$3:$PL$215,AX$7,FALSE)","v":1070},{"$f":"VLOOKUP($B84,[1]FlowData!$A$3:$PL$215,AY$7,FALSE)","v":1760},{"$f":"VLOOKUP($B84,[1]FlowData!$A$3:$PL$215,AZ$7,FALSE)","v":949},{"$f":"VLOOKUP($B84,[1]FlowData!$A$3:$PL$215,BA$7,FALSE)","v":481},{"$f":"VLOOKUP($B84,[1]FlowData!$A$3:$PL$215,BB$7,FALSE)","v":1230},{"$f":"VLOOKUP($B84,[1]FlowData!$A$3:$PL$215,BC$7,FALSE)","v":1240},{"$f":"VLOOKUP($B84,[1]FlowData!$A$3:$PL$215,BD$7,FALSE)","v":725},{"$f":"VLOOKUP($B84,[1]FlowData!$A$3:$PL$215,BE$7,FALSE)","v":389},{"$f":"VLOOKUP($B84,[1]FlowData!$A$3:$PL$215,BF$7,FALSE)","v":938}]
[{"$f":"VLOOKUP(B85,'[2]Gages and BCs'!$A$4:$BJ$973,62,FALSE)","v":711},12359800,{"$f":"VLOOKUP(B85,'[2]Gages and BCs'!$A$4:$BJ$973,60,FALSE)","v":"South Fork Flathead River above Twin Creek, near Hungry Horse, Montana"},"1965–82, 1985–2005, 2007–8",{"$f":"VLOOKUP($B85,[1]FlowData!$A$3:$PL$215,E$7,FALSE)","v":178.88200000000001},{"$f":"VLOOKUP($B85,[1]FlowData!$A$3:$PL$215,F$7,FALSE)","v":287.66000000000003},{"$f":"VLOOKUP($B85,[1]FlowData!$A$3:$PL$215,G$7,FALSE)","v":3460},{"$f":"VLOOKUP($B85,[1]FlowData!$A$3:$PL$215,H$7,FALSE)","v":925},{"$f":"VLOOKUP($B85,[1]FlowData!$A$3:$PL$215,I$7,FALSE)","v":443},{"$f":"VLOOKUP($B85,[1]FlowData!$A$3:$PL$215,J$7,FALSE)","v":2310},{"$f":"VLOOKUP($B85,[1]FlowData!$A$3:$PL$215,K$7,FALSE)","v":610},{"$f":"VLOOKUP($B85,[1]FlowData!$A$3:$PL$215,L$7,FALSE)","v":370},{"$f":"VLOOKUP($B85,[1]FlowData!$A$3:$PL$215,M$7,FALSE)","v":216},{"$f":"VLOOKUP($B85,[1]FlowData!$A$3:$PL$215,N$7,FALSE)","v":479},{"$f":"VLOOKUP($B85,[1]FlowData!$A$3:$PL$215,O$7,FALSE)","v":628},{"$f":"VLOOKUP($B85,[1]FlowData!$A$3:$PL$215,P$7,FALSE)","v":380},{"$f":"VLOOKUP($B85,[1]FlowData!$A$3:$PL$215,Q$7,FALSE)","v":227},{"$f":"VLOOKUP($B85,[1]FlowData!$A$3:$PL$215,R$7,FALSE)","v":520},{"$f":"VLOOKUP($B85,[1]FlowData!$A$3:$PL$215,S$7,FALSE)","v":729},{"$f":"VLOOKUP($B85,[1]FlowData!$A$3:$PL$215,T$7,FALSE)","v":473},{"$f":"VLOOKUP($B85,[1]FlowData!$A$3:$PL$215,U$7,FALSE)","v":301},{"$f":"VLOOKUP($B85,[1]FlowData!$A$3:$PL$215,V$7,FALSE)","v":588},{"$f":"VLOOKUP($B85,[1]FlowData!$A$3:$PL$215,W$7,FALSE)","v":3890},{"$f":"VLOOKUP($B85,[1]FlowData!$A$3:$PL$215,X$7,FALSE)","v":1830},{"$f":"VLOOKUP($B85,[1]FlowData!$A$3:$PL$215,Y$7,FALSE)","v":853},{"$f":"VLOOKUP($B85,[1]FlowData!$A$3:$PL$215,Z$7,FALSE)","v":2490},{"$f":"VLOOKUP($B85,[1]FlowData!$A$3:$PL$215,AA$7,FALSE)","v":11100},{"$f":"VLOOKUP($B85,[1]FlowData!$A$3:$PL$215,AB$7,FALSE)","v":6760},{"$f":"VLOOKUP($B85,[1]FlowData!$A$3:$PL$215,AC$7,FALSE)","v":4010},{"$f":"VLOOKUP($B85,[1]FlowData!$A$3:$PL$215,AD$7,FALSE)","v":7710},{"$f":"VLOOKUP($B85,[1]FlowData!$A$3:$PL$215,AE$7,FALSE)","v":11800},{"$f":"VLOOKUP($B85,[1]FlowData!$A$3:$PL$215,AF$7,FALSE)","v":7290},{"$f":"VLOOKUP($B85,[1]FlowData!$A$3:$PL$215,AG$7,FALSE)","v":4380},{"$f":"VLOOKUP($B85,[1]FlowData!$A$3:$PL$215,AH$7,FALSE)","v":8190},{"$f":"VLOOKUP($B85,[1]FlowData!$A$3:$PL$215,AI$7,FALSE)","v":3900},{"$f":"VLOOKUP($B85,[1]FlowData!$A$3:$PL$215,AJ$7,FALSE)","v":2000},{"$f":"VLOOKUP($B85,[1]FlowData!$A$3:$PL$215,AK$7,FALSE)","v":1120},{"$f":"VLOOKUP($B85,[1]FlowData!$A$3:$PL$215,AL$7,FALSE)","v":2630},{"$f":"VLOOKUP($B85,[1]FlowData!$A$3:$PL$215,AM$7,FALSE)","v":1000},{"$f":"VLOOKUP($B85,[1]FlowData!$A$3:$PL$215,AN$7,FALSE)","v":690},{"$f":"VLOOKUP($B85,[1]FlowData!$A$3:$PL$215,AO$7,FALSE)","v":481},{"$f":"VLOOKUP($B85,[1]FlowData!$A$3:$PL$215,AP$7,FALSE)","v":759},{"$f":"VLOOKUP($B85,[1]FlowData!$A$3:$PL$215,AQ$7,FALSE)","v":652},{"$f":"VLOOKUP($B85,[1]FlowData!$A$3:$PL$215,AR$7,FALSE)","v":456},{"$f":"VLOOKUP($B85,[1]FlowData!$A$3:$PL$215,AS$7,FALSE)","v":338},{"$f":"VLOOKUP($B85,[1]FlowData!$A$3:$PL$215,AT$7,FALSE)","v":559},{"$f":"VLOOKUP($B85,[1]FlowData!$A$3:$PL$215,AU$7,FALSE)","v":715},{"$f":"VLOOKUP($B85,[1]FlowData!$A$3:$PL$215,AV$7,FALSE)","v":469},{"$f":"VLOOKUP($B85,[1]FlowData!$A$3:$PL$215,AW$7,FALSE)","v":302},{"$f":"VLOOKUP($B85,[1]FlowData!$A$3:$PL$215,AX$7,FALSE)","v":573},{"$f":"VLOOKUP($B85,[1]FlowData!$A$3:$PL$215,AY$7,FALSE)","v":975},{"$f":"VLOOKUP($B85,[1]FlowData!$A$3:$PL$215,AZ$7,FALSE)","v":529},{"$f":"VLOOKUP($B85,[1]FlowData!$A$3:$PL$215,BA$7,FALSE)","v":296},{"$f":"VLOOKUP($B85,[1]FlowData!$A$3:$PL$215,BB$7,FALSE)","v":706},{"$f":"VLOOKUP($B85,[1]FlowData!$A$3:$PL$215,BC$7,FALSE)","v":614},{"$f":"VLOOKUP($B85,[1]FlowData!$A$3:$PL$215,BD$7,FALSE)","v":409},{"$f":"VLOOKUP($B85,[1]FlowData!$A$3:$PL$215,BE$7,FALSE)","v":255},{"$f":"VLOOKUP($B85,[1]FlowData!$A$3:$PL$215,BF$7,FALSE)","v":514}]
[{"$f":"VLOOKUP(B86,'[2]Gages and BCs'!$A$4:$BJ$973,62,FALSE)","v":712},12360000,{"$f":"VLOOKUP(B86,'[2]Gages and BCs'!$A$4:$BJ$973,60,FALSE)","v":"Twin Creek near Hungry Horse, Montana"},"1949–56, 1965–67",{"$f":"VLOOKUP($B86,[1]FlowData!$A$3:$PL$215,E$7,FALSE)","v":""},{"$f":"VLOOKUP($B86,[1]FlowData!$A$3:$PL$215,F$7,FALSE)","v":""},{"$f":"VLOOKUP($B86,[1]FlowData!$A$3:$PL$215,G$7,FALSE)","v":177},{"$f":"VLOOKUP($B86,[1]FlowData!$A$3:$PL$215,H$7,FALSE)","v":52},{"$f":"VLOOKUP($B86,[1]FlowData!$A$3:$PL$215,I$7,FALSE)","v":23},{"$f":"VLOOKUP($B86,[1]FlowData!$A$3:$PL$215,J$7,FALSE)","v":124},{"$f":"VLOOKUP($B86,[1]FlowData!$A$3:$PL$215,K$7,FALSE)","v":35},{"$f":"VLOOKUP($B86,[1]FlowData!$A$3:$PL$215,L$7,FALSE)","v":20},{"$f":"VLOOKUP($B86,[1]FlowData!$A$3:$PL$215,M$7,FALSE)","v":13},{"$f":"VLOOKUP($B86,[1]FlowData!$A$3:$PL$215,N$7,FALSE)","v":23},{"$f":"VLOOKUP($B86,[1]FlowData!$A$3:$PL$215,O$7,FALSE)","v":32},{"$f":"VLOOKUP($B86,[1]FlowData!$A$3:$PL$215,P$7,FALSE)","v":21},{"$f":"VLOOKUP($B86,[1]FlowData!$A$3:$PL$215,Q$7,FALSE)","v":15},{"$f":"VLOOKUP($B86,[1]FlowData!$A$3:$PL$215,R$7,FALSE)","v":27},{"$f":"VLOOKUP($B86,[1]FlowData!$A$3:$PL$215,S$7,FALSE)","v":38},{"$f":"VLOOKUP($B86,[1]FlowData!$A$3:$PL$215,T$7,FALSE)","v":27},{"$f":"VLOOKUP($B86,[1]FlowData!$A$3:$PL$215,U$7,FALSE)","v":14},{"$f":"VLOOKUP($B86,[1]FlowData!$A$3:$PL$215,V$7,FALSE)","v":31},{"$f":"VLOOKUP($B86,[1]FlowData!$A$3:$PL$215,W$7,FALSE)","v":323},{"$f":"VLOOKUP($B86,[1]FlowData!$A$3:$PL$215,X$7,FALSE)","v":152},{"$f":"VLOOKUP($B86,[1]FlowData!$A$3:$PL$215,Y$7,FALSE)","v":58},{"$f":"VLOOKUP($B86,[1]FlowData!$A$3:$PL$215,Z$7,FALSE)","v":205},{"$f":"VLOOKUP($B86,[1]FlowData!$A$3:$PL$215,AA$7,FALSE)","v":766},{"$f":"VLOOKUP($B86,[1]FlowData!$A$3:$PL$215,AB$7,FALSE)","v":482},{"$f":"VLOOKUP($B86,[1]FlowData!$A$3:$PL$215,AC$7,FALSE)","v":318},{"$f":"VLOOKUP($B86,[1]FlowData!$A$3:$PL$215,AD$7,FALSE)","v":545},{"$f":"VLOOKUP($B86,[1]FlowData!$A$3:$PL$215,AE$7,FALSE)","v":592},{"$f":"VLOOKUP($B86,[1]FlowData!$A$3:$PL$215,AF$7,FALSE)","v":355},{"$f":"VLOOKUP($B86,[1]FlowData!$A$3:$PL$215,AG$7,FALSE)","v":192},{"$f":"VLOOKUP($B86,[1]FlowData!$A$3:$PL$215,AH$7,FALSE)","v":385},{"$f":"VLOOKUP($B86,[1]FlowData!$A$3:$PL$215,AI$7,FALSE)","v":127},{"$f":"VLOOKUP($B86,[1]FlowData!$A$3:$PL$215,AJ$7,FALSE)","v":65},{"$f":"VLOOKUP($B86,[1]FlowData!$A$3:$PL$215,AK$7,FALSE)","v":38},{"$f":"VLOOKUP($B86,[1]FlowData!$A$3:$PL$215,AL$7,FALSE)","v":87},{"$f":"VLOOKUP($B86,[1]FlowData!$A$3:$PL$215,AM$7,FALSE)","v":29},{"$f":"VLOOKUP($B86,[1]FlowData!$A$3:$PL$215,AN$7,FALSE)","v":22},{"$f":"VLOOKUP($B86,[1]FlowData!$A$3:$PL$215,AO$7,FALSE)","v":16},{"$f":"VLOOKUP($B86,[1]FlowData!$A$3:$PL$215,AP$7,FALSE)","v":23},{"$f":"VLOOKUP($B86,[1]FlowData!$A$3:$PL$215,AQ$7,FALSE)","v":19},{"$f":"VLOOKUP($B86,[1]FlowData!$A$3:$PL$215,AR$7,FALSE)","v":13},{"$f":"VLOOKUP($B86,[1]FlowData!$A$3:$PL$215,AS$7,FALSE)","v":9.9},{"$f":"VLOOKUP($B86,[1]FlowData!$A$3:$PL$215,AT$7,FALSE)","v":18},{"$f":"VLOOKUP($B86,[1]FlowData!$A$3:$PL$215,AU$7,FALSE)","v":47},{"$f":"VLOOKUP($B86,[1]FlowData!$A$3:$PL$215,AV$7,FALSE)","v":24},{"$f":"VLOOKUP($B86,[1]FlowData!$A$3:$PL$215,AW$7,FALSE)","v":10},{"$f":"VLOOKUP($B86,[1]FlowData!$A$3:$PL$215,AX$7,FALSE)","v":31},{"$f":"VLOOKUP($B86,[1]FlowData!$A$3:$PL$215,AY$7,FALSE)","v":49},{"$f":"VLOOKUP($B86,[1]FlowData!$A$3:$PL$215,AZ$7,FALSE)","v":31},{"$f":"VLOOKUP($B86,[1]FlowData!$A$3:$PL$215,BA$7,FALSE)","v":12},{"$f":"VLOOKUP($B86,[1]FlowData!$A$3:$PL$215,BB$7,FALSE)","v":35},{"$f":"VLOOKUP($B86,[1]FlowData!$A$3:$PL$215,BC$7,FALSE)","v":44},{"$f":"VLOOKUP($B86,[1]FlowData!$A$3:$PL$215,BD$7,FALSE)","v":27},{"$f":"VLOOKUP($B86,[1]FlowData!$A$3:$PL$215,BE$7,FALSE)","v":14},{"$f":"VLOOKUP($B86,[1]FlowData!$A$3:$PL$215,BF$7,FALSE)","v":36}]
[{"$f":"VLOOKUP(B87,'[2]Gages and BCs'!$A$4:$BJ$973,62,FALSE)","v":713},12361000,{"$f":"VLOOKUP(B87,'[2]Gages and BCs'!$A$4:$BJ$973,60,FALSE)","v":"Sullivan Creek near Hungry Horse, Montana"},"1949–56, 1960–76",{"$f":"VLOOKUP($B87,[1]FlowData!$A$3:$PL$215,E$7,FALSE)","v":17.725999999999999},{"$f":"VLOOKUP($B87,[1]FlowData!$A$3:$PL$215,F$7,FALSE)","v":24.779},{"$f":"VLOOKUP($B87,[1]FlowData!$A$3:$PL$215,G$7,FALSE)","v":338},{"$f":"VLOOKUP($B87,[1]FlowData!$A$3:$PL$215,H$7,FALSE)","v":101},{"$f":"VLOOKUP($B87,[1]FlowData!$A$3:$PL$215,I$7,FALSE)","v":46},{"$f":"VLOOKUP($B87,[1]FlowData!$A$3:$PL$215,J$7,FALSE)","v":225},{"$f":"VLOOKUP($B87,[1]FlowData!$A$3:$PL$215,K$7,FALSE)","v":88},{"$f":"VLOOKUP($B87,[1]FlowData!$A$3:$PL$215,L$7,FALSE)","v":48},{"$f":"VLOOKUP($B87,[1]FlowData!$A$3:$PL$215,M$7,FALSE)","v":26},{"$f":"VLOOKUP($B87,[1]FlowData!$A$3:$PL$215,N$7,FALSE)","v":64},{"$f":"VLOOKUP($B87,[1]FlowData!$A$3:$PL$215,O$7,FALSE)","v":86},{"$f":"VLOOKUP($B87,[1]FlowData!$A$3:$PL$215,P$7,FALSE)","v":47},{"$f":"VLOOKUP($B87,[1]FlowData!$A$3:$PL$215,Q$7,FALSE)","v":28},{"$f":"VLOOKUP($B87,[1]FlowData!$A$3:$PL$215,R$7,FALSE)","v":69},{"$f":"VLOOKUP($B87,[1]FlowData!$A$3:$PL$215,S$7,FALSE)","v":93},{"$f":"VLOOKUP($B87,[1]FlowData!$A$3:$PL$215,T$7,FALSE)","v":54},{"$f":"VLOOKUP($B87,[1]FlowData!$A$3:$PL$215,U$7,FALSE)","v":37},{"$f":"VLOOKUP($B87,[1]FlowData!$A$3:$PL$215,V$7,FALSE)","v":75},{"$f":"VLOOKUP($B87,[1]FlowData!$A$3:$PL$215,W$7,FALSE)","v":403},{"$f":"VLOOKUP($B87,[1]FlowData!$A$3:$PL$215,X$7,FALSE)","v":199},{"$f":"VLOOKUP($B87,[1]FlowData!$A$3:$PL$215,Y$7,FALSE)","v":97},{"$f":"VLOOKUP($B87,[1]FlowData!$A$3:$PL$215,Z$7,FALSE)","v":272},{"$f":"VLOOKUP($B87,[1]FlowData!$A$3:$PL$215,AA$7,FALSE)","v":1180},{"$f":"VLOOKUP($B87,[1]FlowData!$A$3:$PL$215,AB$7,FALSE)","v":770},{"$f":"VLOOKUP($B87,[1]FlowData!$A$3:$PL$215,AC$7,FALSE)","v":477},{"$f":"VLOOKUP($B87,[1]FlowData!$A$3:$PL$215,AD$7,FALSE)","v":837},{"$f":"VLOOKUP($B87,[1]FlowData!$A$3:$PL$215,AE$7,FALSE)","v":1130},{"$f":"VLOOKUP($B87,[1]FlowData!$A$3:$PL$215,AF$7,FALSE)","v":725},{"$f":"VLOOKUP($B87,[1]FlowData!$A$3:$PL$215,AG$7,FALSE)","v":454},{"$f":"VLOOKUP($B87,[1]FlowData!$A$3:$PL$215,AH$7,FALSE)","v":797},{"$f":"VLOOKUP($B87,[1]FlowData!$A$3:$PL$215,AI$7,FALSE)","v":282},{"$f":"VLOOKUP($B87,[1]FlowData!$A$3:$PL$215,AJ$7,FALSE)","v":153},{"$f":"VLOOKUP($B87,[1]FlowData!$A$3:$PL$215,AK$7,FALSE)","v":91},{"$f":"VLOOKUP($B87,[1]FlowData!$A$3:$PL$215,AL$7,FALSE)","v":197},{"$f":"VLOOKUP($B87,[1]FlowData!$A$3:$PL$215,AM$7,FALSE)","v":75},{"$f":"VLOOKUP($B87,[1]FlowData!$A$3:$PL$215,AN$7,FALSE)","v":54},{"$f":"VLOOKUP($B87,[1]FlowData!$A$3:$PL$215,AO$7,FALSE)","v":39},{"$f":"VLOOKUP($B87,[1]FlowData!$A$3:$PL$215,AP$7,FALSE)","v":60},{"$f":"VLOOKUP($B87,[1]FlowData!$A$3:$PL$215,AQ$7,FALSE)","v":68},{"$f":"VLOOKUP($B87,[1]FlowData!$A$3:$PL$215,AR$7,FALSE)","v":40},{"$f":"VLOOKUP($B87,[1]FlowData!$A$3:$PL$215,AS$7,FALSE)","v":27},{"$f":"VLOOKUP($B87,[1]FlowData!$A$3:$PL$215,AT$7,FALSE)","v":59},{"$f":"VLOOKUP($B87,[1]FlowData!$A$3:$PL$215,AU$7,FALSE)","v":129},{"$f":"VLOOKUP($B87,[1]FlowData!$A$3:$PL$215,AV$7,FALSE)","v":54},{"$f":"VLOOKUP($B87,[1]FlowData!$A$3:$PL$215,AW$7,FALSE)","v":29},{"$f":"VLOOKUP($B87,[1]FlowData!$A$3:$PL$215,AX$7,FALSE)","v":89},{"$f":"VLOOKUP($B87,[1]FlowData!$A$3:$PL$215,AY$7,FALSE)","v":143},{"$f":"VLOOKUP($B87,[1]FlowData!$A$3:$PL$215,AZ$7,FALSE)","v":75},{"$f":"VLOOKUP($B87,[1]FlowData!$A$3:$PL$215,BA$7,FALSE)","v":35},{"$f":"VLOOKUP($B87,[1]FlowData!$A$3:$PL$215,BB$7,FALSE)","v":96},{"$f":"VLOOKUP($B87,[1]FlowData!$A$3:$PL$215,BC$7,FALSE)","v":109},{"$f":"VLOOKUP($B87,[1]FlowData!$A$3:$PL$215,BD$7,FALSE)","v":62},{"$f":"VLOOKUP($B87,[1]FlowData!$A$3:$PL$215,BE$7,FALSE)","v":29},{"$f":"VLOOKUP($B87,[1]FlowData!$A$3:$PL$215,BF$7,FALSE)","v":80}]
[{"$f":"VLOOKUP(B88,'[2]Gages and BCs'!$A$4:$BJ$973,62,FALSE)","v":714},12361500,{"$f":"VLOOKUP(B88,'[2]Gages and BCs'!$A$4:$BJ$973,60,FALSE)","v":"Graves Creek near Hungry Horse, Montana"},"1949–56, 1965–67",{"$f":"VLOOKUP($B88,[1]FlowData!$A$3:$PL$215,E$7,FALSE)","v":""},{"$f":"VLOOKUP($B88,[1]FlowData!$A$3:$PL$215,F$7,FALSE)","v":""},{"$f":"VLOOKUP($B88,[1]FlowData!$A$3:$PL$215,G$7,FALSE)","v":206},{"$f":"VLOOKUP($B88,[1]FlowData!$A$3:$PL$215,H$7,FALSE)","v":60},{"$f":"VLOOKUP($B88,[1]FlowData!$A$3:$PL$215,I$7,FALSE)","v":26},{"$f":"VLOOKUP($B88,[1]FlowData!$A$3:$PL$215,J$7,FALSE)","v":135},{"$f":"VLOOKUP($B88,[1]FlowData!$A$3:$PL$215,K$7,FALSE)","v":41},{"$f":"VLOOKUP($B88,[1]FlowData!$A$3:$PL$215,L$7,FALSE)","v":27},{"$f":"VLOOKUP($B88,[1]FlowData!$A$3:$PL$215,M$7,FALSE)","v":19},{"$f":"VLOOKUP($B88,[1]FlowData!$A$3:$PL$215,N$7,FALSE)","v":31},{"$f":"VLOOKUP($B88,[1]FlowData!$A$3:$PL$215,O$7,FALSE)","v":35},{"$f":"VLOOKUP($B88,[1]FlowData!$A$3:$PL$215,P$7,FALSE)","v":24},{"$f":"VLOOKUP($B88,[1]FlowData!$A$3:$PL$215,Q$7,FALSE)","v":15},{"$f":"VLOOKUP($B88,[1]FlowData!$A$3:$PL$215,R$7,FALSE)","v":31},{"$f":"VLOOKUP($B88,[1]FlowData!$A$3:$PL$215,S$7,FALSE)","v":36},{"$f":"VLOOKUP($B88,[1]FlowData!$A$3:$PL$215,T$7,FALSE)","v":24},{"$f":"VLOOKUP($B88,[1]FlowData!$A$3:$PL$215,U$7,FALSE)","v":19},{"$f":"VLOOKUP($B88,[1]FlowData!$A$3:$PL$215,V$7,FALSE)","v":29},{"$f":"VLOOKUP($B88,[1]FlowData!$A$3:$PL$215,W$7,FALSE)","v":175},{"$f":"VLOOKUP($B88,[1]FlowData!$A$3:$PL$215,X$7,FALSE)","v":82},{"$f":"VLOOKUP($B88,[1]FlowData!$A$3:$PL$215,Y$7,FALSE)","v":34},{"$f":"VLOOKUP($B88,[1]FlowData!$A$3:$PL$215,Z$7,FALSE)","v":117},{"$f":"VLOOKUP($B88,[1]FlowData!$A$3:$PL$215,AA$7,FALSE)","v":643},{"$f":"VLOOKUP($B88,[1]FlowData!$A$3:$PL$215,AB$7,FALSE)","v":393},{"$f":"VLOOKUP($B88,[1]FlowData!$A$3:$PL$215,AC$7,FALSE)","v":198},{"$f":"VLOOKUP($B88,[1]FlowData!$A$3:$PL$215,AD$7,FALSE)","v":429},{"$f":"VLOOKUP($B88,[1]FlowData!$A$3:$PL$215,AE$7,FALSE)","v":722},{"$f":"VLOOKUP($B88,[1]FlowData!$A$3:$PL$215,AF$7,FALSE)","v":504},{"$f":"VLOOKUP($B88,[1]FlowData!$A$3:$PL$215,AG$7,FALSE)","v":331},{"$f":"VLOOKUP($B88,[1]FlowData!$A$3:$PL$215,AH$7,FALSE)","v":532},{"$f":"VLOOKUP($B88,[1]FlowData!$A$3:$PL$215,AI$7,FALSE)","v":295},{"$f":"VLOOKUP($B88,[1]FlowData!$A$3:$PL$215,AJ$7,FALSE)","v":146},{"$f":"VLOOKUP($B88,[1]FlowData!$A$3:$PL$215,AK$7,FALSE)","v":71},{"$f":"VLOOKUP($B88,[1]FlowData!$A$3:$PL$215,AL$7,FALSE)","v":193},{"$f":"VLOOKUP($B88,[1]FlowData!$A$3:$PL$215,AM$7,FALSE)","v":51},{"$f":"VLOOKUP($B88,[1]FlowData!$A$3:$PL$215,AN$7,FALSE)","v":34},{"$f":"VLOOKUP($B88,[1]FlowData!$A$3:$PL$215,AO$7,FALSE)","v":24},{"$f":"VLOOKUP($B88,[1]FlowData!$A$3:$PL$215,AP$7,FALSE)","v":41},{"$f":"VLOOKUP($B88,[1]FlowData!$A$3:$PL$215,AQ$7,FALSE)","v":47},{"$f":"VLOOKUP($B88,[1]FlowData!$A$3:$PL$215,AR$7,FALSE)","v":24},{"$f":"VLOOKUP($B88,[1]FlowData!$A$3:$PL$215,AS$7,FALSE)","v":16},{"$f":"VLOOKUP($B88,[1]FlowData!$A$3:$PL$215,AT$7,FALSE)","v":33},{"$f":"VLOOKUP($B88,[1]FlowData!$A$3:$PL$215,AU$7,FALSE)","v":109},{"$f":"VLOOKUP($B88,[1]FlowData!$A$3:$PL$215,AV$7,FALSE)","v":40},{"$f":"VLOOKUP($B88,[1]FlowData!$A$3:$PL$215,AW$7,FALSE)","v":17},{"$f":"VLOOKUP($B88,[1]FlowData!$A$3:$PL$215,AX$7,FALSE)","v":63},{"$f":"VLOOKUP($B88,[1]FlowData!$A$3:$PL$215,AY$7,FALSE)","v":97},{"$f":"VLOOKUP($B88,[1]FlowData!$A$3:$PL$215,AZ$7,FALSE)","v":53},{"$f":"VLOOKUP($B88,[1]FlowData!$A$3:$PL$215,BA$7,FALSE)","v":23},{"$f":"VLOOKUP($B88,[1]FlowData!$A$3:$PL$215,BB$7,FALSE)","v":60},{"$f":"VLOOKUP($B88,[1]FlowData!$A$3:$PL$215,BC$7,FALSE)","v":66},{"$f":"VLOOKUP($B88,[1]FlowData!$A$3:$PL$215,BD$7,FALSE)","v":42},{"$f":"VLOOKUP($B88,[1]FlowData!$A$3:$PL$215,BE$7,FALSE)","v":21},{"$f":"VLOOKUP($B88,[1]FlowData!$A$3:$PL$215,BF$7,FALSE)","v":54}]
["Upper Yellowstone-Central Mountain hydrologic region"]
[{"$f":"VLOOKUP(B90,'[2]Gages and BCs'!$A$4:$BJ$973,62,FALSE)","v":77},6043000,{"$f":"VLOOKUP(B90,'[2]Gages and BCs'!$A$4:$BJ$973,60,FALSE)","v":"Taylor Creek near Grayling, Montana"},"1946–53, 1955–56, 1967",{"$f":"VLOOKUP($B90,[1]FlowData!$A$3:$PL$215,E$7,FALSE)","v":""},{"$f":"VLOOKUP($B90,[1]FlowData!$A$3:$PL$215,F$7,FALSE)","v":23.573},{"$f":"VLOOKUP($B90,[1]FlowData!$A$3:$PL$215,G$7,FALSE)","v":""},{"$f":"VLOOKUP($B90,[1]FlowData!$A$3:$PL$215,H$7,FALSE)","v":""},{"$f":"VLOOKUP($B90,[1]FlowData!$A$3:$PL$215,I$7,FALSE)","v":""},{"$f":"VLOOKUP($B90,[1]FlowData!$A$3:$PL$215,J$7,FALSE)","v":""},{"$f":"VLOOKUP($B90,[1]FlowData!$A$3:$PL$215,K$7,FALSE)","v":""},{"$f":"VLOOKUP($B90,[1]FlowData!$A$3:$PL$215,L$7,FALSE)","v":""},{"$f":"VLOOKUP($B90,[1]FlowData!$A$3:$PL$215,M$7,FALSE)","v":""},{"$f":"VLOOKUP($B90,[1]FlowData!$A$3:$PL$215,N$7,FALSE)","v":""},{"$f":"VLOOKUP($B90,[1]FlowData!$A$3:$PL$215,O$7,FALSE)","v":""},{"$f":"VLOOKUP($B90,[1]FlowData!$A$3:$PL$215,P$7,FALSE)","v":""},{"$f":"VLOOKUP($B90,[1]FlowData!$A$3:$PL$215,Q$7,FALSE)","v":""},{"$f":"VLOOKUP($B90,[1]FlowData!$A$3:$PL$215,R$7,FALSE)","v":""},{"$f":"VLOOKUP($B90,[1]FlowData!$A$3:$PL$215,S$7,FALSE)","v":""},{"$f":"VLOOKUP($B90,[1]FlowData!$A$3:$PL$215,T$7,FALSE)","v":""},{"$f":"VLOOKUP($B90,[1]FlowData!$A$3:$PL$215,U$7,FALSE)","v":""},{"$f":"VLOOKUP($B90,[1]FlowData!$A$3:$PL$215,V$7,FALSE)","v":""},{"$f":"VLOOKUP($B90,[1]FlowData!$A$3:$PL$215,W$7,FALSE)","v":""},{"$f":"VLOOKUP($B90,[1]FlowData!$A$3:$PL$215,X$7,FALSE)","v":""},{"$f":"VLOOKUP($B90,[1]FlowData!$A$3:$PL$215,Y$7,FALSE)","v":""},{"$f":"VLOOKUP($B90,[1]FlowData!$A$3:$PL$215,Z$7,FALSE)","v":""},{"$f":"VLOOKUP($B90,[1]FlowData!$A$3:$PL$215,AA$7,FALSE)","v":398},{"$f":"VLOOKUP($B90,[1]FlowData!$A$3:$PL$215,AB$7,FALSE)","v":195},{"$f":"VLOOKUP($B90,[1]FlowData!$A$3:$PL$215,AC$7,FALSE)","v":75},{"$f":"VLOOKUP($B90,[1]FlowData!$A$3:$PL$215,AD$7,FALSE)","v":243},{"$f":"VLOOKUP($B90,[1]FlowData!$A$3:$PL$215,AE$7,FALSE)","v":550},{"$f":"VLOOKUP($B90,[1]FlowData!$A$3:$PL$215,AF$7,FALSE)","v":404},{"$f":"VLOOKUP($B90,[1]FlowData!$A$3:$PL$215,AG$7,FALSE)","v":280},{"$f":"VLOOKUP($B90,[1]FlowData!$A$3:$PL$215,AH$7,FALSE)","v":422},{"$f":"VLOOKUP($B90,[1]FlowData!$A$3:$PL$215,AI$7,FALSE)","v":275},{"$f":"VLOOKUP($B90,[1]FlowData!$A$3:$PL$215,AJ$7,FALSE)","v":162},{"$f":"VLOOKUP($B90,[1]FlowData!$A$3:$PL$215,AK$7,FALSE)","v":109},{"$f":"VLOOKUP($B90,[1]FlowData!$A$3:$PL$215,AL$7,FALSE)","v":191},{"$f":"VLOOKUP($B90,[1]FlowData!$A$3:$PL$215,AM$7,FALSE)","v":85},{"$f":"VLOOKUP($B90,[1]FlowData!$A$3:$PL$215,AN$7,FALSE)","v":59},{"$f":"VLOOKUP($B90,[1]FlowData!$A$3:$PL$215,AO$7,FALSE)","v":44},{"$f":"VLOOKUP($B90,[1]FlowData!$A$3:$PL$215,AP$7,FALSE)","v":68},{"$f":"VLOOKUP($B90,[1]FlowData!$A$3:$PL$215,AQ$7,FALSE)","v":49},{"$f":"VLOOKUP($B90,[1]FlowData!$A$3:$PL$215,AR$7,FALSE)","v":38},{"$f":"VLOOKUP($B90,[1]FlowData!$A$3:$PL$215,AS$7,FALSE)","v":32},{"$f":"VLOOKUP($B90,[1]FlowData!$A$3:$PL$215,AT$7,FALSE)","v":40},{"$f":"VLOOKUP($B90,[1]FlowData!$A$3:$PL$215,AU$7,FALSE)","v":38},{"$f":"VLOOKUP($B90,[1]FlowData!$A$3:$PL$215,AV$7,FALSE)","v":30},{"$f":"VLOOKUP($B90,[1]FlowData!$A$3:$PL$215,AW$7,FALSE)","v":24},{"$f":"VLOOKUP($B90,[1]FlowData!$A$3:$PL$215,AX$7,FALSE)","v":33},{"$f":"VLOOKUP($B90,[1]FlowData!$A$3:$PL$215,AY$7,FALSE)","v":29},{"$f":"VLOOKUP($B90,[1]FlowData!$A$3:$PL$215,AZ$7,FALSE)","v":24},{"$f":"VLOOKUP($B90,[1]FlowData!$A$3:$PL$215,BA$7,FALSE)","v":20},{"$f":"VLOOKUP($B90,[1]FlowData!$A$3:$PL$215,BB$7,FALSE)","v":24},{"$f":"VLOOKUP($B90,[1]FlowData!$A$3:$PL$215,BC$7,FALSE)","v":""},{"$f":"VLOOKUP($B90,[1]FlowData!$A$3:$PL$215,BD$7,FALSE)","v":""},{"$f":"VLOOKUP($B90,[1]FlowData!$A$3:$PL$215,BE$7,FALSE)","v":""},{"$f":"VLOOKUP($B90,[1]FlowData!$A$3:$PL$215,BF$7,FALSE)","v":""}]
[{"$f":"VLOOKUP(B91,'[2]Gages and BCs'!$A$4:$BJ$973,62,FALSE)","v":80},6043500,{"$f":"VLOOKUP(B91,'[2]Gages and BCs'!$A$4:$BJ$973,60,FALSE)","v":"Gallatin River near Gallatin Gateway, Montana"},"1930–69, 1972–81, 1985–2009",{"$f":"VLOOKUP($B91,[1]FlowData!$A$3:$PL$215,E$7,FALSE)","v":203.845},{"$f":"VLOOKUP($B91,[1]FlowData!$A$3:$PL$215,F$7,FALSE)","v":340.61900000000003},{"$f":"VLOOKUP($B91,[1]FlowData!$A$3:$PL$215,G$7,FALSE)","v":1010},{"$f":"VLOOKUP($B91,[1]FlowData!$A$3:$PL$215,H$7,FALSE)","v":424},{"$f":"VLOOKUP($B91,[1]FlowData!$A$3:$PL$215,I$7,FALSE)","v":252},{"$f":"VLOOKUP($B91,[1]FlowData!$A$3:$PL$215,J$7,FALSE)","v":805},{"$f":"VLOOKUP($B91,[1]FlowData!$A$3:$PL$215,K$7,FALSE)","v":343},{"$f":"VLOOKUP($B91,[1]FlowData!$A$3:$PL$215,L$7,FALSE)","v":292},{"$f":"VLOOKUP($B91,[1]FlowData!$A$3:$PL$215,M$7,FALSE)","v":250},{"$f":"VLOOKUP($B91,[1]FlowData!$A$3:$PL$215,N$7,FALSE)","v":298},{"$f":"VLOOKUP($B91,[1]FlowData!$A$3:$PL$215,O$7,FALSE)","v":340},{"$f":"VLOOKUP($B91,[1]FlowData!$A$3:$PL$215,P$7,FALSE)","v":288},{"$f":"VLOOKUP($B91,[1]FlowData!$A$3:$PL$215,Q$7,FALSE)","v":251},{"$f":"VLOOKUP($B91,[1]FlowData!$A$3:$PL$215,R$7,FALSE)","v":294},{"$f":"VLOOKUP($B91,[1]FlowData!$A$3:$PL$215,S$7,FALSE)","v":351},{"$f":"VLOOKUP($B91,[1]FlowData!$A$3:$PL$215,T$7,FALSE)","v":293},{"$f":"VLOOKUP($B91,[1]FlowData!$A$3:$PL$215,U$7,FALSE)","v":257},{"$f":"VLOOKUP($B91,[1]FlowData!$A$3:$PL$215,V$7,FALSE)","v":305},{"$f":"VLOOKUP($B91,[1]FlowData!$A$3:$PL$215,W$7,FALSE)","v":621},{"$f":"VLOOKUP($B91,[1]FlowData!$A$3:$PL$215,X$7,FALSE)","v":414},{"$f":"VLOOKUP($B91,[1]FlowData!$A$3:$PL$215,Y$7,FALSE)","v":314},{"$f":"VLOOKUP($B91,[1]FlowData!$A$3:$PL$215,Z$7,FALSE)","v":500},{"$f":"VLOOKUP($B91,[1]FlowData!$A$3:$PL$215,AA$7,FALSE)","v":2640},{"$f":"VLOOKUP($B91,[1]FlowData!$A$3:$PL$215,AB$7,FALSE)","v":1570},{"$f":"VLOOKUP($B91,[1]FlowData!$A$3:$PL$215,AC$7,FALSE)","v":860},{"$f":"VLOOKUP($B91,[1]FlowData!$A$3:$PL$215,AD$7,FALSE)","v":1800},{"$f":"VLOOKUP($B91,[1]FlowData!$A$3:$PL$215,AE$7,FALSE)","v":3900},{"$f":"VLOOKUP($B91,[1]FlowData!$A$3:$PL$215,AF$7,FALSE)","v":2720},{"$f":"VLOOKUP($B91,[1]FlowData!$A$3:$PL$215,AG$7,FALSE)","v":1770},{"$f":"VLOOKUP($B91,[1]FlowData!$A$3:$PL$215,AH$7,FALSE)","v":2890},{"$f":"VLOOKUP($B91,[1]FlowData!$A$3:$PL$215,AI$7,FALSE)","v":1700},{"$f":"VLOOKUP($B91,[1]FlowData!$A$3:$PL$215,AJ$7,FALSE)","v":1040},{"$f":"VLOOKUP($B91,[1]FlowData!$A$3:$PL$215,AK$7,FALSE)","v":686},{"$f":"VLOOKUP($B91,[1]FlowData!$A$3:$PL$215,AL$7,FALSE)","v":1260},{"$f":"VLOOKUP($B91,[1]FlowData!$A$3:$PL$215,AM$7,FALSE)","v":726},{"$f":"VLOOKUP($B91,[1]FlowData!$A$3:$PL$215,AN$7,FALSE)","v":556},{"$f":"VLOOKUP($B91,[1]FlowData!$A$3:$PL$215,AO$7,FALSE)","v":449},{"$f":"VLOOKUP($B91,[1]FlowData!$A$3:$PL$215,AP$7,FALSE)","v":595},{"$f":"VLOOKUP($B91,[1]FlowData!$A$3:$PL$215,AQ$7,FALSE)","v":568},{"$f":"VLOOKUP($B91,[1]FlowData!$A$3:$PL$215,AR$7,FALSE)","v":460},{"$f":"VLOOKUP($B91,[1]FlowData!$A$3:$PL$215,AS$7,FALSE)","v":382},{"$f":"VLOOKUP($B91,[1]FlowData!$A$3:$PL$215,AT$7,FALSE)","v":477},{"$f":"VLOOKUP($B91,[1]FlowData!$A$3:$PL$215,AU$7,FALSE)","v":529},{"$f":"VLOOKUP($B91,[1]FlowData!$A$3:$PL$215,AV$7,FALSE)","v":425},{"$f":"VLOOKUP($B91,[1]FlowData!$A$3:$PL$215,AW$7,FALSE)","v":360},{"$f":"VLOOKUP($B91,[1]FlowData!$A$3:$PL$215,AX$7,FALSE)","v":442},{"$f":"VLOOKUP($B91,[1]FlowData!$A$3:$PL$215,AY$7,FALSE)","v":442},{"$f":"VLOOKUP($B91,[1]FlowData!$A$3:$PL$215,AZ$7,FALSE)","v":364},{"$f":"VLOOKUP($B91,[1]FlowData!$A$3:$PL$215,BA$7,FALSE)","v":298},{"$f":"VLOOKUP($B91,[1]FlowData!$A$3:$PL$215,BB$7,FALSE)","v":371},{"$f":"VLOOKUP($B91,[1]FlowData!$A$3:$PL$215,BC$7,FALSE)","v":362},{"$f":"VLOOKUP($B91,[1]FlowData!$A$3:$PL$215,BD$7,FALSE)","v":303},{"$f":"VLOOKUP($B91,[1]FlowData!$A$3:$PL$215,BE$7,FALSE)","v":255},{"$f":"VLOOKUP($B91,[1]FlowData!$A$3:$PL$215,BF$7,FALSE)","v":309}]
[{"$f":"VLOOKUP(B92,'[2]Gages and BCs'!$A$4:$BJ$973,62,FALSE)","v":84},6048000,{"$f":"VLOOKUP(B92,'[2]Gages and BCs'!$A$4:$BJ$973,60,FALSE)","v":"East Gallatin River at Bozeman, Montana"},"1940–61",{"$f":"VLOOKUP($B92,[1]FlowData!$A$3:$PL$215,E$7,FALSE)","v":18.763999999999999},{"$f":"VLOOKUP($B92,[1]FlowData!$A$3:$PL$215,F$7,FALSE)","v":27.696999999999999},{"$f":"VLOOKUP($B92,[1]FlowData!$A$3:$PL$215,G$7,FALSE)","v":107},{"$f":"VLOOKUP($B92,[1]FlowData!$A$3:$PL$215,H$7,FALSE)","v":49},{"$f":"VLOOKUP($B92,[1]FlowData!$A$3:$PL$215,I$7,FALSE)","v":26},{"$f":"VLOOKUP($B92,[1]FlowData!$A$3:$PL$215,J$7,FALSE)","v":85},{"$f":"VLOOKUP($B92,[1]FlowData!$A$3:$PL$215,K$7,FALSE)","v":46},{"$f":"VLOOKUP($B92,[1]FlowData!$A$3:$PL$215,L$7,FALSE)","v":38},{"$f":"VLOOKUP($B92,[1]FlowData!$A$3:$PL$215,M$7,FALSE)","v":30},{"$f":"VLOOKUP($B92,[1]FlowData!$A$3:$PL$215,N$7,FALSE)","v":39},{"$f":"VLOOKUP($B92,[1]FlowData!$A$3:$PL$215,O$7,FALSE)","v":47},{"$f":"VLOOKUP($B92,[1]FlowData!$A$3:$PL$215,P$7,FALSE)","v":40},{"$f":"VLOOKUP($B92,[1]FlowData!$A$3:$PL$215,Q$7,FALSE)","v":31},{"$f":"VLOOKUP($B92,[1]FlowData!$A$3:$PL$215,R$7,FALSE)","v":42},{"$f":"VLOOKUP($B92,[1]FlowData!$A$3:$PL$215,S$7,FALSE)","v":69},{"$f":"VLOOKUP($B92,[1]FlowData!$A$3:$PL$215,T$7,FALSE)","v":49},{"$f":"VLOOKUP($B92,[1]FlowData!$A$3:$PL$215,U$7,FALSE)","v":35},{"$f":"VLOOKUP($B92,[1]FlowData!$A$3:$PL$215,V$7,FALSE)","v":60},{"$f":"VLOOKUP($B92,[1]FlowData!$A$3:$PL$215,W$7,FALSE)","v":209},{"$f":"VLOOKUP($B92,[1]FlowData!$A$3:$PL$215,X$7,FALSE)","v":128},{"$f":"VLOOKUP($B92,[1]FlowData!$A$3:$PL$215,Y$7,FALSE)","v":70},{"$f":"VLOOKUP($B92,[1]FlowData!$A$3:$PL$215,Z$7,FALSE)","v":158},{"$f":"VLOOKUP($B92,[1]FlowData!$A$3:$PL$215,AA$7,FALSE)","v":324},{"$f":"VLOOKUP($B92,[1]FlowData!$A$3:$PL$215,AB$7,FALSE)","v":210},{"$f":"VLOOKUP($B92,[1]FlowData!$A$3:$PL$215,AC$7,FALSE)","v":124},{"$f":"VLOOKUP($B92,[1]FlowData!$A$3:$PL$215,AD$7,FALSE)","v":236},{"$f":"VLOOKUP($B92,[1]FlowData!$A$3:$PL$215,AE$7,FALSE)","v":257},{"$f":"VLOOKUP($B92,[1]FlowData!$A$3:$PL$215,AF$7,FALSE)","v":152},{"$f":"VLOOKUP($B92,[1]FlowData!$A$3:$PL$215,AG$7,FALSE)","v":82},{"$f":"VLOOKUP($B92,[1]FlowData!$A$3:$PL$215,AH$7,FALSE)","v":178},{"$f":"VLOOKUP($B92,[1]FlowData!$A$3:$PL$215,AI$7,FALSE)","v":81},{"$f":"VLOOKUP($B92,[1]FlowData!$A$3:$PL$215,AJ$7,FALSE)","v":55},{"$f":"VLOOKUP($B92,[1]FlowData!$A$3:$PL$215,AK$7,FALSE)","v":38},{"$f":"VLOOKUP($B92,[1]FlowData!$A$3:$PL$215,AL$7,FALSE)","v":63},{"$f":"VLOOKUP($B92,[1]FlowData!$A$3:$PL$215,AM$7,FALSE)","v":54},{"$f":"VLOOKUP($B92,[1]FlowData!$A$3:$PL$215,AN$7,FALSE)","v":39},{"$f":"VLOOKUP($B92,[1]FlowData!$A$3:$PL$215,AO$7,FALSE)","v":28},{"$f":"VLOOKUP($B92,[1]FlowData!$A$3:$PL$215,AP$7,FALSE)","v":42},{"$f":"VLOOKUP($B92,[1]FlowData!$A$3:$PL$215,AQ$7,FALSE)","v":58},{"$f":"VLOOKUP($B92,[1]FlowData!$A$3:$PL$215,AR$7,FALSE)","v":46},{"$f":"VLOOKUP($B92,[1]FlowData!$A$3:$PL$215,AS$7,FALSE)","v":37},{"$f":"VLOOKUP($B92,[1]FlowData!$A$3:$PL$215,AT$7,FALSE)","v":49},{"$f":"VLOOKUP($B92,[1]FlowData!$A$3:$PL$215,AU$7,FALSE)","v":60},{"$f":"VLOOKUP($B92,[1]FlowData!$A$3:$PL$215,AV$7,FALSE)","v":51},{"$f":"VLOOKUP($B92,[1]FlowData!$A$3:$PL$215,AW$7,FALSE)","v":43},{"$f":"VLOOKUP($B92,[1]FlowData!$A$3:$PL$215,AX$7,FALSE)","v":52},{"$f":"VLOOKUP($B92,[1]FlowData!$A$3:$PL$215,AY$7,FALSE)","v":58},{"$f":"VLOOKUP($B92,[1]FlowData!$A$3:$PL$215,AZ$7,FALSE)","v":50},{"$f":"VLOOKUP($B92,[1]FlowData!$A$3:$PL$215,BA$7,FALSE)","v":42},{"$f":"VLOOKUP($B92,[1]FlowData!$A$3:$PL$215,BB$7,FALSE)","v":50},{"$f":"VLOOKUP($B92,[1]FlowData!$A$3:$PL$215,BC$7,FALSE)","v":52},{"$f":"VLOOKUP($B92,[1]FlowData!$A$3:$PL$215,BD$7,FALSE)","v":45},{"$f":"VLOOKUP($B92,[1]FlowData!$A$3:$PL$215,BE$7,FALSE)","v":36},{"$f":"VLOOKUP($B92,[1]FlowData!$A$3:$PL$215,BF$7,FALSE)","v":46}]
[{"$f":"VLOOKUP(B93,'[2]Gages and BCs'!$A$4:$BJ$973,62,FALSE)","v":85},6048500,{"$f":"VLOOKUP(B93,'[2]Gages and BCs'!$A$4:$BJ$973,60,FALSE)","v":"Bridger Creek near Bozeman, Montana"},"1946–69, 1971–72, 1987",{"$f":"VLOOKUP($B93,[1]FlowData!$A$3:$PL$215,E$7,FALSE)","v":2.282},{"$f":"VLOOKUP($B93,[1]FlowData!$A$3:$PL$215,F$7,FALSE)","v":5.2859999999999996},{"$f":"VLOOKUP($B93,[1]FlowData!$A$3:$PL$215,G$7,FALSE)","v":51},{"$f":"VLOOKUP($B93,[1]FlowData!$A$3:$PL$215,H$7,FALSE)","v":19},{"$f":"VLOOKUP($B93,[1]FlowData!$A$3:$PL$215,I$7,FALSE)","v":8.3000000000000007},{"$f":"VLOOKUP($B93,[1]FlowData!$A$3:$PL$215,J$7,FALSE)","v":37},{"$f":"VLOOKUP($B93,[1]FlowData!$A$3:$PL$215,K$7,FALSE)","v":10},{"$f":"VLOOKUP($B93,[1]FlowData!$A$3:$PL$215,L$7,FALSE)","v":6.2},{"$f":"VLOOKUP($B93,[1]FlowData!$A$3:$PL$215,M$7,FALSE)","v":4.3},{"$f":"VLOOKUP($B93,[1]FlowData!$A$3:$PL$215,N$7,FALSE)","v":7.2},{"$f":"VLOOKUP($B93,[1]FlowData!$A$3:$PL$215,O$7,FALSE)","v":10},{"$f":"VLOOKUP($B93,[1]FlowData!$A$3:$PL$215,P$7,FALSE)","v":7.4},{"$f":"VLOOKUP($B93,[1]FlowData!$A$3:$PL$215,Q$7,FALSE)","v":4.2},{"$f":"VLOOKUP($B93,[1]FlowData!$A$3:$PL$215,R$7,FALSE)","v":8.9},{"$f":"VLOOKUP($B93,[1]FlowData!$A$3:$PL$215,S$7,FALSE)","v":19},{"$f":"VLOOKUP($B93,[1]FlowData!$A$3:$PL$215,T$7,FALSE)","v":10},{"$f":"VLOOKUP($B93,[1]FlowData!$A$3:$PL$215,U$7,FALSE)","v":5},{"$f":"VLOOKUP($B93,[1]FlowData!$A$3:$PL$215,V$7,FALSE)","v":15},{"$f":"VLOOKUP($B93,[1]FlowData!$A$3:$PL$215,W$7,FALSE)","v":89},{"$f":"VLOOKUP($B93,[1]FlowData!$A$3:$PL$215,X$7,FALSE)","v":48},{"$f":"VLOOKUP($B93,[1]FlowData!$A$3:$PL$215,Y$7,FALSE)","v":23},{"$f":"VLOOKUP($B93,[1]FlowData!$A$3:$PL$215,Z$7,FALSE)","v":64},{"$f":"VLOOKUP($B93,[1]FlowData!$A$3:$PL$215,AA$7,FALSE)","v":216},{"$f":"VLOOKUP($B93,[1]FlowData!$A$3:$PL$215,AB$7,FALSE)","v":131},{"$f":"VLOOKUP($B93,[1]FlowData!$A$3:$PL$215,AC$7,FALSE)","v":77},{"$f":"VLOOKUP($B93,[1]FlowData!$A$3:$PL$215,AD$7,FALSE)","v":154},{"$f":"VLOOKUP($B93,[1]FlowData!$A$3:$PL$215,AE$7,FALSE)","v":146},{"$f":"VLOOKUP($B93,[1]FlowData!$A$3:$PL$215,AF$7,FALSE)","v":83},{"$f":"VLOOKUP($B93,[1]FlowData!$A$3:$PL$215,AG$7,FALSE)","v":46},{"$f":"VLOOKUP($B93,[1]FlowData!$A$3:$PL$215,AH$7,FALSE)","v":101},{"$f":"VLOOKUP($B93,[1]FlowData!$A$3:$PL$215,AI$7,FALSE)","v":43},{"$f":"VLOOKUP($B93,[1]FlowData!$A$3:$PL$215,AJ$7,FALSE)","v":26},{"$f":"VLOOKUP($B93,[1]FlowData!$A$3:$PL$215,AK$7,FALSE)","v":16},{"$f":"VLOOKUP($B93,[1]FlowData!$A$3:$PL$215,AL$7,FALSE)","v":31},{"$f":"VLOOKUP($B93,[1]FlowData!$A$3:$PL$215,AM$7,FALSE)","v":18},{"$f":"VLOOKUP($B93,[1]FlowData!$A$3:$PL$215,AN$7,FALSE)","v":12},{"$f":"VLOOKUP($B93,[1]FlowData!$A$3:$PL$215,AO$7,FALSE)","v":7.5},{"$f":"VLOOKUP($B93,[1]FlowData!$A$3:$PL$215,AP$7,FALSE)","v":13},{"$f":"VLOOKUP($B93,[1]FlowData!$A$3:$PL$215,AQ$7,FALSE)","v":13},{"$f":"VLOOKUP($B93,[1]FlowData!$A$3:$PL$215,AR$7,FALSE)","v":9.4},{"$f":"VLOOKUP($B93,[1]FlowData!$A$3:$PL$215,AS$7,FALSE)","v":6.6},{"$f":"VLOOKUP($B93,[1]FlowData!$A$3:$PL$215,AT$7,FALSE)","v":11},{"$f":"VLOOKUP($B93,[1]FlowData!$A$3:$PL$215,AU$7,FALSE)","v":14},{"$f":"VLOOKUP($B93,[1]FlowData!$A$3:$PL$215,AV$7,FALSE)","v":9.4},{"$f":"VLOOKUP($B93,[1]FlowData!$A$3:$PL$215,AW$7,FALSE)","v":7.4},{"$f":"VLOOKUP($B93,[1]FlowData!$A$3:$PL$215,AX$7,FALSE)","v":11},{"$f":"VLOOKUP($B93,[1]FlowData!$A$3:$PL$215,AY$7,FALSE)","v":14},{"$f":"VLOOKUP($B93,[1]FlowData!$A$3:$PL$215,AZ$7,FALSE)","v":9.3000000000000007},{"$f":"VLOOKUP($B93,[1]FlowData!$A$3:$PL$215,BA$7,FALSE)","v":7},{"$f":"VLOOKUP($B93,[1]FlowData!$A$3:$PL$215,BB$7,FALSE)","v":10},{"$f":"VLOOKUP($B93,[1]FlowData!$A$3:$PL$215,BC$7,FALSE)","v":13},{"$f":"VLOOKUP($B93,[1]FlowData!$A$3:$PL$215,BD$7,FALSE)","v":7.4},{"$f":"VLOOKUP($B93,[1]FlowData!$A$3:$PL$215,BE$7,FALSE)","v":5.2},{"$f":"VLOOKUP($B93,[1]FlowData!$A$3:$PL$215,BF$7,FALSE)","v":8.8000000000000007}]
[{"$f":"VLOOKUP(B94,'[2]Gages and BCs'!$A$4:$BJ$973,62,FALSE)","v":87},6050000,{"$f":"VLOOKUP(B94,'[2]Gages and BCs'!$A$4:$BJ$973,60,FALSE)","v":"Hyalite Creek at Hyalite Ranger Station, near Bozeman, Montana"},"1935–50",{"$f":"VLOOKUP($B94,[1]FlowData!$A$3:$PL$215,E$7,FALSE)","v":10.712},{"$f":"VLOOKUP($B94,[1]FlowData!$A$3:$PL$215,F$7,FALSE)","v":22.675000000000001},{"$f":"VLOOKUP($B94,[1]FlowData!$A$3:$PL$215,G$7,FALSE)","v":91},{"$f":"VLOOKUP($B94,[1]FlowData!$A$3:$PL$215,H$7,FALSE)","v":35},{"$f":"VLOOKUP($B94,[1]FlowData!$A$3:$PL$215,I$7,FALSE)","v":19},{"$f":"VLOOKUP($B94,[1]FlowData!$A$3:$PL$215,J$7,FALSE)","v":62},{"$f":"VLOOKUP($B94,[1]FlowData!$A$3:$PL$215,K$7,FALSE)","v":25},{"$f":"VLOOKUP($B94,[1]FlowData!$A$3:$PL$215,L$7,FALSE)","v":20},{"$f":"VLOOKUP($B94,[1]FlowData!$A$3:$PL$215,M$7,FALSE)","v":16},{"$f":"VLOOKUP($B94,[1]FlowData!$A$3:$PL$215,N$7,FALSE)","v":21},{"$f":"VLOOKUP($B94,[1]FlowData!$A$3:$PL$215,O$7,FALSE)","v":22},{"$f":"VLOOKUP($B94,[1]FlowData!$A$3:$PL$215,P$7,FALSE)","v":20},{"$f":"VLOOKUP($B94,[1]FlowData!$A$3:$PL$215,Q$7,FALSE)","v":16},{"$f":"VLOOKUP($B94,[1]FlowData!$A$3:$PL$215,R$7,FALSE)","v":19},{"$f":"VLOOKUP($B94,[1]FlowData!$A$3:$PL$215,S$7,FALSE)","v":21},{"$f":"VLOOKUP($B94,[1]FlowData!$A$3:$PL$215,T$7,FALSE)","v":17},{"$f":"VLOOKUP($B94,[1]FlowData!$A$3:$PL$215,U$7,FALSE)","v":14},{"$f":"VLOOKUP($B94,[1]FlowData!$A$3:$PL$215,V$7,FALSE)","v":17},{"$f":"VLOOKUP($B94,[1]FlowData!$A$3:$PL$215,W$7,FALSE)","v":63},{"$f":"VLOOKUP($B94,[1]FlowData!$A$3:$PL$215,X$7,FALSE)","v":30},{"$f":"VLOOKUP($B94,[1]FlowData!$A$3:$PL$215,Y$7,FALSE)","v":17},{"$f":"VLOOKUP($B94,[1]FlowData!$A$3:$PL$215,Z$7,FALSE)","v":47},{"$f":"VLOOKUP($B94,[1]FlowData!$A$3:$PL$215,AA$7,FALSE)","v":187},{"$f":"VLOOKUP($B94,[1]FlowData!$A$3:$PL$215,AB$7,FALSE)","v":131},{"$f":"VLOOKUP($B94,[1]FlowData!$A$3:$PL$215,AC$7,FALSE)","v":79},{"$f":"VLOOKUP($B94,[1]FlowData!$A$3:$PL$215,AD$7,FALSE)","v":143},{"$f":"VLOOKUP($B94,[1]FlowData!$A$3:$PL$215,AE$7,FALSE)","v":252},{"$f":"VLOOKUP($B94,[1]FlowData!$A$3:$PL$215,AF$7,FALSE)","v":188},{"$f":"VLOOKUP($B94,[1]FlowData!$A$3:$PL$215,AG$7,FALSE)","v":135},{"$f":"VLOOKUP($B94,[1]FlowData!$A$3:$PL$215,AH$7,FALSE)","v":196},{"$f":"VLOOKUP($B94,[1]FlowData!$A$3:$PL$215,AI$7,FALSE)","v":138},{"$f":"VLOOKUP($B94,[1]FlowData!$A$3:$PL$215,AJ$7,FALSE)","v":85},{"$f":"VLOOKUP($B94,[1]FlowData!$A$3:$PL$215,AK$7,FALSE)","v":51},{"$f":"VLOOKUP($B94,[1]FlowData!$A$3:$PL$215,AL$7,FALSE)","v":97},{"$f":"VLOOKUP($B94,[1]FlowData!$A$3:$PL$215,AM$7,FALSE)","v":57},{"$f":"VLOOKUP($B94,[1]FlowData!$A$3:$PL$215,AN$7,FALSE)","v":41},{"$f":"VLOOKUP($B94,[1]FlowData!$A$3:$PL$215,AO$7,FALSE)","v":32},{"$f":"VLOOKUP($B94,[1]FlowData!$A$3:$PL$215,AP$7,FALSE)","v":44},{"$f":"VLOOKUP($B94,[1]FlowData!$A$3:$PL$215,AQ$7,FALSE)","v":45},{"$f":"VLOOKUP($B94,[1]FlowData!$A$3:$PL$215,AR$7,FALSE)","v":33},{"$f":"VLOOKUP($B94,[1]FlowData!$A$3:$PL$215,AS$7,FALSE)","v":25},{"$f":"VLOOKUP($B94,[1]FlowData!$A$3:$PL$215,AT$7,FALSE)","v":35},{"$f":"VLOOKUP($B94,[1]FlowData!$A$3:$PL$215,AU$7,FALSE)","v":41},{"$f":"VLOOKUP($B94,[1]FlowData!$A$3:$PL$215,AV$7,FALSE)","v":30},{"$f":"VLOOKUP($B94,[1]FlowData!$A$3:$PL$215,AW$7,FALSE)","v":22},{"$f":"VLOOKUP($B94,[1]FlowData!$A$3:$PL$215,AX$7,FALSE)","v":32},{"$f":"VLOOKUP($B94,[1]FlowData!$A$3:$PL$215,AY$7,FALSE)","v":33},{"$f":"VLOOKUP($B94,[1]FlowData!$A$3:$PL$215,AZ$7,FALSE)","v":26},{"$f":"VLOOKUP($B94,[1]FlowData!$A$3:$PL$215,BA$7,FALSE)","v":19},{"$f":"VLOOKUP($B94,[1]FlowData!$A$3:$PL$215,BB$7,FALSE)","v":26},{"$f":"VLOOKUP($B94,[1]FlowData!$A$3:$PL$215,BC$7,FALSE)","v":26},{"$f":"VLOOKUP($B94,[1]FlowData!$A$3:$PL$215,BD$7,FALSE)","v":20},{"$f":"VLOOKUP($B94,[1]FlowData!$A$3:$PL$215,BE$7,FALSE)","v":15},{"$f":"VLOOKUP($B94,[1]FlowData!$A$3:$PL$215,BF$7,FALSE)","v":21}]
[{"$f":"VLOOKUP(B95,'[2]Gages and BCs'!$A$4:$BJ$973,62,FALSE)","v":88},6052500,{"$f":"VLOOKUP(B95,'[2]Gages and BCs'!$A$4:$BJ$973,60,FALSE)","v":"Gallatin River at Logan, Montana"},"1903–05, 1929–2009",{"$f":"VLOOKUP($B95,[1]FlowData!$A$3:$PL$215,E$7,FALSE)","v":223.35300000000001},{"$f":"VLOOKUP($B95,[1]FlowData!$A$3:$PL$215,F$7,FALSE)","v":268.5},{"$f":"VLOOKUP($B95,[1]FlowData!$A$3:$PL$215,G$7,FALSE)","v":1230},{"$f":"VLOOKUP($B95,[1]FlowData!$A$3:$PL$215,H$7,FALSE)","v":766},{"$f":"VLOOKUP($B95,[1]FlowData!$A$3:$PL$215,I$7,FALSE)","v":514},{"$f":"VLOOKUP($B95,[1]FlowData!$A$3:$PL$215,J$7,FALSE)","v":1060},{"$f":"VLOOKUP($B95,[1]FlowData!$A$3:$PL$215,K$7,FALSE)","v":790},{"$f":"VLOOKUP($B95,[1]FlowData!$A$3:$PL$215,L$7,FALSE)","v":680},{"$f":"VLOOKUP($B95,[1]FlowData!$A$3:$PL$215,M$7,FALSE)","v":569},{"$f":"VLOOKUP($B95,[1]FlowData!$A$3:$PL$215,N$7,FALSE)","v":681},{"$f":"VLOOKUP($B95,[1]FlowData!$A$3:$PL$215,O$7,FALSE)","v":815},{"$f":"VLOOKUP($B95,[1]FlowData!$A$3:$PL$215,P$7,FALSE)","v":680},{"$f":"VLOOKUP($B95,[1]FlowData!$A$3:$PL$215,Q$7,FALSE)","v":549},{"$f":"VLOOKUP($B95,[1]FlowData!$A$3:$PL$215,R$7,FALSE)","v":695},{"$f":"VLOOKUP($B95,[1]FlowData!$A$3:$PL$215,S$7,FALSE)","v":922},{"$f":"VLOOKUP($B95,[1]FlowData!$A$3:$PL$215,T$7,FALSE)","v":748},{"$f":"VLOOKUP($B95,[1]FlowData!$A$3:$PL$215,U$7,FALSE)","v":618},{"$f":"VLOOKUP($B95,[1]FlowData!$A$3:$PL$215,V$7,FALSE)","v":790},{"$f":"VLOOKUP($B95,[1]FlowData!$A$3:$PL$215,W$7,FALSE)","v":1320},{"$f":"VLOOKUP($B95,[1]FlowData!$A$3:$PL$215,X$7,FALSE)","v":952},{"$f":"VLOOKUP($B95,[1]FlowData!$A$3:$PL$215,Y$7,FALSE)","v":712},{"$f":"VLOOKUP($B95,[1]FlowData!$A$3:$PL$215,Z$7,FALSE)","v":1040},{"$f":"VLOOKUP($B95,[1]FlowData!$A$3:$PL$215,AA$7,FALSE)","v":3020},{"$f":"VLOOKUP($B95,[1]FlowData!$A$3:$PL$215,AB$7,FALSE)","v":1780},{"$f":"VLOOKUP($B95,[1]FlowData!$A$3:$PL$215,AC$7,FALSE)","v":1090},{"$f":"VLOOKUP($B95,[1]FlowData!$A$3:$PL$215,AD$7,FALSE)","v":2100},{"$f":"VLOOKUP($B95,[1]FlowData!$A$3:$PL$215,AE$7,FALSE)","v":4270},{"$f":"VLOOKUP($B95,[1]FlowData!$A$3:$PL$215,AF$7,FALSE)","v":2710},{"$f":"VLOOKUP($B95,[1]FlowData!$A$3:$PL$215,AG$7,FALSE)","v":1380},{"$f":"VLOOKUP($B95,[1]FlowData!$A$3:$PL$215,AH$7,FALSE)","v":2890},{"$f":"VLOOKUP($B95,[1]FlowData!$A$3:$PL$215,AI$7,FALSE)","v":1550},{"$f":"VLOOKUP($B95,[1]FlowData!$A$3:$PL$215,AJ$7,FALSE)","v":613},{"$f":"VLOOKUP($B95,[1]FlowData!$A$3:$PL$215,AK$7,FALSE)","v":301},{"$f":"VLOOKUP($B95,[1]FlowData!$A$3:$PL$215,AL$7,FALSE)","v":990},{"$f":"VLOOKUP($B95,[1]FlowData!$A$3:$PL$215,AM$7,FALSE)","v":606},{"$f":"VLOOKUP($B95,[1]FlowData!$A$3:$PL$215,AN$7,FALSE)","v":424},{"$f":"VLOOKUP($B95,[1]FlowData!$A$3:$PL$215,AO$7,FALSE)","v":303},{"$f":"VLOOKUP($B95,[1]FlowData!$A$3:$PL$215,AP$7,FALSE)","v":478},{"$f":"VLOOKUP($B95,[1]FlowData!$A$3:$PL$215,AQ$7,FALSE)","v":823},{"$f":"VLOOKUP($B95,[1]FlowData!$A$3:$PL$215,AR$7,FALSE)","v":580},{"$f":"VLOOKUP($B95,[1]FlowData!$A$3:$PL$215,AS$7,FALSE)","v":404},{"$f":"VLOOKUP($B95,[1]FlowData!$A$3:$PL$215,AT$7,FALSE)","v":629},{"$f":"VLOOKUP($B95,[1]FlowData!$A$3:$PL$215,AU$7,FALSE)","v":987},{"$f":"VLOOKUP($B95,[1]FlowData!$A$3:$PL$215,AV$7,FALSE)","v":758},{"$f":"VLOOKUP($B95,[1]FlowData!$A$3:$PL$215,AW$7,FALSE)","v":561},{"$f":"VLOOKUP($B95,[1]FlowData!$A$3:$PL$215,AX$7,FALSE)","v":774},{"$f":"VLOOKUP($B95,[1]FlowData!$A$3:$PL$215,AY$7,FALSE)","v":984},{"$f":"VLOOKUP($B95,[1]FlowData!$A$3:$PL$215,AZ$7,FALSE)","v":839},{"$f":"VLOOKUP($B95,[1]FlowData!$A$3:$PL$215,BA$7,FALSE)","v":665},{"$f":"VLOOKUP($B95,[1]FlowData!$A$3:$PL$215,BB$7,FALSE)","v":832},{"$f":"VLOOKUP($B95,[1]FlowData!$A$3:$PL$215,BC$7,FALSE)","v":878},{"$f":"VLOOKUP($B95,[1]FlowData!$A$3:$PL$215,BD$7,FALSE)","v":746},{"$f":"VLOOKUP($B95,[1]FlowData!$A$3:$PL$215,BE$7,FALSE)","v":610},{"$f":"VLOOKUP($B95,[1]FlowData!$A$3:$PL$215,BF$7,FALSE)","v":748}]
[{"$f":"VLOOKUP(B96,'[2]Gages and BCs'!$A$4:$BJ$973,62,FALSE)","v":122},6077000,{"$f":"VLOOKUP(B96,'[2]Gages and BCs'!$A$4:$BJ$973,60,FALSE)","v":"Sheep Creek near White Sulphur Springs, Montana"},"1942–72",{"$f":"VLOOKUP($B96,[1]FlowData!$A$3:$PL$215,E$7,FALSE)","v":4.875},{"$f":"VLOOKUP($B96,[1]FlowData!$A$3:$PL$215,F$7,FALSE)","v":11.670999999999999},{"$f":"VLOOKUP($B96,[1]FlowData!$A$3:$PL$215,G$7,FALSE)","v":42},{"$f":"VLOOKUP($B96,[1]FlowData!$A$3:$PL$215,H$7,FALSE)","v":16},{"$f":"VLOOKUP($B96,[1]FlowData!$A$3:$PL$215,I$7,FALSE)","v":8.1999999999999993},{"$f":"VLOOKUP($B96,[1]FlowData!$A$3:$PL$215,J$7,FALSE)","v":32},{"$f":"VLOOKUP($B96,[1]FlowData!$A$3:$PL$215,K$7,FALSE)","v":12},{"$f":"VLOOKUP($B96,[1]FlowData!$A$3:$PL$215,L$7,FALSE)","v":9.1},{"$f":"VLOOKUP($B96,[1]FlowData!$A$3:$PL$215,M$7,FALSE)","v":7},{"$f":"VLOOKUP($B96,[1]FlowData!$A$3:$PL$215,N$7,FALSE)","v":9.1999999999999993},{"$f":"VLOOKUP($B96,[1]FlowData!$A$3:$PL$215,O$7,FALSE)","v":11},{"$f":"VLOOKUP($B96,[1]FlowData!$A$3:$PL$215,P$7,FALSE)","v":8.8000000000000007},{"$f":"VLOOKUP($B96,[1]FlowData!$A$3:$PL$215,Q$7,FALSE)","v":7.2},{"$f":"VLOOKUP($B96,[1]FlowData!$A$3:$PL$215,R$7,FALSE)","v":9.1},{"$f":"VLOOKUP($B96,[1]FlowData!$A$3:$PL$215,S$7,FALSE)","v":11},{"$f":"VLOOKUP($B96,[1]FlowData!$A$3:$PL$215,T$7,FALSE)","v":8.6999999999999993},{"$f":"VLOOKUP($B96,[1]FlowData!$A$3:$PL$215,U$7,FALSE)","v":7},{"$f":"VLOOKUP($B96,[1]FlowData!$A$3:$PL$215,V$7,FALSE)","v":9.3000000000000007},{"$f":"VLOOKUP($B96,[1]FlowData!$A$3:$PL$215,W$7,FALSE)","v":28},{"$f":"VLOOKUP($B96,[1]FlowData!$A$3:$PL$215,X$7,FALSE)","v":14},{"$f":"VLOOKUP($B96,[1]FlowData!$A$3:$PL$215,Y$7,FALSE)","v":9.6999999999999993},{"$f":"VLOOKUP($B96,[1]FlowData!$A$3:$PL$215,Z$7,FALSE)","v":21},{"$f":"VLOOKUP($B96,[1]FlowData!$A$3:$PL$215,AA$7,FALSE)","v":140},{"$f":"VLOOKUP($B96,[1]FlowData!$A$3:$PL$215,AB$7,FALSE)","v":79},{"$f":"VLOOKUP($B96,[1]FlowData!$A$3:$PL$215,AC$7,FALSE)","v":41},{"$f":"VLOOKUP($B96,[1]FlowData!$A$3:$PL$215,AD$7,FALSE)","v":95},{"$f":"VLOOKUP($B96,[1]FlowData!$A$3:$PL$215,AE$7,FALSE)","v":156},{"$f":"VLOOKUP($B96,[1]FlowData!$A$3:$PL$215,AF$7,FALSE)","v":98},{"$f":"VLOOKUP($B96,[1]FlowData!$A$3:$PL$215,AG$7,FALSE)","v":62},{"$f":"VLOOKUP($B96,[1]FlowData!$A$3:$PL$215,AH$7,FALSE)","v":115},{"$f":"VLOOKUP($B96,[1]FlowData!$A$3:$PL$215,AI$7,FALSE)","v":57},{"$f":"VLOOKUP($B96,[1]FlowData!$A$3:$PL$215,AJ$7,FALSE)","v":39},{"$f":"VLOOKUP($B96,[1]FlowData!$A$3:$PL$215,AK$7,FALSE)","v":29},{"$f":"VLOOKUP($B96,[1]FlowData!$A$3:$PL$215,AL$7,FALSE)","v":43},{"$f":"VLOOKUP($B96,[1]FlowData!$A$3:$PL$215,AM$7,FALSE)","v":29},{"$f":"VLOOKUP($B96,[1]FlowData!$A$3:$PL$215,AN$7,FALSE)","v":22},{"$f":"VLOOKUP($B96,[1]FlowData!$A$3:$PL$215,AO$7,FALSE)","v":17},{"$f":"VLOOKUP($B96,[1]FlowData!$A$3:$PL$215,AP$7,FALSE)","v":23},{"$f":"VLOOKUP($B96,[1]FlowData!$A$3:$PL$215,AQ$7,FALSE)","v":22},{"$f":"VLOOKUP($B96,[1]FlowData!$A$3:$PL$215,AR$7,FALSE)","v":17},{"$f":"VLOOKUP($B96,[1]FlowData!$A$3:$PL$215,AS$7,FALSE)","v":14},{"$f":"VLOOKUP($B96,[1]FlowData!$A$3:$PL$215,AT$7,FALSE)","v":18},{"$f":"VLOOKUP($B96,[1]FlowData!$A$3:$PL$215,AU$7,FALSE)","v":18},{"$f":"VLOOKUP($B96,[1]FlowData!$A$3:$PL$215,AV$7,FALSE)","v":15},{"$f":"VLOOKUP($B96,[1]FlowData!$A$3:$PL$215,AW$7,FALSE)","v":12},{"$f":"VLOOKUP($B96,[1]FlowData!$A$3:$PL$215,AX$7,FALSE)","v":16},{"$f":"VLOOKUP($B96,[1]FlowData!$A$3:$PL$215,AY$7,FALSE)","v":15},{"$f":"VLOOKUP($B96,[1]FlowData!$A$3:$PL$215,AZ$7,FALSE)","v":13},{"$f":"VLOOKUP($B96,[1]FlowData!$A$3:$PL$215,BA$7,FALSE)","v":10},{"$f":"VLOOKUP($B96,[1]FlowData!$A$3:$PL$215,BB$7,FALSE)","v":13},{"$f":"VLOOKUP($B96,[1]FlowData!$A$3:$PL$215,BC$7,FALSE)","v":12},{"$f":"VLOOKUP($B96,[1]FlowData!$A$3:$PL$215,BD$7,FALSE)","v":10},{"$f":"VLOOKUP($B96,[1]FlowData!$A$3:$PL$215,BE$7,FALSE)","v":8},{"$f":"VLOOKUP($B96,[1]FlowData!$A$3:$PL$215,BF$7,FALSE)","v":10}]
[{"$f":"VLOOKUP(B97,'[2]Gages and BCs'!$A$4:$BJ$973,62,FALSE)","v":125},6077500,{"$f":"VLOOKUP(B97,'[2]Gages and BCs'!$A$4:$BJ$973,60,FALSE)","v":"Smith River near Eden, Montana"},"1951–69, 2006–8",{"$f":"VLOOKUP($B97,[1]FlowData!$A$3:$PL$215,E$7,FALSE)","v":14.282999999999999},{"$f":"VLOOKUP($B97,[1]FlowData!$A$3:$PL$215,F$7,FALSE)","v":49.012},{"$f":"VLOOKUP($B97,[1]FlowData!$A$3:$PL$215,G$7,FALSE)","v":450},{"$f":"VLOOKUP($B97,[1]FlowData!$A$3:$PL$215,H$7,FALSE)","v":249},{"$f":"VLOOKUP($B97,[1]FlowData!$A$3:$PL$215,I$7,FALSE)","v":101},{"$f":"VLOOKUP($B97,[1]FlowData!$A$3:$PL$215,J$7,FALSE)","v":338},{"$f":"VLOOKUP($B97,[1]FlowData!$A$3:$PL$215,K$7,FALSE)","v":150},{"$f":"VLOOKUP($B97,[1]FlowData!$A$3:$PL$215,L$7,FALSE)","v":82},{"$f":"VLOOKUP($B97,[1]FlowData!$A$3:$PL$215,M$7,FALSE)","v":47},{"$f":"VLOOKUP($B97,[1]FlowData!$A$3:$PL$215,N$7,FALSE)","v":99},{"$f":"VLOOKUP($B97,[1]FlowData!$A$3:$PL$215,O$7,FALSE)","v":181},{"$f":"VLOOKUP($B97,[1]FlowData!$A$3:$PL$215,P$7,FALSE)","v":120},{"$f":"VLOOKUP($B97,[1]FlowData!$A$3:$PL$215,Q$7,FALSE)","v":72},{"$f":"VLOOKUP($B97,[1]FlowData!$A$3:$PL$215,R$7,FALSE)","v":137},{"$f":"VLOOKUP($B97,[1]FlowData!$A$3:$PL$215,S$7,FALSE)","v":252},{"$f":"VLOOKUP($B97,[1]FlowData!$A$3:$PL$215,T$7,FALSE)","v":148},{"$f":"VLOOKUP($B97,[1]FlowData!$A$3:$PL$215,U$7,FALSE)","v":91},{"$f":"VLOOKUP($B97,[1]FlowData!$A$3:$PL$215,V$7,FALSE)","v":184},{"$f":"VLOOKUP($B97,[1]FlowData!$A$3:$PL$215,W$7,FALSE)","v":532},{"$f":"VLOOKUP($B97,[1]FlowData!$A$3:$PL$215,X$7,FALSE)","v":296},{"$f":"VLOOKUP($B97,[1]FlowData!$A$3:$PL$215,Y$7,FALSE)","v":183},{"$f":"VLOOKUP($B97,[1]FlowData!$A$3:$PL$215,Z$7,FALSE)","v":388},{"$f":"VLOOKUP($B97,[1]FlowData!$A$3:$PL$215,AA$7,FALSE)","v":1360},{"$f":"VLOOKUP($B97,[1]FlowData!$A$3:$PL$215,AB$7,FALSE)","v":790},{"$f":"VLOOKUP($B97,[1]FlowData!$A$3:$PL$215,AC$7,FALSE)","v":419},{"$f":"VLOOKUP($B97,[1]FlowData!$A$3:$PL$215,AD$7,FALSE)","v":938},{"$f":"VLOOKUP($B97,[1]FlowData!$A$3:$PL$215,AE$7,FALSE)","v":1690},{"$f":"VLOOKUP($B97,[1]FlowData!$A$3:$PL$215,AF$7,FALSE)","v":852},{"$f":"VLOOKUP($B97,[1]FlowData!$A$3:$PL$215,AG$7,FALSE)","v":490},{"$f":"VLOOKUP($B97,[1]FlowData!$A$3:$PL$215,AH$7,FALSE)","v":1140},{"$f":"VLOOKUP($B97,[1]FlowData!$A$3:$PL$215,AI$7,FALSE)","v":524},{"$f":"VLOOKUP($B97,[1]FlowData!$A$3:$PL$215,AJ$7,FALSE)","v":278},{"$f":"VLOOKUP($B97,[1]FlowData!$A$3:$PL$215,AK$7,FALSE)","v":158},{"$f":"VLOOKUP($B97,[1]FlowData!$A$3:$PL$215,AL$7,FALSE)","v":355},{"$f":"VLOOKUP($B97,[1]FlowData!$A$3:$PL$215,AM$7,FALSE)","v":224},{"$f":"VLOOKUP($B97,[1]FlowData!$A$3:$PL$215,AN$7,FALSE)","v":128},{"$f":"VLOOKUP($B97,[1]FlowData!$A$3:$PL$215,AO$7,FALSE)","v":74},{"$f":"VLOOKUP($B97,[1]FlowData!$A$3:$PL$215,AP$7,FALSE)","v":149},{"$f":"VLOOKUP($B97,[1]FlowData!$A$3:$PL$215,AQ$7,FALSE)","v":177},{"$f":"VLOOKUP($B97,[1]FlowData!$A$3:$PL$215,AR$7,FALSE)","v":113},{"$f":"VLOOKUP($B97,[1]FlowData!$A$3:$PL$215,AS$7,FALSE)","v":72},{"$f":"VLOOKUP($B97,[1]FlowData!$A$3:$PL$215,AT$7,FALSE)","v":145},{"$f":"VLOOKUP($B97,[1]FlowData!$A$3:$PL$215,AU$7,FALSE)","v":185},{"$f":"VLOOKUP($B97,[1]FlowData!$A$3:$PL$215,AV$7,FALSE)","v":136},{"$f":"VLOOKUP($B97,[1]FlowData!$A$3:$PL$215,AW$7,FALSE)","v":95},{"$f":"VLOOKUP($B97,[1]FlowData!$A$3:$PL$215,AX$7,FALSE)","v":163},{"$f":"VLOOKUP($B97,[1]FlowData!$A$3:$PL$215,AY$7,FALSE)","v":185},{"$f":"VLOOKUP($B97,[1]FlowData!$A$3:$PL$215,AZ$7,FALSE)","v":128},{"$f":"VLOOKUP($B97,[1]FlowData!$A$3:$PL$215,BA$7,FALSE)","v":90},{"$f":"VLOOKUP($B97,[1]FlowData!$A$3:$PL$215,BB$7,FALSE)","v":150},{"$f":"VLOOKUP($B97,[1]FlowData!$A$3:$PL$215,BC$7,FALSE)","v":142},{"$f":"VLOOKUP($B97,[1]FlowData!$A$3:$PL$215,BD$7,FALSE)","v":96},{"$f":"VLOOKUP($B97,[1]FlowData!$A$3:$PL$215,BE$7,FALSE)","v":55},{"$f":"VLOOKUP($B97,[1]FlowData!$A$3:$PL$215,BF$7,FALSE)","v":110}]
[{"$f":"VLOOKUP(B98,'[2]Gages and BCs'!$A$4:$BJ$973,62,FALSE)","v":143},6090500,{"$f":"VLOOKUP(B98,'[2]Gages and BCs'!$A$4:$BJ$973,60,FALSE)","v":"Belt Creek near Monarch, Montana"},"1951–82",{"$f":"VLOOKUP($B98,[1]FlowData!$A$3:$PL$215,E$7,FALSE)","v":5.3849999999999998},{"$f":"VLOOKUP($B98,[1]FlowData!$A$3:$PL$215,F$7,FALSE)","v":36.149000000000001},{"$f":"VLOOKUP($B98,[1]FlowData!$A$3:$PL$215,G$7,FALSE)","v":340},{"$f":"VLOOKUP($B98,[1]FlowData!$A$3:$PL$215,H$7,FALSE)","v":213},{"$f":"VLOOKUP($B98,[1]FlowData!$A$3:$PL$215,I$7,FALSE)","v":86},{"$f":"VLOOKUP($B98,[1]FlowData!$A$3:$PL$215,J$7,FALSE)","v":192},{"$f":"VLOOKUP($B98,[1]FlowData!$A$3:$PL$215,K$7,FALSE)","v":39},{"$f":"VLOOKUP($B98,[1]FlowData!$A$3:$PL$215,L$7,FALSE)","v":28},{"$f":"VLOOKUP($B98,[1]FlowData!$A$3:$PL$215,M$7,FALSE)","v":18},{"$f":"VLOOKUP($B98,[1]FlowData!$A$3:$PL$215,N$7,FALSE)","v":29},{"$f":"VLOOKUP($B98,[1]FlowData!$A$3:$PL$215,O$7,FALSE)","v":42},{"$f":"VLOOKUP($B98,[1]FlowData!$A$3:$PL$215,P$7,FALSE)","v":30},{"$f":"VLOOKUP($B98,[1]FlowData!$A$3:$PL$215,Q$7,FALSE)","v":18},{"$f":"VLOOKUP($B98,[1]FlowData!$A$3:$PL$215,R$7,FALSE)","v":31},{"$f":"VLOOKUP($B98,[1]FlowData!$A$3:$PL$215,S$7,FALSE)","v":47},{"$f":"VLOOKUP($B98,[1]FlowData!$A$3:$PL$215,T$7,FALSE)","v":30},{"$f":"VLOOKUP($B98,[1]FlowData!$A$3:$PL$215,U$7,FALSE)","v":19},{"$f":"VLOOKUP($B98,[1]FlowData!$A$3:$PL$215,V$7,FALSE)","v":36},{"$f":"VLOOKUP($B98,[1]FlowData!$A$3:$PL$215,W$7,FALSE)","v":190},{"$f":"VLOOKUP($B98,[1]FlowData!$A$3:$PL$215,X$7,FALSE)","v":77},{"$f":"VLOOKUP($B98,[1]FlowData!$A$3:$PL$215,Y$7,FALSE)","v":36},{"$f":"VLOOKUP($B98,[1]FlowData!$A$3:$PL$215,Z$7,FALSE)","v":127},{"$f":"VLOOKUP($B98,[1]FlowData!$A$3:$PL$215,AA$7,FALSE)","v":991},{"$f":"VLOOKUP($B98,[1]FlowData!$A$3:$PL$215,AB$7,FALSE)","v":559},{"$f":"VLOOKUP($B98,[1]FlowData!$A$3:$PL$215,AC$7,FALSE)","v":292},{"$f":"VLOOKUP($B98,[1]FlowData!$A$3:$PL$215,AD$7,FALSE)","v":697},{"$f":"VLOOKUP($B98,[1]FlowData!$A$3:$PL$215,AE$7,FALSE)","v":1270},{"$f":"VLOOKUP($B98,[1]FlowData!$A$3:$PL$215,AF$7,FALSE)","v":638},{"$f":"VLOOKUP($B98,[1]FlowData!$A$3:$PL$215,AG$7,FALSE)","v":303},{"$f":"VLOOKUP($B98,[1]FlowData!$A$3:$PL$215,AH$7,FALSE)","v":819},{"$f":"VLOOKUP($B98,[1]FlowData!$A$3:$PL$215,AI$7,FALSE)","v":318},{"$f":"VLOOKUP($B98,[1]FlowData!$A$3:$PL$215,AJ$7,FALSE)","v":179},{"$f":"VLOOKUP($B98,[1]FlowData!$A$3:$PL$215,AK$7,FALSE)","v":103},{"$f":"VLOOKUP($B98,[1]FlowData!$A$3:$PL$215,AL$7,FALSE)","v":226},{"$f":"VLOOKUP($B98,[1]FlowData!$A$3:$PL$215,AM$7,FALSE)","v":125},{"$f":"VLOOKUP($B98,[1]FlowData!$A$3:$PL$215,AN$7,FALSE)","v":82},{"$f":"VLOOKUP($B98,[1]FlowData!$A$3:$PL$215,AO$7,FALSE)","v":58},{"$f":"VLOOKUP($B98,[1]FlowData!$A$3:$PL$215,AP$7,FALSE)","v":91},{"$f":"VLOOKUP($B98,[1]FlowData!$A$3:$PL$215,AQ$7,FALSE)","v":87},{"$f":"VLOOKUP($B98,[1]FlowData!$A$3:$PL$215,AR$7,FALSE)","v":62},{"$f":"VLOOKUP($B98,[1]FlowData!$A$3:$PL$215,AS$7,FALSE)","v":44},{"$f":"VLOOKUP($B98,[1]FlowData!$A$3:$PL$215,AT$7,FALSE)","v":74},{"$f":"VLOOKUP($B98,[1]FlowData!$A$3:$PL$215,AU$7,FALSE)","v":83},{"$f":"VLOOKUP($B98,[1]FlowData!$A$3:$PL$215,AV$7,FALSE)","v":56},{"$f":"VLOOKUP($B98,[1]FlowData!$A$3:$PL$215,AW$7,FALSE)","v":38},{"$f":"VLOOKUP($B98,[1]FlowData!$A$3:$PL$215,AX$7,FALSE)","v":68},{"$f":"VLOOKUP($B98,[1]FlowData!$A$3:$PL$215,AY$7,FALSE)","v":63},{"$f":"VLOOKUP($B98,[1]FlowData!$A$3:$PL$215,AZ$7,FALSE)","v":45},{"$f":"VLOOKUP($B98,[1]FlowData!$A$3:$PL$215,BA$7,FALSE)","v":31},{"$f":"VLOOKUP($B98,[1]FlowData!$A$3:$PL$215,BB$7,FALSE)","v":50},{"$f":"VLOOKUP($B98,[1]FlowData!$A$3:$PL$215,BC$7,FALSE)","v":47},{"$f":"VLOOKUP($B98,[1]FlowData!$A$3:$PL$215,BD$7,FALSE)","v":33},{"$f":"VLOOKUP($B98,[1]FlowData!$A$3:$PL$215,BE$7,FALSE)","v":20},{"$f":"VLOOKUP($B98,[1]FlowData!$A$3:$PL$215,BF$7,FALSE)","v":35}]
[{"$f":"VLOOKUP(B99,'[2]Gages and BCs'!$A$4:$BJ$973,62,FALSE)","v":190},6109800,{"$f":"VLOOKUP(B99,'[2]Gages and BCs'!$A$4:$BJ$973,60,FALSE)","v":"South Fork Judith River near Utica, Montana"},"1959–79",{"$f":"VLOOKUP($B99,[1]FlowData!$A$3:$PL$215,E$7,FALSE)","v":2.0150000000000001},{"$f":"VLOOKUP($B99,[1]FlowData!$A$3:$PL$215,F$7,FALSE)","v":4.97},{"$f":"VLOOKUP($B99,[1]FlowData!$A$3:$PL$215,G$7,FALSE)","v":34},{"$f":"VLOOKUP($B99,[1]FlowData!$A$3:$PL$215,H$7,FALSE)","v":21},{"$f":"VLOOKUP($B99,[1]FlowData!$A$3:$PL$215,I$7,FALSE)","v":9.1},{"$f":"VLOOKUP($B99,[1]FlowData!$A$3:$PL$215,J$7,FALSE)","v":23},{"$f":"VLOOKUP($B99,[1]FlowData!$A$3:$PL$215,K$7,FALSE)","v":4.8},{"$f":"VLOOKUP($B99,[1]FlowData!$A$3:$PL$215,L$7,FALSE)","v":3.8},{"$f":"VLOOKUP($B99,[1]FlowData!$A$3:$PL$215,M$7,FALSE)","v":3},{"$f":"VLOOKUP($B99,[1]FlowData!$A$3:$PL$215,N$7,FALSE)","v":3.9},{"$f":"VLOOKUP($B99,[1]FlowData!$A$3:$PL$215,O$7,FALSE)","v":4.5},{"$f":"VLOOKUP($B99,[1]FlowData!$A$3:$PL$215,P$7,FALSE)","v":3.9},{"$f":"VLOOKUP($B99,[1]FlowData!$A$3:$PL$215,Q$7,FALSE)","v":3.4},{"$f":"VLOOKUP($B99,[1]FlowData!$A$3:$PL$215,R$7,FALSE)","v":4},{"$f":"VLOOKUP($B99,[1]FlowData!$A$3:$PL$215,S$7,FALSE)","v":5.5},{"$f":"VLOOKUP($B99,[1]FlowData!$A$3:$PL$215,T$7,FALSE)","v":4},{"$f":"VLOOKUP($B99,[1]FlowData!$A$3:$PL$215,U$7,FALSE)","v":3.2},{"$f":"VLOOKUP($B99,[1]FlowData!$A$3:$PL$215,V$7,FALSE)","v":5.0999999999999996},{"$f":"VLOOKUP($B99,[1]FlowData!$A$3:$PL$215,W$7,FALSE)","v":31},{"$f":"VLOOKUP($B99,[1]FlowData!$A$3:$PL$215,X$7,FALSE)","v":12},{"$f":"VLOOKUP($B99,[1]FlowData!$A$3:$PL$215,Y$7,FALSE)","v":5.8},{"$f":"VLOOKUP($B99,[1]FlowData!$A$3:$PL$215,Z$7,FALSE)","v":21},{"$f":"VLOOKUP($B99,[1]FlowData!$A$3:$PL$215,AA$7,FALSE)","v":159},{"$f":"VLOOKUP($B99,[1]FlowData!$A$3:$PL$215,AB$7,FALSE)","v":79},{"$f":"VLOOKUP($B99,[1]FlowData!$A$3:$PL$215,AC$7,FALSE)","v":38},{"$f":"VLOOKUP($B99,[1]FlowData!$A$3:$PL$215,AD$7,FALSE)","v":104},{"$f":"VLOOKUP($B99,[1]FlowData!$A$3:$PL$215,AE$7,FALSE)","v":103},{"$f":"VLOOKUP($B99,[1]FlowData!$A$3:$PL$215,AF$7,FALSE)","v":53},{"$f":"VLOOKUP($B99,[1]FlowData!$A$3:$PL$215,AG$7,FALSE)","v":24},{"$f":"VLOOKUP($B99,[1]FlowData!$A$3:$PL$215,AH$7,FALSE)","v":73},{"$f":"VLOOKUP($B99,[1]FlowData!$A$3:$PL$215,AI$7,FALSE)","v":32},{"$f":"VLOOKUP($B99,[1]FlowData!$A$3:$PL$215,AJ$7,FALSE)","v":20},{"$f":"VLOOKUP($B99,[1]FlowData!$A$3:$PL$215,AK$7,FALSE)","v":12},{"$f":"VLOOKUP($B99,[1]FlowData!$A$3:$PL$215,AL$7,FALSE)","v":23},{"$f":"VLOOKUP($B99,[1]FlowData!$A$3:$PL$215,AM$7,FALSE)","v":15},{"$f":"VLOOKUP($B99,[1]FlowData!$A$3:$PL$215,AN$7,FALSE)","v":11},{"$f":"VLOOKUP($B99,[1]FlowData!$A$3:$PL$215,AO$7,FALSE)","v":7.4},{"$f":"VLOOKUP($B99,[1]FlowData!$A$3:$PL$215,AP$7,FALSE)","v":12},{"$f":"VLOOKUP($B99,[1]FlowData!$A$3:$PL$215,AQ$7,FALSE)","v":10},{"$f":"VLOOKUP($B99,[1]FlowData!$A$3:$PL$215,AR$7,FALSE)","v":8.1999999999999993},{"$f":"VLOOKUP($B99,[1]FlowData!$A$3:$PL$215,AS$7,FALSE)","v":5.7},{"$f":"VLOOKUP($B99,[1]FlowData!$A$3:$PL$215,AT$7,FALSE)","v":8.4},{"$f":"VLOOKUP($B99,[1]FlowData!$A$3:$PL$215,AU$7,FALSE)","v":8.1999999999999993},{"$f":"VLOOKUP($B99,[1]FlowData!$A$3:$PL$215,AV$7,FALSE)","v":6.6},{"$f":"VLOOKUP($B99,[1]FlowData!$A$3:$PL$215,AW$7,FALSE)","v":5.0999999999999996},{"$f":"VLOOKUP($B99,[1]FlowData!$A$3:$PL$215,AX$7,FALSE)","v":6.8},{"$f":"VLOOKUP($B99,[1]FlowData!$A$3:$PL$215,AY$7,FALSE)","v":6.4},{"$f":"VLOOKUP($B99,[1]FlowData!$A$3:$PL$215,AZ$7,FALSE)","v":5.4},{"$f":"VLOOKUP($B99,[1]FlowData!$A$3:$PL$215,BA$7,FALSE)","v":3.9},{"$f":"VLOOKUP($B99,[1]FlowData!$A$3:$PL$215,BB$7,FALSE)","v":5.3},{"$f":"VLOOKUP($B99,[1]FlowData!$A$3:$PL$215,BC$7,FALSE)","v":5.4},{"$f":"VLOOKUP($B99,[1]FlowData!$A$3:$PL$215,BD$7,FALSE)","v":4.4000000000000004},{"$f":"VLOOKUP($B99,[1]FlowData!$A$3:$PL$215,BE$7,FALSE)","v":3.5},{"$f":"VLOOKUP($B99,[1]FlowData!$A$3:$PL$215,BF$7,FALSE)","v":4.4000000000000004}]
[{"$f":"VLOOKUP(B100,'[2]Gages and BCs'!$A$4:$BJ$973,62,FALSE)","v":192},6110000,{"$f":"VLOOKUP(B100,'[2]Gages and BCs'!$A$4:$BJ$973,60,FALSE)","v":"Judith River near Utica, Montana"},"1920–29, 1934–75",{"$f":"VLOOKUP($B100,[1]FlowData!$A$3:$PL$215,E$7,FALSE)","v":0.40100000000000002},{"$f":"VLOOKUP($B100,[1]FlowData!$A$3:$PL$215,F$7,FALSE)","v":4.7450000000000001},{"$f":"VLOOKUP($B100,[1]FlowData!$A$3:$PL$215,G$7,FALSE)","v":70},{"$f":"VLOOKUP($B100,[1]FlowData!$A$3:$PL$215,H$7,FALSE)","v":39},{"$f":"VLOOKUP($B100,[1]FlowData!$A$3:$PL$215,I$7,FALSE)","v":16},{"$f":"VLOOKUP($B100,[1]FlowData!$A$3:$PL$215,J$7,FALSE)","v":57},{"$f":"VLOOKUP($B100,[1]FlowData!$A$3:$PL$215,K$7,FALSE)","v":4.7},{"$f":"VLOOKUP($B100,[1]FlowData!$A$3:$PL$215,L$7,FALSE)","v":3.1},{"$f":"VLOOKUP($B100,[1]FlowData!$A$3:$PL$215,M$7,FALSE)","v":1.8},{"$f":"VLOOKUP($B100,[1]FlowData!$A$3:$PL$215,N$7,FALSE)","v":3.3},{"$f":"VLOOKUP($B100,[1]FlowData!$A$3:$PL$215,O$7,FALSE)","v":3.2},{"$f":"VLOOKUP($B100,[1]FlowData!$A$3:$PL$215,P$7,FALSE)","v":2.1},{"$f":"VLOOKUP($B100,[1]FlowData!$A$3:$PL$215,Q$7,FALSE)","v":1.2},{"$f":"VLOOKUP($B100,[1]FlowData!$A$3:$PL$215,R$7,FALSE)","v":2.2999999999999998},{"$f":"VLOOKUP($B100,[1]FlowData!$A$3:$PL$215,S$7,FALSE)","v":3.6},{"$f":"VLOOKUP($B100,[1]FlowData!$A$3:$PL$215,T$7,FALSE)","v":2.2000000000000002},{"$f":"VLOOKUP($B100,[1]FlowData!$A$3:$PL$215,U$7,FALSE)","v":0.89},{"$f":"VLOOKUP($B100,[1]FlowData!$A$3:$PL$215,V$7,FALSE)","v":2.5},{"$f":"VLOOKUP($B100,[1]FlowData!$A$3:$PL$215,W$7,FALSE)","v":27},{"$f":"VLOOKUP($B100,[1]FlowData!$A$3:$PL$215,X$7,FALSE)","v":9.6999999999999993},{"$f":"VLOOKUP($B100,[1]FlowData!$A$3:$PL$215,Y$7,FALSE)","v":3.9},{"$f":"VLOOKUP($B100,[1]FlowData!$A$3:$PL$215,Z$7,FALSE)","v":25},{"$f":"VLOOKUP($B100,[1]FlowData!$A$3:$PL$215,AA$7,FALSE)","v":321},{"$f":"VLOOKUP($B100,[1]FlowData!$A$3:$PL$215,AB$7,FALSE)","v":154},{"$f":"VLOOKUP($B100,[1]FlowData!$A$3:$PL$215,AC$7,FALSE)","v":47},{"$f":"VLOOKUP($B100,[1]FlowData!$A$3:$PL$215,AD$7,FALSE)","v":193},{"$f":"VLOOKUP($B100,[1]FlowData!$A$3:$PL$215,AE$7,FALSE)","v":419},{"$f":"VLOOKUP($B100,[1]FlowData!$A$3:$PL$215,AF$7,FALSE)","v":228},{"$f":"VLOOKUP($B100,[1]FlowData!$A$3:$PL$215,AG$7,FALSE)","v":98},{"$f":"VLOOKUP($B100,[1]FlowData!$A$3:$PL$215,AH$7,FALSE)","v":271},{"$f":"VLOOKUP($B100,[1]FlowData!$A$3:$PL$215,AI$7,FALSE)","v":131},{"$f":"VLOOKUP($B100,[1]FlowData!$A$3:$PL$215,AJ$7,FALSE)","v":66},{"$f":"VLOOKUP($B100,[1]FlowData!$A$3:$PL$215,AK$7,FALSE)","v":26},{"$f":"VLOOKUP($B100,[1]FlowData!$A$3:$PL$215,AL$7,FALSE)","v":85},{"$f":"VLOOKUP($B100,[1]FlowData!$A$3:$PL$215,AM$7,FALSE)","v":44},{"$f":"VLOOKUP($B100,[1]FlowData!$A$3:$PL$215,AN$7,FALSE)","v":23},{"$f":"VLOOKUP($B100,[1]FlowData!$A$3:$PL$215,AO$7,FALSE)","v":11},{"$f":"VLOOKUP($B100,[1]FlowData!$A$3:$PL$215,AP$7,FALSE)","v":29},{"$f":"VLOOKUP($B100,[1]FlowData!$A$3:$PL$215,AQ$7,FALSE)","v":25},{"$f":"VLOOKUP($B100,[1]FlowData!$A$3:$PL$215,AR$7,FALSE)","v":14},{"$f":"VLOOKUP($B100,[1]FlowData!$A$3:$PL$215,AS$7,FALSE)","v":6.9},{"$f":"VLOOKUP($B100,[1]FlowData!$A$3:$PL$215,AT$7,FALSE)","v":17},{"$f":"VLOOKUP($B100,[1]FlowData!$A$3:$PL$215,AU$7,FALSE)","v":19},{"$f":"VLOOKUP($B100,[1]FlowData!$A$3:$PL$215,AV$7,FALSE)","v":11},{"$f":"VLOOKUP($B100,[1]FlowData!$A$3:$PL$215,AW$7,FALSE)","v":5.0999999999999996},{"$f":"VLOOKUP($B100,[1]FlowData!$A$3:$PL$215,AX$7,FALSE)","v":13},{"$f":"VLOOKUP($B100,[1]FlowData!$A$3:$PL$215,AY$7,FALSE)","v":13},{"$f":"VLOOKUP($B100,[1]FlowData!$A$3:$PL$215,AZ$7,FALSE)","v":8.9},{"$f":"VLOOKUP($B100,[1]FlowData!$A$3:$PL$215,BA$7,FALSE)","v":4.7},{"$f":"VLOOKUP($B100,[1]FlowData!$A$3:$PL$215,BB$7,FALSE)","v":10},{"$f":"VLOOKUP($B100,[1]FlowData!$A$3:$PL$215,BC$7,FALSE)","v":8.3000000000000007},{"$f":"VLOOKUP($B100,[1]FlowData!$A$3:$PL$215,BD$7,FALSE)","v":5.5},{"$f":"VLOOKUP($B100,[1]FlowData!$A$3:$PL$215,BE$7,FALSE)","v":3.2},{"$f":"VLOOKUP($B100,[1]FlowData!$A$3:$PL$215,BF$7,FALSE)","v":6.3}]
[{"$f":"VLOOKUP(B101,'[2]Gages and BCs'!$A$4:$BJ$973,62,FALSE)","v":193},6111000,{"$f":"VLOOKUP(B101,'[2]Gages and BCs'!$A$4:$BJ$973,60,FALSE)","v":"Ross Fork Creek near Hobson, Montana"},"1946–53, 1955–62",{"$f":"VLOOKUP($B101,[1]FlowData!$A$3:$PL$215,E$7,FALSE)","v":""},{"$f":"VLOOKUP($B101,[1]FlowData!$A$3:$PL$215,F$7,FALSE)","v":0},{"$f":"VLOOKUP($B101,[1]FlowData!$A$3:$PL$215,G$7,FALSE)","v":52},{"$f":"VLOOKUP($B101,[1]FlowData!$A$3:$PL$215,H$7,FALSE)","v":28},{"$f":"VLOOKUP($B101,[1]FlowData!$A$3:$PL$215,I$7,FALSE)","v":4.9000000000000004},{"$f":"VLOOKUP($B101,[1]FlowData!$A$3:$PL$215,J$7,FALSE)","v":14},{"$f":"VLOOKUP($B101,[1]FlowData!$A$3:$PL$215,K$7,FALSE)","v":3},{"$f":"VLOOKUP($B101,[1]FlowData!$A$3:$PL$215,L$7,FALSE)","v":1.6},{"$f":"VLOOKUP($B101,[1]FlowData!$A$3:$PL$215,M$7,FALSE)","v":0.87},{"$f":"VLOOKUP($B101,[1]FlowData!$A$3:$PL$215,N$7,FALSE)","v":2.1},{"$f":"VLOOKUP($B101,[1]FlowData!$A$3:$PL$215,O$7,FALSE)","v":6.5},{"$f":"VLOOKUP($B101,[1]FlowData!$A$3:$PL$215,P$7,FALSE)","v":3},{"$f":"VLOOKUP($B101,[1]FlowData!$A$3:$PL$215,Q$7,FALSE)","v":1.1000000000000001},{"$f":"VLOOKUP($B101,[1]FlowData!$A$3:$PL$215,R$7,FALSE)","v":4.9000000000000004},{"$f":"VLOOKUP($B101,[1]FlowData!$A$3:$PL$215,S$7,FALSE)","v":73},{"$f":"VLOOKUP($B101,[1]FlowData!$A$3:$PL$215,T$7,FALSE)","v":27},{"$f":"VLOOKUP($B101,[1]FlowData!$A$3:$PL$215,U$7,FALSE)","v":11},{"$f":"VLOOKUP($B101,[1]FlowData!$A$3:$PL$215,V$7,FALSE)","v":63},{"$f":"VLOOKUP($B101,[1]FlowData!$A$3:$PL$215,W$7,FALSE)","v":61},{"$f":"VLOOKUP($B101,[1]FlowData!$A$3:$PL$215,X$7,FALSE)","v":25},{"$f":"VLOOKUP($B101,[1]FlowData!$A$3:$PL$215,Y$7,FALSE)","v":10},{"$f":"VLOOKUP($B101,[1]FlowData!$A$3:$PL$215,Z$7,FALSE)","v":49},{"$f":"VLOOKUP($B101,[1]FlowData!$A$3:$PL$215,AA$7,FALSE)","v":55},{"$f":"VLOOKUP($B101,[1]FlowData!$A$3:$PL$215,AB$7,FALSE)","v":35},{"$f":"VLOOKUP($B101,[1]FlowData!$A$3:$PL$215,AC$7,FALSE)","v":14},{"$f":"VLOOKUP($B101,[1]FlowData!$A$3:$PL$215,AD$7,FALSE)","v":27},{"$f":"VLOOKUP($B101,[1]FlowData!$A$3:$PL$215,AE$7,FALSE)","v":38},{"$f":"VLOOKUP($B101,[1]FlowData!$A$3:$PL$215,AF$7,FALSE)","v":23},{"$f":"VLOOKUP($B101,[1]FlowData!$A$3:$PL$215,AG$7,FALSE)","v":8.6},{"$f":"VLOOKUP($B101,[1]FlowData!$A$3:$PL$215,AH$7,FALSE)","v":24},{"$f":"VLOOKUP($B101,[1]FlowData!$A$3:$PL$215,AI$7,FALSE)","v":6.3},{"$f":"VLOOKUP($B101,[1]FlowData!$A$3:$PL$215,AJ$7,FALSE)","v":2.9},{"$f":"VLOOKUP($B101,[1]FlowData!$A$3:$PL$215,AK$7,FALSE)","v":0.74},{"$f":"VLOOKUP($B101,[1]FlowData!$A$3:$PL$215,AL$7,FALSE)","v":3.9},{"$f":"VLOOKUP($B101,[1]FlowData!$A$3:$PL$215,AM$7,FALSE)","v":1.7},{"$f":"VLOOKUP($B101,[1]FlowData!$A$3:$PL$215,AN$7,FALSE)","v":0.5},{"$f":"VLOOKUP($B101,[1]FlowData!$A$3:$PL$215,AO$7,FALSE)","v":0},{"$f":"VLOOKUP($B101,[1]FlowData!$A$3:$PL$215,AP$7,FALSE)","v":1.1000000000000001},{"$f":"VLOOKUP($B101,[1]FlowData!$A$3:$PL$215,AQ$7,FALSE)","v":0.77},{"$f":"VLOOKUP($B101,[1]FlowData!$A$3:$PL$215,AR$7,FALSE)","v":9.0444444444444452E-3},{"$f":"VLOOKUP($B101,[1]FlowData!$A$3:$PL$215,AS$7,FALSE)","v":0},{"$f":"VLOOKUP($B101,[1]FlowData!$A$3:$PL$215,AT$7,FALSE)","v":0.44},{"$f":"VLOOKUP($B101,[1]FlowData!$A$3:$PL$215,AU$7,FALSE)","v":2},{"$f":"VLOOKUP($B101,[1]FlowData!$A$3:$PL$215,AV$7,FALSE)","v":0.65},{"$f":"VLOOKUP($B101,[1]FlowData!$A$3:$PL$215,AW$7,FALSE)","v":0},{"$f":"VLOOKUP($B101,[1]FlowData!$A$3:$PL$215,AX$7,FALSE)","v":0.97},{"$f":"VLOOKUP($B101,[1]FlowData!$A$3:$PL$215,AY$7,FALSE)","v":3.3},{"$f":"VLOOKUP($B101,[1]FlowData!$A$3:$PL$215,AZ$7,FALSE)","v":1.8},{"$f":"VLOOKUP($B101,[1]FlowData!$A$3:$PL$215,BA$7,FALSE)","v":0.81},{"$f":"VLOOKUP($B101,[1]FlowData!$A$3:$PL$215,BB$7,FALSE)","v":2.1},{"$f":"VLOOKUP($B101,[1]FlowData!$A$3:$PL$215,BC$7,FALSE)","v":3.3},{"$f":"VLOOKUP($B101,[1]FlowData!$A$3:$PL$215,BD$7,FALSE)","v":2.1},{"$f":"VLOOKUP($B101,[1]FlowData!$A$3:$PL$215,BE$7,FALSE)","v":1.4},{"$f":"VLOOKUP($B101,[1]FlowData!$A$3:$PL$215,BF$7,FALSE)","v":2.7}]
[{"$f":"VLOOKUP(B102,'[2]Gages and BCs'!$A$4:$BJ$973,62,FALSE)","v":197},6114500,{"$f":"VLOOKUP(B102,'[2]Gages and BCs'!$A$4:$BJ$973,60,FALSE)","v":"Wolf Creek near Stanford, Montana"},"1950–53, 1955–58, 1960–62",{"$f":"VLOOKUP($B102,[1]FlowData!$A$3:$PL$215,E$7,FALSE)","v":""},{"$f":"VLOOKUP($B102,[1]FlowData!$A$3:$PL$215,F$7,FALSE)","v":1.32},{"$f":"VLOOKUP($B102,[1]FlowData!$A$3:$PL$215,G$7,FALSE)","v":""},{"$f":"VLOOKUP($B102,[1]FlowData!$A$3:$PL$215,H$7,FALSE)","v":""},{"$f":"VLOOKUP($B102,[1]FlowData!$A$3:$PL$215,I$7,FALSE)","v":""},{"$f":"VLOOKUP($B102,[1]FlowData!$A$3:$PL$215,J$7,FALSE)","v":""},{"$f":"VLOOKUP($B102,[1]FlowData!$A$3:$PL$215,K$7,FALSE)","v":""},{"$f":"VLOOKUP($B102,[1]FlowData!$A$3:$PL$215,L$7,FALSE)","v":""},{"$f":"VLOOKUP($B102,[1]FlowData!$A$3:$PL$215,M$7,FALSE)","v":""},{"$f":"VLOOKUP($B102,[1]FlowData!$A$3:$PL$215,N$7,FALSE)","v":""},{"$f":"VLOOKUP($B102,[1]FlowData!$A$3:$PL$215,O$7,FALSE)","v":""},{"$f":"VLOOKUP($B102,[1]FlowData!$A$3:$PL$215,P$7,FALSE)","v":""},{"$f":"VLOOKUP($B102,[1]FlowData!$A$3:$PL$215,Q$7,FALSE)","v":""},{"$f":"VLOOKUP($B102,[1]FlowData!$A$3:$PL$215,R$7,FALSE)","v":""},{"$f":"VLOOKUP($B102,[1]FlowData!$A$3:$PL$215,S$7,FALSE)","v":3.8},{"$f":"VLOOKUP($B102,[1]FlowData!$A$3:$PL$215,T$7,FALSE)","v":2.4},{"$f":"VLOOKUP($B102,[1]FlowData!$A$3:$PL$215,U$7,FALSE)","v":1.2},{"$f":"VLOOKUP($B102,[1]FlowData!$A$3:$PL$215,V$7,FALSE)","v":2.4},{"$f":"VLOOKUP($B102,[1]FlowData!$A$3:$PL$215,W$7,FALSE)","v":5.0999999999999996},{"$f":"VLOOKUP($B102,[1]FlowData!$A$3:$PL$215,X$7,FALSE)","v":3.1},{"$f":"VLOOKUP($B102,[1]FlowData!$A$3:$PL$215,Y$7,FALSE)","v":1.3},{"$f":"VLOOKUP($B102,[1]FlowData!$A$3:$PL$215,Z$7,FALSE)","v":3.3},{"$f":"VLOOKUP($B102,[1]FlowData!$A$3:$PL$215,AA$7,FALSE)","v":5.3},{"$f":"VLOOKUP($B102,[1]FlowData!$A$3:$PL$215,AB$7,FALSE)","v":4},{"$f":"VLOOKUP($B102,[1]FlowData!$A$3:$PL$215,AC$7,FALSE)","v":1.8},{"$f":"VLOOKUP($B102,[1]FlowData!$A$3:$PL$215,AD$7,FALSE)","v":4.5},{"$f":"VLOOKUP($B102,[1]FlowData!$A$3:$PL$215,AE$7,FALSE)","v":17},{"$f":"VLOOKUP($B102,[1]FlowData!$A$3:$PL$215,AF$7,FALSE)","v":11},{"$f":"VLOOKUP($B102,[1]FlowData!$A$3:$PL$215,AG$7,FALSE)","v":4.7},{"$f":"VLOOKUP($B102,[1]FlowData!$A$3:$PL$215,AH$7,FALSE)","v":25},{"$f":"VLOOKUP($B102,[1]FlowData!$A$3:$PL$215,AI$7,FALSE)","v":9.5},{"$f":"VLOOKUP($B102,[1]FlowData!$A$3:$PL$215,AJ$7,FALSE)","v":6.6},{"$f":"VLOOKUP($B102,[1]FlowData!$A$3:$PL$215,AK$7,FALSE)","v":2.4},{"$f":"VLOOKUP($B102,[1]FlowData!$A$3:$PL$215,AL$7,FALSE)","v":6.9},{"$f":"VLOOKUP($B102,[1]FlowData!$A$3:$PL$215,AM$7,FALSE)","v":7.7},{"$f":"VLOOKUP($B102,[1]FlowData!$A$3:$PL$215,AN$7,FALSE)","v":4.9000000000000004},{"$f":"VLOOKUP($B102,[1]FlowData!$A$3:$PL$215,AO$7,FALSE)","v":2.2000000000000002},{"$f":"VLOOKUP($B102,[1]FlowData!$A$3:$PL$215,AP$7,FALSE)","v":5},{"$f":"VLOOKUP($B102,[1]FlowData!$A$3:$PL$215,AQ$7,FALSE)","v":6.3},{"$f":"VLOOKUP($B102,[1]FlowData!$A$3:$PL$215,AR$7,FALSE)","v":3.9},{"$f":"VLOOKUP($B102,[1]FlowData!$A$3:$PL$215,AS$7,FALSE)","v":1.7},{"$f":"VLOOKUP($B102,[1]FlowData!$A$3:$PL$215,AT$7,FALSE)","v":4},{"$f":"VLOOKUP($B102,[1]FlowData!$A$3:$PL$215,AU$7,FALSE)","v":5.8},{"$f":"VLOOKUP($B102,[1]FlowData!$A$3:$PL$215,AV$7,FALSE)","v":4.0999999999999996},{"$f":"VLOOKUP($B102,[1]FlowData!$A$3:$PL$215,AW$7,FALSE)","v":1.5},{"$f":"VLOOKUP($B102,[1]FlowData!$A$3:$PL$215,AX$7,FALSE)","v":3.7},{"$f":"VLOOKUP($B102,[1]FlowData!$A$3:$PL$215,AY$7,FALSE)","v":4.9000000000000004},{"$f":"VLOOKUP($B102,[1]FlowData!$A$3:$PL$215,AZ$7,FALSE)","v":3.3},{"$f":"VLOOKUP($B102,[1]FlowData!$A$3:$PL$215,BA$7,FALSE)","v":1.4},{"$f":"VLOOKUP($B102,[1]FlowData!$A$3:$PL$215,BB$7,FALSE)","v":3.2},{"$f":"VLOOKUP($B102,[1]FlowData!$A$3:$PL$215,BC$7,FALSE)","v":4.0999999999999996},{"$f":"VLOOKUP($B102,[1]FlowData!$A$3:$PL$215,BD$7,FALSE)","v":2.2000000000000002},{"$f":"VLOOKUP($B102,[1]FlowData!$A$3:$PL$215,BE$7,FALSE)","v":1.4},{"$f":"VLOOKUP($B102,[1]FlowData!$A$3:$PL$215,BF$7,FALSE)","v":2.7}]
[{"$f":"VLOOKUP(B103,'[2]Gages and BCs'!$A$4:$BJ$973,62,FALSE)","v":205},6115500,{"$f":"VLOOKUP(B103,'[2]Gages and BCs'!$A$4:$BJ$973,60,FALSE)","v":"North Fork Musselshell River near Delpine, Montana"},"1940–78",{"$f":"VLOOKUP($B103,[1]FlowData!$A$3:$PL$215,E$7,FALSE)","v":2.5569999999999999},{"$f":"VLOOKUP($B103,[1]FlowData!$A$3:$PL$215,F$7,FALSE)","v":3.4740000000000002},{"$f":"VLOOKUP($B103,[1]FlowData!$A$3:$PL$215,G$7,FALSE)","v":17},{"$f":"VLOOKUP($B103,[1]FlowData!$A$3:$PL$215,H$7,FALSE)","v":8.5},{"$f":"VLOOKUP($B103,[1]FlowData!$A$3:$PL$215,I$7,FALSE)","v":4.2},{"$f":"VLOOKUP($B103,[1]FlowData!$A$3:$PL$215,J$7,FALSE)","v":12},{"$f":"VLOOKUP($B103,[1]FlowData!$A$3:$PL$215,K$7,FALSE)","v":7.1},{"$f":"VLOOKUP($B103,[1]FlowData!$A$3:$PL$215,L$7,FALSE)","v":5.5},{"$f":"VLOOKUP($B103,[1]FlowData!$A$3:$PL$215,M$7,FALSE)","v":4.4000000000000004},{"$f":"VLOOKUP($B103,[1]FlowData!$A$3:$PL$215,N$7,FALSE)","v":5.7},{"$f":"VLOOKUP($B103,[1]FlowData!$A$3:$PL$215,O$7,FALSE)","v":7.6},{"$f":"VLOOKUP($B103,[1]FlowData!$A$3:$PL$215,P$7,FALSE)","v":5.7},{"$f":"VLOOKUP($B103,[1]FlowData!$A$3:$PL$215,Q$7,FALSE)","v":4.3},{"$f":"VLOOKUP($B103,[1]FlowData!$A$3:$PL$215,R$7,FALSE)","v":6.3},{"$f":"VLOOKUP($B103,[1]FlowData!$A$3:$PL$215,S$7,FALSE)","v":11},{"$f":"VLOOKUP($B103,[1]FlowData!$A$3:$PL$215,T$7,FALSE)","v":6.1},{"$f":"VLOOKUP($B103,[1]FlowData!$A$3:$PL$215,U$7,FALSE)","v":3.5},{"$f":"VLOOKUP($B103,[1]FlowData!$A$3:$PL$215,V$7,FALSE)","v":9.1999999999999993},{"$f":"VLOOKUP($B103,[1]FlowData!$A$3:$PL$215,W$7,FALSE)","v":26},{"$f":"VLOOKUP($B103,[1]FlowData!$A$3:$PL$215,X$7,FALSE)","v":15},{"$f":"VLOOKUP($B103,[1]FlowData!$A$3:$PL$215,Y$7,FALSE)","v":8.6},{"$f":"VLOOKUP($B103,[1]FlowData!$A$3:$PL$215,Z$7,FALSE)","v":19},{"$f":"VLOOKUP($B103,[1]FlowData!$A$3:$PL$215,AA$7,FALSE)","v":40},{"$f":"VLOOKUP($B103,[1]FlowData!$A$3:$PL$215,AB$7,FALSE)","v":24},{"$f":"VLOOKUP($B103,[1]FlowData!$A$3:$PL$215,AC$7,FALSE)","v":12},{"$f":"VLOOKUP($B103,[1]FlowData!$A$3:$PL$215,AD$7,FALSE)","v":27},{"$f":"VLOOKUP($B103,[1]FlowData!$A$3:$PL$215,AE$7,FALSE)","v":43},{"$f":"VLOOKUP($B103,[1]FlowData!$A$3:$PL$215,AF$7,FALSE)","v":28},{"$f":"VLOOKUP($B103,[1]FlowData!$A$3:$PL$215,AG$7,FALSE)","v":14},{"$f":"VLOOKUP($B103,[1]FlowData!$A$3:$PL$215,AH$7,FALSE)","v":29},{"$f":"VLOOKUP($B103,[1]FlowData!$A$3:$PL$215,AI$7,FALSE)","v":20},{"$f":"VLOOKUP($B103,[1]FlowData!$A$3:$PL$215,AJ$7,FALSE)","v":13},{"$f":"VLOOKUP($B103,[1]FlowData!$A$3:$PL$215,AK$7,FALSE)","v":7.5},{"$f":"VLOOKUP($B103,[1]FlowData!$A$3:$PL$215,AL$7,FALSE)","v":14},{"$f":"VLOOKUP($B103,[1]FlowData!$A$3:$PL$215,AM$7,FALSE)","v":13},{"$f":"VLOOKUP($B103,[1]FlowData!$A$3:$PL$215,AN$7,FALSE)","v":8.6999999999999993},{"$f":"VLOOKUP($B103,[1]FlowData!$A$3:$PL$215,AO$7,FALSE)","v":4.9000000000000004},{"$f":"VLOOKUP($B103,[1]FlowData!$A$3:$PL$215,AP$7,FALSE)","v":9},{"$f":"VLOOKUP($B103,[1]FlowData!$A$3:$PL$215,AQ$7,FALSE)","v":10},{"$f":"VLOOKUP($B103,[1]FlowData!$A$3:$PL$215,AR$7,FALSE)","v":7.3},{"$f":"VLOOKUP($B103,[1]FlowData!$A$3:$PL$215,AS$7,FALSE)","v":4},{"$f":"VLOOKUP($B103,[1]FlowData!$A$3:$PL$215,AT$7,FALSE)","v":7.4},{"$f":"VLOOKUP($B103,[1]FlowData!$A$3:$PL$215,AU$7,FALSE)","v":9.4},{"$f":"VLOOKUP($B103,[1]FlowData!$A$3:$PL$215,AV$7,FALSE)","v":6.7},{"$f":"VLOOKUP($B103,[1]FlowData!$A$3:$PL$215,AW$7,FALSE)","v":4.0999999999999996},{"$f":"VLOOKUP($B103,[1]FlowData!$A$3:$PL$215,AX$7,FALSE)","v":7},{"$f":"VLOOKUP($B103,[1]FlowData!$A$3:$PL$215,AY$7,FALSE)","v":8.9},{"$f":"VLOOKUP($B103,[1]FlowData!$A$3:$PL$215,AZ$7,FALSE)","v":7.2},{"$f":"VLOOKUP($B103,[1]FlowData!$A$3:$PL$215,BA$7,FALSE)","v":5.6},{"$f":"VLOOKUP($B103,[1]FlowData!$A$3:$PL$215,BB$7,FALSE)","v":7.4},{"$f":"VLOOKUP($B103,[1]FlowData!$A$3:$PL$215,BC$7,FALSE)","v":7.6},{"$f":"VLOOKUP($B103,[1]FlowData!$A$3:$PL$215,BD$7,FALSE)","v":6.2},{"$f":"VLOOKUP($B103,[1]FlowData!$A$3:$PL$215,BE$7,FALSE)","v":4.7},{"$f":"VLOOKUP($B103,[1]FlowData!$A$3:$PL$215,BF$7,FALSE)","v":6.4}]
[{"$f":"VLOOKUP(B104,'[2]Gages and BCs'!$A$4:$BJ$973,62,FALSE)","v":209},6118500,{"$f":"VLOOKUP(B104,'[2]Gages and BCs'!$A$4:$BJ$973,60,FALSE)","v":"South Fork Musselshell River above Martinsdale, Montana"},"1942–79",{"$f":"VLOOKUP($B104,[1]FlowData!$A$3:$PL$215,E$7,FALSE)","v":1.389},{"$f":"VLOOKUP($B104,[1]FlowData!$A$3:$PL$215,F$7,FALSE)","v":4.2910000000000004},{"$f":"VLOOKUP($B104,[1]FlowData!$A$3:$PL$215,G$7,FALSE)","v":153},{"$f":"VLOOKUP($B104,[1]FlowData!$A$3:$PL$215,H$7,FALSE)","v":96},{"$f":"VLOOKUP($B104,[1]FlowData!$A$3:$PL$215,I$7,FALSE)","v":38},{"$f":"VLOOKUP($B104,[1]FlowData!$A$3:$PL$215,J$7,FALSE)","v":91},{"$f":"VLOOKUP($B104,[1]FlowData!$A$3:$PL$215,K$7,FALSE)","v":23},{"$f":"VLOOKUP($B104,[1]FlowData!$A$3:$PL$215,L$7,FALSE)","v":18},{"$f":"VLOOKUP($B104,[1]FlowData!$A$3:$PL$215,M$7,FALSE)","v":10},{"$f":"VLOOKUP($B104,[1]FlowData!$A$3:$PL$215,N$7,FALSE)","v":18},{"$f":"VLOOKUP($B104,[1]FlowData!$A$3:$PL$215,O$7,FALSE)","v":25},{"$f":"VLOOKUP($B104,[1]FlowData!$A$3:$PL$215,P$7,FALSE)","v":18},{"$f":"VLOOKUP($B104,[1]FlowData!$A$3:$PL$215,Q$7,FALSE)","v":12},{"$f":"VLOOKUP($B104,[1]FlowData!$A$3:$PL$215,R$7,FALSE)","v":20},{"$f":"VLOOKUP($B104,[1]FlowData!$A$3:$PL$215,S$7,FALSE)","v":45},{"$f":"VLOOKUP($B104,[1]FlowData!$A$3:$PL$215,T$7,FALSE)","v":22},{"$f":"VLOOKUP($B104,[1]FlowData!$A$3:$PL$215,U$7,FALSE)","v":12},{"$f":"VLOOKUP($B104,[1]FlowData!$A$3:$PL$215,V$7,FALSE)","v":35},{"$f":"VLOOKUP($B104,[1]FlowData!$A$3:$PL$215,W$7,FALSE)","v":169},{"$f":"VLOOKUP($B104,[1]FlowData!$A$3:$PL$215,X$7,FALSE)","v":84},{"$f":"VLOOKUP($B104,[1]FlowData!$A$3:$PL$215,Y$7,FALSE)","v":39},{"$f":"VLOOKUP($B104,[1]FlowData!$A$3:$PL$215,Z$7,FALSE)","v":112},{"$f":"VLOOKUP($B104,[1]FlowData!$A$3:$PL$215,AA$7,FALSE)","v":515},{"$f":"VLOOKUP($B104,[1]FlowData!$A$3:$PL$215,AB$7,FALSE)","v":269},{"$f":"VLOOKUP($B104,[1]FlowData!$A$3:$PL$215,AC$7,FALSE)","v":134},{"$f":"VLOOKUP($B104,[1]FlowData!$A$3:$PL$215,AD$7,FALSE)","v":334},{"$f":"VLOOKUP($B104,[1]FlowData!$A$3:$PL$215,AE$7,FALSE)","v":556},{"$f":"VLOOKUP($B104,[1]FlowData!$A$3:$PL$215,AF$7,FALSE)","v":308},{"$f":"VLOOKUP($B104,[1]FlowData!$A$3:$PL$215,AG$7,FALSE)","v":118},{"$f":"VLOOKUP($B104,[1]FlowData!$A$3:$PL$215,AH$7,FALSE)","v":365},{"$f":"VLOOKUP($B104,[1]FlowData!$A$3:$PL$215,AI$7,FALSE)","v":121},{"$f":"VLOOKUP($B104,[1]FlowData!$A$3:$PL$215,AJ$7,FALSE)","v":58},{"$f":"VLOOKUP($B104,[1]FlowData!$A$3:$PL$215,AK$7,FALSE)","v":22},{"$f":"VLOOKUP($B104,[1]FlowData!$A$3:$PL$215,AL$7,FALSE)","v":80},{"$f":"VLOOKUP($B104,[1]FlowData!$A$3:$PL$215,AM$7,FALSE)","v":39},{"$f":"VLOOKUP($B104,[1]FlowData!$A$3:$PL$215,AN$7,FALSE)","v":19},{"$f":"VLOOKUP($B104,[1]FlowData!$A$3:$PL$215,AO$7,FALSE)","v":9.8000000000000007},{"$f":"VLOOKUP($B104,[1]FlowData!$A$3:$PL$215,AP$7,FALSE)","v":25},{"$f":"VLOOKUP($B104,[1]FlowData!$A$3:$PL$215,AQ$7,FALSE)","v":33},{"$f":"VLOOKUP($B104,[1]FlowData!$A$3:$PL$215,AR$7,FALSE)","v":19},{"$f":"VLOOKUP($B104,[1]FlowData!$A$3:$PL$215,AS$7,FALSE)","v":8.9},{"$f":"VLOOKUP($B104,[1]FlowData!$A$3:$PL$215,AT$7,FALSE)","v":23},{"$f":"VLOOKUP($B104,[1]FlowData!$A$3:$PL$215,AU$7,FALSE)","v":40},{"$f":"VLOOKUP($B104,[1]FlowData!$A$3:$PL$215,AV$7,FALSE)","v":28},{"$f":"VLOOKUP($B104,[1]FlowData!$A$3:$PL$215,AW$7,FALSE)","v":16},{"$f":"VLOOKUP($B104,[1]FlowData!$A$3:$PL$215,AX$7,FALSE)","v":31},{"$f":"VLOOKUP($B104,[1]FlowData!$A$3:$PL$215,AY$7,FALSE)","v":35},{"$f":"VLOOKUP($B104,[1]FlowData!$A$3:$PL$215,AZ$7,FALSE)","v":26},{"$f":"VLOOKUP($B104,[1]FlowData!$A$3:$PL$215,BA$7,FALSE)","v":18},{"$f":"VLOOKUP($B104,[1]FlowData!$A$3:$PL$215,BB$7,FALSE)","v":28},{"$f":"VLOOKUP($B104,[1]FlowData!$A$3:$PL$215,BC$7,FALSE)","v":29},{"$f":"VLOOKUP($B104,[1]FlowData!$A$3:$PL$215,BD$7,FALSE)","v":21},{"$f":"VLOOKUP($B104,[1]FlowData!$A$3:$PL$215,BE$7,FALSE)","v":10},{"$f":"VLOOKUP($B104,[1]FlowData!$A$3:$PL$215,BF$7,FALSE)","v":22}]
[{"$f":"VLOOKUP(B105,'[2]Gages and BCs'!$A$4:$BJ$973,62,FALSE)","v":212},6120500,{"$f":"VLOOKUP(B105,'[2]Gages and BCs'!$A$4:$BJ$973,60,FALSE)","v":"Musselshell River at Harlowton, Montana"},"1909–32, 1934–55",{"$f":"VLOOKUP($B105,[1]FlowData!$A$3:$PL$215,E$7,FALSE)","v":0},{"$f":"VLOOKUP($B105,[1]FlowData!$A$3:$PL$215,F$7,FALSE)","v":0},{"$f":"VLOOKUP($B105,[1]FlowData!$A$3:$PL$215,G$7,FALSE)","v":170},{"$f":"VLOOKUP($B105,[1]FlowData!$A$3:$PL$215,H$7,FALSE)","v":79},{"$f":"VLOOKUP($B105,[1]FlowData!$A$3:$PL$215,I$7,FALSE)","v":26},{"$f":"VLOOKUP($B105,[1]FlowData!$A$3:$PL$215,J$7,FALSE)","v":137},{"$f":"VLOOKUP($B105,[1]FlowData!$A$3:$PL$215,K$7,FALSE)","v":74},{"$f":"VLOOKUP($B105,[1]FlowData!$A$3:$PL$215,L$7,FALSE)","v":44},{"$f":"VLOOKUP($B105,[1]FlowData!$A$3:$PL$215,M$7,FALSE)","v":26},{"$f":"VLOOKUP($B105,[1]FlowData!$A$3:$PL$215,N$7,FALSE)","v":50},{"$f":"VLOOKUP($B105,[1]FlowData!$A$3:$PL$215,O$7,FALSE)","v":73},{"$f":"VLOOKUP($B105,[1]FlowData!$A$3:$PL$215,P$7,FALSE)","v":50},{"$f":"VLOOKUP($B105,[1]FlowData!$A$3:$PL$215,Q$7,FALSE)","v":24},{"$f":"VLOOKUP($B105,[1]FlowData!$A$3:$PL$215,R$7,FALSE)","v":54},{"$f":"VLOOKUP($B105,[1]FlowData!$A$3:$PL$215,S$7,FALSE)","v":151},{"$f":"VLOOKUP($B105,[1]FlowData!$A$3:$PL$215,T$7,FALSE)","v":72},{"$f":"VLOOKUP($B105,[1]FlowData!$A$3:$PL$215,U$7,FALSE)","v":36},{"$f":"VLOOKUP($B105,[1]FlowData!$A$3:$PL$215,V$7,FALSE)","v":128},{"$f":"VLOOKUP($B105,[1]FlowData!$A$3:$PL$215,W$7,FALSE)","v":327},{"$f":"VLOOKUP($B105,[1]FlowData!$A$3:$PL$215,X$7,FALSE)","v":161},{"$f":"VLOOKUP($B105,[1]FlowData!$A$3:$PL$215,Y$7,FALSE)","v":70},{"$f":"VLOOKUP($B105,[1]FlowData!$A$3:$PL$215,Z$7,FALSE)","v":218},{"$f":"VLOOKUP($B105,[1]FlowData!$A$3:$PL$215,AA$7,FALSE)","v":746},{"$f":"VLOOKUP($B105,[1]FlowData!$A$3:$PL$215,AB$7,FALSE)","v":352},{"$f":"VLOOKUP($B105,[1]FlowData!$A$3:$PL$215,AC$7,FALSE)","v":102},{"$f":"VLOOKUP($B105,[1]FlowData!$A$3:$PL$215,AD$7,FALSE)","v":459},{"$f":"VLOOKUP($B105,[1]FlowData!$A$3:$PL$215,AE$7,FALSE)","v":876},{"$f":"VLOOKUP($B105,[1]FlowData!$A$3:$PL$215,AF$7,FALSE)","v":395},{"$f":"VLOOKUP($B105,[1]FlowData!$A$3:$PL$215,AG$7,FALSE)","v":101},{"$f":"VLOOKUP($B105,[1]FlowData!$A$3:$PL$215,AH$7,FALSE)","v":535},{"$f":"VLOOKUP($B105,[1]FlowData!$A$3:$PL$215,AI$7,FALSE)","v":221},{"$f":"VLOOKUP($B105,[1]FlowData!$A$3:$PL$215,AJ$7,FALSE)","v":87},{"$f":"VLOOKUP($B105,[1]FlowData!$A$3:$PL$215,AK$7,FALSE)","v":25},{"$f":"VLOOKUP($B105,[1]FlowData!$A$3:$PL$215,AL$7,FALSE)","v":145},{"$f":"VLOOKUP($B105,[1]FlowData!$A$3:$PL$215,AM$7,FALSE)","v":90},{"$f":"VLOOKUP($B105,[1]FlowData!$A$3:$PL$215,AN$7,FALSE)","v":35},{"$f":"VLOOKUP($B105,[1]FlowData!$A$3:$PL$215,AO$7,FALSE)","v":4.5},{"$f":"VLOOKUP($B105,[1]FlowData!$A$3:$PL$215,AP$7,FALSE)","v":54},{"$f":"VLOOKUP($B105,[1]FlowData!$A$3:$PL$215,AQ$7,FALSE)","v":84},{"$f":"VLOOKUP($B105,[1]FlowData!$A$3:$PL$215,AR$7,FALSE)","v":42},{"$f":"VLOOKUP($B105,[1]FlowData!$A$3:$PL$215,AS$7,FALSE)","v":3.6},{"$f":"VLOOKUP($B105,[1]FlowData!$A$3:$PL$215,AT$7,FALSE)","v":53},{"$f":"VLOOKUP($B105,[1]FlowData!$A$3:$PL$215,AU$7,FALSE)","v":116},{"$f":"VLOOKUP($B105,[1]FlowData!$A$3:$PL$215,AV$7,FALSE)","v":65},{"$f":"VLOOKUP($B105,[1]FlowData!$A$3:$PL$215,AW$7,FALSE)","v":21},{"$f":"VLOOKUP($B105,[1]FlowData!$A$3:$PL$215,AX$7,FALSE)","v":72},{"$f":"VLOOKUP($B105,[1]FlowData!$A$3:$PL$215,AY$7,FALSE)","v":117},{"$f":"VLOOKUP($B105,[1]FlowData!$A$3:$PL$215,AZ$7,FALSE)","v":74},{"$f":"VLOOKUP($B105,[1]FlowData!$A$3:$PL$215,BA$7,FALSE)","v":38},{"$f":"VLOOKUP($B105,[1]FlowData!$A$3:$PL$215,BB$7,FALSE)","v":79},{"$f":"VLOOKUP($B105,[1]FlowData!$A$3:$PL$215,BC$7,FALSE)","v":93},{"$f":"VLOOKUP($B105,[1]FlowData!$A$3:$PL$215,BD$7,FALSE)","v":53},{"$f":"VLOOKUP($B105,[1]FlowData!$A$3:$PL$215,BE$7,FALSE)","v":28},{"$f":"VLOOKUP($B105,[1]FlowData!$A$3:$PL$215,BF$7,FALSE)","v":64}]
[{"$f":"VLOOKUP(B106,'[2]Gages and BCs'!$A$4:$BJ$973,62,FALSE)","v":217},6121000,{"$f":"VLOOKUP(B106,'[2]Gages and BCs'!$A$4:$BJ$973,60,FALSE)","v":"American Fork near Harlowton, Montana"},"1908, 1911, 1913, 1924–32",{"$f":"VLOOKUP($B106,[1]FlowData!$A$3:$PL$215,E$7,FALSE)","v":""},{"$f":"VLOOKUP($B106,[1]FlowData!$A$3:$PL$215,F$7,FALSE)","v":0},{"$f":"VLOOKUP($B106,[1]FlowData!$A$3:$PL$215,G$7,FALSE)","v":""},{"$f":"VLOOKUP($B106,[1]FlowData!$A$3:$PL$215,H$7,FALSE)","v":""},{"$f":"VLOOKUP($B106,[1]FlowData!$A$3:$PL$215,I$7,FALSE)","v":""},{"$f":"VLOOKUP($B106,[1]FlowData!$A$3:$PL$215,J$7,FALSE)","v":""},{"$f":"VLOOKUP($B106,[1]FlowData!$A$3:$PL$215,K$7,FALSE)","v":""},{"$f":"VLOOKUP($B106,[1]FlowData!$A$3:$PL$215,L$7,FALSE)","v":""},{"$f":"VLOOKUP($B106,[1]FlowData!$A$3:$PL$215,M$7,FALSE)","v":""},{"$f":"VLOOKUP($B106,[1]FlowData!$A$3:$PL$215,N$7,FALSE)","v":""},{"$f":"VLOOKUP($B106,[1]FlowData!$A$3:$PL$215,O$7,FALSE)","v":""},{"$f":"VLOOKUP($B106,[1]FlowData!$A$3:$PL$215,P$7,FALSE)","v":""},{"$f":"VLOOKUP($B106,[1]FlowData!$A$3:$PL$215,Q$7,FALSE)","v":""},{"$f":"VLOOKUP($B106,[1]FlowData!$A$3:$PL$215,R$7,FALSE)","v":""},{"$f":"VLOOKUP($B106,[1]FlowData!$A$3:$PL$215,S$7,FALSE)","v":""},{"$f":"VLOOKUP($B106,[1]FlowData!$A$3:$PL$215,T$7,FALSE)","v":""},{"$f":"VLOOKUP($B106,[1]FlowData!$A$3:$PL$215,U$7,FALSE)","v":""},{"$f":"VLOOKUP($B106,[1]FlowData!$A$3:$PL$215,V$7,FALSE)","v":""},{"$f":"VLOOKUP($B106,[1]FlowData!$A$3:$PL$215,W$7,FALSE)","v":6.6},{"$f":"VLOOKUP($B106,[1]FlowData!$A$3:$PL$215,X$7,FALSE)","v":4.0999999999999996},{"$f":"VLOOKUP($B106,[1]FlowData!$A$3:$PL$215,Y$7,FALSE)","v":2},{"$f":"VLOOKUP($B106,[1]FlowData!$A$3:$PL$215,Z$7,FALSE)","v":5.9},{"$f":"VLOOKUP($B106,[1]FlowData!$A$3:$PL$215,AA$7,FALSE)","v":88},{"$f":"VLOOKUP($B106,[1]FlowData!$A$3:$PL$215,AB$7,FALSE)","v":18},{"$f":"VLOOKUP($B106,[1]FlowData!$A$3:$PL$215,AC$7,FALSE)","v":5.5},{"$f":"VLOOKUP($B106,[1]FlowData!$A$3:$PL$215,AD$7,FALSE)","v":46},{"$f":"VLOOKUP($B106,[1]FlowData!$A$3:$PL$215,AE$7,FALSE)","v":166},{"$f":"VLOOKUP($B106,[1]FlowData!$A$3:$PL$215,AF$7,FALSE)","v":44},{"$f":"VLOOKUP($B106,[1]FlowData!$A$3:$PL$215,AG$7,FALSE)","v":11},{"$f":"VLOOKUP($B106,[1]FlowData!$A$3:$PL$215,AH$7,FALSE)","v":93},{"$f":"VLOOKUP($B106,[1]FlowData!$A$3:$PL$215,AI$7,FALSE)","v":11},{"$f":"VLOOKUP($B106,[1]FlowData!$A$3:$PL$215,AJ$7,FALSE)","v":1.9},{"$f":"VLOOKUP($B106,[1]FlowData!$A$3:$PL$215,AK$7,FALSE)","v":0},{"$f":"VLOOKUP($B106,[1]FlowData!$A$3:$PL$215,AL$7,FALSE)","v":8.8000000000000007},{"$f":"VLOOKUP($B106,[1]FlowData!$A$3:$PL$215,AM$7,FALSE)","v":2.5},{"$f":"VLOOKUP($B106,[1]FlowData!$A$3:$PL$215,AN$7,FALSE)","v":0},{"$f":"VLOOKUP($B106,[1]FlowData!$A$3:$PL$215,AO$7,FALSE)","v":0},{"$f":"VLOOKUP($B106,[1]FlowData!$A$3:$PL$215,AP$7,FALSE)","v":1.6},{"$f":"VLOOKUP($B106,[1]FlowData!$A$3:$PL$215,AQ$7,FALSE)","v":3.6},{"$f":"VLOOKUP($B106,[1]FlowData!$A$3:$PL$215,AR$7,FALSE)","v":0.36},{"$f":"VLOOKUP($B106,[1]FlowData!$A$3:$PL$215,AS$7,FALSE)","v":0},{"$f":"VLOOKUP($B106,[1]FlowData!$A$3:$PL$215,AT$7,FALSE)","v":1.7},{"$f":"VLOOKUP($B106,[1]FlowData!$A$3:$PL$215,AU$7,FALSE)","v":5.9},{"$f":"VLOOKUP($B106,[1]FlowData!$A$3:$PL$215,AV$7,FALSE)","v":3.6},{"$f":"VLOOKUP($B106,[1]FlowData!$A$3:$PL$215,AW$7,FALSE)","v":1.4},{"$f":"VLOOKUP($B106,[1]FlowData!$A$3:$PL$215,AX$7,FALSE)","v":4.0999999999999996},{"$f":"VLOOKUP($B106,[1]FlowData!$A$3:$PL$215,AY$7,FALSE)","v":""},{"$f":"VLOOKUP($B106,[1]FlowData!$A$3:$PL$215,AZ$7,FALSE)","v":""},{"$f":"VLOOKUP($B106,[1]FlowData!$A$3:$PL$215,BA$7,FALSE)","v":""},{"$f":"VLOOKUP($B106,[1]FlowData!$A$3:$PL$215,BB$7,FALSE)","v":""},{"$f":"VLOOKUP($B106,[1]FlowData!$A$3:$PL$215,BC$7,FALSE)","v":""},{"$f":"VLOOKUP($B106,[1]FlowData!$A$3:$PL$215,BD$7,FALSE)","v":""},{"$f":"VLOOKUP($B106,[1]FlowData!$A$3:$PL$215,BE$7,FALSE)","v":""},{"$f":"VLOOKUP($B106,[1]FlowData!$A$3:$PL$215,BF$7,FALSE)","v":""}]
[{"$f":"VLOOKUP(B107,'[2]Gages and BCs'!$A$4:$BJ$973,62,FALSE)","v":218},6121500,{"$f":"VLOOKUP(B107,'[2]Gages and BCs'!$A$4:$BJ$973,60,FALSE)","v":"Lebo Creek near Harlowton, Montana"},"1909–11, 1913, 1924–31",{"$f":"VLOOKUP($B107,[1]FlowData!$A$3:$PL$215,E$7,FALSE)","v":""},{"$f":"VLOOKUP($B107,[1]FlowData!$A$3:$PL$215,F$7,FALSE)","v":1.431},{"$f":"VLOOKUP($B107,[1]FlowData!$A$3:$PL$215,G$7,FALSE)","v":""},{"$f":"VLOOKUP($B107,[1]FlowData!$A$3:$PL$215,H$7,FALSE)","v":""},{"$f":"VLOOKUP($B107,[1]FlowData!$A$3:$PL$215,I$7,FALSE)","v":""},{"$f":"VLOOKUP($B107,[1]FlowData!$A$3:$PL$215,J$7,FALSE)","v":""},{"$f":"VLOOKUP($B107,[1]FlowData!$A$3:$PL$215,K$7,FALSE)","v":""},{"$f":"VLOOKUP($B107,[1]FlowData!$A$3:$PL$215,L$7,FALSE)","v":""},{"$f":"VLOOKUP($B107,[1]FlowData!$A$3:$PL$215,M$7,FALSE)","v":""},{"$f":"VLOOKUP($B107,[1]FlowData!$A$3:$PL$215,N$7,FALSE)","v":""},{"$f":"VLOOKUP($B107,[1]FlowData!$A$3:$PL$215,O$7,FALSE)","v":""},{"$f":"VLOOKUP($B107,[1]FlowData!$A$3:$PL$215,P$7,FALSE)","v":""},{"$f":"VLOOKUP($B107,[1]FlowData!$A$3:$PL$215,Q$7,FALSE)","v":""},{"$f":"VLOOKUP($B107,[1]FlowData!$A$3:$PL$215,R$7,FALSE)","v":""},{"$f":"VLOOKUP($B107,[1]FlowData!$A$3:$PL$215,S$7,FALSE)","v":""},{"$f":"VLOOKUP($B107,[1]FlowData!$A$3:$PL$215,T$7,FALSE)","v":""},{"$f":"VLOOKUP($B107,[1]FlowData!$A$3:$PL$215,U$7,FALSE)","v":""},{"$f":"VLOOKUP($B107,[1]FlowData!$A$3:$PL$215,V$7,FALSE)","v":""},{"$f":"VLOOKUP($B107,[1]FlowData!$A$3:$PL$215,W$7,FALSE)","v":22},{"$f":"VLOOKUP($B107,[1]FlowData!$A$3:$PL$215,X$7,FALSE)","v":16},{"$f":"VLOOKUP($B107,[1]FlowData!$A$3:$PL$215,Y$7,FALSE)","v":8.6},{"$f":"VLOOKUP($B107,[1]FlowData!$A$3:$PL$215,Z$7,FALSE)","v":16},{"$f":"VLOOKUP($B107,[1]FlowData!$A$3:$PL$215,AA$7,FALSE)","v":26},{"$f":"VLOOKUP($B107,[1]FlowData!$A$3:$PL$215,AB$7,FALSE)","v":15},{"$f":"VLOOKUP($B107,[1]FlowData!$A$3:$PL$215,AC$7,FALSE)","v":4.8},{"$f":"VLOOKUP($B107,[1]FlowData!$A$3:$PL$215,AD$7,FALSE)","v":18},{"$f":"VLOOKUP($B107,[1]FlowData!$A$3:$PL$215,AE$7,FALSE)","v":28},{"$f":"VLOOKUP($B107,[1]FlowData!$A$3:$PL$215,AF$7,FALSE)","v":8.1},{"$f":"VLOOKUP($B107,[1]FlowData!$A$3:$PL$215,AG$7,FALSE)","v":2.2999999999999998},{"$f":"VLOOKUP($B107,[1]FlowData!$A$3:$PL$215,AH$7,FALSE)","v":16},{"$f":"VLOOKUP($B107,[1]FlowData!$A$3:$PL$215,AI$7,FALSE)","v":11},{"$f":"VLOOKUP($B107,[1]FlowData!$A$3:$PL$215,AJ$7,FALSE)","v":4.9000000000000004},{"$f":"VLOOKUP($B107,[1]FlowData!$A$3:$PL$215,AK$7,FALSE)","v":2.1},{"$f":"VLOOKUP($B107,[1]FlowData!$A$3:$PL$215,AL$7,FALSE)","v":7.6},{"$f":"VLOOKUP($B107,[1]FlowData!$A$3:$PL$215,AM$7,FALSE)","v":14},{"$f":"VLOOKUP($B107,[1]FlowData!$A$3:$PL$215,AN$7,FALSE)","v":7.1},{"$f":"VLOOKUP($B107,[1]FlowData!$A$3:$PL$215,AO$7,FALSE)","v":2.8},{"$f":"VLOOKUP($B107,[1]FlowData!$A$3:$PL$215,AP$7,FALSE)","v":8.4},{"$f":"VLOOKUP($B107,[1]FlowData!$A$3:$PL$215,AQ$7,FALSE)","v":19},{"$f":"VLOOKUP($B107,[1]FlowData!$A$3:$PL$215,AR$7,FALSE)","v":13},{"$f":"VLOOKUP($B107,[1]FlowData!$A$3:$PL$215,AS$7,FALSE)","v":3.8},{"$f":"VLOOKUP($B107,[1]FlowData!$A$3:$PL$215,AT$7,FALSE)","v":12},{"$f":"VLOOKUP($B107,[1]FlowData!$A$3:$PL$215,AU$7,FALSE)","v":20},{"$f":"VLOOKUP($B107,[1]FlowData!$A$3:$PL$215,AV$7,FALSE)","v":16},{"$f":"VLOOKUP($B107,[1]FlowData!$A$3:$PL$215,AW$7,FALSE)","v":9.5},{"$f":"VLOOKUP($B107,[1]FlowData!$A$3:$PL$215,AX$7,FALSE)","v":15},{"$f":"VLOOKUP($B107,[1]FlowData!$A$3:$PL$215,AY$7,FALSE)","v":""},{"$f":"VLOOKUP($B107,[1]FlowData!$A$3:$PL$215,AZ$7,FALSE)","v":""},{"$f":"VLOOKUP($B107,[1]FlowData!$A$3:$PL$215,BA$7,FALSE)","v":""},{"$f":"VLOOKUP($B107,[1]FlowData!$A$3:$PL$215,BB$7,FALSE)","v":""},{"$f":"VLOOKUP($B107,[1]FlowData!$A$3:$PL$215,BC$7,FALSE)","v":""},{"$f":"VLOOKUP($B107,[1]FlowData!$A$3:$PL$215,BD$7,FALSE)","v":""},{"$f":"VLOOKUP($B107,[1]FlowData!$A$3:$PL$215,BE$7,FALSE)","v":""},{"$f":"VLOOKUP($B107,[1]FlowData!$A$3:$PL$215,BF$7,FALSE)","v":""}]
[{"$f":"VLOOKUP(B108,'[2]Gages and BCs'!$A$4:$BJ$973,62,FALSE)","v":219},6122000,{"$f":"VLOOKUP(B108,'[2]Gages and BCs'!$A$4:$BJ$973,60,FALSE)","v":"American Fork below Lebo Creek, near Harlowton, Montana"},"1946–67",{"$f":"VLOOKUP($B108,[1]FlowData!$A$3:$PL$215,E$7,FALSE)","v":0.25600000000000001},{"$f":"VLOOKUP($B108,[1]FlowData!$A$3:$PL$215,F$7,FALSE)","v":1.468},{"$f":"VLOOKUP($B108,[1]FlowData!$A$3:$PL$215,G$7,FALSE)","v":43},{"$f":"VLOOKUP($B108,[1]FlowData!$A$3:$PL$215,H$7,FALSE)","v":27},{"$f":"VLOOKUP($B108,[1]FlowData!$A$3:$PL$215,I$7,FALSE)","v":11},{"$f":"VLOOKUP($B108,[1]FlowData!$A$3:$PL$215,J$7,FALSE)","v":31},{"$f":"VLOOKUP($B108,[1]FlowData!$A$3:$PL$215,K$7,FALSE)","v":17},{"$f":"VLOOKUP($B108,[1]FlowData!$A$3:$PL$215,L$7,FALSE)","v":13},{"$f":"VLOOKUP($B108,[1]FlowData!$A$3:$PL$215,M$7,FALSE)","v":7.8},{"$f":"VLOOKUP($B108,[1]FlowData!$A$3:$PL$215,N$7,FALSE)","v":13},{"$f":"VLOOKUP($B108,[1]FlowData!$A$3:$PL$215,O$7,FALSE)","v":21},{"$f":"VLOOKUP($B108,[1]FlowData!$A$3:$PL$215,P$7,FALSE)","v":15},{"$f":"VLOOKUP($B108,[1]FlowData!$A$3:$PL$215,Q$7,FALSE)","v":9.1999999999999993},{"$f":"VLOOKUP($B108,[1]FlowData!$A$3:$PL$215,R$7,FALSE)","v":17},{"$f":"VLOOKUP($B108,[1]FlowData!$A$3:$PL$215,S$7,FALSE)","v":27},{"$f":"VLOOKUP($B108,[1]FlowData!$A$3:$PL$215,T$7,FALSE)","v":18},{"$f":"VLOOKUP($B108,[1]FlowData!$A$3:$PL$215,U$7,FALSE)","v":10},{"$f":"VLOOKUP($B108,[1]FlowData!$A$3:$PL$215,V$7,FALSE)","v":23},{"$f":"VLOOKUP($B108,[1]FlowData!$A$3:$PL$215,W$7,FALSE)","v":32},{"$f":"VLOOKUP($B108,[1]FlowData!$A$3:$PL$215,X$7,FALSE)","v":20},{"$f":"VLOOKUP($B108,[1]FlowData!$A$3:$PL$215,Y$7,FALSE)","v":13},{"$f":"VLOOKUP($B108,[1]FlowData!$A$3:$PL$215,Z$7,FALSE)","v":23},{"$f":"VLOOKUP($B108,[1]FlowData!$A$3:$PL$215,AA$7,FALSE)","v":112},{"$f":"VLOOKUP($B108,[1]FlowData!$A$3:$PL$215,AB$7,FALSE)","v":42},{"$f":"VLOOKUP($B108,[1]FlowData!$A$3:$PL$215,AC$7,FALSE)","v":13},{"$f":"VLOOKUP($B108,[1]FlowData!$A$3:$PL$215,AD$7,FALSE)","v":70},{"$f":"VLOOKUP($B108,[1]FlowData!$A$3:$PL$215,AE$7,FALSE)","v":204},{"$f":"VLOOKUP($B108,[1]FlowData!$A$3:$PL$215,AF$7,FALSE)","v":75},{"$f":"VLOOKUP($B108,[1]FlowData!$A$3:$PL$215,AG$7,FALSE)","v":25},{"$f":"VLOOKUP($B108,[1]FlowData!$A$3:$PL$215,AH$7,FALSE)","v":130},{"$f":"VLOOKUP($B108,[1]FlowData!$A$3:$PL$215,AI$7,FALSE)","v":39},{"$f":"VLOOKUP($B108,[1]FlowData!$A$3:$PL$215,AJ$7,FALSE)","v":19},{"$f":"VLOOKUP($B108,[1]FlowData!$A$3:$PL$215,AK$7,FALSE)","v":7.5},{"$f":"VLOOKUP($B108,[1]FlowData!$A$3:$PL$215,AL$7,FALSE)","v":30},{"$f":"VLOOKUP($B108,[1]FlowData!$A$3:$PL$215,AM$7,FALSE)","v":16},{"$f":"VLOOKUP($B108,[1]FlowData!$A$3:$PL$215,AN$7,FALSE)","v":8.1},{"$f":"VLOOKUP($B108,[1]FlowData!$A$3:$PL$215,AO$7,FALSE)","v":3.9},{"$f":"VLOOKUP($B108,[1]FlowData!$A$3:$PL$215,AP$7,FALSE)","v":10},{"$f":"VLOOKUP($B108,[1]FlowData!$A$3:$PL$215,AQ$7,FALSE)","v":16},{"$f":"VLOOKUP($B108,[1]FlowData!$A$3:$PL$215,AR$7,FALSE)","v":8.5},{"$f":"VLOOKUP($B108,[1]FlowData!$A$3:$PL$215,AS$7,FALSE)","v":3.9},{"$f":"VLOOKUP($B108,[1]FlowData!$A$3:$PL$215,AT$7,FALSE)","v":12},{"$f":"VLOOKUP($B108,[1]FlowData!$A$3:$PL$215,AU$7,FALSE)","v":20},{"$f":"VLOOKUP($B108,[1]FlowData!$A$3:$PL$215,AV$7,FALSE)","v":11},{"$f":"VLOOKUP($B108,[1]FlowData!$A$3:$PL$215,AW$7,FALSE)","v":4.7},{"$f":"VLOOKUP($B108,[1]FlowData!$A$3:$PL$215,AX$7,FALSE)","v":13},{"$f":"VLOOKUP($B108,[1]FlowData!$A$3:$PL$215,AY$7,FALSE)","v":20},{"$f":"VLOOKUP($B108,[1]FlowData!$A$3:$PL$215,AZ$7,FALSE)","v":14},{"$f":"VLOOKUP($B108,[1]FlowData!$A$3:$PL$215,BA$7,FALSE)","v":8.3000000000000007},{"$f":"VLOOKUP($B108,[1]FlowData!$A$3:$PL$215,BB$7,FALSE)","v":15},{"$f":"VLOOKUP($B108,[1]FlowData!$A$3:$PL$215,BC$7,FALSE)","v":19},{"$f":"VLOOKUP($B108,[1]FlowData!$A$3:$PL$215,BD$7,FALSE)","v":13},{"$f":"VLOOKUP($B108,[1]FlowData!$A$3:$PL$215,BE$7,FALSE)","v":8.8000000000000007},{"$f":"VLOOKUP($B108,[1]FlowData!$A$3:$PL$215,BF$7,FALSE)","v":15}]
[{"$f":"VLOOKUP(B109,'[2]Gages and BCs'!$A$4:$BJ$973,62,FALSE)","v":423},6191000,{"$f":"VLOOKUP(B109,'[2]Gages and BCs'!$A$4:$BJ$973,60,FALSE)","v":"Gardner River near Mammoth, Yellowstone National Park, Wyoming"},"1939–72, 1984–2009",{"$f":"VLOOKUP($B109,[1]FlowData!$A$3:$PL$215,E$7,FALSE)","v":71.063999999999993},{"$f":"VLOOKUP($B109,[1]FlowData!$A$3:$PL$215,F$7,FALSE)","v":104.46},{"$f":"VLOOKUP($B109,[1]FlowData!$A$3:$PL$215,G$7,FALSE)","v":249},{"$f":"VLOOKUP($B109,[1]FlowData!$A$3:$PL$215,H$7,FALSE)","v":127},{"$f":"VLOOKUP($B109,[1]FlowData!$A$3:$PL$215,I$7,FALSE)","v":78},{"$f":"VLOOKUP($B109,[1]FlowData!$A$3:$PL$215,J$7,FALSE)","v":213},{"$f":"VLOOKUP($B109,[1]FlowData!$A$3:$PL$215,K$7,FALSE)","v":106},{"$f":"VLOOKUP($B109,[1]FlowData!$A$3:$PL$215,L$7,FALSE)","v":96},{"$f":"VLOOKUP($B109,[1]FlowData!$A$3:$PL$215,M$7,FALSE)","v":84},{"$f":"VLOOKUP($B109,[1]FlowData!$A$3:$PL$215,N$7,FALSE)","v":96},{"$f":"VLOOKUP($B109,[1]FlowData!$A$3:$PL$215,O$7,FALSE)","v":100},{"$f":"VLOOKUP($B109,[1]FlowData!$A$3:$PL$215,P$7,FALSE)","v":92},{"$f":"VLOOKUP($B109,[1]FlowData!$A$3:$PL$215,Q$7,FALSE)","v":84},{"$f":"VLOOKUP($B109,[1]FlowData!$A$3:$PL$215,R$7,FALSE)","v":93},{"$f":"VLOOKUP($B109,[1]FlowData!$A$3:$PL$215,S$7,FALSE)","v":102},{"$f":"VLOOKUP($B109,[1]FlowData!$A$3:$PL$215,T$7,FALSE)","v":93},{"$f":"VLOOKUP($B109,[1]FlowData!$A$3:$PL$215,U$7,FALSE)","v":84},{"$f":"VLOOKUP($B109,[1]FlowData!$A$3:$PL$215,V$7,FALSE)","v":94},{"$f":"VLOOKUP($B109,[1]FlowData!$A$3:$PL$215,W$7,FALSE)","v":171},{"$f":"VLOOKUP($B109,[1]FlowData!$A$3:$PL$215,X$7,FALSE)","v":114},{"$f":"VLOOKUP($B109,[1]FlowData!$A$3:$PL$215,Y$7,FALSE)","v":93},{"$f":"VLOOKUP($B109,[1]FlowData!$A$3:$PL$215,Z$7,FALSE)","v":141},{"$f":"VLOOKUP($B109,[1]FlowData!$A$3:$PL$215,AA$7,FALSE)","v":735},{"$f":"VLOOKUP($B109,[1]FlowData!$A$3:$PL$215,AB$7,FALSE)","v":447},{"$f":"VLOOKUP($B109,[1]FlowData!$A$3:$PL$215,AC$7,FALSE)","v":256},{"$f":"VLOOKUP($B109,[1]FlowData!$A$3:$PL$215,AD$7,FALSE)","v":511},{"$f":"VLOOKUP($B109,[1]FlowData!$A$3:$PL$215,AE$7,FALSE)","v":976},{"$f":"VLOOKUP($B109,[1]FlowData!$A$3:$PL$215,AF$7,FALSE)","v":642},{"$f":"VLOOKUP($B109,[1]FlowData!$A$3:$PL$215,AG$7,FALSE)","v":395},{"$f":"VLOOKUP($B109,[1]FlowData!$A$3:$PL$215,AH$7,FALSE)","v":695},{"$f":"VLOOKUP($B109,[1]FlowData!$A$3:$PL$215,AI$7,FALSE)","v":394},{"$f":"VLOOKUP($B109,[1]FlowData!$A$3:$PL$215,AJ$7,FALSE)","v":251},{"$f":"VLOOKUP($B109,[1]FlowData!$A$3:$PL$215,AK$7,FALSE)","v":172},{"$f":"VLOOKUP($B109,[1]FlowData!$A$3:$PL$215,AL$7,FALSE)","v":296},{"$f":"VLOOKUP($B109,[1]FlowData!$A$3:$PL$215,AM$7,FALSE)","v":191},{"$f":"VLOOKUP($B109,[1]FlowData!$A$3:$PL$215,AN$7,FALSE)","v":152},{"$f":"VLOOKUP($B109,[1]FlowData!$A$3:$PL$215,AO$7,FALSE)","v":124},{"$f":"VLOOKUP($B109,[1]FlowData!$A$3:$PL$215,AP$7,FALSE)","v":159},{"$f":"VLOOKUP($B109,[1]FlowData!$A$3:$PL$215,AQ$7,FALSE)","v":159},{"$f":"VLOOKUP($B109,[1]FlowData!$A$3:$PL$215,AR$7,FALSE)","v":132},{"$f":"VLOOKUP($B109,[1]FlowData!$A$3:$PL$215,AS$7,FALSE)","v":113},{"$f":"VLOOKUP($B109,[1]FlowData!$A$3:$PL$215,AT$7,FALSE)","v":135},{"$f":"VLOOKUP($B109,[1]FlowData!$A$3:$PL$215,AU$7,FALSE)","v":144},{"$f":"VLOOKUP($B109,[1]FlowData!$A$3:$PL$215,AV$7,FALSE)","v":123},{"$f":"VLOOKUP($B109,[1]FlowData!$A$3:$PL$215,AW$7,FALSE)","v":107},{"$f":"VLOOKUP($B109,[1]FlowData!$A$3:$PL$215,AX$7,FALSE)","v":126},{"$f":"VLOOKUP($B109,[1]FlowData!$A$3:$PL$215,AY$7,FALSE)","v":127},{"$f":"VLOOKUP($B109,[1]FlowData!$A$3:$PL$215,AZ$7,FALSE)","v":110},{"$f":"VLOOKUP($B109,[1]FlowData!$A$3:$PL$215,BA$7,FALSE)","v":96},{"$f":"VLOOKUP($B109,[1]FlowData!$A$3:$PL$215,BB$7,FALSE)","v":111},{"$f":"VLOOKUP($B109,[1]FlowData!$A$3:$PL$215,BC$7,FALSE)","v":114},{"$f":"VLOOKUP($B109,[1]FlowData!$A$3:$PL$215,BD$7,FALSE)","v":101},{"$f":"VLOOKUP($B109,[1]FlowData!$A$3:$PL$215,BE$7,FALSE)","v":88},{"$f":"VLOOKUP($B109,[1]FlowData!$A$3:$PL$215,BF$7,FALSE)","v":101}]
[{"$f":"VLOOKUP(B110,'[2]Gages and BCs'!$A$4:$BJ$973,62,FALSE)","v":424},6191500,{"$f":"VLOOKUP(B110,'[2]Gages and BCs'!$A$4:$BJ$973,60,FALSE)","v":"Yellowstone River at Corwin Springs, Montana"},"1911–32, 1934–2009",{"$f":"VLOOKUP($B110,[1]FlowData!$A$3:$PL$215,E$7,FALSE)","v":500.92599999999999},{"$f":"VLOOKUP($B110,[1]FlowData!$A$3:$PL$215,F$7,FALSE)","v":1104.489},{"$f":"VLOOKUP($B110,[1]FlowData!$A$3:$PL$215,G$7,FALSE)","v":4670},{"$f":"VLOOKUP($B110,[1]FlowData!$A$3:$PL$215,H$7,FALSE)","v":1410},{"$f":"VLOOKUP($B110,[1]FlowData!$A$3:$PL$215,I$7,FALSE)","v":768},{"$f":"VLOOKUP($B110,[1]FlowData!$A$3:$PL$215,J$7,FALSE)","v":3140},{"$f":"VLOOKUP($B110,[1]FlowData!$A$3:$PL$215,K$7,FALSE)","v":1010},{"$f":"VLOOKUP($B110,[1]FlowData!$A$3:$PL$215,L$7,FALSE)","v":800},{"$f":"VLOOKUP($B110,[1]FlowData!$A$3:$PL$215,M$7,FALSE)","v":646},{"$f":"VLOOKUP($B110,[1]FlowData!$A$3:$PL$215,N$7,FALSE)","v":822},{"$f":"VLOOKUP($B110,[1]FlowData!$A$3:$PL$215,O$7,FALSE)","v":1000},{"$f":"VLOOKUP($B110,[1]FlowData!$A$3:$PL$215,P$7,FALSE)","v":807},{"$f":"VLOOKUP($B110,[1]FlowData!$A$3:$PL$215,Q$7,FALSE)","v":646},{"$f":"VLOOKUP($B110,[1]FlowData!$A$3:$PL$215,R$7,FALSE)","v":823},{"$f":"VLOOKUP($B110,[1]FlowData!$A$3:$PL$215,S$7,FALSE)","v":1050},{"$f":"VLOOKUP($B110,[1]FlowData!$A$3:$PL$215,T$7,FALSE)","v":885},{"$f":"VLOOKUP($B110,[1]FlowData!$A$3:$PL$215,U$7,FALSE)","v":728},{"$f":"VLOOKUP($B110,[1]FlowData!$A$3:$PL$215,V$7,FALSE)","v":893},{"$f":"VLOOKUP($B110,[1]FlowData!$A$3:$PL$215,W$7,FALSE)","v":1890},{"$f":"VLOOKUP($B110,[1]FlowData!$A$3:$PL$215,X$7,FALSE)","v":1270},{"$f":"VLOOKUP($B110,[1]FlowData!$A$3:$PL$215,Y$7,FALSE)","v":967},{"$f":"VLOOKUP($B110,[1]FlowData!$A$3:$PL$215,Z$7,FALSE)","v":1570},{"$f":"VLOOKUP($B110,[1]FlowData!$A$3:$PL$215,AA$7,FALSE)","v":9270},{"$f":"VLOOKUP($B110,[1]FlowData!$A$3:$PL$215,AB$7,FALSE)","v":5390},{"$f":"VLOOKUP($B110,[1]FlowData!$A$3:$PL$215,AC$7,FALSE)","v":2760},{"$f":"VLOOKUP($B110,[1]FlowData!$A$3:$PL$215,AD$7,FALSE)","v":6250},{"$f":"VLOOKUP($B110,[1]FlowData!$A$3:$PL$215,AE$7,FALSE)","v":15000},{"$f":"VLOOKUP($B110,[1]FlowData!$A$3:$PL$215,AF$7,FALSE)","v":10700},{"$f":"VLOOKUP($B110,[1]FlowData!$A$3:$PL$215,AG$7,FALSE)","v":7370},{"$f":"VLOOKUP($B110,[1]FlowData!$A$3:$PL$215,AH$7,FALSE)","v":11500},{"$f":"VLOOKUP($B110,[1]FlowData!$A$3:$PL$215,AI$7,FALSE)","v":9210},{"$f":"VLOOKUP($B110,[1]FlowData!$A$3:$PL$215,AJ$7,FALSE)","v":6020},{"$f":"VLOOKUP($B110,[1]FlowData!$A$3:$PL$215,AK$7,FALSE)","v":3840},{"$f":"VLOOKUP($B110,[1]FlowData!$A$3:$PL$215,AL$7,FALSE)","v":6690},{"$f":"VLOOKUP($B110,[1]FlowData!$A$3:$PL$215,AM$7,FALSE)","v":4080},{"$f":"VLOOKUP($B110,[1]FlowData!$A$3:$PL$215,AN$7,FALSE)","v":2920},{"$f":"VLOOKUP($B110,[1]FlowData!$A$3:$PL$215,AO$7,FALSE)","v":2100},{"$f":"VLOOKUP($B110,[1]FlowData!$A$3:$PL$215,AP$7,FALSE)","v":3120},{"$f":"VLOOKUP($B110,[1]FlowData!$A$3:$PL$215,AQ$7,FALSE)","v":2380},{"$f":"VLOOKUP($B110,[1]FlowData!$A$3:$PL$215,AR$7,FALSE)","v":1870},{"$f":"VLOOKUP($B110,[1]FlowData!$A$3:$PL$215,AS$7,FALSE)","v":1460},{"$f":"VLOOKUP($B110,[1]FlowData!$A$3:$PL$215,AT$7,FALSE)","v":1920},{"$f":"VLOOKUP($B110,[1]FlowData!$A$3:$PL$215,AU$7,FALSE)","v":1820},{"$f":"VLOOKUP($B110,[1]FlowData!$A$3:$PL$215,AV$7,FALSE)","v":1440},{"$f":"VLOOKUP($B110,[1]FlowData!$A$3:$PL$215,AW$7,FALSE)","v":1160},{"$f":"VLOOKUP($B110,[1]FlowData!$A$3:$PL$215,AX$7,FALSE)","v":1500},{"$f":"VLOOKUP($B110,[1]FlowData!$A$3:$PL$215,AY$7,FALSE)","v":1400},{"$f":"VLOOKUP($B110,[1]FlowData!$A$3:$PL$215,AZ$7,FALSE)","v":1160},{"$f":"VLOOKUP($B110,[1]FlowData!$A$3:$PL$215,BA$7,FALSE)","v":928},{"$f":"VLOOKUP($B110,[1]FlowData!$A$3:$PL$215,BB$7,FALSE)","v":1180},{"$f":"VLOOKUP($B110,[1]FlowData!$A$3:$PL$215,BC$7,FALSE)","v":1130},{"$f":"VLOOKUP($B110,[1]FlowData!$A$3:$PL$215,BD$7,FALSE)","v":933},{"$f":"VLOOKUP($B110,[1]FlowData!$A$3:$PL$215,BE$7,FALSE)","v":755},{"$f":"VLOOKUP($B110,[1]FlowData!$A$3:$PL$215,BF$7,FALSE)","v":941}]
[{"$f":"VLOOKUP(B111,'[2]Gages and BCs'!$A$4:$BJ$973,62,FALSE)","v":426},6193000,{"$f":"VLOOKUP(B111,'[2]Gages and BCs'!$A$4:$BJ$973,60,FALSE)","v":"Shields River near Wilsall, Montana"},"1935–57",{"$f":"VLOOKUP($B111,[1]FlowData!$A$3:$PL$215,E$7,FALSE)","v":4.9180000000000001},{"$f":"VLOOKUP($B111,[1]FlowData!$A$3:$PL$215,F$7,FALSE)","v":7.81},{"$f":"VLOOKUP($B111,[1]FlowData!$A$3:$PL$215,G$7,FALSE)","v":79},{"$f":"VLOOKUP($B111,[1]FlowData!$A$3:$PL$215,H$7,FALSE)","v":40},{"$f":"VLOOKUP($B111,[1]FlowData!$A$3:$PL$215,I$7,FALSE)","v":17},{"$f":"VLOOKUP($B111,[1]FlowData!$A$3:$PL$215,J$7,FALSE)","v":63},{"$f":"VLOOKUP($B111,[1]FlowData!$A$3:$PL$215,K$7,FALSE)","v":15},{"$f":"VLOOKUP($B111,[1]FlowData!$A$3:$PL$215,L$7,FALSE)","v":11},{"$f":"VLOOKUP($B111,[1]FlowData!$A$3:$PL$215,M$7,FALSE)","v":7.5},{"$f":"VLOOKUP($B111,[1]FlowData!$A$3:$PL$215,N$7,FALSE)","v":11},{"$f":"VLOOKUP($B111,[1]FlowData!$A$3:$PL$215,O$7,FALSE)","v":15},{"$f":"VLOOKUP($B111,[1]FlowData!$A$3:$PL$215,P$7,FALSE)","v":10},{"$f":"VLOOKUP($B111,[1]FlowData!$A$3:$PL$215,Q$7,FALSE)","v":7.7},{"$f":"VLOOKUP($B111,[1]FlowData!$A$3:$PL$215,R$7,FALSE)","v":11},{"$f":"VLOOKUP($B111,[1]FlowData!$A$3:$PL$215,S$7,FALSE)","v":14},{"$f":"VLOOKUP($B111,[1]FlowData!$A$3:$PL$215,T$7,FALSE)","v":11},{"$f":"VLOOKUP($B111,[1]FlowData!$A$3:$PL$215,U$7,FALSE)","v":7.9},{"$f":"VLOOKUP($B111,[1]FlowData!$A$3:$PL$215,V$7,FALSE)","v":12},{"$f":"VLOOKUP($B111,[1]FlowData!$A$3:$PL$215,W$7,FALSE)","v":94},{"$f":"VLOOKUP($B111,[1]FlowData!$A$3:$PL$215,X$7,FALSE)","v":31},{"$f":"VLOOKUP($B111,[1]FlowData!$A$3:$PL$215,Y$7,FALSE)","v":13},{"$f":"VLOOKUP($B111,[1]FlowData!$A$3:$PL$215,Z$7,FALSE)","v":61},{"$f":"VLOOKUP($B111,[1]FlowData!$A$3:$PL$215,AA$7,FALSE)","v":320},{"$f":"VLOOKUP($B111,[1]FlowData!$A$3:$PL$215,AB$7,FALSE)","v":175},{"$f":"VLOOKUP($B111,[1]FlowData!$A$3:$PL$215,AC$7,FALSE)","v":94},{"$f":"VLOOKUP($B111,[1]FlowData!$A$3:$PL$215,AD$7,FALSE)","v":221},{"$f":"VLOOKUP($B111,[1]FlowData!$A$3:$PL$215,AE$7,FALSE)","v":360},{"$f":"VLOOKUP($B111,[1]FlowData!$A$3:$PL$215,AF$7,FALSE)","v":197},{"$f":"VLOOKUP($B111,[1]FlowData!$A$3:$PL$215,AG$7,FALSE)","v":105},{"$f":"VLOOKUP($B111,[1]FlowData!$A$3:$PL$215,AH$7,FALSE)","v":242},{"$f":"VLOOKUP($B111,[1]FlowData!$A$3:$PL$215,AI$7,FALSE)","v":98},{"$f":"VLOOKUP($B111,[1]FlowData!$A$3:$PL$215,AJ$7,FALSE)","v":42},{"$f":"VLOOKUP($B111,[1]FlowData!$A$3:$PL$215,AK$7,FALSE)","v":26},{"$f":"VLOOKUP($B111,[1]FlowData!$A$3:$PL$215,AL$7,FALSE)","v":63},{"$f":"VLOOKUP($B111,[1]FlowData!$A$3:$PL$215,AM$7,FALSE)","v":27},{"$f":"VLOOKUP($B111,[1]FlowData!$A$3:$PL$215,AN$7,FALSE)","v":18},{"$f":"VLOOKUP($B111,[1]FlowData!$A$3:$PL$215,AO$7,FALSE)","v":13},{"$f":"VLOOKUP($B111,[1]FlowData!$A$3:$PL$215,AP$7,FALSE)","v":21},{"$f":"VLOOKUP($B111,[1]FlowData!$A$3:$PL$215,AQ$7,FALSE)","v":21},{"$f":"VLOOKUP($B111,[1]FlowData!$A$3:$PL$215,AR$7,FALSE)","v":14},{"$f":"VLOOKUP($B111,[1]FlowData!$A$3:$PL$215,AS$7,FALSE)","v":9.1999999999999993},{"$f":"VLOOKUP($B111,[1]FlowData!$A$3:$PL$215,AT$7,FALSE)","v":16},{"$f":"VLOOKUP($B111,[1]FlowData!$A$3:$PL$215,AU$7,FALSE)","v":23},{"$f":"VLOOKUP($B111,[1]FlowData!$A$3:$PL$215,AV$7,FALSE)","v":17},{"$f":"VLOOKUP($B111,[1]FlowData!$A$3:$PL$215,AW$7,FALSE)","v":12},{"$f":"VLOOKUP($B111,[1]FlowData!$A$3:$PL$215,AX$7,FALSE)","v":19},{"$f":"VLOOKUP($B111,[1]FlowData!$A$3:$PL$215,AY$7,FALSE)","v":21},{"$f":"VLOOKUP($B111,[1]FlowData!$A$3:$PL$215,AZ$7,FALSE)","v":15},{"$f":"VLOOKUP($B111,[1]FlowData!$A$3:$PL$215,BA$7,FALSE)","v":11},{"$f":"VLOOKUP($B111,[1]FlowData!$A$3:$PL$215,BB$7,FALSE)","v":16},{"$f":"VLOOKUP($B111,[1]FlowData!$A$3:$PL$215,BC$7,FALSE)","v":17},{"$f":"VLOOKUP($B111,[1]FlowData!$A$3:$PL$215,BD$7,FALSE)","v":13},{"$f":"VLOOKUP($B111,[1]FlowData!$A$3:$PL$215,BE$7,FALSE)","v":9.5},{"$f":"VLOOKUP($B111,[1]FlowData!$A$3:$PL$215,BF$7,FALSE)","v":14}]
[{"$f":"VLOOKUP(B112,'[2]Gages and BCs'!$A$4:$BJ$973,62,FALSE)","v":427},6193500,{"$f":"VLOOKUP(B112,'[2]Gages and BCs'!$A$4:$BJ$973,60,FALSE)","v":"Shields River at Clyde Park, Montana"},"1921–23, 1929–32, 1934–67",{"$f":"VLOOKUP($B112,[1]FlowData!$A$3:$PL$215,E$7,FALSE)","v":7.5910000000000002},{"$f":"VLOOKUP($B112,[1]FlowData!$A$3:$PL$215,F$7,FALSE)","v":10.776999999999999},{"$f":"VLOOKUP($B112,[1]FlowData!$A$3:$PL$215,G$7,FALSE)","v":230},{"$f":"VLOOKUP($B112,[1]FlowData!$A$3:$PL$215,H$7,FALSE)","v":89},{"$f":"VLOOKUP($B112,[1]FlowData!$A$3:$PL$215,I$7,FALSE)","v":37},{"$f":"VLOOKUP($B112,[1]FlowData!$A$3:$PL$215,J$7,FALSE)","v":164},{"$f":"VLOOKUP($B112,[1]FlowData!$A$3:$PL$215,K$7,FALSE)","v":57},{"$f":"VLOOKUP($B112,[1]FlowData!$A$3:$PL$215,L$7,FALSE)","v":42},{"$f":"VLOOKUP($B112,[1]FlowData!$A$3:$PL$215,M$7,FALSE)","v":33},{"$f":"VLOOKUP($B112,[1]FlowData!$A$3:$PL$215,N$7,FALSE)","v":46},{"$f":"VLOOKUP($B112,[1]FlowData!$A$3:$PL$215,O$7,FALSE)","v":69},{"$f":"VLOOKUP($B112,[1]FlowData!$A$3:$PL$215,P$7,FALSE)","v":45},{"$f":"VLOOKUP($B112,[1]FlowData!$A$3:$PL$215,Q$7,FALSE)","v":26},{"$f":"VLOOKUP($B112,[1]FlowData!$A$3:$PL$215,R$7,FALSE)","v":57},{"$f":"VLOOKUP($B112,[1]FlowData!$A$3:$PL$215,S$7,FALSE)","v":121},{"$f":"VLOOKUP($B112,[1]FlowData!$A$3:$PL$215,T$7,FALSE)","v":79},{"$f":"VLOOKUP($B112,[1]FlowData!$A$3:$PL$215,U$7,FALSE)","v":37},{"$f":"VLOOKUP($B112,[1]FlowData!$A$3:$PL$215,V$7,FALSE)","v":103},{"$f":"VLOOKUP($B112,[1]FlowData!$A$3:$PL$215,W$7,FALSE)","v":374},{"$f":"VLOOKUP($B112,[1]FlowData!$A$3:$PL$215,X$7,FALSE)","v":185},{"$f":"VLOOKUP($B112,[1]FlowData!$A$3:$PL$215,Y$7,FALSE)","v":102},{"$f":"VLOOKUP($B112,[1]FlowData!$A$3:$PL$215,Z$7,FALSE)","v":252},{"$f":"VLOOKUP($B112,[1]FlowData!$A$3:$PL$215,AA$7,FALSE)","v":684},{"$f":"VLOOKUP($B112,[1]FlowData!$A$3:$PL$215,AB$7,FALSE)","v":410},{"$f":"VLOOKUP($B112,[1]FlowData!$A$3:$PL$215,AC$7,FALSE)","v":218},{"$f":"VLOOKUP($B112,[1]FlowData!$A$3:$PL$215,AD$7,FALSE)","v":485},{"$f":"VLOOKUP($B112,[1]FlowData!$A$3:$PL$215,AE$7,FALSE)","v":779},{"$f":"VLOOKUP($B112,[1]FlowData!$A$3:$PL$215,AF$7,FALSE)","v":440},{"$f":"VLOOKUP($B112,[1]FlowData!$A$3:$PL$215,AG$7,FALSE)","v":183},{"$f":"VLOOKUP($B112,[1]FlowData!$A$3:$PL$215,AH$7,FALSE)","v":507},{"$f":"VLOOKUP($B112,[1]FlowData!$A$3:$PL$215,AI$7,FALSE)","v":213},{"$f":"VLOOKUP($B112,[1]FlowData!$A$3:$PL$215,AJ$7,FALSE)","v":94},{"$f":"VLOOKUP($B112,[1]FlowData!$A$3:$PL$215,AK$7,FALSE)","v":37},{"$f":"VLOOKUP($B112,[1]FlowData!$A$3:$PL$215,AL$7,FALSE)","v":133},{"$f":"VLOOKUP($B112,[1]FlowData!$A$3:$PL$215,AM$7,FALSE)","v":67},{"$f":"VLOOKUP($B112,[1]FlowData!$A$3:$PL$215,AN$7,FALSE)","v":37},{"$f":"VLOOKUP($B112,[1]FlowData!$A$3:$PL$215,AO$7,FALSE)","v":15},{"$f":"VLOOKUP($B112,[1]FlowData!$A$3:$PL$215,AP$7,FALSE)","v":47},{"$f":"VLOOKUP($B112,[1]FlowData!$A$3:$PL$215,AQ$7,FALSE)","v":78},{"$f":"VLOOKUP($B112,[1]FlowData!$A$3:$PL$215,AR$7,FALSE)","v":44},{"$f":"VLOOKUP($B112,[1]FlowData!$A$3:$PL$215,AS$7,FALSE)","v":20},{"$f":"VLOOKUP($B112,[1]FlowData!$A$3:$PL$215,AT$7,FALSE)","v":54},{"$f":"VLOOKUP($B112,[1]FlowData!$A$3:$PL$215,AU$7,FALSE)","v":91},{"$f":"VLOOKUP($B112,[1]FlowData!$A$3:$PL$215,AV$7,FALSE)","v":61},{"$f":"VLOOKUP($B112,[1]FlowData!$A$3:$PL$215,AW$7,FALSE)","v":40},{"$f":"VLOOKUP($B112,[1]FlowData!$A$3:$PL$215,AX$7,FALSE)","v":70},{"$f":"VLOOKUP($B112,[1]FlowData!$A$3:$PL$215,AY$7,FALSE)","v":84},{"$f":"VLOOKUP($B112,[1]FlowData!$A$3:$PL$215,AZ$7,FALSE)","v":64},{"$f":"VLOOKUP($B112,[1]FlowData!$A$3:$PL$215,BA$7,FALSE)","v":46},{"$f":"VLOOKUP($B112,[1]FlowData!$A$3:$PL$215,BB$7,FALSE)","v":66},{"$f":"VLOOKUP($B112,[1]FlowData!$A$3:$PL$215,BC$7,FALSE)","v":68},{"$f":"VLOOKUP($B112,[1]FlowData!$A$3:$PL$215,BD$7,FALSE)","v":48},{"$f":"VLOOKUP($B112,[1]FlowData!$A$3:$PL$215,BE$7,FALSE)","v":34},{"$f":"VLOOKUP($B112,[1]FlowData!$A$3:$PL$215,BF$7,FALSE)","v":53}]
[{"$f":"VLOOKUP(B113,'[2]Gages and BCs'!$A$4:$BJ$973,62,FALSE)","v":428},6194000,{"$f":"VLOOKUP(B113,'[2]Gages and BCs'!$A$4:$BJ$973,60,FALSE)","v":"Brackett Creek near Clyde Park, Montana"},"1921–23, 1934–35, 1938–57",{"$f":"VLOOKUP($B113,[1]FlowData!$A$3:$PL$215,E$7,FALSE)","v":1.996},{"$f":"VLOOKUP($B113,[1]FlowData!$A$3:$PL$215,F$7,FALSE)","v":4.5259999999999998},{"$f":"VLOOKUP($B113,[1]FlowData!$A$3:$PL$215,G$7,FALSE)","v":43},{"$f":"VLOOKUP($B113,[1]FlowData!$A$3:$PL$215,H$7,FALSE)","v":16},{"$f":"VLOOKUP($B113,[1]FlowData!$A$3:$PL$215,I$7,FALSE)","v":6.7},{"$f":"VLOOKUP($B113,[1]FlowData!$A$3:$PL$215,J$7,FALSE)","v":30},{"$f":"VLOOKUP($B113,[1]FlowData!$A$3:$PL$215,K$7,FALSE)","v":9.3000000000000007},{"$f":"VLOOKUP($B113,[1]FlowData!$A$3:$PL$215,L$7,FALSE)","v":6.1},{"$f":"VLOOKUP($B113,[1]FlowData!$A$3:$PL$215,M$7,FALSE)","v":4.3},{"$f":"VLOOKUP($B113,[1]FlowData!$A$3:$PL$215,N$7,FALSE)","v":7.1},{"$f":"VLOOKUP($B113,[1]FlowData!$A$3:$PL$215,O$7,FALSE)","v":9},{"$f":"VLOOKUP($B113,[1]FlowData!$A$3:$PL$215,P$7,FALSE)","v":6.2},{"$f":"VLOOKUP($B113,[1]FlowData!$A$3:$PL$215,Q$7,FALSE)","v":4},{"$f":"VLOOKUP($B113,[1]FlowData!$A$3:$PL$215,R$7,FALSE)","v":7.2},{"$f":"VLOOKUP($B113,[1]FlowData!$A$3:$PL$215,S$7,FALSE)","v":12},{"$f":"VLOOKUP($B113,[1]FlowData!$A$3:$PL$215,T$7,FALSE)","v":8.1},{"$f":"VLOOKUP($B113,[1]FlowData!$A$3:$PL$215,U$7,FALSE)","v":4.0999999999999996},{"$f":"VLOOKUP($B113,[1]FlowData!$A$3:$PL$215,V$7,FALSE)","v":11},{"$f":"VLOOKUP($B113,[1]FlowData!$A$3:$PL$215,W$7,FALSE)","v":68},{"$f":"VLOOKUP($B113,[1]FlowData!$A$3:$PL$215,X$7,FALSE)","v":31},{"$f":"VLOOKUP($B113,[1]FlowData!$A$3:$PL$215,Y$7,FALSE)","v":14},{"$f":"VLOOKUP($B113,[1]FlowData!$A$3:$PL$215,Z$7,FALSE)","v":46},{"$f":"VLOOKUP($B113,[1]FlowData!$A$3:$PL$215,AA$7,FALSE)","v":146},{"$f":"VLOOKUP($B113,[1]FlowData!$A$3:$PL$215,AB$7,FALSE)","v":87},{"$f":"VLOOKUP($B113,[1]FlowData!$A$3:$PL$215,AC$7,FALSE)","v":53},{"$f":"VLOOKUP($B113,[1]FlowData!$A$3:$PL$215,AD$7,FALSE)","v":102},{"$f":"VLOOKUP($B113,[1]FlowData!$A$3:$PL$215,AE$7,FALSE)","v":112},{"$f":"VLOOKUP($B113,[1]FlowData!$A$3:$PL$215,AF$7,FALSE)","v":65},{"$f":"VLOOKUP($B113,[1]FlowData!$A$3:$PL$215,AG$7,FALSE)","v":35},{"$f":"VLOOKUP($B113,[1]FlowData!$A$3:$PL$215,AH$7,FALSE)","v":77},{"$f":"VLOOKUP($B113,[1]FlowData!$A$3:$PL$215,AI$7,FALSE)","v":41},{"$f":"VLOOKUP($B113,[1]FlowData!$A$3:$PL$215,AJ$7,FALSE)","v":24},{"$f":"VLOOKUP($B113,[1]FlowData!$A$3:$PL$215,AK$7,FALSE)","v":12},{"$f":"VLOOKUP($B113,[1]FlowData!$A$3:$PL$215,AL$7,FALSE)","v":28},{"$f":"VLOOKUP($B113,[1]FlowData!$A$3:$PL$215,AM$7,FALSE)","v":16},{"$f":"VLOOKUP($B113,[1]FlowData!$A$3:$PL$215,AN$7,FALSE)","v":9.1999999999999993},{"$f":"VLOOKUP($B113,[1]FlowData!$A$3:$PL$215,AO$7,FALSE)","v":5.6},{"$f":"VLOOKUP($B113,[1]FlowData!$A$3:$PL$215,AP$7,FALSE)","v":11},{"$f":"VLOOKUP($B113,[1]FlowData!$A$3:$PL$215,AQ$7,FALSE)","v":13},{"$f":"VLOOKUP($B113,[1]FlowData!$A$3:$PL$215,AR$7,FALSE)","v":9.6},{"$f":"VLOOKUP($B113,[1]FlowData!$A$3:$PL$215,AS$7,FALSE)","v":6.2},{"$f":"VLOOKUP($B113,[1]FlowData!$A$3:$PL$215,AT$7,FALSE)","v":9.8000000000000007},{"$f":"VLOOKUP($B113,[1]FlowData!$A$3:$PL$215,AU$7,FALSE)","v":13},{"$f":"VLOOKUP($B113,[1]FlowData!$A$3:$PL$215,AV$7,FALSE)","v":9.8000000000000007},{"$f":"VLOOKUP($B113,[1]FlowData!$A$3:$PL$215,AW$7,FALSE)","v":7.4},{"$f":"VLOOKUP($B113,[1]FlowData!$A$3:$PL$215,AX$7,FALSE)","v":11},{"$f":"VLOOKUP($B113,[1]FlowData!$A$3:$PL$215,AY$7,FALSE)","v":12},{"$f":"VLOOKUP($B113,[1]FlowData!$A$3:$PL$215,AZ$7,FALSE)","v":8.8000000000000007},{"$f":"VLOOKUP($B113,[1]FlowData!$A$3:$PL$215,BA$7,FALSE)","v":6.2},{"$f":"VLOOKUP($B113,[1]FlowData!$A$3:$PL$215,BB$7,FALSE)","v":9.8000000000000007},{"$f":"VLOOKUP($B113,[1]FlowData!$A$3:$PL$215,BC$7,FALSE)","v":11},{"$f":"VLOOKUP($B113,[1]FlowData!$A$3:$PL$215,BD$7,FALSE)","v":6.7},{"$f":"VLOOKUP($B113,[1]FlowData!$A$3:$PL$215,BE$7,FALSE)","v":5},{"$f":"VLOOKUP($B113,[1]FlowData!$A$3:$PL$215,BF$7,FALSE)","v":8.4}]
[{"$f":"VLOOKUP(B114,'[2]Gages and BCs'!$A$4:$BJ$973,62,FALSE)","v":430},6197000,{"$f":"VLOOKUP(B114,'[2]Gages and BCs'!$A$4:$BJ$973,60,FALSE)","v":"Big Timber Creek near Big Timber, Montana"},"1912–16, 1918–23",{"$f":"VLOOKUP($B114,[1]FlowData!$A$3:$PL$215,E$7,FALSE)","v":""},{"$f":"VLOOKUP($B114,[1]FlowData!$A$3:$PL$215,F$7,FALSE)","v":12.481},{"$f":"VLOOKUP($B114,[1]FlowData!$A$3:$PL$215,G$7,FALSE)","v":""},{"$f":"VLOOKUP($B114,[1]FlowData!$A$3:$PL$215,H$7,FALSE)","v":""},{"$f":"VLOOKUP($B114,[1]FlowData!$A$3:$PL$215,I$7,FALSE)","v":""},{"$f":"VLOOKUP($B114,[1]FlowData!$A$3:$PL$215,J$7,FALSE)","v":""},{"$f":"VLOOKUP($B114,[1]FlowData!$A$3:$PL$215,K$7,FALSE)","v":""},{"$f":"VLOOKUP($B114,[1]FlowData!$A$3:$PL$215,L$7,FALSE)","v":""},{"$f":"VLOOKUP($B114,[1]FlowData!$A$3:$PL$215,M$7,FALSE)","v":""},{"$f":"VLOOKUP($B114,[1]FlowData!$A$3:$PL$215,N$7,FALSE)","v":""},{"$f":"VLOOKUP($B114,[1]FlowData!$A$3:$PL$215,O$7,FALSE)","v":""},{"$f":"VLOOKUP($B114,[1]FlowData!$A$3:$PL$215,P$7,FALSE)","v":""},{"$f":"VLOOKUP($B114,[1]FlowData!$A$3:$PL$215,Q$7,FALSE)","v":""},{"$f":"VLOOKUP($B114,[1]FlowData!$A$3:$PL$215,R$7,FALSE)","v":""},{"$f":"VLOOKUP($B114,[1]FlowData!$A$3:$PL$215,S$7,FALSE)","v":""},{"$f":"VLOOKUP($B114,[1]FlowData!$A$3:$PL$215,T$7,FALSE)","v":""},{"$f":"VLOOKUP($B114,[1]FlowData!$A$3:$PL$215,U$7,FALSE)","v":""},{"$f":"VLOOKUP($B114,[1]FlowData!$A$3:$PL$215,V$7,FALSE)","v":""},{"$f":"VLOOKUP($B114,[1]FlowData!$A$3:$PL$215,W$7,FALSE)","v":66},{"$f":"VLOOKUP($B114,[1]FlowData!$A$3:$PL$215,X$7,FALSE)","v":43},{"$f":"VLOOKUP($B114,[1]FlowData!$A$3:$PL$215,Y$7,FALSE)","v":25},{"$f":"VLOOKUP($B114,[1]FlowData!$A$3:$PL$215,Z$7,FALSE)","v":48},{"$f":"VLOOKUP($B114,[1]FlowData!$A$3:$PL$215,AA$7,FALSE)","v":234},{"$f":"VLOOKUP($B114,[1]FlowData!$A$3:$PL$215,AB$7,FALSE)","v":116},{"$f":"VLOOKUP($B114,[1]FlowData!$A$3:$PL$215,AC$7,FALSE)","v":67},{"$f":"VLOOKUP($B114,[1]FlowData!$A$3:$PL$215,AD$7,FALSE)","v":145},{"$f":"VLOOKUP($B114,[1]FlowData!$A$3:$PL$215,AE$7,FALSE)","v":407},{"$f":"VLOOKUP($B114,[1]FlowData!$A$3:$PL$215,AF$7,FALSE)","v":278},{"$f":"VLOOKUP($B114,[1]FlowData!$A$3:$PL$215,AG$7,FALSE)","v":176},{"$f":"VLOOKUP($B114,[1]FlowData!$A$3:$PL$215,AH$7,FALSE)","v":310},{"$f":"VLOOKUP($B114,[1]FlowData!$A$3:$PL$215,AI$7,FALSE)","v":258},{"$f":"VLOOKUP($B114,[1]FlowData!$A$3:$PL$215,AJ$7,FALSE)","v":149},{"$f":"VLOOKUP($B114,[1]FlowData!$A$3:$PL$215,AK$7,FALSE)","v":76},{"$f":"VLOOKUP($B114,[1]FlowData!$A$3:$PL$215,AL$7,FALSE)","v":176},{"$f":"VLOOKUP($B114,[1]FlowData!$A$3:$PL$215,AM$7,FALSE)","v":77},{"$f":"VLOOKUP($B114,[1]FlowData!$A$3:$PL$215,AN$7,FALSE)","v":47},{"$f":"VLOOKUP($B114,[1]FlowData!$A$3:$PL$215,AO$7,FALSE)","v":29},{"$f":"VLOOKUP($B114,[1]FlowData!$A$3:$PL$215,AP$7,FALSE)","v":56},{"$f":"VLOOKUP($B114,[1]FlowData!$A$3:$PL$215,AQ$7,FALSE)","v":44},{"$f":"VLOOKUP($B114,[1]FlowData!$A$3:$PL$215,AR$7,FALSE)","v":32},{"$f":"VLOOKUP($B114,[1]FlowData!$A$3:$PL$215,AS$7,FALSE)","v":21},{"$f":"VLOOKUP($B114,[1]FlowData!$A$3:$PL$215,AT$7,FALSE)","v":35},{"$f":"VLOOKUP($B114,[1]FlowData!$A$3:$PL$215,AU$7,FALSE)","v":43},{"$f":"VLOOKUP($B114,[1]FlowData!$A$3:$PL$215,AV$7,FALSE)","v":29},{"$f":"VLOOKUP($B114,[1]FlowData!$A$3:$PL$215,AW$7,FALSE)","v":17},{"$f":"VLOOKUP($B114,[1]FlowData!$A$3:$PL$215,AX$7,FALSE)","v":31},{"$f":"VLOOKUP($B114,[1]FlowData!$A$3:$PL$215,AY$7,FALSE)","v":33},{"$f":"VLOOKUP($B114,[1]FlowData!$A$3:$PL$215,AZ$7,FALSE)","v":26},{"$f":"VLOOKUP($B114,[1]FlowData!$A$3:$PL$215,BA$7,FALSE)","v":19},{"$f":"VLOOKUP($B114,[1]FlowData!$A$3:$PL$215,BB$7,FALSE)","v":25},{"$f":"VLOOKUP($B114,[1]FlowData!$A$3:$PL$215,BC$7,FALSE)","v":""},{"$f":"VLOOKUP($B114,[1]FlowData!$A$3:$PL$215,BD$7,FALSE)","v":""},{"$f":"VLOOKUP($B114,[1]FlowData!$A$3:$PL$215,BE$7,FALSE)","v":""},{"$f":"VLOOKUP($B114,[1]FlowData!$A$3:$PL$215,BF$7,FALSE)","v":""}]
[{"$f":"VLOOKUP(B115,'[2]Gages and BCs'!$A$4:$BJ$973,62,FALSE)","v":431},6197500,{"$f":"VLOOKUP(B115,'[2]Gages and BCs'!$A$4:$BJ$973,60,FALSE)","v":"Boulder River near Contact, Montana"},"1910–15, 1951–69, 1971–74, 1982–83",{"$f":"VLOOKUP($B115,[1]FlowData!$A$3:$PL$215,E$7,FALSE)","v":39.901000000000003},{"$f":"VLOOKUP($B115,[1]FlowData!$A$3:$PL$215,F$7,FALSE)","v":84.617999999999995},{"$f":"VLOOKUP($B115,[1]FlowData!$A$3:$PL$215,G$7,FALSE)","v":484},{"$f":"VLOOKUP($B115,[1]FlowData!$A$3:$PL$215,H$7,FALSE)","v":153},{"$f":"VLOOKUP($B115,[1]FlowData!$A$3:$PL$215,I$7,FALSE)","v":72},{"$f":"VLOOKUP($B115,[1]FlowData!$A$3:$PL$215,J$7,FALSE)","v":375},{"$f":"VLOOKUP($B115,[1]FlowData!$A$3:$PL$215,K$7,FALSE)","v":70},{"$f":"VLOOKUP($B115,[1]FlowData!$A$3:$PL$215,L$7,FALSE)","v":62},{"$f":"VLOOKUP($B115,[1]FlowData!$A$3:$PL$215,M$7,FALSE)","v":53},{"$f":"VLOOKUP($B115,[1]FlowData!$A$3:$PL$215,N$7,FALSE)","v":63},{"$f":"VLOOKUP($B115,[1]FlowData!$A$3:$PL$215,O$7,FALSE)","v":64},{"$f":"VLOOKUP($B115,[1]FlowData!$A$3:$PL$215,P$7,FALSE)","v":57},{"$f":"VLOOKUP($B115,[1]FlowData!$A$3:$PL$215,Q$7,FALSE)","v":51},{"$f":"VLOOKUP($B115,[1]FlowData!$A$3:$PL$215,R$7,FALSE)","v":58},{"$f":"VLOOKUP($B115,[1]FlowData!$A$3:$PL$215,S$7,FALSE)","v":61},{"$f":"VLOOKUP($B115,[1]FlowData!$A$3:$PL$215,T$7,FALSE)","v":55},{"$f":"VLOOKUP($B115,[1]FlowData!$A$3:$PL$215,U$7,FALSE)","v":49},{"$f":"VLOOKUP($B115,[1]FlowData!$A$3:$PL$215,V$7,FALSE)","v":55},{"$f":"VLOOKUP($B115,[1]FlowData!$A$3:$PL$215,W$7,FALSE)","v":116},{"$f":"VLOOKUP($B115,[1]FlowData!$A$3:$PL$215,X$7,FALSE)","v":77},{"$f":"VLOOKUP($B115,[1]FlowData!$A$3:$PL$215,Y$7,FALSE)","v":50},{"$f":"VLOOKUP($B115,[1]FlowData!$A$3:$PL$215,Z$7,FALSE)","v":101},{"$f":"VLOOKUP($B115,[1]FlowData!$A$3:$PL$215,AA$7,FALSE)","v":1040},{"$f":"VLOOKUP($B115,[1]FlowData!$A$3:$PL$215,AB$7,FALSE)","v":518},{"$f":"VLOOKUP($B115,[1]FlowData!$A$3:$PL$215,AC$7,FALSE)","v":198},{"$f":"VLOOKUP($B115,[1]FlowData!$A$3:$PL$215,AD$7,FALSE)","v":679},{"$f":"VLOOKUP($B115,[1]FlowData!$A$3:$PL$215,AE$7,FALSE)","v":2670},{"$f":"VLOOKUP($B115,[1]FlowData!$A$3:$PL$215,AF$7,FALSE)","v":1800},{"$f":"VLOOKUP($B115,[1]FlowData!$A$3:$PL$215,AG$7,FALSE)","v":1130},{"$f":"VLOOKUP($B115,[1]FlowData!$A$3:$PL$215,AH$7,FALSE)","v":1930},{"$f":"VLOOKUP($B115,[1]FlowData!$A$3:$PL$215,AI$7,FALSE)","v":1420},{"$f":"VLOOKUP($B115,[1]FlowData!$A$3:$PL$215,AJ$7,FALSE)","v":825},{"$f":"VLOOKUP($B115,[1]FlowData!$A$3:$PL$215,AK$7,FALSE)","v":489},{"$f":"VLOOKUP($B115,[1]FlowData!$A$3:$PL$215,AL$7,FALSE)","v":994},{"$f":"VLOOKUP($B115,[1]FlowData!$A$3:$PL$215,AM$7,FALSE)","v":380},{"$f":"VLOOKUP($B115,[1]FlowData!$A$3:$PL$215,AN$7,FALSE)","v":235},{"$f":"VLOOKUP($B115,[1]FlowData!$A$3:$PL$215,AO$7,FALSE)","v":168},{"$f":"VLOOKUP($B115,[1]FlowData!$A$3:$PL$215,AP$7,FALSE)","v":277},{"$f":"VLOOKUP($B115,[1]FlowData!$A$3:$PL$215,AQ$7,FALSE)","v":190},{"$f":"VLOOKUP($B115,[1]FlowData!$A$3:$PL$215,AR$7,FALSE)","v":145},{"$f":"VLOOKUP($B115,[1]FlowData!$A$3:$PL$215,AS$7,FALSE)","v":117},{"$f":"VLOOKUP($B115,[1]FlowData!$A$3:$PL$215,AT$7,FALSE)","v":158},{"$f":"VLOOKUP($B115,[1]FlowData!$A$3:$PL$215,AU$7,FALSE)","v":175},{"$f":"VLOOKUP($B115,[1]FlowData!$A$3:$PL$215,AV$7,FALSE)","v":127},{"$f":"VLOOKUP($B115,[1]FlowData!$A$3:$PL$215,AW$7,FALSE)","v":90},{"$f":"VLOOKUP($B115,[1]FlowData!$A$3:$PL$215,AX$7,FALSE)","v":133},{"$f":"VLOOKUP($B115,[1]FlowData!$A$3:$PL$215,AY$7,FALSE)","v":114},{"$f":"VLOOKUP($B115,[1]FlowData!$A$3:$PL$215,AZ$7,FALSE)","v":91},{"$f":"VLOOKUP($B115,[1]FlowData!$A$3:$PL$215,BA$7,FALSE)","v":73},{"$f":"VLOOKUP($B115,[1]FlowData!$A$3:$PL$215,BB$7,FALSE)","v":94},{"$f":"VLOOKUP($B115,[1]FlowData!$A$3:$PL$215,BC$7,FALSE)","v":87},{"$f":"VLOOKUP($B115,[1]FlowData!$A$3:$PL$215,BD$7,FALSE)","v":70},{"$f":"VLOOKUP($B115,[1]FlowData!$A$3:$PL$215,BE$7,FALSE)","v":60},{"$f":"VLOOKUP($B115,[1]FlowData!$A$3:$PL$215,BF$7,FALSE)","v":73}]
[{"$f":"VLOOKUP(B116,'[2]Gages and BCs'!$A$4:$BJ$973,62,FALSE)","v":432},6200000,{"$f":"VLOOKUP(B116,'[2]Gages and BCs'!$A$4:$BJ$973,60,FALSE)","v":"Boulder River at Big Timber, Montana"},"1947–53, 1955–2009",{"$f":"VLOOKUP($B116,[1]FlowData!$A$3:$PL$215,E$7,FALSE)","v":38.484999999999999},{"$f":"VLOOKUP($B116,[1]FlowData!$A$3:$PL$215,F$7,FALSE)","v":60.268000000000001},{"$f":"VLOOKUP($B116,[1]FlowData!$A$3:$PL$215,G$7,FALSE)","v":608},{"$f":"VLOOKUP($B116,[1]FlowData!$A$3:$PL$215,H$7,FALSE)","v":227},{"$f":"VLOOKUP($B116,[1]FlowData!$A$3:$PL$215,I$7,FALSE)","v":97},{"$f":"VLOOKUP($B116,[1]FlowData!$A$3:$PL$215,J$7,FALSE)","v":554},{"$f":"VLOOKUP($B116,[1]FlowData!$A$3:$PL$215,K$7,FALSE)","v":163},{"$f":"VLOOKUP($B116,[1]FlowData!$A$3:$PL$215,L$7,FALSE)","v":130},{"$f":"VLOOKUP($B116,[1]FlowData!$A$3:$PL$215,M$7,FALSE)","v":98},{"$f":"VLOOKUP($B116,[1]FlowData!$A$3:$PL$215,N$7,FALSE)","v":134},{"$f":"VLOOKUP($B116,[1]FlowData!$A$3:$PL$215,O$7,FALSE)","v":150},{"$f":"VLOOKUP($B116,[1]FlowData!$A$3:$PL$215,P$7,FALSE)","v":124},{"$f":"VLOOKUP($B116,[1]FlowData!$A$3:$PL$215,Q$7,FALSE)","v":99},{"$f":"VLOOKUP($B116,[1]FlowData!$A$3:$PL$215,R$7,FALSE)","v":126},{"$f":"VLOOKUP($B116,[1]FlowData!$A$3:$PL$215,S$7,FALSE)","v":144},{"$f":"VLOOKUP($B116,[1]FlowData!$A$3:$PL$215,T$7,FALSE)","v":123},{"$f":"VLOOKUP($B116,[1]FlowData!$A$3:$PL$215,U$7,FALSE)","v":105},{"$f":"VLOOKUP($B116,[1]FlowData!$A$3:$PL$215,V$7,FALSE)","v":127},{"$f":"VLOOKUP($B116,[1]FlowData!$A$3:$PL$215,W$7,FALSE)","v":258},{"$f":"VLOOKUP($B116,[1]FlowData!$A$3:$PL$215,X$7,FALSE)","v":172},{"$f":"VLOOKUP($B116,[1]FlowData!$A$3:$PL$215,Y$7,FALSE)","v":121},{"$f":"VLOOKUP($B116,[1]FlowData!$A$3:$PL$215,Z$7,FALSE)","v":212},{"$f":"VLOOKUP($B116,[1]FlowData!$A$3:$PL$215,AA$7,FALSE)","v":1810},{"$f":"VLOOKUP($B116,[1]FlowData!$A$3:$PL$215,AB$7,FALSE)","v":874},{"$f":"VLOOKUP($B116,[1]FlowData!$A$3:$PL$215,AC$7,FALSE)","v":375},{"$f":"VLOOKUP($B116,[1]FlowData!$A$3:$PL$215,AD$7,FALSE)","v":1150},{"$f":"VLOOKUP($B116,[1]FlowData!$A$3:$PL$215,AE$7,FALSE)","v":3740},{"$f":"VLOOKUP($B116,[1]FlowData!$A$3:$PL$215,AF$7,FALSE)","v":2480},{"$f":"VLOOKUP($B116,[1]FlowData!$A$3:$PL$215,AG$7,FALSE)","v":1540},{"$f":"VLOOKUP($B116,[1]FlowData!$A$3:$PL$215,AH$7,FALSE)","v":2710},{"$f":"VLOOKUP($B116,[1]FlowData!$A$3:$PL$215,AI$7,FALSE)","v":1870},{"$f":"VLOOKUP($B116,[1]FlowData!$A$3:$PL$215,AJ$7,FALSE)","v":947},{"$f":"VLOOKUP($B116,[1]FlowData!$A$3:$PL$215,AK$7,FALSE)","v":383},{"$f":"VLOOKUP($B116,[1]FlowData!$A$3:$PL$215,AL$7,FALSE)","v":1240},{"$f":"VLOOKUP($B116,[1]FlowData!$A$3:$PL$215,AM$7,FALSE)","v":364},{"$f":"VLOOKUP($B116,[1]FlowData!$A$3:$PL$215,AN$7,FALSE)","v":177},{"$f":"VLOOKUP($B116,[1]FlowData!$A$3:$PL$215,AO$7,FALSE)","v":91},{"$f":"VLOOKUP($B116,[1]FlowData!$A$3:$PL$215,AP$7,FALSE)","v":235},{"$f":"VLOOKUP($B116,[1]FlowData!$A$3:$PL$215,AQ$7,FALSE)","v":269},{"$f":"VLOOKUP($B116,[1]FlowData!$A$3:$PL$215,AR$7,FALSE)","v":155},{"$f":"VLOOKUP($B116,[1]FlowData!$A$3:$PL$215,AS$7,FALSE)","v":77},{"$f":"VLOOKUP($B116,[1]FlowData!$A$3:$PL$215,AT$7,FALSE)","v":182},{"$f":"VLOOKUP($B116,[1]FlowData!$A$3:$PL$215,AU$7,FALSE)","v":282},{"$f":"VLOOKUP($B116,[1]FlowData!$A$3:$PL$215,AV$7,FALSE)","v":203},{"$f":"VLOOKUP($B116,[1]FlowData!$A$3:$PL$215,AW$7,FALSE)","v":141},{"$f":"VLOOKUP($B116,[1]FlowData!$A$3:$PL$215,AX$7,FALSE)","v":214},{"$f":"VLOOKUP($B116,[1]FlowData!$A$3:$PL$215,AY$7,FALSE)","v":232},{"$f":"VLOOKUP($B116,[1]FlowData!$A$3:$PL$215,AZ$7,FALSE)","v":185},{"$f":"VLOOKUP($B116,[1]FlowData!$A$3:$PL$215,BA$7,FALSE)","v":147},{"$f":"VLOOKUP($B116,[1]FlowData!$A$3:$PL$215,BB$7,FALSE)","v":189},{"$f":"VLOOKUP($B116,[1]FlowData!$A$3:$PL$215,BC$7,FALSE)","v":188},{"$f":"VLOOKUP($B116,[1]FlowData!$A$3:$PL$215,BD$7,FALSE)","v":154},{"$f":"VLOOKUP($B116,[1]FlowData!$A$3:$PL$215,BE$7,FALSE)","v":112},{"$f":"VLOOKUP($B116,[1]FlowData!$A$3:$PL$215,BF$7,FALSE)","v":152}]
[{"$f":"VLOOKUP(B117,'[2]Gages and BCs'!$A$4:$BJ$973,62,FALSE)","v":433},6200500,{"$f":"VLOOKUP(B117,'[2]Gages and BCs'!$A$4:$BJ$973,60,FALSE)","v":"Sweet Grass Creek above Melville, Montana"},"1919–21, 1937–69",{"$f":"VLOOKUP($B117,[1]FlowData!$A$3:$PL$215,E$7,FALSE)","v":4.5759999999999996},{"$f":"VLOOKUP($B117,[1]FlowData!$A$3:$PL$215,F$7,FALSE)","v":21.913},{"$f":"VLOOKUP($B117,[1]FlowData!$A$3:$PL$215,G$7,FALSE)","v":121},{"$f":"VLOOKUP($B117,[1]FlowData!$A$3:$PL$215,H$7,FALSE)","v":41},{"$f":"VLOOKUP($B117,[1]FlowData!$A$3:$PL$215,I$7,FALSE)","v":17},{"$f":"VLOOKUP($B117,[1]FlowData!$A$3:$PL$215,J$7,FALSE)","v":86},{"$f":"VLOOKUP($B117,[1]FlowData!$A$3:$PL$215,K$7,FALSE)","v":18},{"$f":"VLOOKUP($B117,[1]FlowData!$A$3:$PL$215,L$7,FALSE)","v":13},{"$f":"VLOOKUP($B117,[1]FlowData!$A$3:$PL$215,M$7,FALSE)","v":9.4},{"$f":"VLOOKUP($B117,[1]FlowData!$A$3:$PL$215,N$7,FALSE)","v":14},{"$f":"VLOOKUP($B117,[1]FlowData!$A$3:$PL$215,O$7,FALSE)","v":14},{"$f":"VLOOKUP($B117,[1]FlowData!$A$3:$PL$215,P$7,FALSE)","v":12},{"$f":"VLOOKUP($B117,[1]FlowData!$A$3:$PL$215,Q$7,FALSE)","v":8.1999999999999993},{"$f":"VLOOKUP($B117,[1]FlowData!$A$3:$PL$215,R$7,FALSE)","v":12},{"$f":"VLOOKUP($B117,[1]FlowData!$A$3:$PL$215,S$7,FALSE)","v":13},{"$f":"VLOOKUP($B117,[1]FlowData!$A$3:$PL$215,T$7,FALSE)","v":10},{"$f":"VLOOKUP($B117,[1]FlowData!$A$3:$PL$215,U$7,FALSE)","v":7.4},{"$f":"VLOOKUP($B117,[1]FlowData!$A$3:$PL$215,V$7,FALSE)","v":11},{"$f":"VLOOKUP($B117,[1]FlowData!$A$3:$PL$215,W$7,FALSE)","v":23},{"$f":"VLOOKUP($B117,[1]FlowData!$A$3:$PL$215,X$7,FALSE)","v":17},{"$f":"VLOOKUP($B117,[1]FlowData!$A$3:$PL$215,Y$7,FALSE)","v":9.8000000000000007},{"$f":"VLOOKUP($B117,[1]FlowData!$A$3:$PL$215,Z$7,FALSE)","v":17},{"$f":"VLOOKUP($B117,[1]FlowData!$A$3:$PL$215,AA$7,FALSE)","v":301},{"$f":"VLOOKUP($B117,[1]FlowData!$A$3:$PL$215,AB$7,FALSE)","v":131},{"$f":"VLOOKUP($B117,[1]FlowData!$A$3:$PL$215,AC$7,FALSE)","v":36},{"$f":"VLOOKUP($B117,[1]FlowData!$A$3:$PL$215,AD$7,FALSE)","v":178},{"$f":"VLOOKUP($B117,[1]FlowData!$A$3:$PL$215,AE$7,FALSE)","v":523},{"$f":"VLOOKUP($B117,[1]FlowData!$A$3:$PL$215,AF$7,FALSE)","v":343},{"$f":"VLOOKUP($B117,[1]FlowData!$A$3:$PL$215,AG$7,FALSE)","v":217},{"$f":"VLOOKUP($B117,[1]FlowData!$A$3:$PL$215,AH$7,FALSE)","v":385},{"$f":"VLOOKUP($B117,[1]FlowData!$A$3:$PL$215,AI$7,FALSE)","v":284},{"$f":"VLOOKUP($B117,[1]FlowData!$A$3:$PL$215,AJ$7,FALSE)","v":176},{"$f":"VLOOKUP($B117,[1]FlowData!$A$3:$PL$215,AK$7,FALSE)","v":109},{"$f":"VLOOKUP($B117,[1]FlowData!$A$3:$PL$215,AL$7,FALSE)","v":204},{"$f":"VLOOKUP($B117,[1]FlowData!$A$3:$PL$215,AM$7,FALSE)","v":98},{"$f":"VLOOKUP($B117,[1]FlowData!$A$3:$PL$215,AN$7,FALSE)","v":65},{"$f":"VLOOKUP($B117,[1]FlowData!$A$3:$PL$215,AO$7,FALSE)","v":48},{"$f":"VLOOKUP($B117,[1]FlowData!$A$3:$PL$215,AP$7,FALSE)","v":74},{"$f":"VLOOKUP($B117,[1]FlowData!$A$3:$PL$215,AQ$7,FALSE)","v":55},{"$f":"VLOOKUP($B117,[1]FlowData!$A$3:$PL$215,AR$7,FALSE)","v":41},{"$f":"VLOOKUP($B117,[1]FlowData!$A$3:$PL$215,AS$7,FALSE)","v":29},{"$f":"VLOOKUP($B117,[1]FlowData!$A$3:$PL$215,AT$7,FALSE)","v":44},{"$f":"VLOOKUP($B117,[1]FlowData!$A$3:$PL$215,AU$7,FALSE)","v":54},{"$f":"VLOOKUP($B117,[1]FlowData!$A$3:$PL$215,AV$7,FALSE)","v":33},{"$f":"VLOOKUP($B117,[1]FlowData!$A$3:$PL$215,AW$7,FALSE)","v":24},{"$f":"VLOOKUP($B117,[1]FlowData!$A$3:$PL$215,AX$7,FALSE)","v":41},{"$f":"VLOOKUP($B117,[1]FlowData!$A$3:$PL$215,AY$7,FALSE)","v":39},{"$f":"VLOOKUP($B117,[1]FlowData!$A$3:$PL$215,AZ$7,FALSE)","v":28},{"$f":"VLOOKUP($B117,[1]FlowData!$A$3:$PL$215,BA$7,FALSE)","v":19},{"$f":"VLOOKUP($B117,[1]FlowData!$A$3:$PL$215,BB$7,FALSE)","v":29},{"$f":"VLOOKUP($B117,[1]FlowData!$A$3:$PL$215,BC$7,FALSE)","v":25},{"$f":"VLOOKUP($B117,[1]FlowData!$A$3:$PL$215,BD$7,FALSE)","v":18},{"$f":"VLOOKUP($B117,[1]FlowData!$A$3:$PL$215,BE$7,FALSE)","v":12},{"$f":"VLOOKUP($B117,[1]FlowData!$A$3:$PL$215,BF$7,FALSE)","v":18}]
[{"$f":"VLOOKUP(B118,'[2]Gages and BCs'!$A$4:$BJ$973,62,FALSE)","v":434},6201000,{"$f":"VLOOKUP(B118,'[2]Gages and BCs'!$A$4:$BJ$973,60,FALSE)","v":"Sweet Grass Creek below Melville, Montana"},"1908–10, 1913, 1916, 1918, 1921–24, 1937–42, 1946–52",{"$f":"VLOOKUP($B118,[1]FlowData!$A$3:$PL$215,E$7,FALSE)","v":""},{"$f":"VLOOKUP($B118,[1]FlowData!$A$3:$PL$215,F$7,FALSE)","v":14.756},{"$f":"VLOOKUP($B118,[1]FlowData!$A$3:$PL$215,G$7,FALSE)","v":117},{"$f":"VLOOKUP($B118,[1]FlowData!$A$3:$PL$215,H$7,FALSE)","v":48},{"$f":"VLOOKUP($B118,[1]FlowData!$A$3:$PL$215,I$7,FALSE)","v":21},{"$f":"VLOOKUP($B118,[1]FlowData!$A$3:$PL$215,J$7,FALSE)","v":89},{"$f":"VLOOKUP($B118,[1]FlowData!$A$3:$PL$215,K$7,FALSE)","v":36},{"$f":"VLOOKUP($B118,[1]FlowData!$A$3:$PL$215,L$7,FALSE)","v":27},{"$f":"VLOOKUP($B118,[1]FlowData!$A$3:$PL$215,M$7,FALSE)","v":20},{"$f":"VLOOKUP($B118,[1]FlowData!$A$3:$PL$215,N$7,FALSE)","v":28},{"$f":"VLOOKUP($B118,[1]FlowData!$A$3:$PL$215,O$7,FALSE)","v":30},{"$f":"VLOOKUP($B118,[1]FlowData!$A$3:$PL$215,P$7,FALSE)","v":21},{"$f":"VLOOKUP($B118,[1]FlowData!$A$3:$PL$215,Q$7,FALSE)","v":17},{"$f":"VLOOKUP($B118,[1]FlowData!$A$3:$PL$215,R$7,FALSE)","v":24},{"$f":"VLOOKUP($B118,[1]FlowData!$A$3:$PL$215,S$7,FALSE)","v":39},{"$f":"VLOOKUP($B118,[1]FlowData!$A$3:$PL$215,T$7,FALSE)","v":25},{"$f":"VLOOKUP($B118,[1]FlowData!$A$3:$PL$215,U$7,FALSE)","v":15},{"$f":"VLOOKUP($B118,[1]FlowData!$A$3:$PL$215,V$7,FALSE)","v":30},{"$f":"VLOOKUP($B118,[1]FlowData!$A$3:$PL$215,W$7,FALSE)","v":53},{"$f":"VLOOKUP($B118,[1]FlowData!$A$3:$PL$215,X$7,FALSE)","v":35},{"$f":"VLOOKUP($B118,[1]FlowData!$A$3:$PL$215,Y$7,FALSE)","v":23},{"$f":"VLOOKUP($B118,[1]FlowData!$A$3:$PL$215,Z$7,FALSE)","v":44},{"$f":"VLOOKUP($B118,[1]FlowData!$A$3:$PL$215,AA$7,FALSE)","v":280},{"$f":"VLOOKUP($B118,[1]FlowData!$A$3:$PL$215,AB$7,FALSE)","v":122},{"$f":"VLOOKUP($B118,[1]FlowData!$A$3:$PL$215,AC$7,FALSE)","v":45},{"$f":"VLOOKUP($B118,[1]FlowData!$A$3:$PL$215,AD$7,FALSE)","v":174},{"$f":"VLOOKUP($B118,[1]FlowData!$A$3:$PL$215,AE$7,FALSE)","v":502},{"$f":"VLOOKUP($B118,[1]FlowData!$A$3:$PL$215,AF$7,FALSE)","v":315},{"$f":"VLOOKUP($B118,[1]FlowData!$A$3:$PL$215,AG$7,FALSE)","v":168},{"$f":"VLOOKUP($B118,[1]FlowData!$A$3:$PL$215,AH$7,FALSE)","v":361},{"$f":"VLOOKUP($B118,[1]FlowData!$A$3:$PL$215,AI$7,FALSE)","v":267},{"$f":"VLOOKUP($B118,[1]FlowData!$A$3:$PL$215,AJ$7,FALSE)","v":130},{"$f":"VLOOKUP($B118,[1]FlowData!$A$3:$PL$215,AK$7,FALSE)","v":59},{"$f":"VLOOKUP($B118,[1]FlowData!$A$3:$PL$215,AL$7,FALSE)","v":170},{"$f":"VLOOKUP($B118,[1]FlowData!$A$3:$PL$215,AM$7,FALSE)","v":78},{"$f":"VLOOKUP($B118,[1]FlowData!$A$3:$PL$215,AN$7,FALSE)","v":48},{"$f":"VLOOKUP($B118,[1]FlowData!$A$3:$PL$215,AO$7,FALSE)","v":22},{"$f":"VLOOKUP($B118,[1]FlowData!$A$3:$PL$215,AP$7,FALSE)","v":57},{"$f":"VLOOKUP($B118,[1]FlowData!$A$3:$PL$215,AQ$7,FALSE)","v":66},{"$f":"VLOOKUP($B118,[1]FlowData!$A$3:$PL$215,AR$7,FALSE)","v":40},{"$f":"VLOOKUP($B118,[1]FlowData!$A$3:$PL$215,AS$7,FALSE)","v":23},{"$f":"VLOOKUP($B118,[1]FlowData!$A$3:$PL$215,AT$7,FALSE)","v":47},{"$f":"VLOOKUP($B118,[1]FlowData!$A$3:$PL$215,AU$7,FALSE)","v":88},{"$f":"VLOOKUP($B118,[1]FlowData!$A$3:$PL$215,AV$7,FALSE)","v":64},{"$f":"VLOOKUP($B118,[1]FlowData!$A$3:$PL$215,AW$7,FALSE)","v":35},{"$f":"VLOOKUP($B118,[1]FlowData!$A$3:$PL$215,AX$7,FALSE)","v":66},{"$f":"VLOOKUP($B118,[1]FlowData!$A$3:$PL$215,AY$7,FALSE)","v":70},{"$f":"VLOOKUP($B118,[1]FlowData!$A$3:$PL$215,AZ$7,FALSE)","v":55},{"$f":"VLOOKUP($B118,[1]FlowData!$A$3:$PL$215,BA$7,FALSE)","v":30},{"$f":"VLOOKUP($B118,[1]FlowData!$A$3:$PL$215,BB$7,FALSE)","v":52},{"$f":"VLOOKUP($B118,[1]FlowData!$A$3:$PL$215,BC$7,FALSE)","v":55},{"$f":"VLOOKUP($B118,[1]FlowData!$A$3:$PL$215,BD$7,FALSE)","v":42},{"$f":"VLOOKUP($B118,[1]FlowData!$A$3:$PL$215,BE$7,FALSE)","v":27},{"$f":"VLOOKUP($B118,[1]FlowData!$A$3:$PL$215,BF$7,FALSE)","v":41}]
[{"$f":"VLOOKUP(B119,'[2]Gages and BCs'!$A$4:$BJ$973,62,FALSE)","v":440},6202510,{"$f":"VLOOKUP(B119,'[2]Gages and BCs'!$A$4:$BJ$973,60,FALSE)","v":"Stillwater River above Nye Creek, near Nye, Montana"},"1980–91",{"$f":"VLOOKUP($B119,[1]FlowData!$A$3:$PL$215,E$7,FALSE)","v":30.71},{"$f":"VLOOKUP($B119,[1]FlowData!$A$3:$PL$215,F$7,FALSE)","v":81.003},{"$f":"VLOOKUP($B119,[1]FlowData!$A$3:$PL$215,G$7,FALSE)","v":471},{"$f":"VLOOKUP($B119,[1]FlowData!$A$3:$PL$215,H$7,FALSE)","v":154},{"$f":"VLOOKUP($B119,[1]FlowData!$A$3:$PL$215,I$7,FALSE)","v":72},{"$f":"VLOOKUP($B119,[1]FlowData!$A$3:$PL$215,J$7,FALSE)","v":373},{"$f":"VLOOKUP($B119,[1]FlowData!$A$3:$PL$215,K$7,FALSE)","v":68},{"$f":"VLOOKUP($B119,[1]FlowData!$A$3:$PL$215,L$7,FALSE)","v":54},{"$f":"VLOOKUP($B119,[1]FlowData!$A$3:$PL$215,M$7,FALSE)","v":44},{"$f":"VLOOKUP($B119,[1]FlowData!$A$3:$PL$215,N$7,FALSE)","v":56},{"$f":"VLOOKUP($B119,[1]FlowData!$A$3:$PL$215,O$7,FALSE)","v":61},{"$f":"VLOOKUP($B119,[1]FlowData!$A$3:$PL$215,P$7,FALSE)","v":52},{"$f":"VLOOKUP($B119,[1]FlowData!$A$3:$PL$215,Q$7,FALSE)","v":43},{"$f":"VLOOKUP($B119,[1]FlowData!$A$3:$PL$215,R$7,FALSE)","v":52},{"$f":"VLOOKUP($B119,[1]FlowData!$A$3:$PL$215,S$7,FALSE)","v":58},{"$f":"VLOOKUP($B119,[1]FlowData!$A$3:$PL$215,T$7,FALSE)","v":49},{"$f":"VLOOKUP($B119,[1]FlowData!$A$3:$PL$215,U$7,FALSE)","v":42},{"$f":"VLOOKUP($B119,[1]FlowData!$A$3:$PL$215,V$7,FALSE)","v":51},{"$f":"VLOOKUP($B119,[1]FlowData!$A$3:$PL$215,W$7,FALSE)","v":185},{"$f":"VLOOKUP($B119,[1]FlowData!$A$3:$PL$215,X$7,FALSE)","v":90},{"$f":"VLOOKUP($B119,[1]FlowData!$A$3:$PL$215,Y$7,FALSE)","v":51},{"$f":"VLOOKUP($B119,[1]FlowData!$A$3:$PL$215,Z$7,FALSE)","v":138},{"$f":"VLOOKUP($B119,[1]FlowData!$A$3:$PL$215,AA$7,FALSE)","v":1210},{"$f":"VLOOKUP($B119,[1]FlowData!$A$3:$PL$215,AB$7,FALSE)","v":628},{"$f":"VLOOKUP($B119,[1]FlowData!$A$3:$PL$215,AC$7,FALSE)","v":205},{"$f":"VLOOKUP($B119,[1]FlowData!$A$3:$PL$215,AD$7,FALSE)","v":781},{"$f":"VLOOKUP($B119,[1]FlowData!$A$3:$PL$215,AE$7,FALSE)","v":2650},{"$f":"VLOOKUP($B119,[1]FlowData!$A$3:$PL$215,AF$7,FALSE)","v":1660},{"$f":"VLOOKUP($B119,[1]FlowData!$A$3:$PL$215,AG$7,FALSE)","v":950},{"$f":"VLOOKUP($B119,[1]FlowData!$A$3:$PL$215,AH$7,FALSE)","v":1810},{"$f":"VLOOKUP($B119,[1]FlowData!$A$3:$PL$215,AI$7,FALSE)","v":1410},{"$f":"VLOOKUP($B119,[1]FlowData!$A$3:$PL$215,AJ$7,FALSE)","v":666},{"$f":"VLOOKUP($B119,[1]FlowData!$A$3:$PL$215,AK$7,FALSE)","v":406},{"$f":"VLOOKUP($B119,[1]FlowData!$A$3:$PL$215,AL$7,FALSE)","v":912},{"$f":"VLOOKUP($B119,[1]FlowData!$A$3:$PL$215,AM$7,FALSE)","v":364},{"$f":"VLOOKUP($B119,[1]FlowData!$A$3:$PL$215,AN$7,FALSE)","v":283},{"$f":"VLOOKUP($B119,[1]FlowData!$A$3:$PL$215,AO$7,FALSE)","v":199},{"$f":"VLOOKUP($B119,[1]FlowData!$A$3:$PL$215,AP$7,FALSE)","v":294},{"$f":"VLOOKUP($B119,[1]FlowData!$A$3:$PL$215,AQ$7,FALSE)","v":204},{"$f":"VLOOKUP($B119,[1]FlowData!$A$3:$PL$215,AR$7,FALSE)","v":160},{"$f":"VLOOKUP($B119,[1]FlowData!$A$3:$PL$215,AS$7,FALSE)","v":119},{"$f":"VLOOKUP($B119,[1]FlowData!$A$3:$PL$215,AT$7,FALSE)","v":169},{"$f":"VLOOKUP($B119,[1]FlowData!$A$3:$PL$215,AU$7,FALSE)","v":149},{"$f":"VLOOKUP($B119,[1]FlowData!$A$3:$PL$215,AV$7,FALSE)","v":121},{"$f":"VLOOKUP($B119,[1]FlowData!$A$3:$PL$215,AW$7,FALSE)","v":84},{"$f":"VLOOKUP($B119,[1]FlowData!$A$3:$PL$215,AX$7,FALSE)","v":127},{"$f":"VLOOKUP($B119,[1]FlowData!$A$3:$PL$215,AY$7,FALSE)","v":106},{"$f":"VLOOKUP($B119,[1]FlowData!$A$3:$PL$215,AZ$7,FALSE)","v":81},{"$f":"VLOOKUP($B119,[1]FlowData!$A$3:$PL$215,BA$7,FALSE)","v":62},{"$f":"VLOOKUP($B119,[1]FlowData!$A$3:$PL$215,BB$7,FALSE)","v":88},{"$f":"VLOOKUP($B119,[1]FlowData!$A$3:$PL$215,BC$7,FALSE)","v":78},{"$f":"VLOOKUP($B119,[1]FlowData!$A$3:$PL$215,BD$7,FALSE)","v":63},{"$f":"VLOOKUP($B119,[1]FlowData!$A$3:$PL$215,BE$7,FALSE)","v":47},{"$f":"VLOOKUP($B119,[1]FlowData!$A$3:$PL$215,BF$7,FALSE)","v":63}]
[{"$f":"VLOOKUP(B120,'[2]Gages and BCs'!$A$4:$BJ$973,62,FALSE)","v":442},6204500,{"$f":"VLOOKUP(B120,'[2]Gages and BCs'!$A$4:$BJ$973,60,FALSE)","v":"Rosebud Creek near Absarokee, Montana"},"1935–69",{"$f":"VLOOKUP($B120,[1]FlowData!$A$3:$PL$215,E$7,FALSE)","v":74.739000000000004},{"$f":"VLOOKUP($B120,[1]FlowData!$A$3:$PL$215,F$7,FALSE)","v":170.749},{"$f":"VLOOKUP($B120,[1]FlowData!$A$3:$PL$215,G$7,FALSE)","v":582},{"$f":"VLOOKUP($B120,[1]FlowData!$A$3:$PL$215,H$7,FALSE)","v":242},{"$f":"VLOOKUP($B120,[1]FlowData!$A$3:$PL$215,I$7,FALSE)","v":116},{"$f":"VLOOKUP($B120,[1]FlowData!$A$3:$PL$215,J$7,FALSE)","v":405},{"$f":"VLOOKUP($B120,[1]FlowData!$A$3:$PL$215,K$7,FALSE)","v":180},{"$f":"VLOOKUP($B120,[1]FlowData!$A$3:$PL$215,L$7,FALSE)","v":146},{"$f":"VLOOKUP($B120,[1]FlowData!$A$3:$PL$215,M$7,FALSE)","v":118},{"$f":"VLOOKUP($B120,[1]FlowData!$A$3:$PL$215,N$7,FALSE)","v":149},{"$f":"VLOOKUP($B120,[1]FlowData!$A$3:$PL$215,O$7,FALSE)","v":170},{"$f":"VLOOKUP($B120,[1]FlowData!$A$3:$PL$215,P$7,FALSE)","v":143},{"$f":"VLOOKUP($B120,[1]FlowData!$A$3:$PL$215,Q$7,FALSE)","v":116},{"$f":"VLOOKUP($B120,[1]FlowData!$A$3:$PL$215,R$7,FALSE)","v":149},{"$f":"VLOOKUP($B120,[1]FlowData!$A$3:$PL$215,S$7,FALSE)","v":207},{"$f":"VLOOKUP($B120,[1]FlowData!$A$3:$PL$215,T$7,FALSE)","v":151},{"$f":"VLOOKUP($B120,[1]FlowData!$A$3:$PL$215,U$7,FALSE)","v":116},{"$f":"VLOOKUP($B120,[1]FlowData!$A$3:$PL$215,V$7,FALSE)","v":165},{"$f":"VLOOKUP($B120,[1]FlowData!$A$3:$PL$215,W$7,FALSE)","v":271},{"$f":"VLOOKUP($B120,[1]FlowData!$A$3:$PL$215,X$7,FALSE)","v":192},{"$f":"VLOOKUP($B120,[1]FlowData!$A$3:$PL$215,Y$7,FALSE)","v":131},{"$f":"VLOOKUP($B120,[1]FlowData!$A$3:$PL$215,Z$7,FALSE)","v":212},{"$f":"VLOOKUP($B120,[1]FlowData!$A$3:$PL$215,AA$7,FALSE)","v":722},{"$f":"VLOOKUP($B120,[1]FlowData!$A$3:$PL$215,AB$7,FALSE)","v":427},{"$f":"VLOOKUP($B120,[1]FlowData!$A$3:$PL$215,AC$7,FALSE)","v":256},{"$f":"VLOOKUP($B120,[1]FlowData!$A$3:$PL$215,AD$7,FALSE)","v":526},{"$f":"VLOOKUP($B120,[1]FlowData!$A$3:$PL$215,AE$7,FALSE)","v":1630},{"$f":"VLOOKUP($B120,[1]FlowData!$A$3:$PL$215,AF$7,FALSE)","v":1050},{"$f":"VLOOKUP($B120,[1]FlowData!$A$3:$PL$215,AG$7,FALSE)","v":709},{"$f":"VLOOKUP($B120,[1]FlowData!$A$3:$PL$215,AH$7,FALSE)","v":1200},{"$f":"VLOOKUP($B120,[1]FlowData!$A$3:$PL$215,AI$7,FALSE)","v":1410},{"$f":"VLOOKUP($B120,[1]FlowData!$A$3:$PL$215,AJ$7,FALSE)","v":961},{"$f":"VLOOKUP($B120,[1]FlowData!$A$3:$PL$215,AK$7,FALSE)","v":648},{"$f":"VLOOKUP($B120,[1]FlowData!$A$3:$PL$215,AL$7,FALSE)","v":1060},{"$f":"VLOOKUP($B120,[1]FlowData!$A$3:$PL$215,AM$7,FALSE)","v":611},{"$f":"VLOOKUP($B120,[1]FlowData!$A$3:$PL$215,AN$7,FALSE)","v":431},{"$f":"VLOOKUP($B120,[1]FlowData!$A$3:$PL$215,AO$7,FALSE)","v":292},{"$f":"VLOOKUP($B120,[1]FlowData!$A$3:$PL$215,AP$7,FALSE)","v":464},{"$f":"VLOOKUP($B120,[1]FlowData!$A$3:$PL$215,AQ$7,FALSE)","v":391},{"$f":"VLOOKUP($B120,[1]FlowData!$A$3:$PL$215,AR$7,FALSE)","v":296},{"$f":"VLOOKUP($B120,[1]FlowData!$A$3:$PL$215,AS$7,FALSE)","v":220},{"$f":"VLOOKUP($B120,[1]FlowData!$A$3:$PL$215,AT$7,FALSE)","v":310},{"$f":"VLOOKUP($B120,[1]FlowData!$A$3:$PL$215,AU$7,FALSE)","v":292},{"$f":"VLOOKUP($B120,[1]FlowData!$A$3:$PL$215,AV$7,FALSE)","v":240},{"$f":"VLOOKUP($B120,[1]FlowData!$A$3:$PL$215,AW$7,FALSE)","v":190},{"$f":"VLOOKUP($B120,[1]FlowData!$A$3:$PL$215,AX$7,FALSE)","v":246},{"$f":"VLOOKUP($B120,[1]FlowData!$A$3:$PL$215,AY$7,FALSE)","v":233},{"$f":"VLOOKUP($B120,[1]FlowData!$A$3:$PL$215,AZ$7,FALSE)","v":202},{"$f":"VLOOKUP($B120,[1]FlowData!$A$3:$PL$215,BA$7,FALSE)","v":167},{"$f":"VLOOKUP($B120,[1]FlowData!$A$3:$PL$215,BB$7,FALSE)","v":200},{"$f":"VLOOKUP($B120,[1]FlowData!$A$3:$PL$215,BC$7,FALSE)","v":198},{"$f":"VLOOKUP($B120,[1]FlowData!$A$3:$PL$215,BD$7,FALSE)","v":166},{"$f":"VLOOKUP($B120,[1]FlowData!$A$3:$PL$215,BE$7,FALSE)","v":133},{"$f":"VLOOKUP($B120,[1]FlowData!$A$3:$PL$215,BF$7,FALSE)","v":166}]
[{"$f":"VLOOKUP(B121,'[2]Gages and BCs'!$A$4:$BJ$973,62,FALSE)","v":443},6205000,{"$f":"VLOOKUP(B121,'[2]Gages and BCs'!$A$4:$BJ$973,60,FALSE)","v":"Stillwater River near Absarokee, Montana"},"1911–13, 1935–98, 2000–9",{"$f":"VLOOKUP($B121,[1]FlowData!$A$3:$PL$215,E$7,FALSE)","v":139.702},{"$f":"VLOOKUP($B121,[1]FlowData!$A$3:$PL$215,F$7,FALSE)","v":330.45800000000003},{"$f":"VLOOKUP($B121,[1]FlowData!$A$3:$PL$215,G$7,FALSE)","v":1280},{"$f":"VLOOKUP($B121,[1]FlowData!$A$3:$PL$215,H$7,FALSE)","v":448},{"$f":"VLOOKUP($B121,[1]FlowData!$A$3:$PL$215,I$7,FALSE)","v":212},{"$f":"VLOOKUP($B121,[1]FlowData!$A$3:$PL$215,J$7,FALSE)","v":932},{"$f":"VLOOKUP($B121,[1]FlowData!$A$3:$PL$215,K$7,FALSE)","v":333},{"$f":"VLOOKUP($B121,[1]FlowData!$A$3:$PL$215,L$7,FALSE)","v":275},{"$f":"VLOOKUP($B121,[1]FlowData!$A$3:$PL$215,M$7,FALSE)","v":216},{"$f":"VLOOKUP($B121,[1]FlowData!$A$3:$PL$215,N$7,FALSE)","v":280},{"$f":"VLOOKUP($B121,[1]FlowData!$A$3:$PL$215,O$7,FALSE)","v":312},{"$f":"VLOOKUP($B121,[1]FlowData!$A$3:$PL$215,P$7,FALSE)","v":263},{"$f":"VLOOKUP($B121,[1]FlowData!$A$3:$PL$215,Q$7,FALSE)","v":213},{"$f":"VLOOKUP($B121,[1]FlowData!$A$3:$PL$215,R$7,FALSE)","v":268},{"$f":"VLOOKUP($B121,[1]FlowData!$A$3:$PL$215,S$7,FALSE)","v":346},{"$f":"VLOOKUP($B121,[1]FlowData!$A$3:$PL$215,T$7,FALSE)","v":255},{"$f":"VLOOKUP($B121,[1]FlowData!$A$3:$PL$215,U$7,FALSE)","v":199},{"$f":"VLOOKUP($B121,[1]FlowData!$A$3:$PL$215,V$7,FALSE)","v":283},{"$f":"VLOOKUP($B121,[1]FlowData!$A$3:$PL$215,W$7,FALSE)","v":520},{"$f":"VLOOKUP($B121,[1]FlowData!$A$3:$PL$215,X$7,FALSE)","v":353},{"$f":"VLOOKUP($B121,[1]FlowData!$A$3:$PL$215,Y$7,FALSE)","v":257},{"$f":"VLOOKUP($B121,[1]FlowData!$A$3:$PL$215,Z$7,FALSE)","v":408},{"$f":"VLOOKUP($B121,[1]FlowData!$A$3:$PL$215,AA$7,FALSE)","v":2290},{"$f":"VLOOKUP($B121,[1]FlowData!$A$3:$PL$215,AB$7,FALSE)","v":1180},{"$f":"VLOOKUP($B121,[1]FlowData!$A$3:$PL$215,AC$7,FALSE)","v":640},{"$f":"VLOOKUP($B121,[1]FlowData!$A$3:$PL$215,AD$7,FALSE)","v":1510},{"$f":"VLOOKUP($B121,[1]FlowData!$A$3:$PL$215,AE$7,FALSE)","v":4720},{"$f":"VLOOKUP($B121,[1]FlowData!$A$3:$PL$215,AF$7,FALSE)","v":3150},{"$f":"VLOOKUP($B121,[1]FlowData!$A$3:$PL$215,AG$7,FALSE)","v":2040},{"$f":"VLOOKUP($B121,[1]FlowData!$A$3:$PL$215,AH$7,FALSE)","v":3440},{"$f":"VLOOKUP($B121,[1]FlowData!$A$3:$PL$215,AI$7,FALSE)","v":3180},{"$f":"VLOOKUP($B121,[1]FlowData!$A$3:$PL$215,AJ$7,FALSE)","v":2060},{"$f":"VLOOKUP($B121,[1]FlowData!$A$3:$PL$215,AK$7,FALSE)","v":1230},{"$f":"VLOOKUP($B121,[1]FlowData!$A$3:$PL$215,AL$7,FALSE)","v":2310},{"$f":"VLOOKUP($B121,[1]FlowData!$A$3:$PL$215,AM$7,FALSE)","v":1190},{"$f":"VLOOKUP($B121,[1]FlowData!$A$3:$PL$215,AN$7,FALSE)","v":785},{"$f":"VLOOKUP($B121,[1]FlowData!$A$3:$PL$215,AO$7,FALSE)","v":539},{"$f":"VLOOKUP($B121,[1]FlowData!$A$3:$PL$215,AP$7,FALSE)","v":879},{"$f":"VLOOKUP($B121,[1]FlowData!$A$3:$PL$215,AQ$7,FALSE)","v":769},{"$f":"VLOOKUP($B121,[1]FlowData!$A$3:$PL$215,AR$7,FALSE)","v":567},{"$f":"VLOOKUP($B121,[1]FlowData!$A$3:$PL$215,AS$7,FALSE)","v":401},{"$f":"VLOOKUP($B121,[1]FlowData!$A$3:$PL$215,AT$7,FALSE)","v":601},{"$f":"VLOOKUP($B121,[1]FlowData!$A$3:$PL$215,AU$7,FALSE)","v":623},{"$f":"VLOOKUP($B121,[1]FlowData!$A$3:$PL$215,AV$7,FALSE)","v":497},{"$f":"VLOOKUP($B121,[1]FlowData!$A$3:$PL$215,AW$7,FALSE)","v":391},{"$f":"VLOOKUP($B121,[1]FlowData!$A$3:$PL$215,AX$7,FALSE)","v":514},{"$f":"VLOOKUP($B121,[1]FlowData!$A$3:$PL$215,AY$7,FALSE)","v":475},{"$f":"VLOOKUP($B121,[1]FlowData!$A$3:$PL$215,AZ$7,FALSE)","v":407},{"$f":"VLOOKUP($B121,[1]FlowData!$A$3:$PL$215,BA$7,FALSE)","v":334},{"$f":"VLOOKUP($B121,[1]FlowData!$A$3:$PL$215,BB$7,FALSE)","v":404},{"$f":"VLOOKUP($B121,[1]FlowData!$A$3:$PL$215,BC$7,FALSE)","v":378},{"$f":"VLOOKUP($B121,[1]FlowData!$A$3:$PL$215,BD$7,FALSE)","v":318},{"$f":"VLOOKUP($B121,[1]FlowData!$A$3:$PL$215,BE$7,FALSE)","v":249},{"$f":"VLOOKUP($B121,[1]FlowData!$A$3:$PL$215,BF$7,FALSE)","v":317}]
[{"$f":"VLOOKUP(B122,'[2]Gages and BCs'!$A$4:$BJ$973,62,FALSE)","v":445},6207500,{"$f":"VLOOKUP(B122,'[2]Gages and BCs'!$A$4:$BJ$973,60,FALSE)","v":"Clarks Fork Yellowstone River near Belfry, Montana"},"1922–23, 1926–32, 1934–2009",{"$f":"VLOOKUP($B122,[1]FlowData!$A$3:$PL$215,E$7,FALSE)","v":71.978999999999999},{"$f":"VLOOKUP($B122,[1]FlowData!$A$3:$PL$215,F$7,FALSE)","v":110.354},{"$f":"VLOOKUP($B122,[1]FlowData!$A$3:$PL$215,G$7,FALSE)","v":1260},{"$f":"VLOOKUP($B122,[1]FlowData!$A$3:$PL$215,H$7,FALSE)","v":362},{"$f":"VLOOKUP($B122,[1]FlowData!$A$3:$PL$215,I$7,FALSE)","v":163},{"$f":"VLOOKUP($B122,[1]FlowData!$A$3:$PL$215,J$7,FALSE)","v":928},{"$f":"VLOOKUP($B122,[1]FlowData!$A$3:$PL$215,K$7,FALSE)","v":282},{"$f":"VLOOKUP($B122,[1]FlowData!$A$3:$PL$215,L$7,FALSE)","v":235},{"$f":"VLOOKUP($B122,[1]FlowData!$A$3:$PL$215,M$7,FALSE)","v":195},{"$f":"VLOOKUP($B122,[1]FlowData!$A$3:$PL$215,N$7,FALSE)","v":241},{"$f":"VLOOKUP($B122,[1]FlowData!$A$3:$PL$215,O$7,FALSE)","v":263},{"$f":"VLOOKUP($B122,[1]FlowData!$A$3:$PL$215,P$7,FALSE)","v":231},{"$f":"VLOOKUP($B122,[1]FlowData!$A$3:$PL$215,Q$7,FALSE)","v":196},{"$f":"VLOOKUP($B122,[1]FlowData!$A$3:$PL$215,R$7,FALSE)","v":233},{"$f":"VLOOKUP($B122,[1]FlowData!$A$3:$PL$215,S$7,FALSE)","v":256},{"$f":"VLOOKUP($B122,[1]FlowData!$A$3:$PL$215,T$7,FALSE)","v":221},{"$f":"VLOOKUP($B122,[1]FlowData!$A$3:$PL$215,U$7,FALSE)","v":187},{"$f":"VLOOKUP($B122,[1]FlowData!$A$3:$PL$215,V$7,FALSE)","v":232},{"$f":"VLOOKUP($B122,[1]FlowData!$A$3:$PL$215,W$7,FALSE)","v":544},{"$f":"VLOOKUP($B122,[1]FlowData!$A$3:$PL$215,X$7,FALSE)","v":300},{"$f":"VLOOKUP($B122,[1]FlowData!$A$3:$PL$215,Y$7,FALSE)","v":215},{"$f":"VLOOKUP($B122,[1]FlowData!$A$3:$PL$215,Z$7,FALSE)","v":424},{"$f":"VLOOKUP($B122,[1]FlowData!$A$3:$PL$215,AA$7,FALSE)","v":3250},{"$f":"VLOOKUP($B122,[1]FlowData!$A$3:$PL$215,AB$7,FALSE)","v":1620},{"$f":"VLOOKUP($B122,[1]FlowData!$A$3:$PL$215,AC$7,FALSE)","v":671},{"$f":"VLOOKUP($B122,[1]FlowData!$A$3:$PL$215,AD$7,FALSE)","v":2070},{"$f":"VLOOKUP($B122,[1]FlowData!$A$3:$PL$215,AE$7,FALSE)","v":5650},{"$f":"VLOOKUP($B122,[1]FlowData!$A$3:$PL$215,AF$7,FALSE)","v":3670},{"$f":"VLOOKUP($B122,[1]FlowData!$A$3:$PL$215,AG$7,FALSE)","v":2360},{"$f":"VLOOKUP($B122,[1]FlowData!$A$3:$PL$215,AH$7,FALSE)","v":4080},{"$f":"VLOOKUP($B122,[1]FlowData!$A$3:$PL$215,AI$7,FALSE)","v":3230},{"$f":"VLOOKUP($B122,[1]FlowData!$A$3:$PL$215,AJ$7,FALSE)","v":1850},{"$f":"VLOOKUP($B122,[1]FlowData!$A$3:$PL$215,AK$7,FALSE)","v":952},{"$f":"VLOOKUP($B122,[1]FlowData!$A$3:$PL$215,AL$7,FALSE)","v":2180},{"$f":"VLOOKUP($B122,[1]FlowData!$A$3:$PL$215,AM$7,FALSE)","v":878},{"$f":"VLOOKUP($B122,[1]FlowData!$A$3:$PL$215,AN$7,FALSE)","v":497},{"$f":"VLOOKUP($B122,[1]FlowData!$A$3:$PL$215,AO$7,FALSE)","v":275},{"$f":"VLOOKUP($B122,[1]FlowData!$A$3:$PL$215,AP$7,FALSE)","v":598},{"$f":"VLOOKUP($B122,[1]FlowData!$A$3:$PL$215,AQ$7,FALSE)","v":433},{"$f":"VLOOKUP($B122,[1]FlowData!$A$3:$PL$215,AR$7,FALSE)","v":257},{"$f":"VLOOKUP($B122,[1]FlowData!$A$3:$PL$215,AS$7,FALSE)","v":153},{"$f":"VLOOKUP($B122,[1]FlowData!$A$3:$PL$215,AT$7,FALSE)","v":303},{"$f":"VLOOKUP($B122,[1]FlowData!$A$3:$PL$215,AU$7,FALSE)","v":380},{"$f":"VLOOKUP($B122,[1]FlowData!$A$3:$PL$215,AV$7,FALSE)","v":245},{"$f":"VLOOKUP($B122,[1]FlowData!$A$3:$PL$215,AW$7,FALSE)","v":150},{"$f":"VLOOKUP($B122,[1]FlowData!$A$3:$PL$215,AX$7,FALSE)","v":271},{"$f":"VLOOKUP($B122,[1]FlowData!$A$3:$PL$215,AY$7,FALSE)","v":369},{"$f":"VLOOKUP($B122,[1]FlowData!$A$3:$PL$215,AZ$7,FALSE)","v":285},{"$f":"VLOOKUP($B122,[1]FlowData!$A$3:$PL$215,BA$7,FALSE)","v":210},{"$f":"VLOOKUP($B122,[1]FlowData!$A$3:$PL$215,BB$7,FALSE)","v":293},{"$f":"VLOOKUP($B122,[1]FlowData!$A$3:$PL$215,BC$7,FALSE)","v":321},{"$f":"VLOOKUP($B122,[1]FlowData!$A$3:$PL$215,BD$7,FALSE)","v":264},{"$f":"VLOOKUP($B122,[1]FlowData!$A$3:$PL$215,BE$7,FALSE)","v":212},{"$f":"VLOOKUP($B122,[1]FlowData!$A$3:$PL$215,BF$7,FALSE)","v":267}]
[{"$f":"VLOOKUP(B123,'[2]Gages and BCs'!$A$4:$BJ$973,62,FALSE)","v":447},6207800,{"$f":"VLOOKUP(B123,'[2]Gages and BCs'!$A$4:$BJ$973,60,FALSE)","v":"Bluewater Creek near Bridger, Montana"},"1960–70",{"$f":"VLOOKUP($B123,[1]FlowData!$A$3:$PL$215,E$7,FALSE)","v":""},{"$f":"VLOOKUP($B123,[1]FlowData!$A$3:$PL$215,F$7,FALSE)","v":23.341999999999999},{"$f":"VLOOKUP($B123,[1]FlowData!$A$3:$PL$215,G$7,FALSE)","v":30},{"$f":"VLOOKUP($B123,[1]FlowData!$A$3:$PL$215,H$7,FALSE)","v":28},{"$f":"VLOOKUP($B123,[1]FlowData!$A$3:$PL$215,I$7,FALSE)","v":26},{"$f":"VLOOKUP($B123,[1]FlowData!$A$3:$PL$215,J$7,FALSE)","v":28},{"$f":"VLOOKUP($B123,[1]FlowData!$A$3:$PL$215,K$7,FALSE)","v":31},{"$f":"VLOOKUP($B123,[1]FlowData!$A$3:$PL$215,L$7,FALSE)","v":30},{"$f":"VLOOKUP($B123,[1]FlowData!$A$3:$PL$215,M$7,FALSE)","v":27},{"$f":"VLOOKUP($B123,[1]FlowData!$A$3:$PL$215,N$7,FALSE)","v":29},{"$f":"VLOOKUP($B123,[1]FlowData!$A$3:$PL$215,O$7,FALSE)","v":31},{"$f":"VLOOKUP($B123,[1]FlowData!$A$3:$PL$215,P$7,FALSE)","v":29},{"$f":"VLOOKUP($B123,[1]FlowData!$A$3:$PL$215,Q$7,FALSE)","v":27},{"$f":"VLOOKUP($B123,[1]FlowData!$A$3:$PL$215,R$7,FALSE)","v":29},{"$f":"VLOOKUP($B123,[1]FlowData!$A$3:$PL$215,S$7,FALSE)","v":31},{"$f":"VLOOKUP($B123,[1]FlowData!$A$3:$PL$215,T$7,FALSE)","v":29},{"$f":"VLOOKUP($B123,[1]FlowData!$A$3:$PL$215,U$7,FALSE)","v":28},{"$f":"VLOOKUP($B123,[1]FlowData!$A$3:$PL$215,V$7,FALSE)","v":29},{"$f":"VLOOKUP($B123,[1]FlowData!$A$3:$PL$215,W$7,FALSE)","v":31},{"$f":"VLOOKUP($B123,[1]FlowData!$A$3:$PL$215,X$7,FALSE)","v":29},{"$f":"VLOOKUP($B123,[1]FlowData!$A$3:$PL$215,Y$7,FALSE)","v":28},{"$f":"VLOOKUP($B123,[1]FlowData!$A$3:$PL$215,Z$7,FALSE)","v":29},{"$f":"VLOOKUP($B123,[1]FlowData!$A$3:$PL$215,AA$7,FALSE)","v":30},{"$f":"VLOOKUP($B123,[1]FlowData!$A$3:$PL$215,AB$7,FALSE)","v":28},{"$f":"VLOOKUP($B123,[1]FlowData!$A$3:$PL$215,AC$7,FALSE)","v":27},{"$f":"VLOOKUP($B123,[1]FlowData!$A$3:$PL$215,AD$7,FALSE)","v":28},{"$f":"VLOOKUP($B123,[1]FlowData!$A$3:$PL$215,AE$7,FALSE)","v":29},{"$f":"VLOOKUP($B123,[1]FlowData!$A$3:$PL$215,AF$7,FALSE)","v":27},{"$f":"VLOOKUP($B123,[1]FlowData!$A$3:$PL$215,AG$7,FALSE)","v":25},{"$f":"VLOOKUP($B123,[1]FlowData!$A$3:$PL$215,AH$7,FALSE)","v":28},{"$f":"VLOOKUP($B123,[1]FlowData!$A$3:$PL$215,AI$7,FALSE)","v":29},{"$f":"VLOOKUP($B123,[1]FlowData!$A$3:$PL$215,AJ$7,FALSE)","v":25},{"$f":"VLOOKUP($B123,[1]FlowData!$A$3:$PL$215,AK$7,FALSE)","v":24},{"$f":"VLOOKUP($B123,[1]FlowData!$A$3:$PL$215,AL$7,FALSE)","v":26},{"$f":"VLOOKUP($B123,[1]FlowData!$A$3:$PL$215,AM$7,FALSE)","v":28},{"$f":"VLOOKUP($B123,[1]FlowData!$A$3:$PL$215,AN$7,FALSE)","v":26},{"$f":"VLOOKUP($B123,[1]FlowData!$A$3:$PL$215,AO$7,FALSE)","v":25},{"$f":"VLOOKUP($B123,[1]FlowData!$A$3:$PL$215,AP$7,FALSE)","v":26},{"$f":"VLOOKUP($B123,[1]FlowData!$A$3:$PL$215,AQ$7,FALSE)","v":30},{"$f":"VLOOKUP($B123,[1]FlowData!$A$3:$PL$215,AR$7,FALSE)","v":27},{"$f":"VLOOKUP($B123,[1]FlowData!$A$3:$PL$215,AS$7,FALSE)","v":26},{"$f":"VLOOKUP($B123,[1]FlowData!$A$3:$PL$215,AT$7,FALSE)","v":28},{"$f":"VLOOKUP($B123,[1]FlowData!$A$3:$PL$215,AU$7,FALSE)","v":30},{"$f":"VLOOKUP($B123,[1]FlowData!$A$3:$PL$215,AV$7,FALSE)","v":28},{"$f":"VLOOKUP($B123,[1]FlowData!$A$3:$PL$215,AW$7,FALSE)","v":27},{"$f":"VLOOKUP($B123,[1]FlowData!$A$3:$PL$215,AX$7,FALSE)","v":28},{"$f":"VLOOKUP($B123,[1]FlowData!$A$3:$PL$215,AY$7,FALSE)","v":31},{"$f":"VLOOKUP($B123,[1]FlowData!$A$3:$PL$215,AZ$7,FALSE)","v":29},{"$f":"VLOOKUP($B123,[1]FlowData!$A$3:$PL$215,BA$7,FALSE)","v":27},{"$f":"VLOOKUP($B123,[1]FlowData!$A$3:$PL$215,BB$7,FALSE)","v":29},{"$f":"VLOOKUP($B123,[1]FlowData!$A$3:$PL$215,BC$7,FALSE)","v":31},{"$f":"VLOOKUP($B123,[1]FlowData!$A$3:$PL$215,BD$7,FALSE)","v":29},{"$f":"VLOOKUP($B123,[1]FlowData!$A$3:$PL$215,BE$7,FALSE)","v":27},{"$f":"VLOOKUP($B123,[1]FlowData!$A$3:$PL$215,BF$7,FALSE)","v":29}]
[{"$f":"VLOOKUP(B124,'[2]Gages and BCs'!$A$4:$BJ$973,62,FALSE)","v":450},6209500,{"$f":"VLOOKUP(B124,'[2]Gages and BCs'!$A$4:$BJ$973,60,FALSE)","v":"Rock Creek near Red Lodge, Montana"},"1932, 1934–82, 1985–86, 2000–9",{"$f":"VLOOKUP($B124,[1]FlowData!$A$3:$PL$215,E$7,FALSE)","v":19.864999999999998},{"$f":"VLOOKUP($B124,[1]FlowData!$A$3:$PL$215,F$7,FALSE)","v":57.823999999999998},{"$f":"VLOOKUP($B124,[1]FlowData!$A$3:$PL$215,G$7,FALSE)","v":273},{"$f":"VLOOKUP($B124,[1]FlowData!$A$3:$PL$215,H$7,FALSE)","v":84},{"$f":"VLOOKUP($B124,[1]FlowData!$A$3:$PL$215,I$7,FALSE)","v":41},{"$f":"VLOOKUP($B124,[1]FlowData!$A$3:$PL$215,J$7,FALSE)","v":168},{"$f":"VLOOKUP($B124,[1]FlowData!$A$3:$PL$215,K$7,FALSE)","v":39},{"$f":"VLOOKUP($B124,[1]FlowData!$A$3:$PL$215,L$7,FALSE)","v":34},{"$f":"VLOOKUP($B124,[1]FlowData!$A$3:$PL$215,M$7,FALSE)","v":28},{"$f":"VLOOKUP($B124,[1]FlowData!$A$3:$PL$215,N$7,FALSE)","v":33},{"$f":"VLOOKUP($B124,[1]FlowData!$A$3:$PL$215,O$7,FALSE)","v":34},{"$f":"VLOOKUP($B124,[1]FlowData!$A$3:$PL$215,P$7,FALSE)","v":31},{"$f":"VLOOKUP($B124,[1]FlowData!$A$3:$PL$215,Q$7,FALSE)","v":25},{"$f":"VLOOKUP($B124,[1]FlowData!$A$3:$PL$215,R$7,FALSE)","v":30},{"$f":"VLOOKUP($B124,[1]FlowData!$A$3:$PL$215,S$7,FALSE)","v":33},{"$f":"VLOOKUP($B124,[1]FlowData!$A$3:$PL$215,T$7,FALSE)","v":28},{"$f":"VLOOKUP($B124,[1]FlowData!$A$3:$PL$215,U$7,FALSE)","v":24},{"$f":"VLOOKUP($B124,[1]FlowData!$A$3:$PL$215,V$7,FALSE)","v":29},{"$f":"VLOOKUP($B124,[1]FlowData!$A$3:$PL$215,W$7,FALSE)","v":44},{"$f":"VLOOKUP($B124,[1]FlowData!$A$3:$PL$215,X$7,FALSE)","v":35},{"$f":"VLOOKUP($B124,[1]FlowData!$A$3:$PL$215,Y$7,FALSE)","v":27},{"$f":"VLOOKUP($B124,[1]FlowData!$A$3:$PL$215,Z$7,FALSE)","v":39},{"$f":"VLOOKUP($B124,[1]FlowData!$A$3:$PL$215,AA$7,FALSE)","v":332},{"$f":"VLOOKUP($B124,[1]FlowData!$A$3:$PL$215,AB$7,FALSE)","v":147},{"$f":"VLOOKUP($B124,[1]FlowData!$A$3:$PL$215,AC$7,FALSE)","v":62},{"$f":"VLOOKUP($B124,[1]FlowData!$A$3:$PL$215,AD$7,FALSE)","v":217},{"$f":"VLOOKUP($B124,[1]FlowData!$A$3:$PL$215,AE$7,FALSE)","v":797},{"$f":"VLOOKUP($B124,[1]FlowData!$A$3:$PL$215,AF$7,FALSE)","v":513},{"$f":"VLOOKUP($B124,[1]FlowData!$A$3:$PL$215,AG$7,FALSE)","v":330},{"$f":"VLOOKUP($B124,[1]FlowData!$A$3:$PL$215,AH$7,FALSE)","v":577},{"$f":"VLOOKUP($B124,[1]FlowData!$A$3:$PL$215,AI$7,FALSE)","v":625},{"$f":"VLOOKUP($B124,[1]FlowData!$A$3:$PL$215,AJ$7,FALSE)","v":435},{"$f":"VLOOKUP($B124,[1]FlowData!$A$3:$PL$215,AK$7,FALSE)","v":309},{"$f":"VLOOKUP($B124,[1]FlowData!$A$3:$PL$215,AL$7,FALSE)","v":482},{"$f":"VLOOKUP($B124,[1]FlowData!$A$3:$PL$215,AM$7,FALSE)","v":311},{"$f":"VLOOKUP($B124,[1]FlowData!$A$3:$PL$215,AN$7,FALSE)","v":237},{"$f":"VLOOKUP($B124,[1]FlowData!$A$3:$PL$215,AO$7,FALSE)","v":183},{"$f":"VLOOKUP($B124,[1]FlowData!$A$3:$PL$215,AP$7,FALSE)","v":253},{"$f":"VLOOKUP($B124,[1]FlowData!$A$3:$PL$215,AQ$7,FALSE)","v":176},{"$f":"VLOOKUP($B124,[1]FlowData!$A$3:$PL$215,AR$7,FALSE)","v":135},{"$f":"VLOOKUP($B124,[1]FlowData!$A$3:$PL$215,AS$7,FALSE)","v":102},{"$f":"VLOOKUP($B124,[1]FlowData!$A$3:$PL$215,AT$7,FALSE)","v":140},{"$f":"VLOOKUP($B124,[1]FlowData!$A$3:$PL$215,AU$7,FALSE)","v":98},{"$f":"VLOOKUP($B124,[1]FlowData!$A$3:$PL$215,AV$7,FALSE)","v":75},{"$f":"VLOOKUP($B124,[1]FlowData!$A$3:$PL$215,AW$7,FALSE)","v":62},{"$f":"VLOOKUP($B124,[1]FlowData!$A$3:$PL$215,AX$7,FALSE)","v":80},{"$f":"VLOOKUP($B124,[1]FlowData!$A$3:$PL$215,AY$7,FALSE)","v":64},{"$f":"VLOOKUP($B124,[1]FlowData!$A$3:$PL$215,AZ$7,FALSE)","v":53},{"$f":"VLOOKUP($B124,[1]FlowData!$A$3:$PL$215,BA$7,FALSE)","v":44},{"$f":"VLOOKUP($B124,[1]FlowData!$A$3:$PL$215,BB$7,FALSE)","v":54},{"$f":"VLOOKUP($B124,[1]FlowData!$A$3:$PL$215,BC$7,FALSE)","v":47},{"$f":"VLOOKUP($B124,[1]FlowData!$A$3:$PL$215,BD$7,FALSE)","v":40},{"$f":"VLOOKUP($B124,[1]FlowData!$A$3:$PL$215,BE$7,FALSE)","v":33},{"$f":"VLOOKUP($B124,[1]FlowData!$A$3:$PL$215,BF$7,FALSE)","v":41}]
[{"$f":"VLOOKUP(B125,'[2]Gages and BCs'!$A$4:$BJ$973,62,FALSE)","v":451},6210000,{"$f":"VLOOKUP(B125,'[2]Gages and BCs'!$A$4:$BJ$973,60,FALSE)","v":"West Fork Rock Creek below Basin Creek, near Red Lodge, Montana"},"1938–56",{"$f":"VLOOKUP($B125,[1]FlowData!$A$3:$PL$215,E$7,FALSE)","v":""},{"$f":"VLOOKUP($B125,[1]FlowData!$A$3:$PL$215,F$7,FALSE)","v":27.545000000000002},{"$f":"VLOOKUP($B125,[1]FlowData!$A$3:$PL$215,G$7,FALSE)","v":""},{"$f":"VLOOKUP($B125,[1]FlowData!$A$3:$PL$215,H$7,FALSE)","v":""},{"$f":"VLOOKUP($B125,[1]FlowData!$A$3:$PL$215,I$7,FALSE)","v":""},{"$f":"VLOOKUP($B125,[1]FlowData!$A$3:$PL$215,J$7,FALSE)","v":""},{"$f":"VLOOKUP($B125,[1]FlowData!$A$3:$PL$215,K$7,FALSE)","v":""},{"$f":"VLOOKUP($B125,[1]FlowData!$A$3:$PL$215,L$7,FALSE)","v":""},{"$f":"VLOOKUP($B125,[1]FlowData!$A$3:$PL$215,M$7,FALSE)","v":""},{"$f":"VLOOKUP($B125,[1]FlowData!$A$3:$PL$215,N$7,FALSE)","v":""},{"$f":"VLOOKUP($B125,[1]FlowData!$A$3:$PL$215,O$7,FALSE)","v":""},{"$f":"VLOOKUP($B125,[1]FlowData!$A$3:$PL$215,P$7,FALSE)","v":""},{"$f":"VLOOKUP($B125,[1]FlowData!$A$3:$PL$215,Q$7,FALSE)","v":""},{"$f":"VLOOKUP($B125,[1]FlowData!$A$3:$PL$215,R$7,FALSE)","v":""},{"$f":"VLOOKUP($B125,[1]FlowData!$A$3:$PL$215,S$7,FALSE)","v":""},{"$f":"VLOOKUP($B125,[1]FlowData!$A$3:$PL$215,T$7,FALSE)","v":""},{"$f":"VLOOKUP($B125,[1]FlowData!$A$3:$PL$215,U$7,FALSE)","v":""},{"$f":"VLOOKUP($B125,[1]FlowData!$A$3:$PL$215,V$7,FALSE)","v":""},{"$f":"VLOOKUP($B125,[1]FlowData!$A$3:$PL$215,W$7,FALSE)","v":""},{"$f":"VLOOKUP($B125,[1]FlowData!$A$3:$PL$215,X$7,FALSE)","v":""},{"$f":"VLOOKUP($B125,[1]FlowData!$A$3:$PL$215,Y$7,FALSE)","v":""},{"$f":"VLOOKUP($B125,[1]FlowData!$A$3:$PL$215,Z$7,FALSE)","v":""},{"$f":"VLOOKUP($B125,[1]FlowData!$A$3:$PL$215,AA$7,FALSE)","v":172},{"$f":"VLOOKUP($B125,[1]FlowData!$A$3:$PL$215,AB$7,FALSE)","v":88},{"$f":"VLOOKUP($B125,[1]FlowData!$A$3:$PL$215,AC$7,FALSE)","v":46},{"$f":"VLOOKUP($B125,[1]FlowData!$A$3:$PL$215,AD$7,FALSE)","v":120},{"$f":"VLOOKUP($B125,[1]FlowData!$A$3:$PL$215,AE$7,FALSE)","v":377},{"$f":"VLOOKUP($B125,[1]FlowData!$A$3:$PL$215,AF$7,FALSE)","v":255},{"$f":"VLOOKUP($B125,[1]FlowData!$A$3:$PL$215,AG$7,FALSE)","v":163},{"$f":"VLOOKUP($B125,[1]FlowData!$A$3:$PL$215,AH$7,FALSE)","v":277},{"$f":"VLOOKUP($B125,[1]FlowData!$A$3:$PL$215,AI$7,FALSE)","v":325},{"$f":"VLOOKUP($B125,[1]FlowData!$A$3:$PL$215,AJ$7,FALSE)","v":220},{"$f":"VLOOKUP($B125,[1]FlowData!$A$3:$PL$215,AK$7,FALSE)","v":164},{"$f":"VLOOKUP($B125,[1]FlowData!$A$3:$PL$215,AL$7,FALSE)","v":246},{"$f":"VLOOKUP($B125,[1]FlowData!$A$3:$PL$215,AM$7,FALSE)","v":148},{"$f":"VLOOKUP($B125,[1]FlowData!$A$3:$PL$215,AN$7,FALSE)","v":108},{"$f":"VLOOKUP($B125,[1]FlowData!$A$3:$PL$215,AO$7,FALSE)","v":82},{"$f":"VLOOKUP($B125,[1]FlowData!$A$3:$PL$215,AP$7,FALSE)","v":118},{"$f":"VLOOKUP($B125,[1]FlowData!$A$3:$PL$215,AQ$7,FALSE)","v":79},{"$f":"VLOOKUP($B125,[1]FlowData!$A$3:$PL$215,AR$7,FALSE)","v":63},{"$f":"VLOOKUP($B125,[1]FlowData!$A$3:$PL$215,AS$7,FALSE)","v":48},{"$f":"VLOOKUP($B125,[1]FlowData!$A$3:$PL$215,AT$7,FALSE)","v":64},{"$f":"VLOOKUP($B125,[1]FlowData!$A$3:$PL$215,AU$7,FALSE)","v":46},{"$f":"VLOOKUP($B125,[1]FlowData!$A$3:$PL$215,AV$7,FALSE)","v":37},{"$f":"VLOOKUP($B125,[1]FlowData!$A$3:$PL$215,AW$7,FALSE)","v":30},{"$f":"VLOOKUP($B125,[1]FlowData!$A$3:$PL$215,AX$7,FALSE)","v":40},{"$f":"VLOOKUP($B125,[1]FlowData!$A$3:$PL$215,AY$7,FALSE)","v":""},{"$f":"VLOOKUP($B125,[1]FlowData!$A$3:$PL$215,AZ$7,FALSE)","v":""},{"$f":"VLOOKUP($B125,[1]FlowData!$A$3:$PL$215,BA$7,FALSE)","v":""},{"$f":"VLOOKUP($B125,[1]FlowData!$A$3:$PL$215,BB$7,FALSE)","v":""},{"$f":"VLOOKUP($B125,[1]FlowData!$A$3:$PL$215,BC$7,FALSE)","v":""},{"$f":"VLOOKUP($B125,[1]FlowData!$A$3:$PL$215,BD$7,FALSE)","v":""},{"$f":"VLOOKUP($B125,[1]FlowData!$A$3:$PL$215,BE$7,FALSE)","v":""},{"$f":"VLOOKUP($B125,[1]FlowData!$A$3:$PL$215,BF$7,FALSE)","v":""}]
[{"$f":"VLOOKUP(B126,'[2]Gages and BCs'!$A$4:$BJ$973,62,FALSE)","v":453},6211000,{"$f":"VLOOKUP(B126,'[2]Gages and BCs'!$A$4:$BJ$973,60,FALSE)","v":"Red Lodge Creek above Cooney Reservoir, near Boyd, Montana"},"1937–42, 1944–48, 1950–2008",{"$f":"VLOOKUP($B126,[1]FlowData!$A$3:$PL$215,E$7,FALSE)","v":""},{"$f":"VLOOKUP($B126,[1]FlowData!$A$3:$PL$215,F$7,FALSE)","v":12.093},{"$f":"VLOOKUP($B126,[1]FlowData!$A$3:$PL$215,G$7,FALSE)","v":""},{"$f":"VLOOKUP($B126,[1]FlowData!$A$3:$PL$215,H$7,FALSE)","v":""},{"$f":"VLOOKUP($B126,[1]FlowData!$A$3:$PL$215,I$7,FALSE)","v":""},{"$f":"VLOOKUP($B126,[1]FlowData!$A$3:$PL$215,J$7,FALSE)","v":""},{"$f":"VLOOKUP($B126,[1]FlowData!$A$3:$PL$215,K$7,FALSE)","v":""},{"$f":"VLOOKUP($B126,[1]FlowData!$A$3:$PL$215,L$7,FALSE)","v":""},{"$f":"VLOOKUP($B126,[1]FlowData!$A$3:$PL$215,M$7,FALSE)","v":""},{"$f":"VLOOKUP($B126,[1]FlowData!$A$3:$PL$215,N$7,FALSE)","v":""},{"$f":"VLOOKUP($B126,[1]FlowData!$A$3:$PL$215,O$7,FALSE)","v":""},{"$f":"VLOOKUP($B126,[1]FlowData!$A$3:$PL$215,P$7,FALSE)","v":""},{"$f":"VLOOKUP($B126,[1]FlowData!$A$3:$PL$215,Q$7,FALSE)","v":""},{"$f":"VLOOKUP($B126,[1]FlowData!$A$3:$PL$215,R$7,FALSE)","v":""},{"$f":"VLOOKUP($B126,[1]FlowData!$A$3:$PL$215,S$7,FALSE)","v":""},{"$f":"VLOOKUP($B126,[1]FlowData!$A$3:$PL$215,T$7,FALSE)","v":""},{"$f":"VLOOKUP($B126,[1]FlowData!$A$3:$PL$215,U$7,FALSE)","v":""},{"$f":"VLOOKUP($B126,[1]FlowData!$A$3:$PL$215,V$7,FALSE)","v":""},{"$f":"VLOOKUP($B126,[1]FlowData!$A$3:$PL$215,W$7,FALSE)","v":114},{"$f":"VLOOKUP($B126,[1]FlowData!$A$3:$PL$215,X$7,FALSE)","v":59},{"$f":"VLOOKUP($B126,[1]FlowData!$A$3:$PL$215,Y$7,FALSE)","v":33},{"$f":"VLOOKUP($B126,[1]FlowData!$A$3:$PL$215,Z$7,FALSE)","v":74},{"$f":"VLOOKUP($B126,[1]FlowData!$A$3:$PL$215,AA$7,FALSE)","v":223},{"$f":"VLOOKUP($B126,[1]FlowData!$A$3:$PL$215,AB$7,FALSE)","v":113},{"$f":"VLOOKUP($B126,[1]FlowData!$A$3:$PL$215,AC$7,FALSE)","v":45},{"$f":"VLOOKUP($B126,[1]FlowData!$A$3:$PL$215,AD$7,FALSE)","v":153},{"$f":"VLOOKUP($B126,[1]FlowData!$A$3:$PL$215,AE$7,FALSE)","v":278},{"$f":"VLOOKUP($B126,[1]FlowData!$A$3:$PL$215,AF$7,FALSE)","v":158},{"$f":"VLOOKUP($B126,[1]FlowData!$A$3:$PL$215,AG$7,FALSE)","v":70},{"$f":"VLOOKUP($B126,[1]FlowData!$A$3:$PL$215,AH$7,FALSE)","v":185},{"$f":"VLOOKUP($B126,[1]FlowData!$A$3:$PL$215,AI$7,FALSE)","v":129},{"$f":"VLOOKUP($B126,[1]FlowData!$A$3:$PL$215,AJ$7,FALSE)","v":71},{"$f":"VLOOKUP($B126,[1]FlowData!$A$3:$PL$215,AK$7,FALSE)","v":34},{"$f":"VLOOKUP($B126,[1]FlowData!$A$3:$PL$215,AL$7,FALSE)","v":88},{"$f":"VLOOKUP($B126,[1]FlowData!$A$3:$PL$215,AM$7,FALSE)","v":55},{"$f":"VLOOKUP($B126,[1]FlowData!$A$3:$PL$215,AN$7,FALSE)","v":32},{"$f":"VLOOKUP($B126,[1]FlowData!$A$3:$PL$215,AO$7,FALSE)","v":19},{"$f":"VLOOKUP($B126,[1]FlowData!$A$3:$PL$215,AP$7,FALSE)","v":39},{"$f":"VLOOKUP($B126,[1]FlowData!$A$3:$PL$215,AQ$7,FALSE)","v":66},{"$f":"VLOOKUP($B126,[1]FlowData!$A$3:$PL$215,AR$7,FALSE)","v":41},{"$f":"VLOOKUP($B126,[1]FlowData!$A$3:$PL$215,AS$7,FALSE)","v":22},{"$f":"VLOOKUP($B126,[1]FlowData!$A$3:$PL$215,AT$7,FALSE)","v":46},{"$f":"VLOOKUP($B126,[1]FlowData!$A$3:$PL$215,AU$7,FALSE)","v":60},{"$f":"VLOOKUP($B126,[1]FlowData!$A$3:$PL$215,AV$7,FALSE)","v":44},{"$f":"VLOOKUP($B126,[1]FlowData!$A$3:$PL$215,AW$7,FALSE)","v":29},{"$f":"VLOOKUP($B126,[1]FlowData!$A$3:$PL$215,AX$7,FALSE)","v":47},{"$f":"VLOOKUP($B126,[1]FlowData!$A$3:$PL$215,AY$7,FALSE)","v":44},{"$f":"VLOOKUP($B126,[1]FlowData!$A$3:$PL$215,AZ$7,FALSE)","v":32},{"$f":"VLOOKUP($B126,[1]FlowData!$A$3:$PL$215,BA$7,FALSE)","v":23},{"$f":"VLOOKUP($B126,[1]FlowData!$A$3:$PL$215,BB$7,FALSE)","v":33},{"$f":"VLOOKUP($B126,[1]FlowData!$A$3:$PL$215,BC$7,FALSE)","v":""},{"$f":"VLOOKUP($B126,[1]FlowData!$A$3:$PL$215,BD$7,FALSE)","v":""},{"$f":"VLOOKUP($B126,[1]FlowData!$A$3:$PL$215,BE$7,FALSE)","v":""},{"$f":"VLOOKUP($B126,[1]FlowData!$A$3:$PL$215,BF$7,FALSE)","v":""}]
[{"$f":"VLOOKUP(B127,'[2]Gages and BCs'!$A$4:$BJ$973,62,FALSE)","v":454},6211500,{"$f":"VLOOKUP(B127,'[2]Gages and BCs'!$A$4:$BJ$973,60,FALSE)","v":"Willow Creek near Boyd, Montana"},"1937–2004, 2006–8",{"$f":"VLOOKUP($B127,[1]FlowData!$A$3:$PL$215,E$7,FALSE)","v":""},{"$f":"VLOOKUP($B127,[1]FlowData!$A$3:$PL$215,F$7,FALSE)","v":15.526},{"$f":"VLOOKUP($B127,[1]FlowData!$A$3:$PL$215,G$7,FALSE)","v":""},{"$f":"VLOOKUP($B127,[1]FlowData!$A$3:$PL$215,H$7,FALSE)","v":""},{"$f":"VLOOKUP($B127,[1]FlowData!$A$3:$PL$215,I$7,FALSE)","v":""},{"$f":"VLOOKUP($B127,[1]FlowData!$A$3:$PL$215,J$7,FALSE)","v":""},{"$f":"VLOOKUP($B127,[1]FlowData!$A$3:$PL$215,K$7,FALSE)","v":""},{"$f":"VLOOKUP($B127,[1]FlowData!$A$3:$PL$215,L$7,FALSE)","v":""},{"$f":"VLOOKUP($B127,[1]FlowData!$A$3:$PL$215,M$7,FALSE)","v":""},{"$f":"VLOOKUP($B127,[1]FlowData!$A$3:$PL$215,N$7,FALSE)","v":""},{"$f":"VLOOKUP($B127,[1]FlowData!$A$3:$PL$215,O$7,FALSE)","v":""},{"$f":"VLOOKUP($B127,[1]FlowData!$A$3:$PL$215,P$7,FALSE)","v":""},{"$f":"VLOOKUP($B127,[1]FlowData!$A$3:$PL$215,Q$7,FALSE)","v":""},{"$f":"VLOOKUP($B127,[1]FlowData!$A$3:$PL$215,R$7,FALSE)","v":""},{"$f":"VLOOKUP($B127,[1]FlowData!$A$3:$PL$215,S$7,FALSE)","v":""},{"$f":"VLOOKUP($B127,[1]FlowData!$A$3:$PL$215,T$7,FALSE)","v":""},{"$f":"VLOOKUP($B127,[1]FlowData!$A$3:$PL$215,U$7,FALSE)","v":""},{"$f":"VLOOKUP($B127,[1]FlowData!$A$3:$PL$215,V$7,FALSE)","v":""},{"$f":"VLOOKUP($B127,[1]FlowData!$A$3:$PL$215,W$7,FALSE)","v":47},{"$f":"VLOOKUP($B127,[1]FlowData!$A$3:$PL$215,X$7,FALSE)","v":26},{"$f":"VLOOKUP($B127,[1]FlowData!$A$3:$PL$215,Y$7,FALSE)","v":15},{"$f":"VLOOKUP($B127,[1]FlowData!$A$3:$PL$215,Z$7,FALSE)","v":33},{"$f":"VLOOKUP($B127,[1]FlowData!$A$3:$PL$215,AA$7,FALSE)","v":70},{"$f":"VLOOKUP($B127,[1]FlowData!$A$3:$PL$215,AB$7,FALSE)","v":33},{"$f":"VLOOKUP($B127,[1]FlowData!$A$3:$PL$215,AC$7,FALSE)","v":13},{"$f":"VLOOKUP($B127,[1]FlowData!$A$3:$PL$215,AD$7,FALSE)","v":47},{"$f":"VLOOKUP($B127,[1]FlowData!$A$3:$PL$215,AE$7,FALSE)","v":77},{"$f":"VLOOKUP($B127,[1]FlowData!$A$3:$PL$215,AF$7,FALSE)","v":48},{"$f":"VLOOKUP($B127,[1]FlowData!$A$3:$PL$215,AG$7,FALSE)","v":20},{"$f":"VLOOKUP($B127,[1]FlowData!$A$3:$PL$215,AH$7,FALSE)","v":55},{"$f":"VLOOKUP($B127,[1]FlowData!$A$3:$PL$215,AI$7,FALSE)","v":71},{"$f":"VLOOKUP($B127,[1]FlowData!$A$3:$PL$215,AJ$7,FALSE)","v":55},{"$f":"VLOOKUP($B127,[1]FlowData!$A$3:$PL$215,AK$7,FALSE)","v":36},{"$f":"VLOOKUP($B127,[1]FlowData!$A$3:$PL$215,AL$7,FALSE)","v":55},{"$f":"VLOOKUP($B127,[1]FlowData!$A$3:$PL$215,AM$7,FALSE)","v":52},{"$f":"VLOOKUP($B127,[1]FlowData!$A$3:$PL$215,AN$7,FALSE)","v":38},{"$f":"VLOOKUP($B127,[1]FlowData!$A$3:$PL$215,AO$7,FALSE)","v":25},{"$f":"VLOOKUP($B127,[1]FlowData!$A$3:$PL$215,AP$7,FALSE)","v":39},{"$f":"VLOOKUP($B127,[1]FlowData!$A$3:$PL$215,AQ$7,FALSE)","v":47},{"$f":"VLOOKUP($B127,[1]FlowData!$A$3:$PL$215,AR$7,FALSE)","v":34},{"$f":"VLOOKUP($B127,[1]FlowData!$A$3:$PL$215,AS$7,FALSE)","v":24},{"$f":"VLOOKUP($B127,[1]FlowData!$A$3:$PL$215,AT$7,FALSE)","v":36},{"$f":"VLOOKUP($B127,[1]FlowData!$A$3:$PL$215,AU$7,FALSE)","v":37},{"$f":"VLOOKUP($B127,[1]FlowData!$A$3:$PL$215,AV$7,FALSE)","v":29},{"$f":"VLOOKUP($B127,[1]FlowData!$A$3:$PL$215,AW$7,FALSE)","v":23},{"$f":"VLOOKUP($B127,[1]FlowData!$A$3:$PL$215,AX$7,FALSE)","v":30},{"$f":"VLOOKUP($B127,[1]FlowData!$A$3:$PL$215,AY$7,FALSE)","v":27},{"$f":"VLOOKUP($B127,[1]FlowData!$A$3:$PL$215,AZ$7,FALSE)","v":22},{"$f":"VLOOKUP($B127,[1]FlowData!$A$3:$PL$215,BA$7,FALSE)","v":17},{"$f":"VLOOKUP($B127,[1]FlowData!$A$3:$PL$215,BB$7,FALSE)","v":22},{"$f":"VLOOKUP($B127,[1]FlowData!$A$3:$PL$215,BC$7,FALSE)","v":""},{"$f":"VLOOKUP($B127,[1]FlowData!$A$3:$PL$215,BD$7,FALSE)","v":""},{"$f":"VLOOKUP($B127,[1]FlowData!$A$3:$PL$215,BE$7,FALSE)","v":""},{"$f":"VLOOKUP($B127,[1]FlowData!$A$3:$PL$215,BF$7,FALSE)","v":""}]
[{"$f":"VLOOKUP(B128,'[2]Gages and BCs'!$A$4:$BJ$973,62,FALSE)","v":460},6216000,{"$f":"VLOOKUP(B128,'[2]Gages and BCs'!$A$4:$BJ$973,60,FALSE)","v":"Pryor Creek at Pryor, Montana"},"1922–23, 1967–2009",{"$f":"VLOOKUP($B128,[1]FlowData!$A$3:$PL$215,E$7,FALSE)","v":6.306},{"$f":"VLOOKUP($B128,[1]FlowData!$A$3:$PL$215,F$7,FALSE)","v":8.4009999999999998},{"$f":"VLOOKUP($B128,[1]FlowData!$A$3:$PL$215,G$7,FALSE)","v":55},{"$f":"VLOOKUP($B128,[1]FlowData!$A$3:$PL$215,H$7,FALSE)","v":35},{"$f":"VLOOKUP($B128,[1]FlowData!$A$3:$PL$215,I$7,FALSE)","v":16},{"$f":"VLOOKUP($B128,[1]FlowData!$A$3:$PL$215,J$7,FALSE)","v":30},{"$f":"VLOOKUP($B128,[1]FlowData!$A$3:$PL$215,K$7,FALSE)","v":34},{"$f":"VLOOKUP($B128,[1]FlowData!$A$3:$PL$215,L$7,FALSE)","v":26},{"$f":"VLOOKUP($B128,[1]FlowData!$A$3:$PL$215,M$7,FALSE)","v":20},{"$f":"VLOOKUP($B128,[1]FlowData!$A$3:$PL$215,N$7,FALSE)","v":28},{"$f":"VLOOKUP($B128,[1]FlowData!$A$3:$PL$215,O$7,FALSE)","v":34},{"$f":"VLOOKUP($B128,[1]FlowData!$A$3:$PL$215,P$7,FALSE)","v":27},{"$f":"VLOOKUP($B128,[1]FlowData!$A$3:$PL$215,Q$7,FALSE)","v":21},{"$f":"VLOOKUP($B128,[1]FlowData!$A$3:$PL$215,R$7,FALSE)","v":29},{"$f":"VLOOKUP($B128,[1]FlowData!$A$3:$PL$215,S$7,FALSE)","v":37},{"$f":"VLOOKUP($B128,[1]FlowData!$A$3:$PL$215,T$7,FALSE)","v":27},{"$f":"VLOOKUP($B128,[1]FlowData!$A$3:$PL$215,U$7,FALSE)","v":22},{"$f":"VLOOKUP($B128,[1]FlowData!$A$3:$PL$215,V$7,FALSE)","v":30},{"$f":"VLOOKUP($B128,[1]FlowData!$A$3:$PL$215,W$7,FALSE)","v":39},{"$f":"VLOOKUP($B128,[1]FlowData!$A$3:$PL$215,X$7,FALSE)","v":27},{"$f":"VLOOKUP($B128,[1]FlowData!$A$3:$PL$215,Y$7,FALSE)","v":22},{"$f":"VLOOKUP($B128,[1]FlowData!$A$3:$PL$215,Z$7,FALSE)","v":31},{"$f":"VLOOKUP($B128,[1]FlowData!$A$3:$PL$215,AA$7,FALSE)","v":68},{"$f":"VLOOKUP($B128,[1]FlowData!$A$3:$PL$215,AB$7,FALSE)","v":46},{"$f":"VLOOKUP($B128,[1]FlowData!$A$3:$PL$215,AC$7,FALSE)","v":23},{"$f":"VLOOKUP($B128,[1]FlowData!$A$3:$PL$215,AD$7,FALSE)","v":51},{"$f":"VLOOKUP($B128,[1]FlowData!$A$3:$PL$215,AE$7,FALSE)","v":53},{"$f":"VLOOKUP($B128,[1]FlowData!$A$3:$PL$215,AF$7,FALSE)","v":29},{"$f":"VLOOKUP($B128,[1]FlowData!$A$3:$PL$215,AG$7,FALSE)","v":15},{"$f":"VLOOKUP($B128,[1]FlowData!$A$3:$PL$215,AH$7,FALSE)","v":39},{"$f":"VLOOKUP($B128,[1]FlowData!$A$3:$PL$215,AI$7,FALSE)","v":30},{"$f":"VLOOKUP($B128,[1]FlowData!$A$3:$PL$215,AJ$7,FALSE)","v":18},{"$f":"VLOOKUP($B128,[1]FlowData!$A$3:$PL$215,AK$7,FALSE)","v":10},{"$f":"VLOOKUP($B128,[1]FlowData!$A$3:$PL$215,AL$7,FALSE)","v":22},{"$f":"VLOOKUP($B128,[1]FlowData!$A$3:$PL$215,AM$7,FALSE)","v":28},{"$f":"VLOOKUP($B128,[1]FlowData!$A$3:$PL$215,AN$7,FALSE)","v":18},{"$f":"VLOOKUP($B128,[1]FlowData!$A$3:$PL$215,AO$7,FALSE)","v":10},{"$f":"VLOOKUP($B128,[1]FlowData!$A$3:$PL$215,AP$7,FALSE)","v":19},{"$f":"VLOOKUP($B128,[1]FlowData!$A$3:$PL$215,AQ$7,FALSE)","v":32},{"$f":"VLOOKUP($B128,[1]FlowData!$A$3:$PL$215,AR$7,FALSE)","v":23},{"$f":"VLOOKUP($B128,[1]FlowData!$A$3:$PL$215,AS$7,FALSE)","v":15},{"$f":"VLOOKUP($B128,[1]FlowData!$A$3:$PL$215,AT$7,FALSE)","v":25},{"$f":"VLOOKUP($B128,[1]FlowData!$A$3:$PL$215,AU$7,FALSE)","v":38},{"$f":"VLOOKUP($B128,[1]FlowData!$A$3:$PL$215,AV$7,FALSE)","v":29},{"$f":"VLOOKUP($B128,[1]FlowData!$A$3:$PL$215,AW$7,FALSE)","v":21},{"$f":"VLOOKUP($B128,[1]FlowData!$A$3:$PL$215,AX$7,FALSE)","v":30},{"$f":"VLOOKUP($B128,[1]FlowData!$A$3:$PL$215,AY$7,FALSE)","v":36},{"$f":"VLOOKUP($B128,[1]FlowData!$A$3:$PL$215,AZ$7,FALSE)","v":28},{"$f":"VLOOKUP($B128,[1]FlowData!$A$3:$PL$215,BA$7,FALSE)","v":21},{"$f":"VLOOKUP($B128,[1]FlowData!$A$3:$PL$215,BB$7,FALSE)","v":30},{"$f":"VLOOKUP($B128,[1]FlowData!$A$3:$PL$215,BC$7,FALSE)","v":35},{"$f":"VLOOKUP($B128,[1]FlowData!$A$3:$PL$215,BD$7,FALSE)","v":27},{"$f":"VLOOKUP($B128,[1]FlowData!$A$3:$PL$215,BE$7,FALSE)","v":20},{"$f":"VLOOKUP($B128,[1]FlowData!$A$3:$PL$215,BF$7,FALSE)","v":29}]
[{"$f":"VLOOKUP(B129,'[2]Gages and BCs'!$A$4:$BJ$973,62,FALSE)","v":464},6216900,{"$f":"VLOOKUP(B129,'[2]Gages and BCs'!$A$4:$BJ$973,60,FALSE)","v":"Pryor Creek near Huntley, Montana"},"1979–2000",{"$f":"VLOOKUP($B129,[1]FlowData!$A$3:$PL$215,E$7,FALSE)","v":0.85699999999999998},{"$f":"VLOOKUP($B129,[1]FlowData!$A$3:$PL$215,F$7,FALSE)","v":2.843},{"$f":"VLOOKUP($B129,[1]FlowData!$A$3:$PL$215,G$7,FALSE)","v":78},{"$f":"VLOOKUP($B129,[1]FlowData!$A$3:$PL$215,H$7,FALSE)","v":46},{"$f":"VLOOKUP($B129,[1]FlowData!$A$3:$PL$215,I$7,FALSE)","v":19},{"$f":"VLOOKUP($B129,[1]FlowData!$A$3:$PL$215,J$7,FALSE)","v":63},{"$f":"VLOOKUP($B129,[1]FlowData!$A$3:$PL$215,K$7,FALSE)","v":63},{"$f":"VLOOKUP($B129,[1]FlowData!$A$3:$PL$215,L$7,FALSE)","v":44},{"$f":"VLOOKUP($B129,[1]FlowData!$A$3:$PL$215,M$7,FALSE)","v":30},{"$f":"VLOOKUP($B129,[1]FlowData!$A$3:$PL$215,N$7,FALSE)","v":51},{"$f":"VLOOKUP($B129,[1]FlowData!$A$3:$PL$215,O$7,FALSE)","v":77},{"$f":"VLOOKUP($B129,[1]FlowData!$A$3:$PL$215,P$7,FALSE)","v":52},{"$f":"VLOOKUP($B129,[1]FlowData!$A$3:$PL$215,Q$7,FALSE)","v":32},{"$f":"VLOOKUP($B129,[1]FlowData!$A$3:$PL$215,R$7,FALSE)","v":66},{"$f":"VLOOKUP($B129,[1]FlowData!$A$3:$PL$215,S$7,FALSE)","v":128},{"$f":"VLOOKUP($B129,[1]FlowData!$A$3:$PL$215,T$7,FALSE)","v":67},{"$f":"VLOOKUP($B129,[1]FlowData!$A$3:$PL$215,U$7,FALSE)","v":35},{"$f":"VLOOKUP($B129,[1]FlowData!$A$3:$PL$215,V$7,FALSE)","v":103},{"$f":"VLOOKUP($B129,[1]FlowData!$A$3:$PL$215,W$7,FALSE)","v":112},{"$f":"VLOOKUP($B129,[1]FlowData!$A$3:$PL$215,X$7,FALSE)","v":66},{"$f":"VLOOKUP($B129,[1]FlowData!$A$3:$PL$215,Y$7,FALSE)","v":44},{"$f":"VLOOKUP($B129,[1]FlowData!$A$3:$PL$215,Z$7,FALSE)","v":86},{"$f":"VLOOKUP($B129,[1]FlowData!$A$3:$PL$215,AA$7,FALSE)","v":169},{"$f":"VLOOKUP($B129,[1]FlowData!$A$3:$PL$215,AB$7,FALSE)","v":70},{"$f":"VLOOKUP($B129,[1]FlowData!$A$3:$PL$215,AC$7,FALSE)","v":34},{"$f":"VLOOKUP($B129,[1]FlowData!$A$3:$PL$215,AD$7,FALSE)","v":126},{"$f":"VLOOKUP($B129,[1]FlowData!$A$3:$PL$215,AE$7,FALSE)","v":107},{"$f":"VLOOKUP($B129,[1]FlowData!$A$3:$PL$215,AF$7,FALSE)","v":57},{"$f":"VLOOKUP($B129,[1]FlowData!$A$3:$PL$215,AG$7,FALSE)","v":27},{"$f":"VLOOKUP($B129,[1]FlowData!$A$3:$PL$215,AH$7,FALSE)","v":74},{"$f":"VLOOKUP($B129,[1]FlowData!$A$3:$PL$215,AI$7,FALSE)","v":49},{"$f":"VLOOKUP($B129,[1]FlowData!$A$3:$PL$215,AJ$7,FALSE)","v":17},{"$f":"VLOOKUP($B129,[1]FlowData!$A$3:$PL$215,AK$7,FALSE)","v":5.7},{"$f":"VLOOKUP($B129,[1]FlowData!$A$3:$PL$215,AL$7,FALSE)","v":31},{"$f":"VLOOKUP($B129,[1]FlowData!$A$3:$PL$215,AM$7,FALSE)","v":37},{"$f":"VLOOKUP($B129,[1]FlowData!$A$3:$PL$215,AN$7,FALSE)","v":17},{"$f":"VLOOKUP($B129,[1]FlowData!$A$3:$PL$215,AO$7,FALSE)","v":5.5},{"$f":"VLOOKUP($B129,[1]FlowData!$A$3:$PL$215,AP$7,FALSE)","v":22},{"$f":"VLOOKUP($B129,[1]FlowData!$A$3:$PL$215,AQ$7,FALSE)","v":45},{"$f":"VLOOKUP($B129,[1]FlowData!$A$3:$PL$215,AR$7,FALSE)","v":30},{"$f":"VLOOKUP($B129,[1]FlowData!$A$3:$PL$215,AS$7,FALSE)","v":18},{"$f":"VLOOKUP($B129,[1]FlowData!$A$3:$PL$215,AT$7,FALSE)","v":32},{"$f":"VLOOKUP($B129,[1]FlowData!$A$3:$PL$215,AU$7,FALSE)","v":62},{"$f":"VLOOKUP($B129,[1]FlowData!$A$3:$PL$215,AV$7,FALSE)","v":46},{"$f":"VLOOKUP($B129,[1]FlowData!$A$3:$PL$215,AW$7,FALSE)","v":33},{"$f":"VLOOKUP($B129,[1]FlowData!$A$3:$PL$215,AX$7,FALSE)","v":50},{"$f":"VLOOKUP($B129,[1]FlowData!$A$3:$PL$215,AY$7,FALSE)","v":62},{"$f":"VLOOKUP($B129,[1]FlowData!$A$3:$PL$215,AZ$7,FALSE)","v":48},{"$f":"VLOOKUP($B129,[1]FlowData!$A$3:$PL$215,BA$7,FALSE)","v":34},{"$f":"VLOOKUP($B129,[1]FlowData!$A$3:$PL$215,BB$7,FALSE)","v":50},{"$f":"VLOOKUP($B129,[1]FlowData!$A$3:$PL$215,BC$7,FALSE)","v":64},{"$f":"VLOOKUP($B129,[1]FlowData!$A$3:$PL$215,BD$7,FALSE)","v":46},{"$f":"VLOOKUP($B129,[1]FlowData!$A$3:$PL$215,BE$7,FALSE)","v":34},{"$f":"VLOOKUP($B129,[1]FlowData!$A$3:$PL$215,BF$7,FALSE)","v":49}]
[{"$f":"VLOOKUP(B130,'[2]Gages and BCs'!$A$4:$BJ$973,62,FALSE)","v":471},6287500,{"$f":"VLOOKUP(B130,'[2]Gages and BCs'!$A$4:$BJ$973,60,FALSE)","v":"Soap Creek near St. Xavier, Montana"},"1913, 1939–53, 1968–72",{"$f":"VLOOKUP($B130,[1]FlowData!$A$3:$PL$215,E$7,FALSE)","v":5.7190000000000003},{"$f":"VLOOKUP($B130,[1]FlowData!$A$3:$PL$215,F$7,FALSE)","v":11.71},{"$f":"VLOOKUP($B130,[1]FlowData!$A$3:$PL$215,G$7,FALSE)","v":41},{"$f":"VLOOKUP($B130,[1]FlowData!$A$3:$PL$215,H$7,FALSE)","v":27},{"$f":"VLOOKUP($B130,[1]FlowData!$A$3:$PL$215,I$7,FALSE)","v":11},{"$f":"VLOOKUP($B130,[1]FlowData!$A$3:$PL$215,J$7,FALSE)","v":31},{"$f":"VLOOKUP($B130,[1]FlowData!$A$3:$PL$215,K$7,FALSE)","v":27},{"$f":"VLOOKUP($B130,[1]FlowData!$A$3:$PL$215,L$7,FALSE)","v":19},{"$f":"VLOOKUP($B130,[1]FlowData!$A$3:$PL$215,M$7,FALSE)","v":13},{"$f":"VLOOKUP($B130,[1]FlowData!$A$3:$PL$215,N$7,FALSE)","v":22},{"$f":"VLOOKUP($B130,[1]FlowData!$A$3:$PL$215,O$7,FALSE)","v":39},{"$f":"VLOOKUP($B130,[1]FlowData!$A$3:$PL$215,P$7,FALSE)","v":21},{"$f":"VLOOKUP($B130,[1]FlowData!$A$3:$PL$215,Q$7,FALSE)","v":13},{"$f":"VLOOKUP($B130,[1]FlowData!$A$3:$PL$215,R$7,FALSE)","v":31},{"$f":"VLOOKUP($B130,[1]FlowData!$A$3:$PL$215,S$7,FALSE)","v":61},{"$f":"VLOOKUP($B130,[1]FlowData!$A$3:$PL$215,T$7,FALSE)","v":33},{"$f":"VLOOKUP($B130,[1]FlowData!$A$3:$PL$215,U$7,FALSE)","v":18},{"$f":"VLOOKUP($B130,[1]FlowData!$A$3:$PL$215,V$7,FALSE)","v":45},{"$f":"VLOOKUP($B130,[1]FlowData!$A$3:$PL$215,W$7,FALSE)","v":53},{"$f":"VLOOKUP($B130,[1]FlowData!$A$3:$PL$215,X$7,FALSE)","v":36},{"$f":"VLOOKUP($B130,[1]FlowData!$A$3:$PL$215,Y$7,FALSE)","v":21},{"$f":"VLOOKUP($B130,[1]FlowData!$A$3:$PL$215,Z$7,FALSE)","v":41},{"$f":"VLOOKUP($B130,[1]FlowData!$A$3:$PL$215,AA$7,FALSE)","v":56},{"$f":"VLOOKUP($B130,[1]FlowData!$A$3:$PL$215,AB$7,FALSE)","v":33},{"$f":"VLOOKUP($B130,[1]FlowData!$A$3:$PL$215,AC$7,FALSE)","v":18},{"$f":"VLOOKUP($B130,[1]FlowData!$A$3:$PL$215,AD$7,FALSE)","v":48},{"$f":"VLOOKUP($B130,[1]FlowData!$A$3:$PL$215,AE$7,FALSE)","v":56},{"$f":"VLOOKUP($B130,[1]FlowData!$A$3:$PL$215,AF$7,FALSE)","v":32},{"$f":"VLOOKUP($B130,[1]FlowData!$A$3:$PL$215,AG$7,FALSE)","v":18},{"$f":"VLOOKUP($B130,[1]FlowData!$A$3:$PL$215,AH$7,FALSE)","v":46},{"$f":"VLOOKUP($B130,[1]FlowData!$A$3:$PL$215,AI$7,FALSE)","v":34},{"$f":"VLOOKUP($B130,[1]FlowData!$A$3:$PL$215,AJ$7,FALSE)","v":24},{"$f":"VLOOKUP($B130,[1]FlowData!$A$3:$PL$215,AK$7,FALSE)","v":12},{"$f":"VLOOKUP($B130,[1]FlowData!$A$3:$PL$215,AL$7,FALSE)","v":25},{"$f":"VLOOKUP($B130,[1]FlowData!$A$3:$PL$215,AM$7,FALSE)","v":26},{"$f":"VLOOKUP($B130,[1]FlowData!$A$3:$PL$215,AN$7,FALSE)","v":19},{"$f":"VLOOKUP($B130,[1]FlowData!$A$3:$PL$215,AO$7,FALSE)","v":12},{"$f":"VLOOKUP($B130,[1]FlowData!$A$3:$PL$215,AP$7,FALSE)","v":19},{"$f":"VLOOKUP($B130,[1]FlowData!$A$3:$PL$215,AQ$7,FALSE)","v":26},{"$f":"VLOOKUP($B130,[1]FlowData!$A$3:$PL$215,AR$7,FALSE)","v":20},{"$f":"VLOOKUP($B130,[1]FlowData!$A$3:$PL$215,AS$7,FALSE)","v":13},{"$f":"VLOOKUP($B130,[1]FlowData!$A$3:$PL$215,AT$7,FALSE)","v":21},{"$f":"VLOOKUP($B130,[1]FlowData!$A$3:$PL$215,AU$7,FALSE)","v":28},{"$f":"VLOOKUP($B130,[1]FlowData!$A$3:$PL$215,AV$7,FALSE)","v":23},{"$f":"VLOOKUP($B130,[1]FlowData!$A$3:$PL$215,AW$7,FALSE)","v":17},{"$f":"VLOOKUP($B130,[1]FlowData!$A$3:$PL$215,AX$7,FALSE)","v":24},{"$f":"VLOOKUP($B130,[1]FlowData!$A$3:$PL$215,AY$7,FALSE)","v":27},{"$f":"VLOOKUP($B130,[1]FlowData!$A$3:$PL$215,AZ$7,FALSE)","v":24},{"$f":"VLOOKUP($B130,[1]FlowData!$A$3:$PL$215,BA$7,FALSE)","v":16},{"$f":"VLOOKUP($B130,[1]FlowData!$A$3:$PL$215,BB$7,FALSE)","v":22},{"$f":"VLOOKUP($B130,[1]FlowData!$A$3:$PL$215,BC$7,FALSE)","v":24},{"$f":"VLOOKUP($B130,[1]FlowData!$A$3:$PL$215,BD$7,FALSE)","v":19},{"$f":"VLOOKUP($B130,[1]FlowData!$A$3:$PL$215,BE$7,FALSE)","v":14},{"$f":"VLOOKUP($B130,[1]FlowData!$A$3:$PL$215,BF$7,FALSE)","v":19}]
[{"$f":"VLOOKUP(B131,'[2]Gages and BCs'!$A$4:$BJ$973,62,FALSE)","v":472},6288000,{"$f":"VLOOKUP(B131,'[2]Gages and BCs'!$A$4:$BJ$973,60,FALSE)","v":"Rotten Grass Creek near St. Xavier, Montana"},"1913–17, 1919, 1968–72",{"$f":"VLOOKUP($B131,[1]FlowData!$A$3:$PL$215,E$7,FALSE)","v":""},{"$f":"VLOOKUP($B131,[1]FlowData!$A$3:$PL$215,F$7,FALSE)","v":3.1589999999999998},{"$f":"VLOOKUP($B131,[1]FlowData!$A$3:$PL$215,G$7,FALSE)","v":""},{"$f":"VLOOKUP($B131,[1]FlowData!$A$3:$PL$215,H$7,FALSE)","v":""},{"$f":"VLOOKUP($B131,[1]FlowData!$A$3:$PL$215,I$7,FALSE)","v":""},{"$f":"VLOOKUP($B131,[1]FlowData!$A$3:$PL$215,J$7,FALSE)","v":""},{"$f":"VLOOKUP($B131,[1]FlowData!$A$3:$PL$215,K$7,FALSE)","v":""},{"$f":"VLOOKUP($B131,[1]FlowData!$A$3:$PL$215,L$7,FALSE)","v":""},{"$f":"VLOOKUP($B131,[1]FlowData!$A$3:$PL$215,M$7,FALSE)","v":""},{"$f":"VLOOKUP($B131,[1]FlowData!$A$3:$PL$215,N$7,FALSE)","v":""},{"$f":"VLOOKUP($B131,[1]FlowData!$A$3:$PL$215,O$7,FALSE)","v":""},{"$f":"VLOOKUP($B131,[1]FlowData!$A$3:$PL$215,P$7,FALSE)","v":""},{"$f":"VLOOKUP($B131,[1]FlowData!$A$3:$PL$215,Q$7,FALSE)","v":""},{"$f":"VLOOKUP($B131,[1]FlowData!$A$3:$PL$215,R$7,FALSE)","v":""},{"$f":"VLOOKUP($B131,[1]FlowData!$A$3:$PL$215,S$7,FALSE)","v":""},{"$f":"VLOOKUP($B131,[1]FlowData!$A$3:$PL$215,T$7,FALSE)","v":""},{"$f":"VLOOKUP($B131,[1]FlowData!$A$3:$PL$215,U$7,FALSE)","v":""},{"$f":"VLOOKUP($B131,[1]FlowData!$A$3:$PL$215,V$7,FALSE)","v":""},{"$f":"VLOOKUP($B131,[1]FlowData!$A$3:$PL$215,W$7,FALSE)","v":""},{"$f":"VLOOKUP($B131,[1]FlowData!$A$3:$PL$215,X$7,FALSE)","v":""},{"$f":"VLOOKUP($B131,[1]FlowData!$A$3:$PL$215,Y$7,FALSE)","v":""},{"$f":"VLOOKUP($B131,[1]FlowData!$A$3:$PL$215,Z$7,FALSE)","v":""},{"$f":"VLOOKUP($B131,[1]FlowData!$A$3:$PL$215,AA$7,FALSE)","v":69},{"$f":"VLOOKUP($B131,[1]FlowData!$A$3:$PL$215,AB$7,FALSE)","v":38},{"$f":"VLOOKUP($B131,[1]FlowData!$A$3:$PL$215,AC$7,FALSE)","v":16},{"$f":"VLOOKUP($B131,[1]FlowData!$A$3:$PL$215,AD$7,FALSE)","v":54},{"$f":"VLOOKUP($B131,[1]FlowData!$A$3:$PL$215,AE$7,FALSE)","v":67},{"$f":"VLOOKUP($B131,[1]FlowData!$A$3:$PL$215,AF$7,FALSE)","v":29},{"$f":"VLOOKUP($B131,[1]FlowData!$A$3:$PL$215,AG$7,FALSE)","v":11},{"$f":"VLOOKUP($B131,[1]FlowData!$A$3:$PL$215,AH$7,FALSE)","v":50},{"$f":"VLOOKUP($B131,[1]FlowData!$A$3:$PL$215,AI$7,FALSE)","v":27},{"$f":"VLOOKUP($B131,[1]FlowData!$A$3:$PL$215,AJ$7,FALSE)","v":17},{"$f":"VLOOKUP($B131,[1]FlowData!$A$3:$PL$215,AK$7,FALSE)","v":6.7},{"$f":"VLOOKUP($B131,[1]FlowData!$A$3:$PL$215,AL$7,FALSE)","v":22},{"$f":"VLOOKUP($B131,[1]FlowData!$A$3:$PL$215,AM$7,FALSE)","v":14},{"$f":"VLOOKUP($B131,[1]FlowData!$A$3:$PL$215,AN$7,FALSE)","v":7.9},{"$f":"VLOOKUP($B131,[1]FlowData!$A$3:$PL$215,AO$7,FALSE)","v":2.8},{"$f":"VLOOKUP($B131,[1]FlowData!$A$3:$PL$215,AP$7,FALSE)","v":8.8000000000000007},{"$f":"VLOOKUP($B131,[1]FlowData!$A$3:$PL$215,AQ$7,FALSE)","v":12},{"$f":"VLOOKUP($B131,[1]FlowData!$A$3:$PL$215,AR$7,FALSE)","v":9.3000000000000007},{"$f":"VLOOKUP($B131,[1]FlowData!$A$3:$PL$215,AS$7,FALSE)","v":4.5999999999999996},{"$f":"VLOOKUP($B131,[1]FlowData!$A$3:$PL$215,AT$7,FALSE)","v":9.1},{"$f":"VLOOKUP($B131,[1]FlowData!$A$3:$PL$215,AU$7,FALSE)","v":14},{"$f":"VLOOKUP($B131,[1]FlowData!$A$3:$PL$215,AV$7,FALSE)","v":9.6999999999999993},{"$f":"VLOOKUP($B131,[1]FlowData!$A$3:$PL$215,AW$7,FALSE)","v":6.5},{"$f":"VLOOKUP($B131,[1]FlowData!$A$3:$PL$215,AX$7,FALSE)","v":11},{"$f":"VLOOKUP($B131,[1]FlowData!$A$3:$PL$215,AY$7,FALSE)","v":""},{"$f":"VLOOKUP($B131,[1]FlowData!$A$3:$PL$215,AZ$7,FALSE)","v":""},{"$f":"VLOOKUP($B131,[1]FlowData!$A$3:$PL$215,BA$7,FALSE)","v":""},{"$f":"VLOOKUP($B131,[1]FlowData!$A$3:$PL$215,BB$7,FALSE)","v":""},{"$f":"VLOOKUP($B131,[1]FlowData!$A$3:$PL$215,BC$7,FALSE)","v":""},{"$f":"VLOOKUP($B131,[1]FlowData!$A$3:$PL$215,BD$7,FALSE)","v":""},{"$f":"VLOOKUP($B131,[1]FlowData!$A$3:$PL$215,BE$7,FALSE)","v":""},{"$f":"VLOOKUP($B131,[1]FlowData!$A$3:$PL$215,BF$7,FALSE)","v":""}]
[{"$f":"VLOOKUP(B132,'[2]Gages and BCs'!$A$4:$BJ$973,62,FALSE)","v":473},6288200,{"$f":"VLOOKUP(B132,'[2]Gages and BCs'!$A$4:$BJ$973,60,FALSE)","v":"Beauvais Creek near St. Xavier, Montana"},"1967–77",{"$f":"VLOOKUP($B132,[1]FlowData!$A$3:$PL$215,E$7,FALSE)","v":""},{"$f":"VLOOKUP($B132,[1]FlowData!$A$3:$PL$215,F$7,FALSE)","v":4.2590000000000003},{"$f":"VLOOKUP($B132,[1]FlowData!$A$3:$PL$215,G$7,FALSE)","v":28},{"$f":"VLOOKUP($B132,[1]FlowData!$A$3:$PL$215,H$7,FALSE)","v":18},{"$f":"VLOOKUP($B132,[1]FlowData!$A$3:$PL$215,I$7,FALSE)","v":7.4},{"$f":"VLOOKUP($B132,[1]FlowData!$A$3:$PL$215,J$7,FALSE)","v":24},{"$f":"VLOOKUP($B132,[1]FlowData!$A$3:$PL$215,K$7,FALSE)","v":13},{"$f":"VLOOKUP($B132,[1]FlowData!$A$3:$PL$215,L$7,FALSE)","v":7.1},{"$f":"VLOOKUP($B132,[1]FlowData!$A$3:$PL$215,M$7,FALSE)","v":3.1},{"$f":"VLOOKUP($B132,[1]FlowData!$A$3:$PL$215,N$7,FALSE)","v":9.8000000000000007},{"$f":"VLOOKUP($B132,[1]FlowData!$A$3:$PL$215,O$7,FALSE)","v":18},{"$f":"VLOOKUP($B132,[1]FlowData!$A$3:$PL$215,P$7,FALSE)","v":9.5},{"$f":"VLOOKUP($B132,[1]FlowData!$A$3:$PL$215,Q$7,FALSE)","v":4.2},{"$f":"VLOOKUP($B132,[1]FlowData!$A$3:$PL$215,R$7,FALSE)","v":16},{"$f":"VLOOKUP($B132,[1]FlowData!$A$3:$PL$215,S$7,FALSE)","v":30},{"$f":"VLOOKUP($B132,[1]FlowData!$A$3:$PL$215,T$7,FALSE)","v":15},{"$f":"VLOOKUP($B132,[1]FlowData!$A$3:$PL$215,U$7,FALSE)","v":8.1999999999999993},{"$f":"VLOOKUP($B132,[1]FlowData!$A$3:$PL$215,V$7,FALSE)","v":23},{"$f":"VLOOKUP($B132,[1]FlowData!$A$3:$PL$215,W$7,FALSE)","v":60},{"$f":"VLOOKUP($B132,[1]FlowData!$A$3:$PL$215,X$7,FALSE)","v":27},{"$f":"VLOOKUP($B132,[1]FlowData!$A$3:$PL$215,Y$7,FALSE)","v":12},{"$f":"VLOOKUP($B132,[1]FlowData!$A$3:$PL$215,Z$7,FALSE)","v":47},{"$f":"VLOOKUP($B132,[1]FlowData!$A$3:$PL$215,AA$7,FALSE)","v":140},{"$f":"VLOOKUP($B132,[1]FlowData!$A$3:$PL$215,AB$7,FALSE)","v":34},{"$f":"VLOOKUP($B132,[1]FlowData!$A$3:$PL$215,AC$7,FALSE)","v":18},{"$f":"VLOOKUP($B132,[1]FlowData!$A$3:$PL$215,AD$7,FALSE)","v":72},{"$f":"VLOOKUP($B132,[1]FlowData!$A$3:$PL$215,AE$7,FALSE)","v":64},{"$f":"VLOOKUP($B132,[1]FlowData!$A$3:$PL$215,AF$7,FALSE)","v":27},{"$f":"VLOOKUP($B132,[1]FlowData!$A$3:$PL$215,AG$7,FALSE)","v":14},{"$f":"VLOOKUP($B132,[1]FlowData!$A$3:$PL$215,AH$7,FALSE)","v":45},{"$f":"VLOOKUP($B132,[1]FlowData!$A$3:$PL$215,AI$7,FALSE)","v":23},{"$f":"VLOOKUP($B132,[1]FlowData!$A$3:$PL$215,AJ$7,FALSE)","v":13},{"$f":"VLOOKUP($B132,[1]FlowData!$A$3:$PL$215,AK$7,FALSE)","v":6.8},{"$f":"VLOOKUP($B132,[1]FlowData!$A$3:$PL$215,AL$7,FALSE)","v":18},{"$f":"VLOOKUP($B132,[1]FlowData!$A$3:$PL$215,AM$7,FALSE)","v":13},{"$f":"VLOOKUP($B132,[1]FlowData!$A$3:$PL$215,AN$7,FALSE)","v":8.5},{"$f":"VLOOKUP($B132,[1]FlowData!$A$3:$PL$215,AO$7,FALSE)","v":4.3},{"$f":"VLOOKUP($B132,[1]FlowData!$A$3:$PL$215,AP$7,FALSE)","v":9.8000000000000007},{"$f":"VLOOKUP($B132,[1]FlowData!$A$3:$PL$215,AQ$7,FALSE)","v":12},{"$f":"VLOOKUP($B132,[1]FlowData!$A$3:$PL$215,AR$7,FALSE)","v":7.1},{"$f":"VLOOKUP($B132,[1]FlowData!$A$3:$PL$215,AS$7,FALSE)","v":4.5},{"$f":"VLOOKUP($B132,[1]FlowData!$A$3:$PL$215,AT$7,FALSE)","v":8.6999999999999993},{"$f":"VLOOKUP($B132,[1]FlowData!$A$3:$PL$215,AU$7,FALSE)","v":27},{"$f":"VLOOKUP($B132,[1]FlowData!$A$3:$PL$215,AV$7,FALSE)","v":18},{"$f":"VLOOKUP($B132,[1]FlowData!$A$3:$PL$215,AW$7,FALSE)","v":8.9},{"$f":"VLOOKUP($B132,[1]FlowData!$A$3:$PL$215,AX$7,FALSE)","v":15},{"$f":"VLOOKUP($B132,[1]FlowData!$A$3:$PL$215,AY$7,FALSE)","v":26},{"$f":"VLOOKUP($B132,[1]FlowData!$A$3:$PL$215,AZ$7,FALSE)","v":17},{"$f":"VLOOKUP($B132,[1]FlowData!$A$3:$PL$215,BA$7,FALSE)","v":8.1999999999999993},{"$f":"VLOOKUP($B132,[1]FlowData!$A$3:$PL$215,BB$7,FALSE)","v":12},{"$f":"VLOOKUP($B132,[1]FlowData!$A$3:$PL$215,BC$7,FALSE)","v":8.5},{"$f":"VLOOKUP($B132,[1]FlowData!$A$3:$PL$215,BD$7,FALSE)","v":6.1},{"$f":"VLOOKUP($B132,[1]FlowData!$A$3:$PL$215,BE$7,FALSE)","v":3.6},{"$f":"VLOOKUP($B132,[1]FlowData!$A$3:$PL$215,BF$7,FALSE)","v":6.4}]
[{"$f":"VLOOKUP(B133,'[2]Gages and BCs'!$A$4:$BJ$973,62,FALSE)","v":475},6289000,{"$f":"VLOOKUP(B133,'[2]Gages and BCs'!$A$4:$BJ$973,60,FALSE)","v":"Little Bighorn River at State line, near Wyola, Montana"},"1939–2009",{"$f":"VLOOKUP($B133,[1]FlowData!$A$3:$PL$215,E$7,FALSE)","v":35.319000000000003},{"$f":"VLOOKUP($B133,[1]FlowData!$A$3:$PL$215,F$7,FALSE)","v":69.231999999999999},{"$f":"VLOOKUP($B133,[1]FlowData!$A$3:$PL$215,G$7,FALSE)","v":177},{"$f":"VLOOKUP($B133,[1]FlowData!$A$3:$PL$215,H$7,FALSE)","v":82},{"$f":"VLOOKUP($B133,[1]FlowData!$A$3:$PL$215,I$7,FALSE)","v":43},{"$f":"VLOOKUP($B133,[1]FlowData!$A$3:$PL$215,J$7,FALSE)","v":148},{"$f":"VLOOKUP($B133,[1]FlowData!$A$3:$PL$215,K$7,FALSE)","v":73},{"$f":"VLOOKUP($B133,[1]FlowData!$A$3:$PL$215,L$7,FALSE)","v":62},{"$f":"VLOOKUP($B133,[1]FlowData!$A$3:$PL$215,M$7,FALSE)","v":52},{"$f":"VLOOKUP($B133,[1]FlowData!$A$3:$PL$215,N$7,FALSE)","v":62},{"$f":"VLOOKUP($B133,[1]FlowData!$A$3:$PL$215,O$7,FALSE)","v":69},{"$f":"VLOOKUP($B133,[1]FlowData!$A$3:$PL$215,P$7,FALSE)","v":61},{"$f":"VLOOKUP($B133,[1]FlowData!$A$3:$PL$215,Q$7,FALSE)","v":53},{"$f":"VLOOKUP($B133,[1]FlowData!$A$3:$PL$215,R$7,FALSE)","v":61},{"$f":"VLOOKUP($B133,[1]FlowData!$A$3:$PL$215,S$7,FALSE)","v":69},{"$f":"VLOOKUP($B133,[1]FlowData!$A$3:$PL$215,T$7,FALSE)","v":60},{"$f":"VLOOKUP($B133,[1]FlowData!$A$3:$PL$215,U$7,FALSE)","v":54},{"$f":"VLOOKUP($B133,[1]FlowData!$A$3:$PL$215,V$7,FALSE)","v":61},{"$f":"VLOOKUP($B133,[1]FlowData!$A$3:$PL$215,W$7,FALSE)","v":94},{"$f":"VLOOKUP($B133,[1]FlowData!$A$3:$PL$215,X$7,FALSE)","v":73},{"$f":"VLOOKUP($B133,[1]FlowData!$A$3:$PL$215,Y$7,FALSE)","v":60},{"$f":"VLOOKUP($B133,[1]FlowData!$A$3:$PL$215,Z$7,FALSE)","v":84},{"$f":"VLOOKUP($B133,[1]FlowData!$A$3:$PL$215,AA$7,FALSE)","v":489},{"$f":"VLOOKUP($B133,[1]FlowData!$A$3:$PL$215,AB$7,FALSE)","v":272},{"$f":"VLOOKUP($B133,[1]FlowData!$A$3:$PL$215,AC$7,FALSE)","v":138},{"$f":"VLOOKUP($B133,[1]FlowData!$A$3:$PL$215,AD$7,FALSE)","v":327},{"$f":"VLOOKUP($B133,[1]FlowData!$A$3:$PL$215,AE$7,FALSE)","v":752},{"$f":"VLOOKUP($B133,[1]FlowData!$A$3:$PL$215,AF$7,FALSE)","v":436},{"$f":"VLOOKUP($B133,[1]FlowData!$A$3:$PL$215,AG$7,FALSE)","v":262},{"$f":"VLOOKUP($B133,[1]FlowData!$A$3:$PL$215,AH$7,FALSE)","v":509},{"$f":"VLOOKUP($B133,[1]FlowData!$A$3:$PL$215,AI$7,FALSE)","v":277},{"$f":"VLOOKUP($B133,[1]FlowData!$A$3:$PL$215,AJ$7,FALSE)","v":190},{"$f":"VLOOKUP($B133,[1]FlowData!$A$3:$PL$215,AK$7,FALSE)","v":129},{"$f":"VLOOKUP($B133,[1]FlowData!$A$3:$PL$215,AL$7,FALSE)","v":215},{"$f":"VLOOKUP($B133,[1]FlowData!$A$3:$PL$215,AM$7,FALSE)","v":148},{"$f":"VLOOKUP($B133,[1]FlowData!$A$3:$PL$215,AN$7,FALSE)","v":117},{"$f":"VLOOKUP($B133,[1]FlowData!$A$3:$PL$215,AO$7,FALSE)","v":92},{"$f":"VLOOKUP($B133,[1]FlowData!$A$3:$PL$215,AP$7,FALSE)","v":121},{"$f":"VLOOKUP($B133,[1]FlowData!$A$3:$PL$215,AQ$7,FALSE)","v":115},{"$f":"VLOOKUP($B133,[1]FlowData!$A$3:$PL$215,AR$7,FALSE)","v":95},{"$f":"VLOOKUP($B133,[1]FlowData!$A$3:$PL$215,AS$7,FALSE)","v":79},{"$f":"VLOOKUP($B133,[1]FlowData!$A$3:$PL$215,AT$7,FALSE)","v":97},{"$f":"VLOOKUP($B133,[1]FlowData!$A$3:$PL$215,AU$7,FALSE)","v":99},{"$f":"VLOOKUP($B133,[1]FlowData!$A$3:$PL$215,AV$7,FALSE)","v":83},{"$f":"VLOOKUP($B133,[1]FlowData!$A$3:$PL$215,AW$7,FALSE)","v":71},{"$f":"VLOOKUP($B133,[1]FlowData!$A$3:$PL$215,AX$7,FALSE)","v":85},{"$f":"VLOOKUP($B133,[1]FlowData!$A$3:$PL$215,AY$7,FALSE)","v":87},{"$f":"VLOOKUP($B133,[1]FlowData!$A$3:$PL$215,AZ$7,FALSE)","v":73},{"$f":"VLOOKUP($B133,[1]FlowData!$A$3:$PL$215,BA$7,FALSE)","v":62},{"$f":"VLOOKUP($B133,[1]FlowData!$A$3:$PL$215,BB$7,FALSE)","v":74},{"$f":"VLOOKUP($B133,[1]FlowData!$A$3:$PL$215,BC$7,FALSE)","v":79},{"$f":"VLOOKUP($B133,[1]FlowData!$A$3:$PL$215,BD$7,FALSE)","v":67},{"$f":"VLOOKUP($B133,[1]FlowData!$A$3:$PL$215,BE$7,FALSE)","v":56},{"$f":"VLOOKUP($B133,[1]FlowData!$A$3:$PL$215,BF$7,FALSE)","v":67}]
[{"$f":"VLOOKUP(B134,'[2]Gages and BCs'!$A$4:$BJ$973,62,FALSE)","v":477},6290000,{"$f":"VLOOKUP(B134,'[2]Gages and BCs'!$A$4:$BJ$973,60,FALSE)","v":"Pass Creek near Wyola, Montana"},"1935–56, 1983–2009",{"$f":"VLOOKUP($B134,[1]FlowData!$A$3:$PL$215,E$7,FALSE)","v":0},{"$f":"VLOOKUP($B134,[1]FlowData!$A$3:$PL$215,F$7,FALSE)","v":2.0150000000000001},{"$f":"VLOOKUP($B134,[1]FlowData!$A$3:$PL$215,G$7,FALSE)","v":71},{"$f":"VLOOKUP($B134,[1]FlowData!$A$3:$PL$215,H$7,FALSE)","v":44},{"$f":"VLOOKUP($B134,[1]FlowData!$A$3:$PL$215,I$7,FALSE)","v":18},{"$f":"VLOOKUP($B134,[1]FlowData!$A$3:$PL$215,J$7,FALSE)","v":35},{"$f":"VLOOKUP($B134,[1]FlowData!$A$3:$PL$215,K$7,FALSE)","v":23},{"$f":"VLOOKUP($B134,[1]FlowData!$A$3:$PL$215,L$7,FALSE)","v":15},{"$f":"VLOOKUP($B134,[1]FlowData!$A$3:$PL$215,M$7,FALSE)","v":9.9},{"$f":"VLOOKUP($B134,[1]FlowData!$A$3:$PL$215,N$7,FALSE)","v":17},{"$f":"VLOOKUP($B134,[1]FlowData!$A$3:$PL$215,O$7,FALSE)","v":33},{"$f":"VLOOKUP($B134,[1]FlowData!$A$3:$PL$215,P$7,FALSE)","v":18},{"$f":"VLOOKUP($B134,[1]FlowData!$A$3:$PL$215,Q$7,FALSE)","v":9.4},{"$f":"VLOOKUP($B134,[1]FlowData!$A$3:$PL$215,R$7,FALSE)","v":23},{"$f":"VLOOKUP($B134,[1]FlowData!$A$3:$PL$215,S$7,FALSE)","v":53},{"$f":"VLOOKUP($B134,[1]FlowData!$A$3:$PL$215,T$7,FALSE)","v":29},{"$f":"VLOOKUP($B134,[1]FlowData!$A$3:$PL$215,U$7,FALSE)","v":15},{"$f":"VLOOKUP($B134,[1]FlowData!$A$3:$PL$215,V$7,FALSE)","v":38},{"$f":"VLOOKUP($B134,[1]FlowData!$A$3:$PL$215,W$7,FALSE)","v":71},{"$f":"VLOOKUP($B134,[1]FlowData!$A$3:$PL$215,X$7,FALSE)","v":40},{"$f":"VLOOKUP($B134,[1]FlowData!$A$3:$PL$215,Y$7,FALSE)","v":23},{"$f":"VLOOKUP($B134,[1]FlowData!$A$3:$PL$215,Z$7,FALSE)","v":50},{"$f":"VLOOKUP($B134,[1]FlowData!$A$3:$PL$215,AA$7,FALSE)","v":134},{"$f":"VLOOKUP($B134,[1]FlowData!$A$3:$PL$215,AB$7,FALSE)","v":73},{"$f":"VLOOKUP($B134,[1]FlowData!$A$3:$PL$215,AC$7,FALSE)","v":40},{"$f":"VLOOKUP($B134,[1]FlowData!$A$3:$PL$215,AD$7,FALSE)","v":97},{"$f":"VLOOKUP($B134,[1]FlowData!$A$3:$PL$215,AE$7,FALSE)","v":136},{"$f":"VLOOKUP($B134,[1]FlowData!$A$3:$PL$215,AF$7,FALSE)","v":66},{"$f":"VLOOKUP($B134,[1]FlowData!$A$3:$PL$215,AG$7,FALSE)","v":27},{"$f":"VLOOKUP($B134,[1]FlowData!$A$3:$PL$215,AH$7,FALSE)","v":87},{"$f":"VLOOKUP($B134,[1]FlowData!$A$3:$PL$215,AI$7,FALSE)","v":42},{"$f":"VLOOKUP($B134,[1]FlowData!$A$3:$PL$215,AJ$7,FALSE)","v":20},{"$f":"VLOOKUP($B134,[1]FlowData!$A$3:$PL$215,AK$7,FALSE)","v":7.5},{"$f":"VLOOKUP($B134,[1]FlowData!$A$3:$PL$215,AL$7,FALSE)","v":26},{"$f":"VLOOKUP($B134,[1]FlowData!$A$3:$PL$215,AM$7,FALSE)","v":20},{"$f":"VLOOKUP($B134,[1]FlowData!$A$3:$PL$215,AN$7,FALSE)","v":8.5},{"$f":"VLOOKUP($B134,[1]FlowData!$A$3:$PL$215,AO$7,FALSE)","v":3},{"$f":"VLOOKUP($B134,[1]FlowData!$A$3:$PL$215,AP$7,FALSE)","v":12},{"$f":"VLOOKUP($B134,[1]FlowData!$A$3:$PL$215,AQ$7,FALSE)","v":19},{"$f":"VLOOKUP($B134,[1]FlowData!$A$3:$PL$215,AR$7,FALSE)","v":10},{"$f":"VLOOKUP($B134,[1]FlowData!$A$3:$PL$215,AS$7,FALSE)","v":4.8},{"$f":"VLOOKUP($B134,[1]FlowData!$A$3:$PL$215,AT$7,FALSE)","v":12},{"$f":"VLOOKUP($B134,[1]FlowData!$A$3:$PL$215,AU$7,FALSE)","v":22},{"$f":"VLOOKUP($B134,[1]FlowData!$A$3:$PL$215,AV$7,FALSE)","v":17},{"$f":"VLOOKUP($B134,[1]FlowData!$A$3:$PL$215,AW$7,FALSE)","v":10},{"$f":"VLOOKUP($B134,[1]FlowData!$A$3:$PL$215,AX$7,FALSE)","v":17},{"$f":"VLOOKUP($B134,[1]FlowData!$A$3:$PL$215,AY$7,FALSE)","v":23},{"$f":"VLOOKUP($B134,[1]FlowData!$A$3:$PL$215,AZ$7,FALSE)","v":17},{"$f":"VLOOKUP($B134,[1]FlowData!$A$3:$PL$215,BA$7,FALSE)","v":13},{"$f":"VLOOKUP($B134,[1]FlowData!$A$3:$PL$215,BB$7,FALSE)","v":18},{"$f":"VLOOKUP($B134,[1]FlowData!$A$3:$PL$215,BC$7,FALSE)","v":21},{"$f":"VLOOKUP($B134,[1]FlowData!$A$3:$PL$215,BD$7,FALSE)","v":15},{"$f":"VLOOKUP($B134,[1]FlowData!$A$3:$PL$215,BE$7,FALSE)","v":11},{"$f":"VLOOKUP($B134,[1]FlowData!$A$3:$PL$215,BF$7,FALSE)","v":16}]
[{"$f":"VLOOKUP(B135,'[2]Gages and BCs'!$A$4:$BJ$973,62,FALSE)","v":479},6290500,{"$f":"VLOOKUP(B135,'[2]Gages and BCs'!$A$4:$BJ$973,60,FALSE)","v":"Little Bighorn River below Pass Creek, near Wyola, Montana"},"1939–58, 1960–75, 1977–2004",{"$f":"VLOOKUP($B135,[1]FlowData!$A$3:$PL$215,E$7,FALSE)","v":37.792000000000002},{"$f":"VLOOKUP($B135,[1]FlowData!$A$3:$PL$215,F$7,FALSE)","v":57.816000000000003},{"$f":"VLOOKUP($B135,[1]FlowData!$A$3:$PL$215,G$7,FALSE)","v":232},{"$f":"VLOOKUP($B135,[1]FlowData!$A$3:$PL$215,H$7,FALSE)","v":149},{"$f":"VLOOKUP($B135,[1]FlowData!$A$3:$PL$215,I$7,FALSE)","v":67},{"$f":"VLOOKUP($B135,[1]FlowData!$A$3:$PL$215,J$7,FALSE)","v":202},{"$f":"VLOOKUP($B135,[1]FlowData!$A$3:$PL$215,K$7,FALSE)","v":124},{"$f":"VLOOKUP($B135,[1]FlowData!$A$3:$PL$215,L$7,FALSE)","v":101},{"$f":"VLOOKUP($B135,[1]FlowData!$A$3:$PL$215,M$7,FALSE)","v":79},{"$f":"VLOOKUP($B135,[1]FlowData!$A$3:$PL$215,N$7,FALSE)","v":104},{"$f":"VLOOKUP($B135,[1]FlowData!$A$3:$PL$215,O$7,FALSE)","v":137},{"$f":"VLOOKUP($B135,[1]FlowData!$A$3:$PL$215,P$7,FALSE)","v":102},{"$f":"VLOOKUP($B135,[1]FlowData!$A$3:$PL$215,Q$7,FALSE)","v":77},{"$f":"VLOOKUP($B135,[1]FlowData!$A$3:$PL$215,R$7,FALSE)","v":114},{"$f":"VLOOKUP($B135,[1]FlowData!$A$3:$PL$215,S$7,FALSE)","v":161},{"$f":"VLOOKUP($B135,[1]FlowData!$A$3:$PL$215,T$7,FALSE)","v":116},{"$f":"VLOOKUP($B135,[1]FlowData!$A$3:$PL$215,U$7,FALSE)","v":92},{"$f":"VLOOKUP($B135,[1]FlowData!$A$3:$PL$215,V$7,FALSE)","v":139},{"$f":"VLOOKUP($B135,[1]FlowData!$A$3:$PL$215,W$7,FALSE)","v":230},{"$f":"VLOOKUP($B135,[1]FlowData!$A$3:$PL$215,X$7,FALSE)","v":157},{"$f":"VLOOKUP($B135,[1]FlowData!$A$3:$PL$215,Y$7,FALSE)","v":110},{"$f":"VLOOKUP($B135,[1]FlowData!$A$3:$PL$215,Z$7,FALSE)","v":181},{"$f":"VLOOKUP($B135,[1]FlowData!$A$3:$PL$215,AA$7,FALSE)","v":658},{"$f":"VLOOKUP($B135,[1]FlowData!$A$3:$PL$215,AB$7,FALSE)","v":393},{"$f":"VLOOKUP($B135,[1]FlowData!$A$3:$PL$215,AC$7,FALSE)","v":200},{"$f":"VLOOKUP($B135,[1]FlowData!$A$3:$PL$215,AD$7,FALSE)","v":458},{"$f":"VLOOKUP($B135,[1]FlowData!$A$3:$PL$215,AE$7,FALSE)","v":946},{"$f":"VLOOKUP($B135,[1]FlowData!$A$3:$PL$215,AF$7,FALSE)","v":517},{"$f":"VLOOKUP($B135,[1]FlowData!$A$3:$PL$215,AG$7,FALSE)","v":281},{"$f":"VLOOKUP($B135,[1]FlowData!$A$3:$PL$215,AH$7,FALSE)","v":626},{"$f":"VLOOKUP($B135,[1]FlowData!$A$3:$PL$215,AI$7,FALSE)","v":320},{"$f":"VLOOKUP($B135,[1]FlowData!$A$3:$PL$215,AJ$7,FALSE)","v":188},{"$f":"VLOOKUP($B135,[1]FlowData!$A$3:$PL$215,AK$7,FALSE)","v":106},{"$f":"VLOOKUP($B135,[1]FlowData!$A$3:$PL$215,AL$7,FALSE)","v":228},{"$f":"VLOOKUP($B135,[1]FlowData!$A$3:$PL$215,AM$7,FALSE)","v":149},{"$f":"VLOOKUP($B135,[1]FlowData!$A$3:$PL$215,AN$7,FALSE)","v":107},{"$f":"VLOOKUP($B135,[1]FlowData!$A$3:$PL$215,AO$7,FALSE)","v":67},{"$f":"VLOOKUP($B135,[1]FlowData!$A$3:$PL$215,AP$7,FALSE)","v":111},{"$f":"VLOOKUP($B135,[1]FlowData!$A$3:$PL$215,AQ$7,FALSE)","v":139},{"$f":"VLOOKUP($B135,[1]FlowData!$A$3:$PL$215,AR$7,FALSE)","v":103},{"$f":"VLOOKUP($B135,[1]FlowData!$A$3:$PL$215,AS$7,FALSE)","v":71},{"$f":"VLOOKUP($B135,[1]FlowData!$A$3:$PL$215,AT$7,FALSE)","v":107},{"$f":"VLOOKUP($B135,[1]FlowData!$A$3:$PL$215,AU$7,FALSE)","v":144},{"$f":"VLOOKUP($B135,[1]FlowData!$A$3:$PL$215,AV$7,FALSE)","v":122},{"$f":"VLOOKUP($B135,[1]FlowData!$A$3:$PL$215,AW$7,FALSE)","v":97},{"$f":"VLOOKUP($B135,[1]FlowData!$A$3:$PL$215,AX$7,FALSE)","v":121},{"$f":"VLOOKUP($B135,[1]FlowData!$A$3:$PL$215,AY$7,FALSE)","v":136},{"$f":"VLOOKUP($B135,[1]FlowData!$A$3:$PL$215,AZ$7,FALSE)","v":118},{"$f":"VLOOKUP($B135,[1]FlowData!$A$3:$PL$215,BA$7,FALSE)","v":100},{"$f":"VLOOKUP($B135,[1]FlowData!$A$3:$PL$215,BB$7,FALSE)","v":118},{"$f":"VLOOKUP($B135,[1]FlowData!$A$3:$PL$215,BC$7,FALSE)","v":125},{"$f":"VLOOKUP($B135,[1]FlowData!$A$3:$PL$215,BD$7,FALSE)","v":104},{"$f":"VLOOKUP($B135,[1]FlowData!$A$3:$PL$215,BE$7,FALSE)","v":84},{"$f":"VLOOKUP($B135,[1]FlowData!$A$3:$PL$215,BF$7,FALSE)","v":106}]
[{"$f":"VLOOKUP(B136,'[2]Gages and BCs'!$A$4:$BJ$973,62,FALSE)","v":480},6291000,{"$f":"VLOOKUP(B136,'[2]Gages and BCs'!$A$4:$BJ$973,60,FALSE)","v":"Owl Creek near Lodge Grass, Montana"},"1939–45, 1980–92",{"$f":"VLOOKUP($B136,[1]FlowData!$A$3:$PL$215,E$7,FALSE)","v":0.111},{"$f":"VLOOKUP($B136,[1]FlowData!$A$3:$PL$215,F$7,FALSE)","v":0.20699999999999999},{"$f":"VLOOKUP($B136,[1]FlowData!$A$3:$PL$215,G$7,FALSE)","v":15},{"$f":"VLOOKUP($B136,[1]FlowData!$A$3:$PL$215,H$7,FALSE)","v":9.4},{"$f":"VLOOKUP($B136,[1]FlowData!$A$3:$PL$215,I$7,FALSE)","v":3.6},{"$f":"VLOOKUP($B136,[1]FlowData!$A$3:$PL$215,J$7,FALSE)","v":9.9},{"$f":"VLOOKUP($B136,[1]FlowData!$A$3:$PL$215,K$7,FALSE)","v":7.9},{"$f":"VLOOKUP($B136,[1]FlowData!$A$3:$PL$215,L$7,FALSE)","v":5.3},{"$f":"VLOOKUP($B136,[1]FlowData!$A$3:$PL$215,M$7,FALSE)","v":3.1},{"$f":"VLOOKUP($B136,[1]FlowData!$A$3:$PL$215,N$7,FALSE)","v":6},{"$f":"VLOOKUP($B136,[1]FlowData!$A$3:$PL$215,O$7,FALSE)","v":11},{"$f":"VLOOKUP($B136,[1]FlowData!$A$3:$PL$215,P$7,FALSE)","v":6.7},{"$f":"VLOOKUP($B136,[1]FlowData!$A$3:$PL$215,Q$7,FALSE)","v":3.2},{"$f":"VLOOKUP($B136,[1]FlowData!$A$3:$PL$215,R$7,FALSE)","v":14},{"$f":"VLOOKUP($B136,[1]FlowData!$A$3:$PL$215,S$7,FALSE)","v":34},{"$f":"VLOOKUP($B136,[1]FlowData!$A$3:$PL$215,T$7,FALSE)","v":12},{"$f":"VLOOKUP($B136,[1]FlowData!$A$3:$PL$215,U$7,FALSE)","v":5},{"$f":"VLOOKUP($B136,[1]FlowData!$A$3:$PL$215,V$7,FALSE)","v":24},{"$f":"VLOOKUP($B136,[1]FlowData!$A$3:$PL$215,W$7,FALSE)","v":23},{"$f":"VLOOKUP($B136,[1]FlowData!$A$3:$PL$215,X$7,FALSE)","v":12},{"$f":"VLOOKUP($B136,[1]FlowData!$A$3:$PL$215,Y$7,FALSE)","v":5.8},{"$f":"VLOOKUP($B136,[1]FlowData!$A$3:$PL$215,Z$7,FALSE)","v":17},{"$f":"VLOOKUP($B136,[1]FlowData!$A$3:$PL$215,AA$7,FALSE)","v":22},{"$f":"VLOOKUP($B136,[1]FlowData!$A$3:$PL$215,AB$7,FALSE)","v":12},{"$f":"VLOOKUP($B136,[1]FlowData!$A$3:$PL$215,AC$7,FALSE)","v":5.0999999999999996},{"$f":"VLOOKUP($B136,[1]FlowData!$A$3:$PL$215,AD$7,FALSE)","v":20},{"$f":"VLOOKUP($B136,[1]FlowData!$A$3:$PL$215,AE$7,FALSE)","v":22},{"$f":"VLOOKUP($B136,[1]FlowData!$A$3:$PL$215,AF$7,FALSE)","v":14},{"$f":"VLOOKUP($B136,[1]FlowData!$A$3:$PL$215,AG$7,FALSE)","v":5.7},{"$f":"VLOOKUP($B136,[1]FlowData!$A$3:$PL$215,AH$7,FALSE)","v":16},{"$f":"VLOOKUP($B136,[1]FlowData!$A$3:$PL$215,AI$7,FALSE)","v":6.9},{"$f":"VLOOKUP($B136,[1]FlowData!$A$3:$PL$215,AJ$7,FALSE)","v":3.4},{"$f":"VLOOKUP($B136,[1]FlowData!$A$3:$PL$215,AK$7,FALSE)","v":1.1000000000000001},{"$f":"VLOOKUP($B136,[1]FlowData!$A$3:$PL$215,AL$7,FALSE)","v":4.7},{"$f":"VLOOKUP($B136,[1]FlowData!$A$3:$PL$215,AM$7,FALSE)","v":3.8},{"$f":"VLOOKUP($B136,[1]FlowData!$A$3:$PL$215,AN$7,FALSE)","v":1.1000000000000001},{"$f":"VLOOKUP($B136,[1]FlowData!$A$3:$PL$215,AO$7,FALSE)","v":0.19},{"$f":"VLOOKUP($B136,[1]FlowData!$A$3:$PL$215,AP$7,FALSE)","v":2.1},{"$f":"VLOOKUP($B136,[1]FlowData!$A$3:$PL$215,AQ$7,FALSE)","v":3.7},{"$f":"VLOOKUP($B136,[1]FlowData!$A$3:$PL$215,AR$7,FALSE)","v":1.6},{"$f":"VLOOKUP($B136,[1]FlowData!$A$3:$PL$215,AS$7,FALSE)","v":0.26},{"$f":"VLOOKUP($B136,[1]FlowData!$A$3:$PL$215,AT$7,FALSE)","v":2.1},{"$f":"VLOOKUP($B136,[1]FlowData!$A$3:$PL$215,AU$7,FALSE)","v":5.2},{"$f":"VLOOKUP($B136,[1]FlowData!$A$3:$PL$215,AV$7,FALSE)","v":3.3},{"$f":"VLOOKUP($B136,[1]FlowData!$A$3:$PL$215,AW$7,FALSE)","v":1.4},{"$f":"VLOOKUP($B136,[1]FlowData!$A$3:$PL$215,AX$7,FALSE)","v":3.7},{"$f":"VLOOKUP($B136,[1]FlowData!$A$3:$PL$215,AY$7,FALSE)","v":6.5},{"$f":"VLOOKUP($B136,[1]FlowData!$A$3:$PL$215,AZ$7,FALSE)","v":4},{"$f":"VLOOKUP($B136,[1]FlowData!$A$3:$PL$215,BA$7,FALSE)","v":2.1},{"$f":"VLOOKUP($B136,[1]FlowData!$A$3:$PL$215,BB$7,FALSE)","v":4.5},{"$f":"VLOOKUP($B136,[1]FlowData!$A$3:$PL$215,BC$7,FALSE)","v":8},{"$f":"VLOOKUP($B136,[1]FlowData!$A$3:$PL$215,BD$7,FALSE)","v":5.5},{"$f":"VLOOKUP($B136,[1]FlowData!$A$3:$PL$215,BE$7,FALSE)","v":3.3},{"$f":"VLOOKUP($B136,[1]FlowData!$A$3:$PL$215,BF$7,FALSE)","v":6.3}]
[{"$f":"VLOOKUP(B137,'[2]Gages and BCs'!$A$4:$BJ$973,62,FALSE)","v":481},6291500,{"$f":"VLOOKUP(B137,'[2]Gages and BCs'!$A$4:$BJ$973,60,FALSE)","v":"Lodge Grass Creek above Willow Creek diversion, near Wyola, Montana"},"1939–74, 1983–2009",{"$f":"VLOOKUP($B137,[1]FlowData!$A$3:$PL$215,E$7,FALSE)","v":5.7030000000000003},{"$f":"VLOOKUP($B137,[1]FlowData!$A$3:$PL$215,F$7,FALSE)","v":13.055999999999999},{"$f":"VLOOKUP($B137,[1]FlowData!$A$3:$PL$215,G$7,FALSE)","v":57},{"$f":"VLOOKUP($B137,[1]FlowData!$A$3:$PL$215,H$7,FALSE)","v":25},{"$f":"VLOOKUP($B137,[1]FlowData!$A$3:$PL$215,I$7,FALSE)","v":12},{"$f":"VLOOKUP($B137,[1]FlowData!$A$3:$PL$215,J$7,FALSE)","v":47},{"$f":"VLOOKUP($B137,[1]FlowData!$A$3:$PL$215,K$7,FALSE)","v":20},{"$f":"VLOOKUP($B137,[1]FlowData!$A$3:$PL$215,L$7,FALSE)","v":16},{"$f":"VLOOKUP($B137,[1]FlowData!$A$3:$PL$215,M$7,FALSE)","v":11},{"$f":"VLOOKUP($B137,[1]FlowData!$A$3:$PL$215,N$7,FALSE)","v":16},{"$f":"VLOOKUP($B137,[1]FlowData!$A$3:$PL$215,O$7,FALSE)","v":21},{"$f":"VLOOKUP($B137,[1]FlowData!$A$3:$PL$215,P$7,FALSE)","v":16},{"$f":"VLOOKUP($B137,[1]FlowData!$A$3:$PL$215,Q$7,FALSE)","v":11},{"$f":"VLOOKUP($B137,[1]FlowData!$A$3:$PL$215,R$7,FALSE)","v":17},{"$f":"VLOOKUP($B137,[1]FlowData!$A$3:$PL$215,S$7,FALSE)","v":25},{"$f":"VLOOKUP($B137,[1]FlowData!$A$3:$PL$215,T$7,FALSE)","v":18},{"$f":"VLOOKUP($B137,[1]FlowData!$A$3:$PL$215,U$7,FALSE)","v":13},{"$f":"VLOOKUP($B137,[1]FlowData!$A$3:$PL$215,V$7,FALSE)","v":20},{"$f":"VLOOKUP($B137,[1]FlowData!$A$3:$PL$215,W$7,FALSE)","v":42},{"$f":"VLOOKUP($B137,[1]FlowData!$A$3:$PL$215,X$7,FALSE)","v":25},{"$f":"VLOOKUP($B137,[1]FlowData!$A$3:$PL$215,Y$7,FALSE)","v":11},{"$f":"VLOOKUP($B137,[1]FlowData!$A$3:$PL$215,Z$7,FALSE)","v":31},{"$f":"VLOOKUP($B137,[1]FlowData!$A$3:$PL$215,AA$7,FALSE)","v":178},{"$f":"VLOOKUP($B137,[1]FlowData!$A$3:$PL$215,AB$7,FALSE)","v":96},{"$f":"VLOOKUP($B137,[1]FlowData!$A$3:$PL$215,AC$7,FALSE)","v":48},{"$f":"VLOOKUP($B137,[1]FlowData!$A$3:$PL$215,AD$7,FALSE)","v":118},{"$f":"VLOOKUP($B137,[1]FlowData!$A$3:$PL$215,AE$7,FALSE)","v":295},{"$f":"VLOOKUP($B137,[1]FlowData!$A$3:$PL$215,AF$7,FALSE)","v":161},{"$f":"VLOOKUP($B137,[1]FlowData!$A$3:$PL$215,AG$7,FALSE)","v":88},{"$f":"VLOOKUP($B137,[1]FlowData!$A$3:$PL$215,AH$7,FALSE)","v":193},{"$f":"VLOOKUP($B137,[1]FlowData!$A$3:$PL$215,AI$7,FALSE)","v":85},{"$f":"VLOOKUP($B137,[1]FlowData!$A$3:$PL$215,AJ$7,FALSE)","v":53},{"$f":"VLOOKUP($B137,[1]FlowData!$A$3:$PL$215,AK$7,FALSE)","v":32},{"$f":"VLOOKUP($B137,[1]FlowData!$A$3:$PL$215,AL$7,FALSE)","v":62},{"$f":"VLOOKUP($B137,[1]FlowData!$A$3:$PL$215,AM$7,FALSE)","v":38},{"$f":"VLOOKUP($B137,[1]FlowData!$A$3:$PL$215,AN$7,FALSE)","v":25},{"$f":"VLOOKUP($B137,[1]FlowData!$A$3:$PL$215,AO$7,FALSE)","v":17},{"$f":"VLOOKUP($B137,[1]FlowData!$A$3:$PL$215,AP$7,FALSE)","v":28},{"$f":"VLOOKUP($B137,[1]FlowData!$A$3:$PL$215,AQ$7,FALSE)","v":29},{"$f":"VLOOKUP($B137,[1]FlowData!$A$3:$PL$215,AR$7,FALSE)","v":21},{"$f":"VLOOKUP($B137,[1]FlowData!$A$3:$PL$215,AS$7,FALSE)","v":14},{"$f":"VLOOKUP($B137,[1]FlowData!$A$3:$PL$215,AT$7,FALSE)","v":22},{"$f":"VLOOKUP($B137,[1]FlowData!$A$3:$PL$215,AU$7,FALSE)","v":26},{"$f":"VLOOKUP($B137,[1]FlowData!$A$3:$PL$215,AV$7,FALSE)","v":20},{"$f":"VLOOKUP($B137,[1]FlowData!$A$3:$PL$215,AW$7,FALSE)","v":15},{"$f":"VLOOKUP($B137,[1]FlowData!$A$3:$PL$215,AX$7,FALSE)","v":21},{"$f":"VLOOKUP($B137,[1]FlowData!$A$3:$PL$215,AY$7,FALSE)","v":23},{"$f":"VLOOKUP($B137,[1]FlowData!$A$3:$PL$215,AZ$7,FALSE)","v":18},{"$f":"VLOOKUP($B137,[1]FlowData!$A$3:$PL$215,BA$7,FALSE)","v":14},{"$f":"VLOOKUP($B137,[1]FlowData!$A$3:$PL$215,BB$7,FALSE)","v":19},{"$f":"VLOOKUP($B137,[1]FlowData!$A$3:$PL$215,BC$7,FALSE)","v":20},{"$f":"VLOOKUP($B137,[1]FlowData!$A$3:$PL$215,BD$7,FALSE)","v":16},{"$f":"VLOOKUP($B137,[1]FlowData!$A$3:$PL$215,BE$7,FALSE)","v":12},{"$f":"VLOOKUP($B137,[1]FlowData!$A$3:$PL$215,BF$7,FALSE)","v":16}]
[{"$f":"VLOOKUP(B138,'[2]Gages and BCs'!$A$4:$BJ$973,62,FALSE)","v":484},6294000,{"$f":"VLOOKUP(B138,'[2]Gages and BCs'!$A$4:$BJ$973,60,FALSE)","v":"Little Bighorn River near Hardin, Montana"},"1953–2009",{"$f":"VLOOKUP($B138,[1]FlowData!$A$3:$PL$215,E$7,FALSE)","v":11.393000000000001},{"$f":"VLOOKUP($B138,[1]FlowData!$A$3:$PL$215,F$7,FALSE)","v":29.201000000000001},{"$f":"VLOOKUP($B138,[1]FlowData!$A$3:$PL$215,G$7,FALSE)","v":517},{"$f":"VLOOKUP($B138,[1]FlowData!$A$3:$PL$215,H$7,FALSE)","v":323},{"$f":"VLOOKUP($B138,[1]FlowData!$A$3:$PL$215,I$7,FALSE)","v":129},{"$f":"VLOOKUP($B138,[1]FlowData!$A$3:$PL$215,J$7,FALSE)","v":272},{"$f":"VLOOKUP($B138,[1]FlowData!$A$3:$PL$215,K$7,FALSE)","v":170},{"$f":"VLOOKUP($B138,[1]FlowData!$A$3:$PL$215,L$7,FALSE)","v":124},{"$f":"VLOOKUP($B138,[1]FlowData!$A$3:$PL$215,M$7,FALSE)","v":84},{"$f":"VLOOKUP($B138,[1]FlowData!$A$3:$PL$215,N$7,FALSE)","v":136},{"$f":"VLOOKUP($B138,[1]FlowData!$A$3:$PL$215,O$7,FALSE)","v":222},{"$f":"VLOOKUP($B138,[1]FlowData!$A$3:$PL$215,P$7,FALSE)","v":145},{"$f":"VLOOKUP($B138,[1]FlowData!$A$3:$PL$215,Q$7,FALSE)","v":98},{"$f":"VLOOKUP($B138,[1]FlowData!$A$3:$PL$215,R$7,FALSE)","v":192},{"$f":"VLOOKUP($B138,[1]FlowData!$A$3:$PL$215,S$7,FALSE)","v":364},{"$f":"VLOOKUP($B138,[1]FlowData!$A$3:$PL$215,T$7,FALSE)","v":207},{"$f":"VLOOKUP($B138,[1]FlowData!$A$3:$PL$215,U$7,FALSE)","v":134},{"$f":"VLOOKUP($B138,[1]FlowData!$A$3:$PL$215,V$7,FALSE)","v":299},{"$f":"VLOOKUP($B138,[1]FlowData!$A$3:$PL$215,W$7,FALSE)","v":392},{"$f":"VLOOKUP($B138,[1]FlowData!$A$3:$PL$215,X$7,FALSE)","v":240},{"$f":"VLOOKUP($B138,[1]FlowData!$A$3:$PL$215,Y$7,FALSE)","v":154},{"$f":"VLOOKUP($B138,[1]FlowData!$A$3:$PL$215,Z$7,FALSE)","v":302},{"$f":"VLOOKUP($B138,[1]FlowData!$A$3:$PL$215,AA$7,FALSE)","v":942},{"$f":"VLOOKUP($B138,[1]FlowData!$A$3:$PL$215,AB$7,FALSE)","v":461},{"$f":"VLOOKUP($B138,[1]FlowData!$A$3:$PL$215,AC$7,FALSE)","v":190},{"$f":"VLOOKUP($B138,[1]FlowData!$A$3:$PL$215,AD$7,FALSE)","v":596},{"$f":"VLOOKUP($B138,[1]FlowData!$A$3:$PL$215,AE$7,FALSE)","v":1280},{"$f":"VLOOKUP($B138,[1]FlowData!$A$3:$PL$215,AF$7,FALSE)","v":654},{"$f":"VLOOKUP($B138,[1]FlowData!$A$3:$PL$215,AG$7,FALSE)","v":295},{"$f":"VLOOKUP($B138,[1]FlowData!$A$3:$PL$215,AH$7,FALSE)","v":812},{"$f":"VLOOKUP($B138,[1]FlowData!$A$3:$PL$215,AI$7,FALSE)","v":372},{"$f":"VLOOKUP($B138,[1]FlowData!$A$3:$PL$215,AJ$7,FALSE)","v":171},{"$f":"VLOOKUP($B138,[1]FlowData!$A$3:$PL$215,AK$7,FALSE)","v":72},{"$f":"VLOOKUP($B138,[1]FlowData!$A$3:$PL$215,AL$7,FALSE)","v":253},{"$f":"VLOOKUP($B138,[1]FlowData!$A$3:$PL$215,AM$7,FALSE)","v":168},{"$f":"VLOOKUP($B138,[1]FlowData!$A$3:$PL$215,AN$7,FALSE)","v":105},{"$f":"VLOOKUP($B138,[1]FlowData!$A$3:$PL$215,AO$7,FALSE)","v":50},{"$f":"VLOOKUP($B138,[1]FlowData!$A$3:$PL$215,AP$7,FALSE)","v":115},{"$f":"VLOOKUP($B138,[1]FlowData!$A$3:$PL$215,AQ$7,FALSE)","v":181},{"$f":"VLOOKUP($B138,[1]FlowData!$A$3:$PL$215,AR$7,FALSE)","v":118},{"$f":"VLOOKUP($B138,[1]FlowData!$A$3:$PL$215,AS$7,FALSE)","v":57},{"$f":"VLOOKUP($B138,[1]FlowData!$A$3:$PL$215,AT$7,FALSE)","v":124},{"$f":"VLOOKUP($B138,[1]FlowData!$A$3:$PL$215,AU$7,FALSE)","v":194},{"$f":"VLOOKUP($B138,[1]FlowData!$A$3:$PL$215,AV$7,FALSE)","v":150},{"$f":"VLOOKUP($B138,[1]FlowData!$A$3:$PL$215,AW$7,FALSE)","v":105},{"$f":"VLOOKUP($B138,[1]FlowData!$A$3:$PL$215,AX$7,FALSE)","v":151},{"$f":"VLOOKUP($B138,[1]FlowData!$A$3:$PL$215,AY$7,FALSE)","v":184},{"$f":"VLOOKUP($B138,[1]FlowData!$A$3:$PL$215,AZ$7,FALSE)","v":147},{"$f":"VLOOKUP($B138,[1]FlowData!$A$3:$PL$215,BA$7,FALSE)","v":109},{"$f":"VLOOKUP($B138,[1]FlowData!$A$3:$PL$215,BB$7,FALSE)","v":149},{"$f":"VLOOKUP($B138,[1]FlowData!$A$3:$PL$215,BC$7,FALSE)","v":167},{"$f":"VLOOKUP($B138,[1]FlowData!$A$3:$PL$215,BD$7,FALSE)","v":125},{"$f":"VLOOKUP($B138,[1]FlowData!$A$3:$PL$215,BE$7,FALSE)","v":94},{"$f":"VLOOKUP($B138,[1]FlowData!$A$3:$PL$215,BF$7,FALSE)","v":132}]
["Southwest hydrologic region"]
[{"$f":"VLOOKUP(B140,'[2]Gages and BCs'!$A$4:$BJ$973,62,FALSE)","v":15},6006000,{"$f":"VLOOKUP(B140,'[2]Gages and BCs'!$A$4:$BJ$973,60,FALSE)","v":"Red Rock Creek above Lakes, near Lakeview, Montana"},"1997–98, 2000–8",{"$f":"VLOOKUP($B140,[1]FlowData!$A$3:$PL$215,E$7,FALSE)","v":""},{"$f":"VLOOKUP($B140,[1]FlowData!$A$3:$PL$215,F$7,FALSE)","v":17.32},{"$f":"VLOOKUP($B140,[1]FlowData!$A$3:$PL$215,G$7,FALSE)","v":""},{"$f":"VLOOKUP($B140,[1]FlowData!$A$3:$PL$215,H$7,FALSE)","v":""},{"$f":"VLOOKUP($B140,[1]FlowData!$A$3:$PL$215,I$7,FALSE)","v":""},{"$f":"VLOOKUP($B140,[1]FlowData!$A$3:$PL$215,J$7,FALSE)","v":""},{"$f":"VLOOKUP($B140,[1]FlowData!$A$3:$PL$215,K$7,FALSE)","v":""},{"$f":"VLOOKUP($B140,[1]FlowData!$A$3:$PL$215,L$7,FALSE)","v":""},{"$f":"VLOOKUP($B140,[1]FlowData!$A$3:$PL$215,M$7,FALSE)","v":""},{"$f":"VLOOKUP($B140,[1]FlowData!$A$3:$PL$215,N$7,FALSE)","v":""},{"$f":"VLOOKUP($B140,[1]FlowData!$A$3:$PL$215,O$7,FALSE)","v":""},{"$f":"VLOOKUP($B140,[1]FlowData!$A$3:$PL$215,P$7,FALSE)","v":""},{"$f":"VLOOKUP($B140,[1]FlowData!$A$3:$PL$215,Q$7,FALSE)","v":""},{"$f":"VLOOKUP($B140,[1]FlowData!$A$3:$PL$215,R$7,FALSE)","v":""},{"$f":"VLOOKUP($B140,[1]FlowData!$A$3:$PL$215,S$7,FALSE)","v":""},{"$f":"VLOOKUP($B140,[1]FlowData!$A$3:$PL$215,T$7,FALSE)","v":""},{"$f":"VLOOKUP($B140,[1]FlowData!$A$3:$PL$215,U$7,FALSE)","v":""},{"$f":"VLOOKUP($B140,[1]FlowData!$A$3:$PL$215,V$7,FALSE)","v":""},{"$f":"VLOOKUP($B140,[1]FlowData!$A$3:$PL$215,W$7,FALSE)","v":35},{"$f":"VLOOKUP($B140,[1]FlowData!$A$3:$PL$215,X$7,FALSE)","v":23},{"$f":"VLOOKUP($B140,[1]FlowData!$A$3:$PL$215,Y$7,FALSE)","v":17},{"$f":"VLOOKUP($B140,[1]FlowData!$A$3:$PL$215,Z$7,FALSE)","v":27},{"$f":"VLOOKUP($B140,[1]FlowData!$A$3:$PL$215,AA$7,FALSE)","v":88},{"$f":"VLOOKUP($B140,[1]FlowData!$A$3:$PL$215,AB$7,FALSE)","v":46},{"$f":"VLOOKUP($B140,[1]FlowData!$A$3:$PL$215,AC$7,FALSE)","v":31},{"$f":"VLOOKUP($B140,[1]FlowData!$A$3:$PL$215,AD$7,FALSE)","v":60},{"$f":"VLOOKUP($B140,[1]FlowData!$A$3:$PL$215,AE$7,FALSE)","v":131},{"$f":"VLOOKUP($B140,[1]FlowData!$A$3:$PL$215,AF$7,FALSE)","v":90},{"$f":"VLOOKUP($B140,[1]FlowData!$A$3:$PL$215,AG$7,FALSE)","v":44},{"$f":"VLOOKUP($B140,[1]FlowData!$A$3:$PL$215,AH$7,FALSE)","v":95},{"$f":"VLOOKUP($B140,[1]FlowData!$A$3:$PL$215,AI$7,FALSE)","v":78},{"$f":"VLOOKUP($B140,[1]FlowData!$A$3:$PL$215,AJ$7,FALSE)","v":45},{"$f":"VLOOKUP($B140,[1]FlowData!$A$3:$PL$215,AK$7,FALSE)","v":28},{"$f":"VLOOKUP($B140,[1]FlowData!$A$3:$PL$215,AL$7,FALSE)","v":55},{"$f":"VLOOKUP($B140,[1]FlowData!$A$3:$PL$215,AM$7,FALSE)","v":47},{"$f":"VLOOKUP($B140,[1]FlowData!$A$3:$PL$215,AN$7,FALSE)","v":32},{"$f":"VLOOKUP($B140,[1]FlowData!$A$3:$PL$215,AO$7,FALSE)","v":21},{"$f":"VLOOKUP($B140,[1]FlowData!$A$3:$PL$215,AP$7,FALSE)","v":34},{"$f":"VLOOKUP($B140,[1]FlowData!$A$3:$PL$215,AQ$7,FALSE)","v":38},{"$f":"VLOOKUP($B140,[1]FlowData!$A$3:$PL$215,AR$7,FALSE)","v":26},{"$f":"VLOOKUP($B140,[1]FlowData!$A$3:$PL$215,AS$7,FALSE)","v":19},{"$f":"VLOOKUP($B140,[1]FlowData!$A$3:$PL$215,AT$7,FALSE)","v":28},{"$f":"VLOOKUP($B140,[1]FlowData!$A$3:$PL$215,AU$7,FALSE)","v":30},{"$f":"VLOOKUP($B140,[1]FlowData!$A$3:$PL$215,AV$7,FALSE)","v":23},{"$f":"VLOOKUP($B140,[1]FlowData!$A$3:$PL$215,AW$7,FALSE)","v":17},{"$f":"VLOOKUP($B140,[1]FlowData!$A$3:$PL$215,AX$7,FALSE)","v":24},{"$f":"VLOOKUP($B140,[1]FlowData!$A$3:$PL$215,AY$7,FALSE)","v":""},{"$f":"VLOOKUP($B140,[1]FlowData!$A$3:$PL$215,AZ$7,FALSE)","v":""},{"$f":"VLOOKUP($B140,[1]FlowData!$A$3:$PL$215,BA$7,FALSE)","v":""},{"$f":"VLOOKUP($B140,[1]FlowData!$A$3:$PL$215,BB$7,FALSE)","v":""},{"$f":"VLOOKUP($B140,[1]FlowData!$A$3:$PL$215,BC$7,FALSE)","v":""},{"$f":"VLOOKUP($B140,[1]FlowData!$A$3:$PL$215,BD$7,FALSE)","v":""},{"$f":"VLOOKUP($B140,[1]FlowData!$A$3:$PL$215,BE$7,FALSE)","v":""},{"$f":"VLOOKUP($B140,[1]FlowData!$A$3:$PL$215,BF$7,FALSE)","v":""}]
[{"$f":"VLOOKUP(B141,'[2]Gages and BCs'!$A$4:$BJ$973,62,FALSE)","v":16},6011000,{"$f":"VLOOKUP(B141,'[2]Gages and BCs'!$A$4:$BJ$973,60,FALSE)","v":"Red Rock River at Kennedy Ranch, near Lakeview, Montana"},"1936–66",{"$f":"VLOOKUP($B141,[1]FlowData!$A$3:$PL$215,E$7,FALSE)","v":""},{"$f":"VLOOKUP($B141,[1]FlowData!$A$3:$PL$215,F$7,FALSE)","v":14.7},{"$f":"VLOOKUP($B141,[1]FlowData!$A$3:$PL$215,G$7,FALSE)","v":""},{"$f":"VLOOKUP($B141,[1]FlowData!$A$3:$PL$215,H$7,FALSE)","v":""},{"$f":"VLOOKUP($B141,[1]FlowData!$A$3:$PL$215,I$7,FALSE)","v":""},{"$f":"VLOOKUP($B141,[1]FlowData!$A$3:$PL$215,J$7,FALSE)","v":""},{"$f":"VLOOKUP($B141,[1]FlowData!$A$3:$PL$215,K$7,FALSE)","v":""},{"$f":"VLOOKUP($B141,[1]FlowData!$A$3:$PL$215,L$7,FALSE)","v":""},{"$f":"VLOOKUP($B141,[1]FlowData!$A$3:$PL$215,M$7,FALSE)","v":""},{"$f":"VLOOKUP($B141,[1]FlowData!$A$3:$PL$215,N$7,FALSE)","v":""},{"$f":"VLOOKUP($B141,[1]FlowData!$A$3:$PL$215,O$7,FALSE)","v":""},{"$f":"VLOOKUP($B141,[1]FlowData!$A$3:$PL$215,P$7,FALSE)","v":""},{"$f":"VLOOKUP($B141,[1]FlowData!$A$3:$PL$215,Q$7,FALSE)","v":""},{"$f":"VLOOKUP($B141,[1]FlowData!$A$3:$PL$215,R$7,FALSE)","v":""},{"$f":"VLOOKUP($B141,[1]FlowData!$A$3:$PL$215,S$7,FALSE)","v":""},{"$f":"VLOOKUP($B141,[1]FlowData!$A$3:$PL$215,T$7,FALSE)","v":""},{"$f":"VLOOKUP($B141,[1]FlowData!$A$3:$PL$215,U$7,FALSE)","v":""},{"$f":"VLOOKUP($B141,[1]FlowData!$A$3:$PL$215,V$7,FALSE)","v":""},{"$f":"VLOOKUP($B141,[1]FlowData!$A$3:$PL$215,W$7,FALSE)","v":569},{"$f":"VLOOKUP($B141,[1]FlowData!$A$3:$PL$215,X$7,FALSE)","v":266},{"$f":"VLOOKUP($B141,[1]FlowData!$A$3:$PL$215,Y$7,FALSE)","v":66},{"$f":"VLOOKUP($B141,[1]FlowData!$A$3:$PL$215,Z$7,FALSE)","v":329},{"$f":"VLOOKUP($B141,[1]FlowData!$A$3:$PL$215,AA$7,FALSE)","v":535},{"$f":"VLOOKUP($B141,[1]FlowData!$A$3:$PL$215,AB$7,FALSE)","v":335},{"$f":"VLOOKUP($B141,[1]FlowData!$A$3:$PL$215,AC$7,FALSE)","v":208},{"$f":"VLOOKUP($B141,[1]FlowData!$A$3:$PL$215,AD$7,FALSE)","v":380},{"$f":"VLOOKUP($B141,[1]FlowData!$A$3:$PL$215,AE$7,FALSE)","v":337},{"$f":"VLOOKUP($B141,[1]FlowData!$A$3:$PL$215,AF$7,FALSE)","v":228},{"$f":"VLOOKUP($B141,[1]FlowData!$A$3:$PL$215,AG$7,FALSE)","v":145},{"$f":"VLOOKUP($B141,[1]FlowData!$A$3:$PL$215,AH$7,FALSE)","v":243},{"$f":"VLOOKUP($B141,[1]FlowData!$A$3:$PL$215,AI$7,FALSE)","v":151},{"$f":"VLOOKUP($B141,[1]FlowData!$A$3:$PL$215,AJ$7,FALSE)","v":82},{"$f":"VLOOKUP($B141,[1]FlowData!$A$3:$PL$215,AK$7,FALSE)","v":41},{"$f":"VLOOKUP($B141,[1]FlowData!$A$3:$PL$215,AL$7,FALSE)","v":101},{"$f":"VLOOKUP($B141,[1]FlowData!$A$3:$PL$215,AM$7,FALSE)","v":66},{"$f":"VLOOKUP($B141,[1]FlowData!$A$3:$PL$215,AN$7,FALSE)","v":41},{"$f":"VLOOKUP($B141,[1]FlowData!$A$3:$PL$215,AO$7,FALSE)","v":21},{"$f":"VLOOKUP($B141,[1]FlowData!$A$3:$PL$215,AP$7,FALSE)","v":45},{"$f":"VLOOKUP($B141,[1]FlowData!$A$3:$PL$215,AQ$7,FALSE)","v":62},{"$f":"VLOOKUP($B141,[1]FlowData!$A$3:$PL$215,AR$7,FALSE)","v":40},{"$f":"VLOOKUP($B141,[1]FlowData!$A$3:$PL$215,AS$7,FALSE)","v":23},{"$f":"VLOOKUP($B141,[1]FlowData!$A$3:$PL$215,AT$7,FALSE)","v":43},{"$f":"VLOOKUP($B141,[1]FlowData!$A$3:$PL$215,AU$7,FALSE)","v":86},{"$f":"VLOOKUP($B141,[1]FlowData!$A$3:$PL$215,AV$7,FALSE)","v":61},{"$f":"VLOOKUP($B141,[1]FlowData!$A$3:$PL$215,AW$7,FALSE)","v":40},{"$f":"VLOOKUP($B141,[1]FlowData!$A$3:$PL$215,AX$7,FALSE)","v":64},{"$f":"VLOOKUP($B141,[1]FlowData!$A$3:$PL$215,AY$7,FALSE)","v":88},{"$f":"VLOOKUP($B141,[1]FlowData!$A$3:$PL$215,AZ$7,FALSE)","v":60},{"$f":"VLOOKUP($B141,[1]FlowData!$A$3:$PL$215,BA$7,FALSE)","v":39},{"$f":"VLOOKUP($B141,[1]FlowData!$A$3:$PL$215,BB$7,FALSE)","v":59},{"$f":"VLOOKUP($B141,[1]FlowData!$A$3:$PL$215,BC$7,FALSE)","v":""},{"$f":"VLOOKUP($B141,[1]FlowData!$A$3:$PL$215,BD$7,FALSE)","v":""},{"$f":"VLOOKUP($B141,[1]FlowData!$A$3:$PL$215,BE$7,FALSE)","v":""},{"$f":"VLOOKUP($B141,[1]FlowData!$A$3:$PL$215,BF$7,FALSE)","v":""}]
[{"$f":"VLOOKUP(B142,'[2]Gages and BCs'!$A$4:$BJ$973,62,FALSE)","v":20},6013500,{"$f":"VLOOKUP(B142,'[2]Gages and BCs'!$A$4:$BJ$973,60,FALSE)","v":"Big Sheep Creek below Muddy Creek, near Dell, Montana"},"1946–53, 1961–79",{"$f":"VLOOKUP($B142,[1]FlowData!$A$3:$PL$215,E$7,FALSE)","v":30.300999999999998},{"$f":"VLOOKUP($B142,[1]FlowData!$A$3:$PL$215,F$7,FALSE)","v":40.259},{"$f":"VLOOKUP($B142,[1]FlowData!$A$3:$PL$215,G$7,FALSE)","v":81},{"$f":"VLOOKUP($B142,[1]FlowData!$A$3:$PL$215,H$7,FALSE)","v":54},{"$f":"VLOOKUP($B142,[1]FlowData!$A$3:$PL$215,I$7,FALSE)","v":41},{"$f":"VLOOKUP($B142,[1]FlowData!$A$3:$PL$215,J$7,FALSE)","v":65},{"$f":"VLOOKUP($B142,[1]FlowData!$A$3:$PL$215,K$7,FALSE)","v":49},{"$f":"VLOOKUP($B142,[1]FlowData!$A$3:$PL$215,L$7,FALSE)","v":42},{"$f":"VLOOKUP($B142,[1]FlowData!$A$3:$PL$215,M$7,FALSE)","v":37},{"$f":"VLOOKUP($B142,[1]FlowData!$A$3:$PL$215,N$7,FALSE)","v":43},{"$f":"VLOOKUP($B142,[1]FlowData!$A$3:$PL$215,O$7,FALSE)","v":47},{"$f":"VLOOKUP($B142,[1]FlowData!$A$3:$PL$215,P$7,FALSE)","v":40},{"$f":"VLOOKUP($B142,[1]FlowData!$A$3:$PL$215,Q$7,FALSE)","v":36},{"$f":"VLOOKUP($B142,[1]FlowData!$A$3:$PL$215,R$7,FALSE)","v":42},{"$f":"VLOOKUP($B142,[1]FlowData!$A$3:$PL$215,S$7,FALSE)","v":53},{"$f":"VLOOKUP($B142,[1]FlowData!$A$3:$PL$215,T$7,FALSE)","v":43},{"$f":"VLOOKUP($B142,[1]FlowData!$A$3:$PL$215,U$7,FALSE)","v":36},{"$f":"VLOOKUP($B142,[1]FlowData!$A$3:$PL$215,V$7,FALSE)","v":49},{"$f":"VLOOKUP($B142,[1]FlowData!$A$3:$PL$215,W$7,FALSE)","v":115},{"$f":"VLOOKUP($B142,[1]FlowData!$A$3:$PL$215,X$7,FALSE)","v":70},{"$f":"VLOOKUP($B142,[1]FlowData!$A$3:$PL$215,Y$7,FALSE)","v":49},{"$f":"VLOOKUP($B142,[1]FlowData!$A$3:$PL$215,Z$7,FALSE)","v":89},{"$f":"VLOOKUP($B142,[1]FlowData!$A$3:$PL$215,AA$7,FALSE)","v":117},{"$f":"VLOOKUP($B142,[1]FlowData!$A$3:$PL$215,AB$7,FALSE)","v":74},{"$f":"VLOOKUP($B142,[1]FlowData!$A$3:$PL$215,AC$7,FALSE)","v":45},{"$f":"VLOOKUP($B142,[1]FlowData!$A$3:$PL$215,AD$7,FALSE)","v":86},{"$f":"VLOOKUP($B142,[1]FlowData!$A$3:$PL$215,AE$7,FALSE)","v":146},{"$f":"VLOOKUP($B142,[1]FlowData!$A$3:$PL$215,AF$7,FALSE)","v":92},{"$f":"VLOOKUP($B142,[1]FlowData!$A$3:$PL$215,AG$7,FALSE)","v":49},{"$f":"VLOOKUP($B142,[1]FlowData!$A$3:$PL$215,AH$7,FALSE)","v":102},{"$f":"VLOOKUP($B142,[1]FlowData!$A$3:$PL$215,AI$7,FALSE)","v":95},{"$f":"VLOOKUP($B142,[1]FlowData!$A$3:$PL$215,AJ$7,FALSE)","v":65},{"$f":"VLOOKUP($B142,[1]FlowData!$A$3:$PL$215,AK$7,FALSE)","v":45},{"$f":"VLOOKUP($B142,[1]FlowData!$A$3:$PL$215,AL$7,FALSE)","v":71},{"$f":"VLOOKUP($B142,[1]FlowData!$A$3:$PL$215,AM$7,FALSE)","v":84},{"$f":"VLOOKUP($B142,[1]FlowData!$A$3:$PL$215,AN$7,FALSE)","v":66},{"$f":"VLOOKUP($B142,[1]FlowData!$A$3:$PL$215,AO$7,FALSE)","v":52},{"$f":"VLOOKUP($B142,[1]FlowData!$A$3:$PL$215,AP$7,FALSE)","v":67},{"$f":"VLOOKUP($B142,[1]FlowData!$A$3:$PL$215,AQ$7,FALSE)","v":67},{"$f":"VLOOKUP($B142,[1]FlowData!$A$3:$PL$215,AR$7,FALSE)","v":53},{"$f":"VLOOKUP($B142,[1]FlowData!$A$3:$PL$215,AS$7,FALSE)","v":42},{"$f":"VLOOKUP($B142,[1]FlowData!$A$3:$PL$215,AT$7,FALSE)","v":55},{"$f":"VLOOKUP($B142,[1]FlowData!$A$3:$PL$215,AU$7,FALSE)","v":74},{"$f":"VLOOKUP($B142,[1]FlowData!$A$3:$PL$215,AV$7,FALSE)","v":63},{"$f":"VLOOKUP($B142,[1]FlowData!$A$3:$PL$215,AW$7,FALSE)","v":49},{"$f":"VLOOKUP($B142,[1]FlowData!$A$3:$PL$215,AX$7,FALSE)","v":62},{"$f":"VLOOKUP($B142,[1]FlowData!$A$3:$PL$215,AY$7,FALSE)","v":66},{"$f":"VLOOKUP($B142,[1]FlowData!$A$3:$PL$215,AZ$7,FALSE)","v":57},{"$f":"VLOOKUP($B142,[1]FlowData!$A$3:$PL$215,BA$7,FALSE)","v":46},{"$f":"VLOOKUP($B142,[1]FlowData!$A$3:$PL$215,BB$7,FALSE)","v":57},{"$f":"VLOOKUP($B142,[1]FlowData!$A$3:$PL$215,BC$7,FALSE)","v":55},{"$f":"VLOOKUP($B142,[1]FlowData!$A$3:$PL$215,BD$7,FALSE)","v":48},{"$f":"VLOOKUP($B142,[1]FlowData!$A$3:$PL$215,BE$7,FALSE)","v":40},{"$f":"VLOOKUP($B142,[1]FlowData!$A$3:$PL$215,BF$7,FALSE)","v":48}]
[{"$f":"VLOOKUP(B143,'[2]Gages and BCs'!$A$4:$BJ$973,62,FALSE)","v":25},6015500,{"$f":"VLOOKUP(B143,'[2]Gages and BCs'!$A$4:$BJ$973,60,FALSE)","v":"Grasshopper Creek near Dillon, Montana"},"1921–33, 1946–53, 1955–58, 1960–61",{"$f":"VLOOKUP($B143,[1]FlowData!$A$3:$PL$215,E$7,FALSE)","v":5.1660000000000004},{"$f":"VLOOKUP($B143,[1]FlowData!$A$3:$PL$215,F$7,FALSE)","v":4.3760000000000003},{"$f":"VLOOKUP($B143,[1]FlowData!$A$3:$PL$215,G$7,FALSE)","v":72},{"$f":"VLOOKUP($B143,[1]FlowData!$A$3:$PL$215,H$7,FALSE)","v":37},{"$f":"VLOOKUP($B143,[1]FlowData!$A$3:$PL$215,I$7,FALSE)","v":16},{"$f":"VLOOKUP($B143,[1]FlowData!$A$3:$PL$215,J$7,FALSE)","v":55},{"$f":"VLOOKUP($B143,[1]FlowData!$A$3:$PL$215,K$7,FALSE)","v":33},{"$f":"VLOOKUP($B143,[1]FlowData!$A$3:$PL$215,L$7,FALSE)","v":24},{"$f":"VLOOKUP($B143,[1]FlowData!$A$3:$PL$215,M$7,FALSE)","v":18},{"$f":"VLOOKUP($B143,[1]FlowData!$A$3:$PL$215,N$7,FALSE)","v":25},{"$f":"VLOOKUP($B143,[1]FlowData!$A$3:$PL$215,O$7,FALSE)","v":34},{"$f":"VLOOKUP($B143,[1]FlowData!$A$3:$PL$215,P$7,FALSE)","v":26},{"$f":"VLOOKUP($B143,[1]FlowData!$A$3:$PL$215,Q$7,FALSE)","v":18},{"$f":"VLOOKUP($B143,[1]FlowData!$A$3:$PL$215,R$7,FALSE)","v":27},{"$f":"VLOOKUP($B143,[1]FlowData!$A$3:$PL$215,S$7,FALSE)","v":59},{"$f":"VLOOKUP($B143,[1]FlowData!$A$3:$PL$215,T$7,FALSE)","v":34},{"$f":"VLOOKUP($B143,[1]FlowData!$A$3:$PL$215,U$7,FALSE)","v":21},{"$f":"VLOOKUP($B143,[1]FlowData!$A$3:$PL$215,V$7,FALSE)","v":49},{"$f":"VLOOKUP($B143,[1]FlowData!$A$3:$PL$215,W$7,FALSE)","v":95},{"$f":"VLOOKUP($B143,[1]FlowData!$A$3:$PL$215,X$7,FALSE)","v":69},{"$f":"VLOOKUP($B143,[1]FlowData!$A$3:$PL$215,Y$7,FALSE)","v":47},{"$f":"VLOOKUP($B143,[1]FlowData!$A$3:$PL$215,Z$7,FALSE)","v":73},{"$f":"VLOOKUP($B143,[1]FlowData!$A$3:$PL$215,AA$7,FALSE)","v":166},{"$f":"VLOOKUP($B143,[1]FlowData!$A$3:$PL$215,AB$7,FALSE)","v":87},{"$f":"VLOOKUP($B143,[1]FlowData!$A$3:$PL$215,AC$7,FALSE)","v":51},{"$f":"VLOOKUP($B143,[1]FlowData!$A$3:$PL$215,AD$7,FALSE)","v":113},{"$f":"VLOOKUP($B143,[1]FlowData!$A$3:$PL$215,AE$7,FALSE)","v":235},{"$f":"VLOOKUP($B143,[1]FlowData!$A$3:$PL$215,AF$7,FALSE)","v":105},{"$f":"VLOOKUP($B143,[1]FlowData!$A$3:$PL$215,AG$7,FALSE)","v":42},{"$f":"VLOOKUP($B143,[1]FlowData!$A$3:$PL$215,AH$7,FALSE)","v":137},{"$f":"VLOOKUP($B143,[1]FlowData!$A$3:$PL$215,AI$7,FALSE)","v":61},{"$f":"VLOOKUP($B143,[1]FlowData!$A$3:$PL$215,AJ$7,FALSE)","v":29},{"$f":"VLOOKUP($B143,[1]FlowData!$A$3:$PL$215,AK$7,FALSE)","v":14},{"$f":"VLOOKUP($B143,[1]FlowData!$A$3:$PL$215,AL$7,FALSE)","v":40},{"$f":"VLOOKUP($B143,[1]FlowData!$A$3:$PL$215,AM$7,FALSE)","v":40},{"$f":"VLOOKUP($B143,[1]FlowData!$A$3:$PL$215,AN$7,FALSE)","v":20},{"$f":"VLOOKUP($B143,[1]FlowData!$A$3:$PL$215,AO$7,FALSE)","v":9.1},{"$f":"VLOOKUP($B143,[1]FlowData!$A$3:$PL$215,AP$7,FALSE)","v":25},{"$f":"VLOOKUP($B143,[1]FlowData!$A$3:$PL$215,AQ$7,FALSE)","v":29},{"$f":"VLOOKUP($B143,[1]FlowData!$A$3:$PL$215,AR$7,FALSE)","v":15},{"$f":"VLOOKUP($B143,[1]FlowData!$A$3:$PL$215,AS$7,FALSE)","v":8.3000000000000007},{"$f":"VLOOKUP($B143,[1]FlowData!$A$3:$PL$215,AT$7,FALSE)","v":19},{"$f":"VLOOKUP($B143,[1]FlowData!$A$3:$PL$215,AU$7,FALSE)","v":47},{"$f":"VLOOKUP($B143,[1]FlowData!$A$3:$PL$215,AV$7,FALSE)","v":36},{"$f":"VLOOKUP($B143,[1]FlowData!$A$3:$PL$215,AW$7,FALSE)","v":22},{"$f":"VLOOKUP($B143,[1]FlowData!$A$3:$PL$215,AX$7,FALSE)","v":35},{"$f":"VLOOKUP($B143,[1]FlowData!$A$3:$PL$215,AY$7,FALSE)","v":48},{"$f":"VLOOKUP($B143,[1]FlowData!$A$3:$PL$215,AZ$7,FALSE)","v":39},{"$f":"VLOOKUP($B143,[1]FlowData!$A$3:$PL$215,BA$7,FALSE)","v":31},{"$f":"VLOOKUP($B143,[1]FlowData!$A$3:$PL$215,BB$7,FALSE)","v":39},{"$f":"VLOOKUP($B143,[1]FlowData!$A$3:$PL$215,BC$7,FALSE)","v":38},{"$f":"VLOOKUP($B143,[1]FlowData!$A$3:$PL$215,BD$7,FALSE)","v":25},{"$f":"VLOOKUP($B143,[1]FlowData!$A$3:$PL$215,BE$7,FALSE)","v":20},{"$f":"VLOOKUP($B143,[1]FlowData!$A$3:$PL$215,BF$7,FALSE)","v":29}]
[{"$f":"VLOOKUP(B144,'[2]Gages and BCs'!$A$4:$BJ$973,62,FALSE)","v":29},6017500,{"$f":"VLOOKUP(B144,'[2]Gages and BCs'!$A$4:$BJ$973,60,FALSE)","v":"Blacktail Deer Creek near Dillon, Montana"},"1946–53, 1955–66",{"$f":"VLOOKUP($B144,[1]FlowData!$A$3:$PL$215,E$7,FALSE)","v":13.518000000000001},{"$f":"VLOOKUP($B144,[1]FlowData!$A$3:$PL$215,F$7,FALSE)","v":30.167999999999999},{"$f":"VLOOKUP($B144,[1]FlowData!$A$3:$PL$215,G$7,FALSE)","v":67},{"$f":"VLOOKUP($B144,[1]FlowData!$A$3:$PL$215,H$7,FALSE)","v":46},{"$f":"VLOOKUP($B144,[1]FlowData!$A$3:$PL$215,I$7,FALSE)","v":30},{"$f":"VLOOKUP($B144,[1]FlowData!$A$3:$PL$215,J$7,FALSE)","v":54},{"$f":"VLOOKUP($B144,[1]FlowData!$A$3:$PL$215,K$7,FALSE)","v":37},{"$f":"VLOOKUP($B144,[1]FlowData!$A$3:$PL$215,L$7,FALSE)","v":30},{"$f":"VLOOKUP($B144,[1]FlowData!$A$3:$PL$215,M$7,FALSE)","v":20},{"$f":"VLOOKUP($B144,[1]FlowData!$A$3:$PL$215,N$7,FALSE)","v":30},{"$f":"VLOOKUP($B144,[1]FlowData!$A$3:$PL$215,O$7,FALSE)","v":43},{"$f":"VLOOKUP($B144,[1]FlowData!$A$3:$PL$215,P$7,FALSE)","v":33},{"$f":"VLOOKUP($B144,[1]FlowData!$A$3:$PL$215,Q$7,FALSE)","v":20},{"$f":"VLOOKUP($B144,[1]FlowData!$A$3:$PL$215,R$7,FALSE)","v":33},{"$f":"VLOOKUP($B144,[1]FlowData!$A$3:$PL$215,S$7,FALSE)","v":54},{"$f":"VLOOKUP($B144,[1]FlowData!$A$3:$PL$215,T$7,FALSE)","v":41},{"$f":"VLOOKUP($B144,[1]FlowData!$A$3:$PL$215,U$7,FALSE)","v":29},{"$f":"VLOOKUP($B144,[1]FlowData!$A$3:$PL$215,V$7,FALSE)","v":43},{"$f":"VLOOKUP($B144,[1]FlowData!$A$3:$PL$215,W$7,FALSE)","v":67},{"$f":"VLOOKUP($B144,[1]FlowData!$A$3:$PL$215,X$7,FALSE)","v":53},{"$f":"VLOOKUP($B144,[1]FlowData!$A$3:$PL$215,Y$7,FALSE)","v":44},{"$f":"VLOOKUP($B144,[1]FlowData!$A$3:$PL$215,Z$7,FALSE)","v":56},{"$f":"VLOOKUP($B144,[1]FlowData!$A$3:$PL$215,AA$7,FALSE)","v":105},{"$f":"VLOOKUP($B144,[1]FlowData!$A$3:$PL$215,AB$7,FALSE)","v":72},{"$f":"VLOOKUP($B144,[1]FlowData!$A$3:$PL$215,AC$7,FALSE)","v":53},{"$f":"VLOOKUP($B144,[1]FlowData!$A$3:$PL$215,AD$7,FALSE)","v":80},{"$f":"VLOOKUP($B144,[1]FlowData!$A$3:$PL$215,AE$7,FALSE)","v":168},{"$f":"VLOOKUP($B144,[1]FlowData!$A$3:$PL$215,AF$7,FALSE)","v":117},{"$f":"VLOOKUP($B144,[1]FlowData!$A$3:$PL$215,AG$7,FALSE)","v":77},{"$f":"VLOOKUP($B144,[1]FlowData!$A$3:$PL$215,AH$7,FALSE)","v":128},{"$f":"VLOOKUP($B144,[1]FlowData!$A$3:$PL$215,AI$7,FALSE)","v":93},{"$f":"VLOOKUP($B144,[1]FlowData!$A$3:$PL$215,AJ$7,FALSE)","v":67},{"$f":"VLOOKUP($B144,[1]FlowData!$A$3:$PL$215,AK$7,FALSE)","v":44},{"$f":"VLOOKUP($B144,[1]FlowData!$A$3:$PL$215,AL$7,FALSE)","v":70},{"$f":"VLOOKUP($B144,[1]FlowData!$A$3:$PL$215,AM$7,FALSE)","v":58},{"$f":"VLOOKUP($B144,[1]FlowData!$A$3:$PL$215,AN$7,FALSE)","v":46},{"$f":"VLOOKUP($B144,[1]FlowData!$A$3:$PL$215,AO$7,FALSE)","v":34},{"$f":"VLOOKUP($B144,[1]FlowData!$A$3:$PL$215,AP$7,FALSE)","v":47},{"$f":"VLOOKUP($B144,[1]FlowData!$A$3:$PL$215,AQ$7,FALSE)","v":55},{"$f":"VLOOKUP($B144,[1]FlowData!$A$3:$PL$215,AR$7,FALSE)","v":44},{"$f":"VLOOKUP($B144,[1]FlowData!$A$3:$PL$215,AS$7,FALSE)","v":35},{"$f":"VLOOKUP($B144,[1]FlowData!$A$3:$PL$215,AT$7,FALSE)","v":45},{"$f":"VLOOKUP($B144,[1]FlowData!$A$3:$PL$215,AU$7,FALSE)","v":55},{"$f":"VLOOKUP($B144,[1]FlowData!$A$3:$PL$215,AV$7,FALSE)","v":44},{"$f":"VLOOKUP($B144,[1]FlowData!$A$3:$PL$215,AW$7,FALSE)","v":36},{"$f":"VLOOKUP($B144,[1]FlowData!$A$3:$PL$215,AX$7,FALSE)","v":46},{"$f":"VLOOKUP($B144,[1]FlowData!$A$3:$PL$215,AY$7,FALSE)","v":51},{"$f":"VLOOKUP($B144,[1]FlowData!$A$3:$PL$215,AZ$7,FALSE)","v":42},{"$f":"VLOOKUP($B144,[1]FlowData!$A$3:$PL$215,BA$7,FALSE)","v":32},{"$f":"VLOOKUP($B144,[1]FlowData!$A$3:$PL$215,BB$7,FALSE)","v":42},{"$f":"VLOOKUP($B144,[1]FlowData!$A$3:$PL$215,BC$7,FALSE)","v":40},{"$f":"VLOOKUP($B144,[1]FlowData!$A$3:$PL$215,BD$7,FALSE)","v":33},{"$f":"VLOOKUP($B144,[1]FlowData!$A$3:$PL$215,BE$7,FALSE)","v":25},{"$f":"VLOOKUP($B144,[1]FlowData!$A$3:$PL$215,BF$7,FALSE)","v":33}]
[{"$f":"VLOOKUP(B145,'[2]Gages and BCs'!$A$4:$BJ$973,62,FALSE)","v":33},6019500,{"$f":"VLOOKUP(B145,'[2]Gages and BCs'!$A$4:$BJ$973,60,FALSE)","v":"Ruby River above reservoir, near Alder, Montana"},"1938–2009",{"$f":"VLOOKUP($B145,[1]FlowData!$A$3:$PL$215,E$7,FALSE)","v":60.728999999999999},{"$f":"VLOOKUP($B145,[1]FlowData!$A$3:$PL$215,F$7,FALSE)","v":75.897000000000006},{"$f":"VLOOKUP($B145,[1]FlowData!$A$3:$PL$215,G$7,FALSE)","v":221},{"$f":"VLOOKUP($B145,[1]FlowData!$A$3:$PL$215,H$7,FALSE)","v":113},{"$f":"VLOOKUP($B145,[1]FlowData!$A$3:$PL$215,I$7,FALSE)","v":64},{"$f":"VLOOKUP($B145,[1]FlowData!$A$3:$PL$215,J$7,FALSE)","v":180},{"$f":"VLOOKUP($B145,[1]FlowData!$A$3:$PL$215,K$7,FALSE)","v":114},{"$f":"VLOOKUP($B145,[1]FlowData!$A$3:$PL$215,L$7,FALSE)","v":102},{"$f":"VLOOKUP($B145,[1]FlowData!$A$3:$PL$215,M$7,FALSE)","v":89},{"$f":"VLOOKUP($B145,[1]FlowData!$A$3:$PL$215,N$7,FALSE)","v":103},{"$f":"VLOOKUP($B145,[1]FlowData!$A$3:$PL$215,O$7,FALSE)","v":113},{"$f":"VLOOKUP($B145,[1]FlowData!$A$3:$PL$215,P$7,FALSE)","v":100},{"$f":"VLOOKUP($B145,[1]FlowData!$A$3:$PL$215,Q$7,FALSE)","v":91},{"$f":"VLOOKUP($B145,[1]FlowData!$A$3:$PL$215,R$7,FALSE)","v":102},{"$f":"VLOOKUP($B145,[1]FlowData!$A$3:$PL$215,S$7,FALSE)","v":123},{"$f":"VLOOKUP($B145,[1]FlowData!$A$3:$PL$215,T$7,FALSE)","v":105},{"$f":"VLOOKUP($B145,[1]FlowData!$A$3:$PL$215,U$7,FALSE)","v":90},{"$f":"VLOOKUP($B145,[1]FlowData!$A$3:$PL$215,V$7,FALSE)","v":110},{"$f":"VLOOKUP($B145,[1]FlowData!$A$3:$PL$215,W$7,FALSE)","v":198},{"$f":"VLOOKUP($B145,[1]FlowData!$A$3:$PL$215,X$7,FALSE)","v":138},{"$f":"VLOOKUP($B145,[1]FlowData!$A$3:$PL$215,Y$7,FALSE)","v":109},{"$f":"VLOOKUP($B145,[1]FlowData!$A$3:$PL$215,Z$7,FALSE)","v":163},{"$f":"VLOOKUP($B145,[1]FlowData!$A$3:$PL$215,AA$7,FALSE)","v":594},{"$f":"VLOOKUP($B145,[1]FlowData!$A$3:$PL$215,AB$7,FALSE)","v":351},{"$f":"VLOOKUP($B145,[1]FlowData!$A$3:$PL$215,AC$7,FALSE)","v":218},{"$f":"VLOOKUP($B145,[1]FlowData!$A$3:$PL$215,AD$7,FALSE)","v":417},{"$f":"VLOOKUP($B145,[1]FlowData!$A$3:$PL$215,AE$7,FALSE)","v":691},{"$f":"VLOOKUP($B145,[1]FlowData!$A$3:$PL$215,AF$7,FALSE)","v":405},{"$f":"VLOOKUP($B145,[1]FlowData!$A$3:$PL$215,AG$7,FALSE)","v":229},{"$f":"VLOOKUP($B145,[1]FlowData!$A$3:$PL$215,AH$7,FALSE)","v":468},{"$f":"VLOOKUP($B145,[1]FlowData!$A$3:$PL$215,AI$7,FALSE)","v":259},{"$f":"VLOOKUP($B145,[1]FlowData!$A$3:$PL$215,AJ$7,FALSE)","v":161},{"$f":"VLOOKUP($B145,[1]FlowData!$A$3:$PL$215,AK$7,FALSE)","v":108},{"$f":"VLOOKUP($B145,[1]FlowData!$A$3:$PL$215,AL$7,FALSE)","v":193},{"$f":"VLOOKUP($B145,[1]FlowData!$A$3:$PL$215,AM$7,FALSE)","v":147},{"$f":"VLOOKUP($B145,[1]FlowData!$A$3:$PL$215,AN$7,FALSE)","v":113},{"$f":"VLOOKUP($B145,[1]FlowData!$A$3:$PL$215,AO$7,FALSE)","v":86},{"$f":"VLOOKUP($B145,[1]FlowData!$A$3:$PL$215,AP$7,FALSE)","v":120},{"$f":"VLOOKUP($B145,[1]FlowData!$A$3:$PL$215,AQ$7,FALSE)","v":141},{"$f":"VLOOKUP($B145,[1]FlowData!$A$3:$PL$215,AR$7,FALSE)","v":110},{"$f":"VLOOKUP($B145,[1]FlowData!$A$3:$PL$215,AS$7,FALSE)","v":92},{"$f":"VLOOKUP($B145,[1]FlowData!$A$3:$PL$215,AT$7,FALSE)","v":115},{"$f":"VLOOKUP($B145,[1]FlowData!$A$3:$PL$215,AU$7,FALSE)","v":142},{"$f":"VLOOKUP($B145,[1]FlowData!$A$3:$PL$215,AV$7,FALSE)","v":120},{"$f":"VLOOKUP($B145,[1]FlowData!$A$3:$PL$215,AW$7,FALSE)","v":103},{"$f":"VLOOKUP($B145,[1]FlowData!$A$3:$PL$215,AX$7,FALSE)","v":122},{"$f":"VLOOKUP($B145,[1]FlowData!$A$3:$PL$215,AY$7,FALSE)","v":137},{"$f":"VLOOKUP($B145,[1]FlowData!$A$3:$PL$215,AZ$7,FALSE)","v":119},{"$f":"VLOOKUP($B145,[1]FlowData!$A$3:$PL$215,BA$7,FALSE)","v":106},{"$f":"VLOOKUP($B145,[1]FlowData!$A$3:$PL$215,BB$7,FALSE)","v":122},{"$f":"VLOOKUP($B145,[1]FlowData!$A$3:$PL$215,BC$7,FALSE)","v":122},{"$f":"VLOOKUP($B145,[1]FlowData!$A$3:$PL$215,BD$7,FALSE)","v":108},{"$f":"VLOOKUP($B145,[1]FlowData!$A$3:$PL$215,BE$7,FALSE)","v":97},{"$f":"VLOOKUP($B145,[1]FlowData!$A$3:$PL$215,BF$7,FALSE)","v":110}]
[{"$f":"VLOOKUP(B146,'[2]Gages and BCs'!$A$4:$BJ$973,62,FALSE)","v":39},6024450,{"$f":"VLOOKUP(B146,'[2]Gages and BCs'!$A$4:$BJ$973,60,FALSE)","v":"Big Hole River below Big Lake Creek, at Wisdom, Montana"},"1988–2008",{"$f":"VLOOKUP($B146,[1]FlowData!$A$3:$PL$215,E$7,FALSE)","v":""},{"$f":"VLOOKUP($B146,[1]FlowData!$A$3:$PL$215,F$7,FALSE)","v":8.6790000000000003},{"$f":"VLOOKUP($B146,[1]FlowData!$A$3:$PL$215,G$7,FALSE)","v":""},{"$f":"VLOOKUP($B146,[1]FlowData!$A$3:$PL$215,H$7,FALSE)","v":""},{"$f":"VLOOKUP($B146,[1]FlowData!$A$3:$PL$215,I$7,FALSE)","v":""},{"$f":"VLOOKUP($B146,[1]FlowData!$A$3:$PL$215,J$7,FALSE)","v":""},{"$f":"VLOOKUP($B146,[1]FlowData!$A$3:$PL$215,K$7,FALSE)","v":""},{"$f":"VLOOKUP($B146,[1]FlowData!$A$3:$PL$215,L$7,FALSE)","v":""},{"$f":"VLOOKUP($B146,[1]FlowData!$A$3:$PL$215,M$7,FALSE)","v":""},{"$f":"VLOOKUP($B146,[1]FlowData!$A$3:$PL$215,N$7,FALSE)","v":""},{"$f":"VLOOKUP($B146,[1]FlowData!$A$3:$PL$215,O$7,FALSE)","v":""},{"$f":"VLOOKUP($B146,[1]FlowData!$A$3:$PL$215,P$7,FALSE)","v":""},{"$f":"VLOOKUP($B146,[1]FlowData!$A$3:$PL$215,Q$7,FALSE)","v":""},{"$f":"VLOOKUP($B146,[1]FlowData!$A$3:$PL$215,R$7,FALSE)","v":""},{"$f":"VLOOKUP($B146,[1]FlowData!$A$3:$PL$215,S$7,FALSE)","v":""},{"$f":"VLOOKUP($B146,[1]FlowData!$A$3:$PL$215,T$7,FALSE)","v":""},{"$f":"VLOOKUP($B146,[1]FlowData!$A$3:$PL$215,U$7,FALSE)","v":""},{"$f":"VLOOKUP($B146,[1]FlowData!$A$3:$PL$215,V$7,FALSE)","v":""},{"$f":"VLOOKUP($B146,[1]FlowData!$A$3:$PL$215,W$7,FALSE)","v":486},{"$f":"VLOOKUP($B146,[1]FlowData!$A$3:$PL$215,X$7,FALSE)","v":299},{"$f":"VLOOKUP($B146,[1]FlowData!$A$3:$PL$215,Y$7,FALSE)","v":170},{"$f":"VLOOKUP($B146,[1]FlowData!$A$3:$PL$215,Z$7,FALSE)","v":369},{"$f":"VLOOKUP($B146,[1]FlowData!$A$3:$PL$215,AA$7,FALSE)","v":769},{"$f":"VLOOKUP($B146,[1]FlowData!$A$3:$PL$215,AB$7,FALSE)","v":327},{"$f":"VLOOKUP($B146,[1]FlowData!$A$3:$PL$215,AC$7,FALSE)","v":111},{"$f":"VLOOKUP($B146,[1]FlowData!$A$3:$PL$215,AD$7,FALSE)","v":482},{"$f":"VLOOKUP($B146,[1]FlowData!$A$3:$PL$215,AE$7,FALSE)","v":901},{"$f":"VLOOKUP($B146,[1]FlowData!$A$3:$PL$215,AF$7,FALSE)","v":323},{"$f":"VLOOKUP($B146,[1]FlowData!$A$3:$PL$215,AG$7,FALSE)","v":90},{"$f":"VLOOKUP($B146,[1]FlowData!$A$3:$PL$215,AH$7,FALSE)","v":539},{"$f":"VLOOKUP($B146,[1]FlowData!$A$3:$PL$215,AI$7,FALSE)","v":321},{"$f":"VLOOKUP($B146,[1]FlowData!$A$3:$PL$215,AJ$7,FALSE)","v":94},{"$f":"VLOOKUP($B146,[1]FlowData!$A$3:$PL$215,AK$7,FALSE)","v":32},{"$f":"VLOOKUP($B146,[1]FlowData!$A$3:$PL$215,AL$7,FALSE)","v":187},{"$f":"VLOOKUP($B146,[1]FlowData!$A$3:$PL$215,AM$7,FALSE)","v":75},{"$f":"VLOOKUP($B146,[1]FlowData!$A$3:$PL$215,AN$7,FALSE)","v":32},{"$f":"VLOOKUP($B146,[1]FlowData!$A$3:$PL$215,AO$7,FALSE)","v":12},{"$f":"VLOOKUP($B146,[1]FlowData!$A$3:$PL$215,AP$7,FALSE)","v":56},{"$f":"VLOOKUP($B146,[1]FlowData!$A$3:$PL$215,AQ$7,FALSE)","v":55},{"$f":"VLOOKUP($B146,[1]FlowData!$A$3:$PL$215,AR$7,FALSE)","v":30},{"$f":"VLOOKUP($B146,[1]FlowData!$A$3:$PL$215,AS$7,FALSE)","v":16},{"$f":"VLOOKUP($B146,[1]FlowData!$A$3:$PL$215,AT$7,FALSE)","v":38},{"$f":"VLOOKUP($B146,[1]FlowData!$A$3:$PL$215,AU$7,FALSE)","v":88},{"$f":"VLOOKUP($B146,[1]FlowData!$A$3:$PL$215,AV$7,FALSE)","v":58},{"$f":"VLOOKUP($B146,[1]FlowData!$A$3:$PL$215,AW$7,FALSE)","v":39},{"$f":"VLOOKUP($B146,[1]FlowData!$A$3:$PL$215,AX$7,FALSE)","v":67},{"$f":"VLOOKUP($B146,[1]FlowData!$A$3:$PL$215,AY$7,FALSE)","v":""},{"$f":"VLOOKUP($B146,[1]FlowData!$A$3:$PL$215,AZ$7,FALSE)","v":""},{"$f":"VLOOKUP($B146,[1]FlowData!$A$3:$PL$215,BA$7,FALSE)","v":""},{"$f":"VLOOKUP($B146,[1]FlowData!$A$3:$PL$215,BB$7,FALSE)","v":""},{"$f":"VLOOKUP($B146,[1]FlowData!$A$3:$PL$215,BC$7,FALSE)","v":""},{"$f":"VLOOKUP($B146,[1]FlowData!$A$3:$PL$215,BD$7,FALSE)","v":""},{"$f":"VLOOKUP($B146,[1]FlowData!$A$3:$PL$215,BE$7,FALSE)","v":""},{"$f":"VLOOKUP($B146,[1]FlowData!$A$3:$PL$215,BF$7,FALSE)","v":""}]
[{"$f":"VLOOKUP(B147,'[2]Gages and BCs'!$A$4:$BJ$973,62,FALSE)","v":40},6024500,{"$f":"VLOOKUP(B147,'[2]Gages and BCs'!$A$4:$BJ$973,60,FALSE)","v":"Trail Creek near Wisdom, Montana"},"1948–53, 1967–72",{"$f":"VLOOKUP($B147,[1]FlowData!$A$3:$PL$215,E$7,FALSE)","v":""},{"$f":"VLOOKUP($B147,[1]FlowData!$A$3:$PL$215,F$7,FALSE)","v":14.682},{"$f":"VLOOKUP($B147,[1]FlowData!$A$3:$PL$215,G$7,FALSE)","v":""},{"$f":"VLOOKUP($B147,[1]FlowData!$A$3:$PL$215,H$7,FALSE)","v":""},{"$f":"VLOOKUP($B147,[1]FlowData!$A$3:$PL$215,I$7,FALSE)","v":""},{"$f":"VLOOKUP($B147,[1]FlowData!$A$3:$PL$215,J$7,FALSE)","v":""},{"$f":"VLOOKUP($B147,[1]FlowData!$A$3:$PL$215,K$7,FALSE)","v":""},{"$f":"VLOOKUP($B147,[1]FlowData!$A$3:$PL$215,L$7,FALSE)","v":""},{"$f":"VLOOKUP($B147,[1]FlowData!$A$3:$PL$215,M$7,FALSE)","v":""},{"$f":"VLOOKUP($B147,[1]FlowData!$A$3:$PL$215,N$7,FALSE)","v":""},{"$f":"VLOOKUP($B147,[1]FlowData!$A$3:$PL$215,O$7,FALSE)","v":""},{"$f":"VLOOKUP($B147,[1]FlowData!$A$3:$PL$215,P$7,FALSE)","v":""},{"$f":"VLOOKUP($B147,[1]FlowData!$A$3:$PL$215,Q$7,FALSE)","v":""},{"$f":"VLOOKUP($B147,[1]FlowData!$A$3:$PL$215,R$7,FALSE)","v":""},{"$f":"VLOOKUP($B147,[1]FlowData!$A$3:$PL$215,S$7,FALSE)","v":""},{"$f":"VLOOKUP($B147,[1]FlowData!$A$3:$PL$215,T$7,FALSE)","v":""},{"$f":"VLOOKUP($B147,[1]FlowData!$A$3:$PL$215,U$7,FALSE)","v":""},{"$f":"VLOOKUP($B147,[1]FlowData!$A$3:$PL$215,V$7,FALSE)","v":""},{"$f":"VLOOKUP($B147,[1]FlowData!$A$3:$PL$215,W$7,FALSE)","v":135},{"$f":"VLOOKUP($B147,[1]FlowData!$A$3:$PL$215,X$7,FALSE)","v":45},{"$f":"VLOOKUP($B147,[1]FlowData!$A$3:$PL$215,Y$7,FALSE)","v":20},{"$f":"VLOOKUP($B147,[1]FlowData!$A$3:$PL$215,Z$7,FALSE)","v":81},{"$f":"VLOOKUP($B147,[1]FlowData!$A$3:$PL$215,AA$7,FALSE)","v":612},{"$f":"VLOOKUP($B147,[1]FlowData!$A$3:$PL$215,AB$7,FALSE)","v":438},{"$f":"VLOOKUP($B147,[1]FlowData!$A$3:$PL$215,AC$7,FALSE)","v":163},{"$f":"VLOOKUP($B147,[1]FlowData!$A$3:$PL$215,AD$7,FALSE)","v":409},{"$f":"VLOOKUP($B147,[1]FlowData!$A$3:$PL$215,AE$7,FALSE)","v":545},{"$f":"VLOOKUP($B147,[1]FlowData!$A$3:$PL$215,AF$7,FALSE)","v":276},{"$f":"VLOOKUP($B147,[1]FlowData!$A$3:$PL$215,AG$7,FALSE)","v":144},{"$f":"VLOOKUP($B147,[1]FlowData!$A$3:$PL$215,AH$7,FALSE)","v":340},{"$f":"VLOOKUP($B147,[1]FlowData!$A$3:$PL$215,AI$7,FALSE)","v":82},{"$f":"VLOOKUP($B147,[1]FlowData!$A$3:$PL$215,AJ$7,FALSE)","v":56},{"$f":"VLOOKUP($B147,[1]FlowData!$A$3:$PL$215,AK$7,FALSE)","v":38},{"$f":"VLOOKUP($B147,[1]FlowData!$A$3:$PL$215,AL$7,FALSE)","v":62},{"$f":"VLOOKUP($B147,[1]FlowData!$A$3:$PL$215,AM$7,FALSE)","v":32},{"$f":"VLOOKUP($B147,[1]FlowData!$A$3:$PL$215,AN$7,FALSE)","v":24},{"$f":"VLOOKUP($B147,[1]FlowData!$A$3:$PL$215,AO$7,FALSE)","v":19},{"$f":"VLOOKUP($B147,[1]FlowData!$A$3:$PL$215,AP$7,FALSE)","v":26},{"$f":"VLOOKUP($B147,[1]FlowData!$A$3:$PL$215,AQ$7,FALSE)","v":26},{"$f":"VLOOKUP($B147,[1]FlowData!$A$3:$PL$215,AR$7,FALSE)","v":19},{"$f":"VLOOKUP($B147,[1]FlowData!$A$3:$PL$215,AS$7,FALSE)","v":15},{"$f":"VLOOKUP($B147,[1]FlowData!$A$3:$PL$215,AT$7,FALSE)","v":21},{"$f":"VLOOKUP($B147,[1]FlowData!$A$3:$PL$215,AU$7,FALSE)","v":25},{"$f":"VLOOKUP($B147,[1]FlowData!$A$3:$PL$215,AV$7,FALSE)","v":21},{"$f":"VLOOKUP($B147,[1]FlowData!$A$3:$PL$215,AW$7,FALSE)","v":17},{"$f":"VLOOKUP($B147,[1]FlowData!$A$3:$PL$215,AX$7,FALSE)","v":22},{"$f":"VLOOKUP($B147,[1]FlowData!$A$3:$PL$215,AY$7,FALSE)","v":24},{"$f":"VLOOKUP($B147,[1]FlowData!$A$3:$PL$215,AZ$7,FALSE)","v":19},{"$f":"VLOOKUP($B147,[1]FlowData!$A$3:$PL$215,BA$7,FALSE)","v":15},{"$f":"VLOOKUP($B147,[1]FlowData!$A$3:$PL$215,BB$7,FALSE)","v":21},{"$f":"VLOOKUP($B147,[1]FlowData!$A$3:$PL$215,BC$7,FALSE)","v":""},{"$f":"VLOOKUP($B147,[1]FlowData!$A$3:$PL$215,BD$7,FALSE)","v":""},{"$f":"VLOOKUP($B147,[1]FlowData!$A$3:$PL$215,BE$7,FALSE)","v":""},{"$f":"VLOOKUP($B147,[1]FlowData!$A$3:$PL$215,BF$7,FALSE)","v":""}]
[{"$f":"VLOOKUP(B148,'[2]Gages and BCs'!$A$4:$BJ$973,62,FALSE)","v":41},6024540,{"$f":"VLOOKUP(B148,'[2]Gages and BCs'!$A$4:$BJ$973,60,FALSE)","v":"Big Hole River below Mudd Creek, near Wisdom, Montana"},"1998–99, 2001–8",{"$f":"VLOOKUP($B148,[1]FlowData!$A$3:$PL$215,E$7,FALSE)","v":""},{"$f":"VLOOKUP($B148,[1]FlowData!$A$3:$PL$215,F$7,FALSE)","v":54.96},{"$f":"VLOOKUP($B148,[1]FlowData!$A$3:$PL$215,G$7,FALSE)","v":""},{"$f":"VLOOKUP($B148,[1]FlowData!$A$3:$PL$215,H$7,FALSE)","v":""},{"$f":"VLOOKUP($B148,[1]FlowData!$A$3:$PL$215,I$7,FALSE)","v":""},{"$f":"VLOOKUP($B148,[1]FlowData!$A$3:$PL$215,J$7,FALSE)","v":""},{"$f":"VLOOKUP($B148,[1]FlowData!$A$3:$PL$215,K$7,FALSE)","v":""},{"$f":"VLOOKUP($B148,[1]FlowData!$A$3:$PL$215,L$7,FALSE)","v":""},{"$f":"VLOOKUP($B148,[1]FlowData!$A$3:$PL$215,M$7,FALSE)","v":""},{"$f":"VLOOKUP($B148,[1]FlowData!$A$3:$PL$215,N$7,FALSE)","v":""},{"$f":"VLOOKUP($B148,[1]FlowData!$A$3:$PL$215,O$7,FALSE)","v":""},{"$f":"VLOOKUP($B148,[1]FlowData!$A$3:$PL$215,P$7,FALSE)","v":""},{"$f":"VLOOKUP($B148,[1]FlowData!$A$3:$PL$215,Q$7,FALSE)","v":""},{"$f":"VLOOKUP($B148,[1]FlowData!$A$3:$PL$215,R$7,FALSE)","v":""},{"$f":"VLOOKUP($B148,[1]FlowData!$A$3:$PL$215,S$7,FALSE)","v":""},{"$f":"VLOOKUP($B148,[1]FlowData!$A$3:$PL$215,T$7,FALSE)","v":""},{"$f":"VLOOKUP($B148,[1]FlowData!$A$3:$PL$215,U$7,FALSE)","v":""},{"$f":"VLOOKUP($B148,[1]FlowData!$A$3:$PL$215,V$7,FALSE)","v":""},{"$f":"VLOOKUP($B148,[1]FlowData!$A$3:$PL$215,W$7,FALSE)","v":1120},{"$f":"VLOOKUP($B148,[1]FlowData!$A$3:$PL$215,X$7,FALSE)","v":627},{"$f":"VLOOKUP($B148,[1]FlowData!$A$3:$PL$215,Y$7,FALSE)","v":345},{"$f":"VLOOKUP($B148,[1]FlowData!$A$3:$PL$215,Z$7,FALSE)","v":800},{"$f":"VLOOKUP($B148,[1]FlowData!$A$3:$PL$215,AA$7,FALSE)","v":2180},{"$f":"VLOOKUP($B148,[1]FlowData!$A$3:$PL$215,AB$7,FALSE)","v":1190},{"$f":"VLOOKUP($B148,[1]FlowData!$A$3:$PL$215,AC$7,FALSE)","v":671},{"$f":"VLOOKUP($B148,[1]FlowData!$A$3:$PL$215,AD$7,FALSE)","v":1470},{"$f":"VLOOKUP($B148,[1]FlowData!$A$3:$PL$215,AE$7,FALSE)","v":2220},{"$f":"VLOOKUP($B148,[1]FlowData!$A$3:$PL$215,AF$7,FALSE)","v":1160},{"$f":"VLOOKUP($B148,[1]FlowData!$A$3:$PL$215,AG$7,FALSE)","v":559},{"$f":"VLOOKUP($B148,[1]FlowData!$A$3:$PL$215,AH$7,FALSE)","v":1410},{"$f":"VLOOKUP($B148,[1]FlowData!$A$3:$PL$215,AI$7,FALSE)","v":469},{"$f":"VLOOKUP($B148,[1]FlowData!$A$3:$PL$215,AJ$7,FALSE)","v":231},{"$f":"VLOOKUP($B148,[1]FlowData!$A$3:$PL$215,AK$7,FALSE)","v":137},{"$f":"VLOOKUP($B148,[1]FlowData!$A$3:$PL$215,AL$7,FALSE)","v":333},{"$f":"VLOOKUP($B148,[1]FlowData!$A$3:$PL$215,AM$7,FALSE)","v":173},{"$f":"VLOOKUP($B148,[1]FlowData!$A$3:$PL$215,AN$7,FALSE)","v":107},{"$f":"VLOOKUP($B148,[1]FlowData!$A$3:$PL$215,AO$7,FALSE)","v":60},{"$f":"VLOOKUP($B148,[1]FlowData!$A$3:$PL$215,AP$7,FALSE)","v":124},{"$f":"VLOOKUP($B148,[1]FlowData!$A$3:$PL$215,AQ$7,FALSE)","v":151},{"$f":"VLOOKUP($B148,[1]FlowData!$A$3:$PL$215,AR$7,FALSE)","v":104},{"$f":"VLOOKUP($B148,[1]FlowData!$A$3:$PL$215,AS$7,FALSE)","v":73},{"$f":"VLOOKUP($B148,[1]FlowData!$A$3:$PL$215,AT$7,FALSE)","v":116},{"$f":"VLOOKUP($B148,[1]FlowData!$A$3:$PL$215,AU$7,FALSE)","v":230},{"$f":"VLOOKUP($B148,[1]FlowData!$A$3:$PL$215,AV$7,FALSE)","v":162},{"$f":"VLOOKUP($B148,[1]FlowData!$A$3:$PL$215,AW$7,FALSE)","v":124},{"$f":"VLOOKUP($B148,[1]FlowData!$A$3:$PL$215,AX$7,FALSE)","v":176},{"$f":"VLOOKUP($B148,[1]FlowData!$A$3:$PL$215,AY$7,FALSE)","v":""},{"$f":"VLOOKUP($B148,[1]FlowData!$A$3:$PL$215,AZ$7,FALSE)","v":""},{"$f":"VLOOKUP($B148,[1]FlowData!$A$3:$PL$215,BA$7,FALSE)","v":""},{"$f":"VLOOKUP($B148,[1]FlowData!$A$3:$PL$215,BB$7,FALSE)","v":""},{"$f":"VLOOKUP($B148,[1]FlowData!$A$3:$PL$215,BC$7,FALSE)","v":""},{"$f":"VLOOKUP($B148,[1]FlowData!$A$3:$PL$215,BD$7,FALSE)","v":""},{"$f":"VLOOKUP($B148,[1]FlowData!$A$3:$PL$215,BE$7,FALSE)","v":""},{"$f":"VLOOKUP($B148,[1]FlowData!$A$3:$PL$215,BF$7,FALSE)","v":""}]
[{"$f":"VLOOKUP(B149,'[2]Gages and BCs'!$A$4:$BJ$973,62,FALSE)","v":42},6024590,{"$f":"VLOOKUP(B149,'[2]Gages and BCs'!$A$4:$BJ$973,60,FALSE)","v":"Wise River near Wise River, Montana"},"1973–85",{"$f":"VLOOKUP($B149,[1]FlowData!$A$3:$PL$215,E$7,FALSE)","v":23.225999999999999},{"$f":"VLOOKUP($B149,[1]FlowData!$A$3:$PL$215,F$7,FALSE)","v":45.66},{"$f":"VLOOKUP($B149,[1]FlowData!$A$3:$PL$215,G$7,FALSE)","v":190},{"$f":"VLOOKUP($B149,[1]FlowData!$A$3:$PL$215,H$7,FALSE)","v":78},{"$f":"VLOOKUP($B149,[1]FlowData!$A$3:$PL$215,I$7,FALSE)","v":39},{"$f":"VLOOKUP($B149,[1]FlowData!$A$3:$PL$215,J$7,FALSE)","v":183},{"$f":"VLOOKUP($B149,[1]FlowData!$A$3:$PL$215,K$7,FALSE)","v":49},{"$f":"VLOOKUP($B149,[1]FlowData!$A$3:$PL$215,L$7,FALSE)","v":39},{"$f":"VLOOKUP($B149,[1]FlowData!$A$3:$PL$215,M$7,FALSE)","v":35},{"$f":"VLOOKUP($B149,[1]FlowData!$A$3:$PL$215,N$7,FALSE)","v":42},{"$f":"VLOOKUP($B149,[1]FlowData!$A$3:$PL$215,O$7,FALSE)","v":42},{"$f":"VLOOKUP($B149,[1]FlowData!$A$3:$PL$215,P$7,FALSE)","v":38},{"$f":"VLOOKUP($B149,[1]FlowData!$A$3:$PL$215,Q$7,FALSE)","v":34},{"$f":"VLOOKUP($B149,[1]FlowData!$A$3:$PL$215,R$7,FALSE)","v":39},{"$f":"VLOOKUP($B149,[1]FlowData!$A$3:$PL$215,S$7,FALSE)","v":43},{"$f":"VLOOKUP($B149,[1]FlowData!$A$3:$PL$215,T$7,FALSE)","v":38},{"$f":"VLOOKUP($B149,[1]FlowData!$A$3:$PL$215,U$7,FALSE)","v":34},{"$f":"VLOOKUP($B149,[1]FlowData!$A$3:$PL$215,V$7,FALSE)","v":39},{"$f":"VLOOKUP($B149,[1]FlowData!$A$3:$PL$215,W$7,FALSE)","v":126},{"$f":"VLOOKUP($B149,[1]FlowData!$A$3:$PL$215,X$7,FALSE)","v":61},{"$f":"VLOOKUP($B149,[1]FlowData!$A$3:$PL$215,Y$7,FALSE)","v":36},{"$f":"VLOOKUP($B149,[1]FlowData!$A$3:$PL$215,Z$7,FALSE)","v":88},{"$f":"VLOOKUP($B149,[1]FlowData!$A$3:$PL$215,AA$7,FALSE)","v":787},{"$f":"VLOOKUP($B149,[1]FlowData!$A$3:$PL$215,AB$7,FALSE)","v":376},{"$f":"VLOOKUP($B149,[1]FlowData!$A$3:$PL$215,AC$7,FALSE)","v":174},{"$f":"VLOOKUP($B149,[1]FlowData!$A$3:$PL$215,AD$7,FALSE)","v":508},{"$f":"VLOOKUP($B149,[1]FlowData!$A$3:$PL$215,AE$7,FALSE)","v":1230},{"$f":"VLOOKUP($B149,[1]FlowData!$A$3:$PL$215,AF$7,FALSE)","v":831},{"$f":"VLOOKUP($B149,[1]FlowData!$A$3:$PL$215,AG$7,FALSE)","v":461},{"$f":"VLOOKUP($B149,[1]FlowData!$A$3:$PL$215,AH$7,FALSE)","v":858},{"$f":"VLOOKUP($B149,[1]FlowData!$A$3:$PL$215,AI$7,FALSE)","v":410},{"$f":"VLOOKUP($B149,[1]FlowData!$A$3:$PL$215,AJ$7,FALSE)","v":200},{"$f":"VLOOKUP($B149,[1]FlowData!$A$3:$PL$215,AK$7,FALSE)","v":106},{"$f":"VLOOKUP($B149,[1]FlowData!$A$3:$PL$215,AL$7,FALSE)","v":279},{"$f":"VLOOKUP($B149,[1]FlowData!$A$3:$PL$215,AM$7,FALSE)","v":129},{"$f":"VLOOKUP($B149,[1]FlowData!$A$3:$PL$215,AN$7,FALSE)","v":88},{"$f":"VLOOKUP($B149,[1]FlowData!$A$3:$PL$215,AO$7,FALSE)","v":63},{"$f":"VLOOKUP($B149,[1]FlowData!$A$3:$PL$215,AP$7,FALSE)","v":99},{"$f":"VLOOKUP($B149,[1]FlowData!$A$3:$PL$215,AQ$7,FALSE)","v":102},{"$f":"VLOOKUP($B149,[1]FlowData!$A$3:$PL$215,AR$7,FALSE)","v":73},{"$f":"VLOOKUP($B149,[1]FlowData!$A$3:$PL$215,AS$7,FALSE)","v":51},{"$f":"VLOOKUP($B149,[1]FlowData!$A$3:$PL$215,AT$7,FALSE)","v":79},{"$f":"VLOOKUP($B149,[1]FlowData!$A$3:$PL$215,AU$7,FALSE)","v":86},{"$f":"VLOOKUP($B149,[1]FlowData!$A$3:$PL$215,AV$7,FALSE)","v":63},{"$f":"VLOOKUP($B149,[1]FlowData!$A$3:$PL$215,AW$7,FALSE)","v":46},{"$f":"VLOOKUP($B149,[1]FlowData!$A$3:$PL$215,AX$7,FALSE)","v":68},{"$f":"VLOOKUP($B149,[1]FlowData!$A$3:$PL$215,AY$7,FALSE)","v":69},{"$f":"VLOOKUP($B149,[1]FlowData!$A$3:$PL$215,AZ$7,FALSE)","v":50},{"$f":"VLOOKUP($B149,[1]FlowData!$A$3:$PL$215,BA$7,FALSE)","v":38},{"$f":"VLOOKUP($B149,[1]FlowData!$A$3:$PL$215,BB$7,FALSE)","v":54},{"$f":"VLOOKUP($B149,[1]FlowData!$A$3:$PL$215,BC$7,FALSE)","v":55},{"$f":"VLOOKUP($B149,[1]FlowData!$A$3:$PL$215,BD$7,FALSE)","v":44},{"$f":"VLOOKUP($B149,[1]FlowData!$A$3:$PL$215,BE$7,FALSE)","v":36},{"$f":"VLOOKUP($B149,[1]FlowData!$A$3:$PL$215,BF$7,FALSE)","v":46}]
[{"$f":"VLOOKUP(B150,'[2]Gages and BCs'!$A$4:$BJ$973,62,FALSE)","v":45},6025500,{"$f":"VLOOKUP(B150,'[2]Gages and BCs'!$A$4:$BJ$973,60,FALSE)","v":"Big Hole River near Melrose, Montana"},"1924–2009",{"$f":"VLOOKUP($B150,[1]FlowData!$A$3:$PL$215,E$7,FALSE)","v":125.952},{"$f":"VLOOKUP($B150,[1]FlowData!$A$3:$PL$215,F$7,FALSE)","v":168.89500000000001},{"$f":"VLOOKUP($B150,[1]FlowData!$A$3:$PL$215,G$7,FALSE)","v":1460},{"$f":"VLOOKUP($B150,[1]FlowData!$A$3:$PL$215,H$7,FALSE)","v":478},{"$f":"VLOOKUP($B150,[1]FlowData!$A$3:$PL$215,I$7,FALSE)","v":220},{"$f":"VLOOKUP($B150,[1]FlowData!$A$3:$PL$215,J$7,FALSE)","v":1120},{"$f":"VLOOKUP($B150,[1]FlowData!$A$3:$PL$215,K$7,FALSE)","v":415},{"$f":"VLOOKUP($B150,[1]FlowData!$A$3:$PL$215,L$7,FALSE)","v":332},{"$f":"VLOOKUP($B150,[1]FlowData!$A$3:$PL$215,M$7,FALSE)","v":256},{"$f":"VLOOKUP($B150,[1]FlowData!$A$3:$PL$215,N$7,FALSE)","v":339},{"$f":"VLOOKUP($B150,[1]FlowData!$A$3:$PL$215,O$7,FALSE)","v":425},{"$f":"VLOOKUP($B150,[1]FlowData!$A$3:$PL$215,P$7,FALSE)","v":333},{"$f":"VLOOKUP($B150,[1]FlowData!$A$3:$PL$215,Q$7,FALSE)","v":272},{"$f":"VLOOKUP($B150,[1]FlowData!$A$3:$PL$215,R$7,FALSE)","v":354},{"$f":"VLOOKUP($B150,[1]FlowData!$A$3:$PL$215,S$7,FALSE)","v":555},{"$f":"VLOOKUP($B150,[1]FlowData!$A$3:$PL$215,T$7,FALSE)","v":404},{"$f":"VLOOKUP($B150,[1]FlowData!$A$3:$PL$215,U$7,FALSE)","v":324},{"$f":"VLOOKUP($B150,[1]FlowData!$A$3:$PL$215,V$7,FALSE)","v":478},{"$f":"VLOOKUP($B150,[1]FlowData!$A$3:$PL$215,W$7,FALSE)","v":2190},{"$f":"VLOOKUP($B150,[1]FlowData!$A$3:$PL$215,X$7,FALSE)","v":1090},{"$f":"VLOOKUP($B150,[1]FlowData!$A$3:$PL$215,Y$7,FALSE)","v":589},{"$f":"VLOOKUP($B150,[1]FlowData!$A$3:$PL$215,Z$7,FALSE)","v":1470},{"$f":"VLOOKUP($B150,[1]FlowData!$A$3:$PL$215,AA$7,FALSE)","v":4700},{"$f":"VLOOKUP($B150,[1]FlowData!$A$3:$PL$215,AB$7,FALSE)","v":2650},{"$f":"VLOOKUP($B150,[1]FlowData!$A$3:$PL$215,AC$7,FALSE)","v":1540},{"$f":"VLOOKUP($B150,[1]FlowData!$A$3:$PL$215,AD$7,FALSE)","v":3240},{"$f":"VLOOKUP($B150,[1]FlowData!$A$3:$PL$215,AE$7,FALSE)","v":5820},{"$f":"VLOOKUP($B150,[1]FlowData!$A$3:$PL$215,AF$7,FALSE)","v":3460},{"$f":"VLOOKUP($B150,[1]FlowData!$A$3:$PL$215,AG$7,FALSE)","v":1630},{"$f":"VLOOKUP($B150,[1]FlowData!$A$3:$PL$215,AH$7,FALSE)","v":3860},{"$f":"VLOOKUP($B150,[1]FlowData!$A$3:$PL$215,AI$7,FALSE)","v":1850},{"$f":"VLOOKUP($B150,[1]FlowData!$A$3:$PL$215,AJ$7,FALSE)","v":975},{"$f":"VLOOKUP($B150,[1]FlowData!$A$3:$PL$215,AK$7,FALSE)","v":500},{"$f":"VLOOKUP($B150,[1]FlowData!$A$3:$PL$215,AL$7,FALSE)","v":1270},{"$f":"VLOOKUP($B150,[1]FlowData!$A$3:$PL$215,AM$7,FALSE)","v":656},{"$f":"VLOOKUP($B150,[1]FlowData!$A$3:$PL$215,AN$7,FALSE)","v":384},{"$f":"VLOOKUP($B150,[1]FlowData!$A$3:$PL$215,AO$7,FALSE)","v":223},{"$f":"VLOOKUP($B150,[1]FlowData!$A$3:$PL$215,AP$7,FALSE)","v":451},{"$f":"VLOOKUP($B150,[1]FlowData!$A$3:$PL$215,AQ$7,FALSE)","v":504},{"$f":"VLOOKUP($B150,[1]FlowData!$A$3:$PL$215,AR$7,FALSE)","v":308},{"$f":"VLOOKUP($B150,[1]FlowData!$A$3:$PL$215,AS$7,FALSE)","v":214},{"$f":"VLOOKUP($B150,[1]FlowData!$A$3:$PL$215,AT$7,FALSE)","v":364},{"$f":"VLOOKUP($B150,[1]FlowData!$A$3:$PL$215,AU$7,FALSE)","v":635},{"$f":"VLOOKUP($B150,[1]FlowData!$A$3:$PL$215,AV$7,FALSE)","v":441},{"$f":"VLOOKUP($B150,[1]FlowData!$A$3:$PL$215,AW$7,FALSE)","v":311},{"$f":"VLOOKUP($B150,[1]FlowData!$A$3:$PL$215,AX$7,FALSE)","v":484},{"$f":"VLOOKUP($B150,[1]FlowData!$A$3:$PL$215,AY$7,FALSE)","v":598},{"$f":"VLOOKUP($B150,[1]FlowData!$A$3:$PL$215,AZ$7,FALSE)","v":461},{"$f":"VLOOKUP($B150,[1]FlowData!$A$3:$PL$215,BA$7,FALSE)","v":345},{"$f":"VLOOKUP($B150,[1]FlowData!$A$3:$PL$215,BB$7,FALSE)","v":487},{"$f":"VLOOKUP($B150,[1]FlowData!$A$3:$PL$215,BC$7,FALSE)","v":471},{"$f":"VLOOKUP($B150,[1]FlowData!$A$3:$PL$215,BD$7,FALSE)","v":360},{"$f":"VLOOKUP($B150,[1]FlowData!$A$3:$PL$215,BE$7,FALSE)","v":283},{"$f":"VLOOKUP($B150,[1]FlowData!$A$3:$PL$215,BF$7,FALSE)","v":386}]
[{"$f":"VLOOKUP(B151,'[2]Gages and BCs'!$A$4:$BJ$973,62,FALSE)","v":46},6026000,{"$f":"VLOOKUP(B151,'[2]Gages and BCs'!$A$4:$BJ$973,60,FALSE)","v":"Birch Creek near Glen, Montana"},"1946–53, 1955–76",{"$f":"VLOOKUP($B151,[1]FlowData!$A$3:$PL$215,E$7,FALSE)","v":2.3540000000000001},{"$f":"VLOOKUP($B151,[1]FlowData!$A$3:$PL$215,F$7,FALSE)","v":7.6319999999999997},{"$f":"VLOOKUP($B151,[1]FlowData!$A$3:$PL$215,G$7,FALSE)","v":44},{"$f":"VLOOKUP($B151,[1]FlowData!$A$3:$PL$215,H$7,FALSE)","v":13},{"$f":"VLOOKUP($B151,[1]FlowData!$A$3:$PL$215,I$7,FALSE)","v":5.9},{"$f":"VLOOKUP($B151,[1]FlowData!$A$3:$PL$215,J$7,FALSE)","v":29},{"$f":"VLOOKUP($B151,[1]FlowData!$A$3:$PL$215,K$7,FALSE)","v":9.9},{"$f":"VLOOKUP($B151,[1]FlowData!$A$3:$PL$215,L$7,FALSE)","v":7.8},{"$f":"VLOOKUP($B151,[1]FlowData!$A$3:$PL$215,M$7,FALSE)","v":6.2},{"$f":"VLOOKUP($B151,[1]FlowData!$A$3:$PL$215,N$7,FALSE)","v":8},{"$f":"VLOOKUP($B151,[1]FlowData!$A$3:$PL$215,O$7,FALSE)","v":8.5},{"$f":"VLOOKUP($B151,[1]FlowData!$A$3:$PL$215,P$7,FALSE)","v":7.4},{"$f":"VLOOKUP($B151,[1]FlowData!$A$3:$PL$215,Q$7,FALSE)","v":5.6},{"$f":"VLOOKUP($B151,[1]FlowData!$A$3:$PL$215,R$7,FALSE)","v":7.3},{"$f":"VLOOKUP($B151,[1]FlowData!$A$3:$PL$215,S$7,FALSE)","v":9.8000000000000007},{"$f":"VLOOKUP($B151,[1]FlowData!$A$3:$PL$215,T$7,FALSE)","v":7.5},{"$f":"VLOOKUP($B151,[1]FlowData!$A$3:$PL$215,U$7,FALSE)","v":5.8},{"$f":"VLOOKUP($B151,[1]FlowData!$A$3:$PL$215,V$7,FALSE)","v":8},{"$f":"VLOOKUP($B151,[1]FlowData!$A$3:$PL$215,W$7,FALSE)","v":16},{"$f":"VLOOKUP($B151,[1]FlowData!$A$3:$PL$215,X$7,FALSE)","v":9.8000000000000007},{"$f":"VLOOKUP($B151,[1]FlowData!$A$3:$PL$215,Y$7,FALSE)","v":7.2},{"$f":"VLOOKUP($B151,[1]FlowData!$A$3:$PL$215,Z$7,FALSE)","v":12},{"$f":"VLOOKUP($B151,[1]FlowData!$A$3:$PL$215,AA$7,FALSE)","v":82},{"$f":"VLOOKUP($B151,[1]FlowData!$A$3:$PL$215,AB$7,FALSE)","v":38},{"$f":"VLOOKUP($B151,[1]FlowData!$A$3:$PL$215,AC$7,FALSE)","v":18},{"$f":"VLOOKUP($B151,[1]FlowData!$A$3:$PL$215,AD$7,FALSE)","v":53},{"$f":"VLOOKUP($B151,[1]FlowData!$A$3:$PL$215,AE$7,FALSE)","v":155},{"$f":"VLOOKUP($B151,[1]FlowData!$A$3:$PL$215,AF$7,FALSE)","v":109},{"$f":"VLOOKUP($B151,[1]FlowData!$A$3:$PL$215,AG$7,FALSE)","v":73},{"$f":"VLOOKUP($B151,[1]FlowData!$A$3:$PL$215,AH$7,FALSE)","v":115},{"$f":"VLOOKUP($B151,[1]FlowData!$A$3:$PL$215,AI$7,FALSE)","v":84},{"$f":"VLOOKUP($B151,[1]FlowData!$A$3:$PL$215,AJ$7,FALSE)","v":60},{"$f":"VLOOKUP($B151,[1]FlowData!$A$3:$PL$215,AK$7,FALSE)","v":42},{"$f":"VLOOKUP($B151,[1]FlowData!$A$3:$PL$215,AL$7,FALSE)","v":67},{"$f":"VLOOKUP($B151,[1]FlowData!$A$3:$PL$215,AM$7,FALSE)","v":45},{"$f":"VLOOKUP($B151,[1]FlowData!$A$3:$PL$215,AN$7,FALSE)","v":24},{"$f":"VLOOKUP($B151,[1]FlowData!$A$3:$PL$215,AO$7,FALSE)","v":14},{"$f":"VLOOKUP($B151,[1]FlowData!$A$3:$PL$215,AP$7,FALSE)","v":29},{"$f":"VLOOKUP($B151,[1]FlowData!$A$3:$PL$215,AQ$7,FALSE)","v":16},{"$f":"VLOOKUP($B151,[1]FlowData!$A$3:$PL$215,AR$7,FALSE)","v":12},{"$f":"VLOOKUP($B151,[1]FlowData!$A$3:$PL$215,AS$7,FALSE)","v":9.4},{"$f":"VLOOKUP($B151,[1]FlowData!$A$3:$PL$215,AT$7,FALSE)","v":13},{"$f":"VLOOKUP($B151,[1]FlowData!$A$3:$PL$215,AU$7,FALSE)","v":23},{"$f":"VLOOKUP($B151,[1]FlowData!$A$3:$PL$215,AV$7,FALSE)","v":16},{"$f":"VLOOKUP($B151,[1]FlowData!$A$3:$PL$215,AW$7,FALSE)","v":12},{"$f":"VLOOKUP($B151,[1]FlowData!$A$3:$PL$215,AX$7,FALSE)","v":17},{"$f":"VLOOKUP($B151,[1]FlowData!$A$3:$PL$215,AY$7,FALSE)","v":15},{"$f":"VLOOKUP($B151,[1]FlowData!$A$3:$PL$215,AZ$7,FALSE)","v":11},{"$f":"VLOOKUP($B151,[1]FlowData!$A$3:$PL$215,BA$7,FALSE)","v":7.1},{"$f":"VLOOKUP($B151,[1]FlowData!$A$3:$PL$215,BB$7,FALSE)","v":11},{"$f":"VLOOKUP($B151,[1]FlowData!$A$3:$PL$215,BC$7,FALSE)","v":11},{"$f":"VLOOKUP($B151,[1]FlowData!$A$3:$PL$215,BD$7,FALSE)","v":7.9},{"$f":"VLOOKUP($B151,[1]FlowData!$A$3:$PL$215,BE$7,FALSE)","v":5},{"$f":"VLOOKUP($B151,[1]FlowData!$A$3:$PL$215,BF$7,FALSE)","v":8}]
[{"$f":"VLOOKUP(B152,'[2]Gages and BCs'!$A$4:$BJ$973,62,FALSE)","v":54},6030500,{"$f":"VLOOKUP(B152,'[2]Gages and BCs'!$A$4:$BJ$973,60,FALSE)","v":"Boulder River above Rock Creek, near Basin, Montana"},"1946–53, 1955–57",{"$f":"VLOOKUP($B152,[1]FlowData!$A$3:$PL$215,E$7,FALSE)","v":""},{"$f":"VLOOKUP($B152,[1]FlowData!$A$3:$PL$215,F$7,FALSE)","v":1.3080000000000001},{"$f":"VLOOKUP($B152,[1]FlowData!$A$3:$PL$215,G$7,FALSE)","v":""},{"$f":"VLOOKUP($B152,[1]FlowData!$A$3:$PL$215,H$7,FALSE)","v":""},{"$f":"VLOOKUP($B152,[1]FlowData!$A$3:$PL$215,I$7,FALSE)","v":""},{"$f":"VLOOKUP($B152,[1]FlowData!$A$3:$PL$215,J$7,FALSE)","v":""},{"$f":"VLOOKUP($B152,[1]FlowData!$A$3:$PL$215,K$7,FALSE)","v":""},{"$f":"VLOOKUP($B152,[1]FlowData!$A$3:$PL$215,L$7,FALSE)","v":""},{"$f":"VLOOKUP($B152,[1]FlowData!$A$3:$PL$215,M$7,FALSE)","v":""},{"$f":"VLOOKUP($B152,[1]FlowData!$A$3:$PL$215,N$7,FALSE)","v":""},{"$f":"VLOOKUP($B152,[1]FlowData!$A$3:$PL$215,O$7,FALSE)","v":""},{"$f":"VLOOKUP($B152,[1]FlowData!$A$3:$PL$215,P$7,FALSE)","v":""},{"$f":"VLOOKUP($B152,[1]FlowData!$A$3:$PL$215,Q$7,FALSE)","v":""},{"$f":"VLOOKUP($B152,[1]FlowData!$A$3:$PL$215,R$7,FALSE)","v":""},{"$f":"VLOOKUP($B152,[1]FlowData!$A$3:$PL$215,S$7,FALSE)","v":""},{"$f":"VLOOKUP($B152,[1]FlowData!$A$3:$PL$215,T$7,FALSE)","v":""},{"$f":"VLOOKUP($B152,[1]FlowData!$A$3:$PL$215,U$7,FALSE)","v":""},{"$f":"VLOOKUP($B152,[1]FlowData!$A$3:$PL$215,V$7,FALSE)","v":""},{"$f":"VLOOKUP($B152,[1]FlowData!$A$3:$PL$215,W$7,FALSE)","v":""},{"$f":"VLOOKUP($B152,[1]FlowData!$A$3:$PL$215,X$7,FALSE)","v":""},{"$f":"VLOOKUP($B152,[1]FlowData!$A$3:$PL$215,Y$7,FALSE)","v":""},{"$f":"VLOOKUP($B152,[1]FlowData!$A$3:$PL$215,Z$7,FALSE)","v":""},{"$f":"VLOOKUP($B152,[1]FlowData!$A$3:$PL$215,AA$7,FALSE)","v":73},{"$f":"VLOOKUP($B152,[1]FlowData!$A$3:$PL$215,AB$7,FALSE)","v":44},{"$f":"VLOOKUP($B152,[1]FlowData!$A$3:$PL$215,AC$7,FALSE)","v":18},{"$f":"VLOOKUP($B152,[1]FlowData!$A$3:$PL$215,AD$7,FALSE)","v":50},{"$f":"VLOOKUP($B152,[1]FlowData!$A$3:$PL$215,AE$7,FALSE)","v":47},{"$f":"VLOOKUP($B152,[1]FlowData!$A$3:$PL$215,AF$7,FALSE)","v":26},{"$f":"VLOOKUP($B152,[1]FlowData!$A$3:$PL$215,AG$7,FALSE)","v":14},{"$f":"VLOOKUP($B152,[1]FlowData!$A$3:$PL$215,AH$7,FALSE)","v":35},{"$f":"VLOOKUP($B152,[1]FlowData!$A$3:$PL$215,AI$7,FALSE)","v":12},{"$f":"VLOOKUP($B152,[1]FlowData!$A$3:$PL$215,AJ$7,FALSE)","v":5.5},{"$f":"VLOOKUP($B152,[1]FlowData!$A$3:$PL$215,AK$7,FALSE)","v":3.1},{"$f":"VLOOKUP($B152,[1]FlowData!$A$3:$PL$215,AL$7,FALSE)","v":7.8},{"$f":"VLOOKUP($B152,[1]FlowData!$A$3:$PL$215,AM$7,FALSE)","v":3.3},{"$f":"VLOOKUP($B152,[1]FlowData!$A$3:$PL$215,AN$7,FALSE)","v":2.1},{"$f":"VLOOKUP($B152,[1]FlowData!$A$3:$PL$215,AO$7,FALSE)","v":1.5},{"$f":"VLOOKUP($B152,[1]FlowData!$A$3:$PL$215,AP$7,FALSE)","v":2.5},{"$f":"VLOOKUP($B152,[1]FlowData!$A$3:$PL$215,AQ$7,FALSE)","v":2.8},{"$f":"VLOOKUP($B152,[1]FlowData!$A$3:$PL$215,AR$7,FALSE)","v":2},{"$f":"VLOOKUP($B152,[1]FlowData!$A$3:$PL$215,AS$7,FALSE)","v":1.6},{"$f":"VLOOKUP($B152,[1]FlowData!$A$3:$PL$215,AT$7,FALSE)","v":2.2000000000000002},{"$f":"VLOOKUP($B152,[1]FlowData!$A$3:$PL$215,AU$7,FALSE)","v":2.9},{"$f":"VLOOKUP($B152,[1]FlowData!$A$3:$PL$215,AV$7,FALSE)","v":2.2000000000000002},{"$f":"VLOOKUP($B152,[1]FlowData!$A$3:$PL$215,AW$7,FALSE)","v":1.7},{"$f":"VLOOKUP($B152,[1]FlowData!$A$3:$PL$215,AX$7,FALSE)","v":2.4},{"$f":"VLOOKUP($B152,[1]FlowData!$A$3:$PL$215,AY$7,FALSE)","v":2.7},{"$f":"VLOOKUP($B152,[1]FlowData!$A$3:$PL$215,AZ$7,FALSE)","v":2.2000000000000002},{"$f":"VLOOKUP($B152,[1]FlowData!$A$3:$PL$215,BA$7,FALSE)","v":1.6},{"$f":"VLOOKUP($B152,[1]FlowData!$A$3:$PL$215,BB$7,FALSE)","v":2.2000000000000002},{"$f":"VLOOKUP($B152,[1]FlowData!$A$3:$PL$215,BC$7,FALSE)","v":""},{"$f":"VLOOKUP($B152,[1]FlowData!$A$3:$PL$215,BD$7,FALSE)","v":""},{"$f":"VLOOKUP($B152,[1]FlowData!$A$3:$PL$215,BE$7,FALSE)","v":""},{"$f":"VLOOKUP($B152,[1]FlowData!$A$3:$PL$215,BF$7,FALSE)","v":""}]
[{"$f":"VLOOKUP(B153,'[2]Gages and BCs'!$A$4:$BJ$973,62,FALSE)","v":56},6033000,{"$f":"VLOOKUP(B153,'[2]Gages and BCs'!$A$4:$BJ$973,60,FALSE)","v":"Boulder River near Boulder, Montana"},"1929–32, 1934–72, 1985–2009",{"$f":"VLOOKUP($B153,[1]FlowData!$A$3:$PL$215,E$7,FALSE)","v":6.3479999999999999},{"$f":"VLOOKUP($B153,[1]FlowData!$A$3:$PL$215,F$7,FALSE)","v":8.7590000000000003},{"$f":"VLOOKUP($B153,[1]FlowData!$A$3:$PL$215,G$7,FALSE)","v":149},{"$f":"VLOOKUP($B153,[1]FlowData!$A$3:$PL$215,H$7,FALSE)","v":59},{"$f":"VLOOKUP($B153,[1]FlowData!$A$3:$PL$215,I$7,FALSE)","v":24},{"$f":"VLOOKUP($B153,[1]FlowData!$A$3:$PL$215,J$7,FALSE)","v":116},{"$f":"VLOOKUP($B153,[1]FlowData!$A$3:$PL$215,K$7,FALSE)","v":34},{"$f":"VLOOKUP($B153,[1]FlowData!$A$3:$PL$215,L$7,FALSE)","v":26},{"$f":"VLOOKUP($B153,[1]FlowData!$A$3:$PL$215,M$7,FALSE)","v":18},{"$f":"VLOOKUP($B153,[1]FlowData!$A$3:$PL$215,N$7,FALSE)","v":26},{"$f":"VLOOKUP($B153,[1]FlowData!$A$3:$PL$215,O$7,FALSE)","v":37},{"$f":"VLOOKUP($B153,[1]FlowData!$A$3:$PL$215,P$7,FALSE)","v":29},{"$f":"VLOOKUP($B153,[1]FlowData!$A$3:$PL$215,Q$7,FALSE)","v":20},{"$f":"VLOOKUP($B153,[1]FlowData!$A$3:$PL$215,R$7,FALSE)","v":30},{"$f":"VLOOKUP($B153,[1]FlowData!$A$3:$PL$215,S$7,FALSE)","v":58},{"$f":"VLOOKUP($B153,[1]FlowData!$A$3:$PL$215,T$7,FALSE)","v":36},{"$f":"VLOOKUP($B153,[1]FlowData!$A$3:$PL$215,U$7,FALSE)","v":27},{"$f":"VLOOKUP($B153,[1]FlowData!$A$3:$PL$215,V$7,FALSE)","v":48},{"$f":"VLOOKUP($B153,[1]FlowData!$A$3:$PL$215,W$7,FALSE)","v":248},{"$f":"VLOOKUP($B153,[1]FlowData!$A$3:$PL$215,X$7,FALSE)","v":114},{"$f":"VLOOKUP($B153,[1]FlowData!$A$3:$PL$215,Y$7,FALSE)","v":58},{"$f":"VLOOKUP($B153,[1]FlowData!$A$3:$PL$215,Z$7,FALSE)","v":165},{"$f":"VLOOKUP($B153,[1]FlowData!$A$3:$PL$215,AA$7,FALSE)","v":678},{"$f":"VLOOKUP($B153,[1]FlowData!$A$3:$PL$215,AB$7,FALSE)","v":370},{"$f":"VLOOKUP($B153,[1]FlowData!$A$3:$PL$215,AC$7,FALSE)","v":217},{"$f":"VLOOKUP($B153,[1]FlowData!$A$3:$PL$215,AD$7,FALSE)","v":459},{"$f":"VLOOKUP($B153,[1]FlowData!$A$3:$PL$215,AE$7,FALSE)","v":645},{"$f":"VLOOKUP($B153,[1]FlowData!$A$3:$PL$215,AF$7,FALSE)","v":325},{"$f":"VLOOKUP($B153,[1]FlowData!$A$3:$PL$215,AG$7,FALSE)","v":146},{"$f":"VLOOKUP($B153,[1]FlowData!$A$3:$PL$215,AH$7,FALSE)","v":407},{"$f":"VLOOKUP($B153,[1]FlowData!$A$3:$PL$215,AI$7,FALSE)","v":141},{"$f":"VLOOKUP($B153,[1]FlowData!$A$3:$PL$215,AJ$7,FALSE)","v":64},{"$f":"VLOOKUP($B153,[1]FlowData!$A$3:$PL$215,AK$7,FALSE)","v":24},{"$f":"VLOOKUP($B153,[1]FlowData!$A$3:$PL$215,AL$7,FALSE)","v":94},{"$f":"VLOOKUP($B153,[1]FlowData!$A$3:$PL$215,AM$7,FALSE)","v":43},{"$f":"VLOOKUP($B153,[1]FlowData!$A$3:$PL$215,AN$7,FALSE)","v":22},{"$f":"VLOOKUP($B153,[1]FlowData!$A$3:$PL$215,AO$7,FALSE)","v":9},{"$f":"VLOOKUP($B153,[1]FlowData!$A$3:$PL$215,AP$7,FALSE)","v":31},{"$f":"VLOOKUP($B153,[1]FlowData!$A$3:$PL$215,AQ$7,FALSE)","v":35},{"$f":"VLOOKUP($B153,[1]FlowData!$A$3:$PL$215,AR$7,FALSE)","v":21},{"$f":"VLOOKUP($B153,[1]FlowData!$A$3:$PL$215,AS$7,FALSE)","v":12},{"$f":"VLOOKUP($B153,[1]FlowData!$A$3:$PL$215,AT$7,FALSE)","v":28},{"$f":"VLOOKUP($B153,[1]FlowData!$A$3:$PL$215,AU$7,FALSE)","v":51},{"$f":"VLOOKUP($B153,[1]FlowData!$A$3:$PL$215,AV$7,FALSE)","v":31},{"$f":"VLOOKUP($B153,[1]FlowData!$A$3:$PL$215,AW$7,FALSE)","v":19},{"$f":"VLOOKUP($B153,[1]FlowData!$A$3:$PL$215,AX$7,FALSE)","v":36},{"$f":"VLOOKUP($B153,[1]FlowData!$A$3:$PL$215,AY$7,FALSE)","v":46},{"$f":"VLOOKUP($B153,[1]FlowData!$A$3:$PL$215,AZ$7,FALSE)","v":32},{"$f":"VLOOKUP($B153,[1]FlowData!$A$3:$PL$215,BA$7,FALSE)","v":23},{"$f":"VLOOKUP($B153,[1]FlowData!$A$3:$PL$215,BB$7,FALSE)","v":35},{"$f":"VLOOKUP($B153,[1]FlowData!$A$3:$PL$215,BC$7,FALSE)","v":37},{"$f":"VLOOKUP($B153,[1]FlowData!$A$3:$PL$215,BD$7,FALSE)","v":27},{"$f":"VLOOKUP($B153,[1]FlowData!$A$3:$PL$215,BE$7,FALSE)","v":20},{"$f":"VLOOKUP($B153,[1]FlowData!$A$3:$PL$215,BF$7,FALSE)","v":28}]
[{"$f":"VLOOKUP(B154,'[2]Gages and BCs'!$A$4:$BJ$973,62,FALSE)","v":60},6035000,{"$f":"VLOOKUP(B154,'[2]Gages and BCs'!$A$4:$BJ$973,60,FALSE)","v":"Willow Creek near Harrison, Montana"},"1938–2002, 2004–9",{"$f":"VLOOKUP($B154,[1]FlowData!$A$3:$PL$215,E$7,FALSE)","v":2.6240000000000001},{"$f":"VLOOKUP($B154,[1]FlowData!$A$3:$PL$215,F$7,FALSE)","v":2.8719999999999999},{"$f":"VLOOKUP($B154,[1]FlowData!$A$3:$PL$215,G$7,FALSE)","v":54},{"$f":"VLOOKUP($B154,[1]FlowData!$A$3:$PL$215,H$7,FALSE)","v":31},{"$f":"VLOOKUP($B154,[1]FlowData!$A$3:$PL$215,I$7,FALSE)","v":14},{"$f":"VLOOKUP($B154,[1]FlowData!$A$3:$PL$215,J$7,FALSE)","v":41},{"$f":"VLOOKUP($B154,[1]FlowData!$A$3:$PL$215,K$7,FALSE)","v":32},{"$f":"VLOOKUP($B154,[1]FlowData!$A$3:$PL$215,L$7,FALSE)","v":25},{"$f":"VLOOKUP($B154,[1]FlowData!$A$3:$PL$215,M$7,FALSE)","v":18},{"$f":"VLOOKUP($B154,[1]FlowData!$A$3:$PL$215,N$7,FALSE)","v":26},{"$f":"VLOOKUP($B154,[1]FlowData!$A$3:$PL$215,O$7,FALSE)","v":35},{"$f":"VLOOKUP($B154,[1]FlowData!$A$3:$PL$215,P$7,FALSE)","v":26},{"$f":"VLOOKUP($B154,[1]FlowData!$A$3:$PL$215,Q$7,FALSE)","v":20},{"$f":"VLOOKUP($B154,[1]FlowData!$A$3:$PL$215,R$7,FALSE)","v":29},{"$f":"VLOOKUP($B154,[1]FlowData!$A$3:$PL$215,S$7,FALSE)","v":38},{"$f":"VLOOKUP($B154,[1]FlowData!$A$3:$PL$215,T$7,FALSE)","v":30},{"$f":"VLOOKUP($B154,[1]FlowData!$A$3:$PL$215,U$7,FALSE)","v":24},{"$f":"VLOOKUP($B154,[1]FlowData!$A$3:$PL$215,V$7,FALSE)","v":31},{"$f":"VLOOKUP($B154,[1]FlowData!$A$3:$PL$215,W$7,FALSE)","v":54},{"$f":"VLOOKUP($B154,[1]FlowData!$A$3:$PL$215,X$7,FALSE)","v":39},{"$f":"VLOOKUP($B154,[1]FlowData!$A$3:$PL$215,Y$7,FALSE)","v":27},{"$f":"VLOOKUP($B154,[1]FlowData!$A$3:$PL$215,Z$7,FALSE)","v":41},{"$f":"VLOOKUP($B154,[1]FlowData!$A$3:$PL$215,AA$7,FALSE)","v":92},{"$f":"VLOOKUP($B154,[1]FlowData!$A$3:$PL$215,AB$7,FALSE)","v":52},{"$f":"VLOOKUP($B154,[1]FlowData!$A$3:$PL$215,AC$7,FALSE)","v":22},{"$f":"VLOOKUP($B154,[1]FlowData!$A$3:$PL$215,AD$7,FALSE)","v":62},{"$f":"VLOOKUP($B154,[1]FlowData!$A$3:$PL$215,AE$7,FALSE)","v":175},{"$f":"VLOOKUP($B154,[1]FlowData!$A$3:$PL$215,AF$7,FALSE)","v":90},{"$f":"VLOOKUP($B154,[1]FlowData!$A$3:$PL$215,AG$7,FALSE)","v":33},{"$f":"VLOOKUP($B154,[1]FlowData!$A$3:$PL$215,AH$7,FALSE)","v":110},{"$f":"VLOOKUP($B154,[1]FlowData!$A$3:$PL$215,AI$7,FALSE)","v":101},{"$f":"VLOOKUP($B154,[1]FlowData!$A$3:$PL$215,AJ$7,FALSE)","v":35},{"$f":"VLOOKUP($B154,[1]FlowData!$A$3:$PL$215,AK$7,FALSE)","v":9.9},{"$f":"VLOOKUP($B154,[1]FlowData!$A$3:$PL$215,AL$7,FALSE)","v":59},{"$f":"VLOOKUP($B154,[1]FlowData!$A$3:$PL$215,AM$7,FALSE)","v":18},{"$f":"VLOOKUP($B154,[1]FlowData!$A$3:$PL$215,AN$7,FALSE)","v":7.3},{"$f":"VLOOKUP($B154,[1]FlowData!$A$3:$PL$215,AO$7,FALSE)","v":3.1},{"$f":"VLOOKUP($B154,[1]FlowData!$A$3:$PL$215,AP$7,FALSE)","v":12},{"$f":"VLOOKUP($B154,[1]FlowData!$A$3:$PL$215,AQ$7,FALSE)","v":34},{"$f":"VLOOKUP($B154,[1]FlowData!$A$3:$PL$215,AR$7,FALSE)","v":11},{"$f":"VLOOKUP($B154,[1]FlowData!$A$3:$PL$215,AS$7,FALSE)","v":4.5},{"$f":"VLOOKUP($B154,[1]FlowData!$A$3:$PL$215,AT$7,FALSE)","v":19},{"$f":"VLOOKUP($B154,[1]FlowData!$A$3:$PL$215,AU$7,FALSE)","v":48},{"$f":"VLOOKUP($B154,[1]FlowData!$A$3:$PL$215,AV$7,FALSE)","v":28},{"$f":"VLOOKUP($B154,[1]FlowData!$A$3:$PL$215,AW$7,FALSE)","v":8.6999999999999993},{"$f":"VLOOKUP($B154,[1]FlowData!$A$3:$PL$215,AX$7,FALSE)","v":29},{"$f":"VLOOKUP($B154,[1]FlowData!$A$3:$PL$215,AY$7,FALSE)","v":45},{"$f":"VLOOKUP($B154,[1]FlowData!$A$3:$PL$215,AZ$7,FALSE)","v":36},{"$f":"VLOOKUP($B154,[1]FlowData!$A$3:$PL$215,BA$7,FALSE)","v":21},{"$f":"VLOOKUP($B154,[1]FlowData!$A$3:$PL$215,BB$7,FALSE)","v":34},{"$f":"VLOOKUP($B154,[1]FlowData!$A$3:$PL$215,BC$7,FALSE)","v":39},{"$f":"VLOOKUP($B154,[1]FlowData!$A$3:$PL$215,BD$7,FALSE)","v":31},{"$f":"VLOOKUP($B154,[1]FlowData!$A$3:$PL$215,BE$7,FALSE)","v":24},{"$f":"VLOOKUP($B154,[1]FlowData!$A$3:$PL$215,BF$7,FALSE)","v":32}]
[{"$f":"VLOOKUP(B155,'[2]Gages and BCs'!$A$4:$BJ$973,62,FALSE)","v":62},6036500,{"$f":"VLOOKUP(B155,'[2]Gages and BCs'!$A$4:$BJ$973,60,FALSE)","v":"Willow Creek near Willow Creek, Montana"},"1920–32",{"$f":"VLOOKUP($B155,[1]FlowData!$A$3:$PL$215,E$7,FALSE)","v":""},{"$f":"VLOOKUP($B155,[1]FlowData!$A$3:$PL$215,F$7,FALSE)","v":11.536},{"$f":"VLOOKUP($B155,[1]FlowData!$A$3:$PL$215,G$7,FALSE)","v":""},{"$f":"VLOOKUP($B155,[1]FlowData!$A$3:$PL$215,H$7,FALSE)","v":""},{"$f":"VLOOKUP($B155,[1]FlowData!$A$3:$PL$215,I$7,FALSE)","v":""},{"$f":"VLOOKUP($B155,[1]FlowData!$A$3:$PL$215,J$7,FALSE)","v":""},{"$f":"VLOOKUP($B155,[1]FlowData!$A$3:$PL$215,K$7,FALSE)","v":""},{"$f":"VLOOKUP($B155,[1]FlowData!$A$3:$PL$215,L$7,FALSE)","v":""},{"$f":"VLOOKUP($B155,[1]FlowData!$A$3:$PL$215,M$7,FALSE)","v":""},{"$f":"VLOOKUP($B155,[1]FlowData!$A$3:$PL$215,N$7,FALSE)","v":""},{"$f":"VLOOKUP($B155,[1]FlowData!$A$3:$PL$215,O$7,FALSE)","v":""},{"$f":"VLOOKUP($B155,[1]FlowData!$A$3:$PL$215,P$7,FALSE)","v":""},{"$f":"VLOOKUP($B155,[1]FlowData!$A$3:$PL$215,Q$7,FALSE)","v":""},{"$f":"VLOOKUP($B155,[1]FlowData!$A$3:$PL$215,R$7,FALSE)","v":""},{"$f":"VLOOKUP($B155,[1]FlowData!$A$3:$PL$215,S$7,FALSE)","v":53},{"$f":"VLOOKUP($B155,[1]FlowData!$A$3:$PL$215,T$7,FALSE)","v":41},{"$f":"VLOOKUP($B155,[1]FlowData!$A$3:$PL$215,U$7,FALSE)","v":32},{"$f":"VLOOKUP($B155,[1]FlowData!$A$3:$PL$215,V$7,FALSE)","v":45},{"$f":"VLOOKUP($B155,[1]FlowData!$A$3:$PL$215,W$7,FALSE)","v":69},{"$f":"VLOOKUP($B155,[1]FlowData!$A$3:$PL$215,X$7,FALSE)","v":53},{"$f":"VLOOKUP($B155,[1]FlowData!$A$3:$PL$215,Y$7,FALSE)","v":34},{"$f":"VLOOKUP($B155,[1]FlowData!$A$3:$PL$215,Z$7,FALSE)","v":53},{"$f":"VLOOKUP($B155,[1]FlowData!$A$3:$PL$215,AA$7,FALSE)","v":125},{"$f":"VLOOKUP($B155,[1]FlowData!$A$3:$PL$215,AB$7,FALSE)","v":86},{"$f":"VLOOKUP($B155,[1]FlowData!$A$3:$PL$215,AC$7,FALSE)","v":47},{"$f":"VLOOKUP($B155,[1]FlowData!$A$3:$PL$215,AD$7,FALSE)","v":91},{"$f":"VLOOKUP($B155,[1]FlowData!$A$3:$PL$215,AE$7,FALSE)","v":204},{"$f":"VLOOKUP($B155,[1]FlowData!$A$3:$PL$215,AF$7,FALSE)","v":85},{"$f":"VLOOKUP($B155,[1]FlowData!$A$3:$PL$215,AG$7,FALSE)","v":51},{"$f":"VLOOKUP($B155,[1]FlowData!$A$3:$PL$215,AH$7,FALSE)","v":118},{"$f":"VLOOKUP($B155,[1]FlowData!$A$3:$PL$215,AI$7,FALSE)","v":78},{"$f":"VLOOKUP($B155,[1]FlowData!$A$3:$PL$215,AJ$7,FALSE)","v":44},{"$f":"VLOOKUP($B155,[1]FlowData!$A$3:$PL$215,AK$7,FALSE)","v":29},{"$f":"VLOOKUP($B155,[1]FlowData!$A$3:$PL$215,AL$7,FALSE)","v":57},{"$f":"VLOOKUP($B155,[1]FlowData!$A$3:$PL$215,AM$7,FALSE)","v":35},{"$f":"VLOOKUP($B155,[1]FlowData!$A$3:$PL$215,AN$7,FALSE)","v":24},{"$f":"VLOOKUP($B155,[1]FlowData!$A$3:$PL$215,AO$7,FALSE)","v":14},{"$f":"VLOOKUP($B155,[1]FlowData!$A$3:$PL$215,AP$7,FALSE)","v":26},{"$f":"VLOOKUP($B155,[1]FlowData!$A$3:$PL$215,AQ$7,FALSE)","v":36},{"$f":"VLOOKUP($B155,[1]FlowData!$A$3:$PL$215,AR$7,FALSE)","v":24},{"$f":"VLOOKUP($B155,[1]FlowData!$A$3:$PL$215,AS$7,FALSE)","v":12},{"$f":"VLOOKUP($B155,[1]FlowData!$A$3:$PL$215,AT$7,FALSE)","v":28},{"$f":"VLOOKUP($B155,[1]FlowData!$A$3:$PL$215,AU$7,FALSE)","v":50},{"$f":"VLOOKUP($B155,[1]FlowData!$A$3:$PL$215,AV$7,FALSE)","v":35},{"$f":"VLOOKUP($B155,[1]FlowData!$A$3:$PL$215,AW$7,FALSE)","v":24},{"$f":"VLOOKUP($B155,[1]FlowData!$A$3:$PL$215,AX$7,FALSE)","v":38},{"$f":"VLOOKUP($B155,[1]FlowData!$A$3:$PL$215,AY$7,FALSE)","v":60},{"$f":"VLOOKUP($B155,[1]FlowData!$A$3:$PL$215,AZ$7,FALSE)","v":39},{"$f":"VLOOKUP($B155,[1]FlowData!$A$3:$PL$215,BA$7,FALSE)","v":24},{"$f":"VLOOKUP($B155,[1]FlowData!$A$3:$PL$215,BB$7,FALSE)","v":40},{"$f":"VLOOKUP($B155,[1]FlowData!$A$3:$PL$215,BC$7,FALSE)","v":""},{"$f":"VLOOKUP($B155,[1]FlowData!$A$3:$PL$215,BD$7,FALSE)","v":""},{"$f":"VLOOKUP($B155,[1]FlowData!$A$3:$PL$215,BE$7,FALSE)","v":""},{"$f":"VLOOKUP($B155,[1]FlowData!$A$3:$PL$215,BF$7,FALSE)","v":""}]
[{"$f":"VLOOKUP(B156,'[2]Gages and BCs'!$A$4:$BJ$973,62,FALSE)","v":74},6040300,{"$f":"VLOOKUP(B156,'[2]Gages and BCs'!$A$4:$BJ$973,60,FALSE)","v":"Jack Creek near Ennis, Montana"},"1974–86, 1991",{"$f":"VLOOKUP($B156,[1]FlowData!$A$3:$PL$215,E$7,FALSE)","v":9.2609999999999992},{"$f":"VLOOKUP($B156,[1]FlowData!$A$3:$PL$215,F$7,FALSE)","v":19.164000000000001},{"$f":"VLOOKUP($B156,[1]FlowData!$A$3:$PL$215,G$7,FALSE)","v":64},{"$f":"VLOOKUP($B156,[1]FlowData!$A$3:$PL$215,H$7,FALSE)","v":24},{"$f":"VLOOKUP($B156,[1]FlowData!$A$3:$PL$215,I$7,FALSE)","v":13},{"$f":"VLOOKUP($B156,[1]FlowData!$A$3:$PL$215,J$7,FALSE)","v":47},{"$f":"VLOOKUP($B156,[1]FlowData!$A$3:$PL$215,K$7,FALSE)","v":17},{"$f":"VLOOKUP($B156,[1]FlowData!$A$3:$PL$215,L$7,FALSE)","v":15},{"$f":"VLOOKUP($B156,[1]FlowData!$A$3:$PL$215,M$7,FALSE)","v":13},{"$f":"VLOOKUP($B156,[1]FlowData!$A$3:$PL$215,N$7,FALSE)","v":15},{"$f":"VLOOKUP($B156,[1]FlowData!$A$3:$PL$215,O$7,FALSE)","v":15},{"$f":"VLOOKUP($B156,[1]FlowData!$A$3:$PL$215,P$7,FALSE)","v":14},{"$f":"VLOOKUP($B156,[1]FlowData!$A$3:$PL$215,Q$7,FALSE)","v":12},{"$f":"VLOOKUP($B156,[1]FlowData!$A$3:$PL$215,R$7,FALSE)","v":13},{"$f":"VLOOKUP($B156,[1]FlowData!$A$3:$PL$215,S$7,FALSE)","v":15},{"$f":"VLOOKUP($B156,[1]FlowData!$A$3:$PL$215,T$7,FALSE)","v":13},{"$f":"VLOOKUP($B156,[1]FlowData!$A$3:$PL$215,U$7,FALSE)","v":12},{"$f":"VLOOKUP($B156,[1]FlowData!$A$3:$PL$215,V$7,FALSE)","v":14},{"$f":"VLOOKUP($B156,[1]FlowData!$A$3:$PL$215,W$7,FALSE)","v":47},{"$f":"VLOOKUP($B156,[1]FlowData!$A$3:$PL$215,X$7,FALSE)","v":26},{"$f":"VLOOKUP($B156,[1]FlowData!$A$3:$PL$215,Y$7,FALSE)","v":15},{"$f":"VLOOKUP($B156,[1]FlowData!$A$3:$PL$215,Z$7,FALSE)","v":33},{"$f":"VLOOKUP($B156,[1]FlowData!$A$3:$PL$215,AA$7,FALSE)","v":172},{"$f":"VLOOKUP($B156,[1]FlowData!$A$3:$PL$215,AB$7,FALSE)","v":88},{"$f":"VLOOKUP($B156,[1]FlowData!$A$3:$PL$215,AC$7,FALSE)","v":54},{"$f":"VLOOKUP($B156,[1]FlowData!$A$3:$PL$215,AD$7,FALSE)","v":111},{"$f":"VLOOKUP($B156,[1]FlowData!$A$3:$PL$215,AE$7,FALSE)","v":216},{"$f":"VLOOKUP($B156,[1]FlowData!$A$3:$PL$215,AF$7,FALSE)","v":154},{"$f":"VLOOKUP($B156,[1]FlowData!$A$3:$PL$215,AG$7,FALSE)","v":99},{"$f":"VLOOKUP($B156,[1]FlowData!$A$3:$PL$215,AH$7,FALSE)","v":163},{"$f":"VLOOKUP($B156,[1]FlowData!$A$3:$PL$215,AI$7,FALSE)","v":105},{"$f":"VLOOKUP($B156,[1]FlowData!$A$3:$PL$215,AJ$7,FALSE)","v":68},{"$f":"VLOOKUP($B156,[1]FlowData!$A$3:$PL$215,AK$7,FALSE)","v":44},{"$f":"VLOOKUP($B156,[1]FlowData!$A$3:$PL$215,AL$7,FALSE)","v":77},{"$f":"VLOOKUP($B156,[1]FlowData!$A$3:$PL$215,AM$7,FALSE)","v":50},{"$f":"VLOOKUP($B156,[1]FlowData!$A$3:$PL$215,AN$7,FALSE)","v":36},{"$f":"VLOOKUP($B156,[1]FlowData!$A$3:$PL$215,AO$7,FALSE)","v":28},{"$f":"VLOOKUP($B156,[1]FlowData!$A$3:$PL$215,AP$7,FALSE)","v":39},{"$f":"VLOOKUP($B156,[1]FlowData!$A$3:$PL$215,AQ$7,FALSE)","v":35},{"$f":"VLOOKUP($B156,[1]FlowData!$A$3:$PL$215,AR$7,FALSE)","v":27},{"$f":"VLOOKUP($B156,[1]FlowData!$A$3:$PL$215,AS$7,FALSE)","v":23},{"$f":"VLOOKUP($B156,[1]FlowData!$A$3:$PL$215,AT$7,FALSE)","v":29},{"$f":"VLOOKUP($B156,[1]FlowData!$A$3:$PL$215,AU$7,FALSE)","v":29},{"$f":"VLOOKUP($B156,[1]FlowData!$A$3:$PL$215,AV$7,FALSE)","v":23},{"$f":"VLOOKUP($B156,[1]FlowData!$A$3:$PL$215,AW$7,FALSE)","v":20},{"$f":"VLOOKUP($B156,[1]FlowData!$A$3:$PL$215,AX$7,FALSE)","v":24},{"$f":"VLOOKUP($B156,[1]FlowData!$A$3:$PL$215,AY$7,FALSE)","v":25},{"$f":"VLOOKUP($B156,[1]FlowData!$A$3:$PL$215,AZ$7,FALSE)","v":19},{"$f":"VLOOKUP($B156,[1]FlowData!$A$3:$PL$215,BA$7,FALSE)","v":16},{"$f":"VLOOKUP($B156,[1]FlowData!$A$3:$PL$215,BB$7,FALSE)","v":20},{"$f":"VLOOKUP($B156,[1]FlowData!$A$3:$PL$215,BC$7,FALSE)","v":19},{"$f":"VLOOKUP($B156,[1]FlowData!$A$3:$PL$215,BD$7,FALSE)","v":17},{"$f":"VLOOKUP($B156,[1]FlowData!$A$3:$PL$215,BE$7,FALSE)","v":14},{"$f":"VLOOKUP($B156,[1]FlowData!$A$3:$PL$215,BF$7,FALSE)","v":17}]
[{"$f":"VLOOKUP(B157,'[2]Gages and BCs'!$A$4:$BJ$973,62,FALSE)","v":91},6055500,{"$f":"VLOOKUP(B157,'[2]Gages and BCs'!$A$4:$BJ$973,60,FALSE)","v":"Crow Creek near Radersburg, Montana"},"1919–28, 1966–72",{"$f":"VLOOKUP($B157,[1]FlowData!$A$3:$PL$215,E$7,FALSE)","v":""},{"$f":"VLOOKUP($B157,[1]FlowData!$A$3:$PL$215,F$7,FALSE)","v":9.891},{"$f":"VLOOKUP($B157,[1]FlowData!$A$3:$PL$215,G$7,FALSE)","v":""},{"$f":"VLOOKUP($B157,[1]FlowData!$A$3:$PL$215,H$7,FALSE)","v":""},{"$f":"VLOOKUP($B157,[1]FlowData!$A$3:$PL$215,I$7,FALSE)","v":""},{"$f":"VLOOKUP($B157,[1]FlowData!$A$3:$PL$215,J$7,FALSE)","v":""},{"$f":"VLOOKUP($B157,[1]FlowData!$A$3:$PL$215,K$7,FALSE)","v":""},{"$f":"VLOOKUP($B157,[1]FlowData!$A$3:$PL$215,L$7,FALSE)","v":""},{"$f":"VLOOKUP($B157,[1]FlowData!$A$3:$PL$215,M$7,FALSE)","v":""},{"$f":"VLOOKUP($B157,[1]FlowData!$A$3:$PL$215,N$7,FALSE)","v":""},{"$f":"VLOOKUP($B157,[1]FlowData!$A$3:$PL$215,O$7,FALSE)","v":""},{"$f":"VLOOKUP($B157,[1]FlowData!$A$3:$PL$215,P$7,FALSE)","v":""},{"$f":"VLOOKUP($B157,[1]FlowData!$A$3:$PL$215,Q$7,FALSE)","v":""},{"$f":"VLOOKUP($B157,[1]FlowData!$A$3:$PL$215,R$7,FALSE)","v":""},{"$f":"VLOOKUP($B157,[1]FlowData!$A$3:$PL$215,S$7,FALSE)","v":14},{"$f":"VLOOKUP($B157,[1]FlowData!$A$3:$PL$215,T$7,FALSE)","v":10},{"$f":"VLOOKUP($B157,[1]FlowData!$A$3:$PL$215,U$7,FALSE)","v":7.4},{"$f":"VLOOKUP($B157,[1]FlowData!$A$3:$PL$215,V$7,FALSE)","v":11},{"$f":"VLOOKUP($B157,[1]FlowData!$A$3:$PL$215,W$7,FALSE)","v":44},{"$f":"VLOOKUP($B157,[1]FlowData!$A$3:$PL$215,X$7,FALSE)","v":22},{"$f":"VLOOKUP($B157,[1]FlowData!$A$3:$PL$215,Y$7,FALSE)","v":12},{"$f":"VLOOKUP($B157,[1]FlowData!$A$3:$PL$215,Z$7,FALSE)","v":33},{"$f":"VLOOKUP($B157,[1]FlowData!$A$3:$PL$215,AA$7,FALSE)","v":245},{"$f":"VLOOKUP($B157,[1]FlowData!$A$3:$PL$215,AB$7,FALSE)","v":143},{"$f":"VLOOKUP($B157,[1]FlowData!$A$3:$PL$215,AC$7,FALSE)","v":73},{"$f":"VLOOKUP($B157,[1]FlowData!$A$3:$PL$215,AD$7,FALSE)","v":167},{"$f":"VLOOKUP($B157,[1]FlowData!$A$3:$PL$215,AE$7,FALSE)","v":248},{"$f":"VLOOKUP($B157,[1]FlowData!$A$3:$PL$215,AF$7,FALSE)","v":133},{"$f":"VLOOKUP($B157,[1]FlowData!$A$3:$PL$215,AG$7,FALSE)","v":75},{"$f":"VLOOKUP($B157,[1]FlowData!$A$3:$PL$215,AH$7,FALSE)","v":168},{"$f":"VLOOKUP($B157,[1]FlowData!$A$3:$PL$215,AI$7,FALSE)","v":76},{"$f":"VLOOKUP($B157,[1]FlowData!$A$3:$PL$215,AJ$7,FALSE)","v":44},{"$f":"VLOOKUP($B157,[1]FlowData!$A$3:$PL$215,AK$7,FALSE)","v":25},{"$f":"VLOOKUP($B157,[1]FlowData!$A$3:$PL$215,AL$7,FALSE)","v":54},{"$f":"VLOOKUP($B157,[1]FlowData!$A$3:$PL$215,AM$7,FALSE)","v":30},{"$f":"VLOOKUP($B157,[1]FlowData!$A$3:$PL$215,AN$7,FALSE)","v":20},{"$f":"VLOOKUP($B157,[1]FlowData!$A$3:$PL$215,AO$7,FALSE)","v":15},{"$f":"VLOOKUP($B157,[1]FlowData!$A$3:$PL$215,AP$7,FALSE)","v":23},{"$f":"VLOOKUP($B157,[1]FlowData!$A$3:$PL$215,AQ$7,FALSE)","v":22},{"$f":"VLOOKUP($B157,[1]FlowData!$A$3:$PL$215,AR$7,FALSE)","v":17},{"$f":"VLOOKUP($B157,[1]FlowData!$A$3:$PL$215,AS$7,FALSE)","v":12},{"$f":"VLOOKUP($B157,[1]FlowData!$A$3:$PL$215,AT$7,FALSE)","v":17},{"$f":"VLOOKUP($B157,[1]FlowData!$A$3:$PL$215,AU$7,FALSE)","v":22},{"$f":"VLOOKUP($B157,[1]FlowData!$A$3:$PL$215,AV$7,FALSE)","v":17},{"$f":"VLOOKUP($B157,[1]FlowData!$A$3:$PL$215,AW$7,FALSE)","v":12},{"$f":"VLOOKUP($B157,[1]FlowData!$A$3:$PL$215,AX$7,FALSE)","v":17},{"$f":"VLOOKUP($B157,[1]FlowData!$A$3:$PL$215,AY$7,FALSE)","v":19},{"$f":"VLOOKUP($B157,[1]FlowData!$A$3:$PL$215,AZ$7,FALSE)","v":14},{"$f":"VLOOKUP($B157,[1]FlowData!$A$3:$PL$215,BA$7,FALSE)","v":9.9},{"$f":"VLOOKUP($B157,[1]FlowData!$A$3:$PL$215,BB$7,FALSE)","v":14},{"$f":"VLOOKUP($B157,[1]FlowData!$A$3:$PL$215,BC$7,FALSE)","v":13},{"$f":"VLOOKUP($B157,[1]FlowData!$A$3:$PL$215,BD$7,FALSE)","v":9.5},{"$f":"VLOOKUP($B157,[1]FlowData!$A$3:$PL$215,BE$7,FALSE)","v":7.7},{"$f":"VLOOKUP($B157,[1]FlowData!$A$3:$PL$215,BF$7,FALSE)","v":10}]
[{"$f":"VLOOKUP(B158,'[2]Gages and BCs'!$A$4:$BJ$973,62,FALSE)","v":97},6061500,{"$f":"VLOOKUP(B158,'[2]Gages and BCs'!$A$4:$BJ$973,60,FALSE)","v":"Prickly Pear Creek near Clancy, Montana"},"1910–11, 1913–15, 1923–33, 1946–53, 1955–69, 1979–2002, 2006–9",{"$f":"VLOOKUP($B158,[1]FlowData!$A$3:$PL$215,E$7,FALSE)","v":7.7519999999999998},{"$f":"VLOOKUP($B158,[1]FlowData!$A$3:$PL$215,F$7,FALSE)","v":11.750999999999999},{"$f":"VLOOKUP($B158,[1]FlowData!$A$3:$PL$215,G$7,FALSE)","v":69},{"$f":"VLOOKUP($B158,[1]FlowData!$A$3:$PL$215,H$7,FALSE)","v":45},{"$f":"VLOOKUP($B158,[1]FlowData!$A$3:$PL$215,I$7,FALSE)","v":20},{"$f":"VLOOKUP($B158,[1]FlowData!$A$3:$PL$215,J$7,FALSE)","v":44},{"$f":"VLOOKUP($B158,[1]FlowData!$A$3:$PL$215,K$7,FALSE)","v":25},{"$f":"VLOOKUP($B158,[1]FlowData!$A$3:$PL$215,L$7,FALSE)","v":19},{"$f":"VLOOKUP($B158,[1]FlowData!$A$3:$PL$215,M$7,FALSE)","v":13},{"$f":"VLOOKUP($B158,[1]FlowData!$A$3:$PL$215,N$7,FALSE)","v":20},{"$f":"VLOOKUP($B158,[1]FlowData!$A$3:$PL$215,O$7,FALSE)","v":28},{"$f":"VLOOKUP($B158,[1]FlowData!$A$3:$PL$215,P$7,FALSE)","v":21},{"$f":"VLOOKUP($B158,[1]FlowData!$A$3:$PL$215,Q$7,FALSE)","v":12},{"$f":"VLOOKUP($B158,[1]FlowData!$A$3:$PL$215,R$7,FALSE)","v":22},{"$f":"VLOOKUP($B158,[1]FlowData!$A$3:$PL$215,S$7,FALSE)","v":39},{"$f":"VLOOKUP($B158,[1]FlowData!$A$3:$PL$215,T$7,FALSE)","v":26},{"$f":"VLOOKUP($B158,[1]FlowData!$A$3:$PL$215,U$7,FALSE)","v":17},{"$f":"VLOOKUP($B158,[1]FlowData!$A$3:$PL$215,V$7,FALSE)","v":29},{"$f":"VLOOKUP($B158,[1]FlowData!$A$3:$PL$215,W$7,FALSE)","v":68},{"$f":"VLOOKUP($B158,[1]FlowData!$A$3:$PL$215,X$7,FALSE)","v":44},{"$f":"VLOOKUP($B158,[1]FlowData!$A$3:$PL$215,Y$7,FALSE)","v":30},{"$f":"VLOOKUP($B158,[1]FlowData!$A$3:$PL$215,Z$7,FALSE)","v":51},{"$f":"VLOOKUP($B158,[1]FlowData!$A$3:$PL$215,AA$7,FALSE)","v":146},{"$f":"VLOOKUP($B158,[1]FlowData!$A$3:$PL$215,AB$7,FALSE)","v":96},{"$f":"VLOOKUP($B158,[1]FlowData!$A$3:$PL$215,AC$7,FALSE)","v":47},{"$f":"VLOOKUP($B158,[1]FlowData!$A$3:$PL$215,AD$7,FALSE)","v":107},{"$f":"VLOOKUP($B158,[1]FlowData!$A$3:$PL$215,AE$7,FALSE)","v":179},{"$f":"VLOOKUP($B158,[1]FlowData!$A$3:$PL$215,AF$7,FALSE)","v":103},{"$f":"VLOOKUP($B158,[1]FlowData!$A$3:$PL$215,AG$7,FALSE)","v":57},{"$f":"VLOOKUP($B158,[1]FlowData!$A$3:$PL$215,AH$7,FALSE)","v":124},{"$f":"VLOOKUP($B158,[1]FlowData!$A$3:$PL$215,AI$7,FALSE)","v":80},{"$f":"VLOOKUP($B158,[1]FlowData!$A$3:$PL$215,AJ$7,FALSE)","v":43},{"$f":"VLOOKUP($B158,[1]FlowData!$A$3:$PL$215,AK$7,FALSE)","v":25},{"$f":"VLOOKUP($B158,[1]FlowData!$A$3:$PL$215,AL$7,FALSE)","v":55},{"$f":"VLOOKUP($B158,[1]FlowData!$A$3:$PL$215,AM$7,FALSE)","v":42},{"$f":"VLOOKUP($B158,[1]FlowData!$A$3:$PL$215,AN$7,FALSE)","v":24},{"$f":"VLOOKUP($B158,[1]FlowData!$A$3:$PL$215,AO$7,FALSE)","v":15},{"$f":"VLOOKUP($B158,[1]FlowData!$A$3:$PL$215,AP$7,FALSE)","v":29},{"$f":"VLOOKUP($B158,[1]FlowData!$A$3:$PL$215,AQ$7,FALSE)","v":38},{"$f":"VLOOKUP($B158,[1]FlowData!$A$3:$PL$215,AR$7,FALSE)","v":23},{"$f":"VLOOKUP($B158,[1]FlowData!$A$3:$PL$215,AS$7,FALSE)","v":16},{"$f":"VLOOKUP($B158,[1]FlowData!$A$3:$PL$215,AT$7,FALSE)","v":28},{"$f":"VLOOKUP($B158,[1]FlowData!$A$3:$PL$215,AU$7,FALSE)","v":38},{"$f":"VLOOKUP($B158,[1]FlowData!$A$3:$PL$215,AV$7,FALSE)","v":26},{"$f":"VLOOKUP($B158,[1]FlowData!$A$3:$PL$215,AW$7,FALSE)","v":18},{"$f":"VLOOKUP($B158,[1]FlowData!$A$3:$PL$215,AX$7,FALSE)","v":29},{"$f":"VLOOKUP($B158,[1]FlowData!$A$3:$PL$215,AY$7,FALSE)","v":34},{"$f":"VLOOKUP($B158,[1]FlowData!$A$3:$PL$215,AZ$7,FALSE)","v":25},{"$f":"VLOOKUP($B158,[1]FlowData!$A$3:$PL$215,BA$7,FALSE)","v":18},{"$f":"VLOOKUP($B158,[1]FlowData!$A$3:$PL$215,BB$7,FALSE)","v":27},{"$f":"VLOOKUP($B158,[1]FlowData!$A$3:$PL$215,BC$7,FALSE)","v":27},{"$f":"VLOOKUP($B158,[1]FlowData!$A$3:$PL$215,BD$7,FALSE)","v":21},{"$f":"VLOOKUP($B158,[1]FlowData!$A$3:$PL$215,BE$7,FALSE)","v":15},{"$f":"VLOOKUP($B158,[1]FlowData!$A$3:$PL$215,BF$7,FALSE)","v":22}]
[{"$f":"VLOOKUP(B159,'[2]Gages and BCs'!$A$4:$BJ$973,62,FALSE)","v":101},6062500,{"$f":"VLOOKUP(B159,'[2]Gages and BCs'!$A$4:$BJ$973,60,FALSE)","v":"Tenmile Creek near Rimini, Montana"},"1917, 1921, 1923, 1926–29, 1934–94, 1997–2009",{"$f":"VLOOKUP($B159,[1]FlowData!$A$3:$PL$215,E$7,FALSE)","v":7.5999999999999998E-2},{"$f":"VLOOKUP($B159,[1]FlowData!$A$3:$PL$215,F$7,FALSE)","v":0.219},{"$f":"VLOOKUP($B159,[1]FlowData!$A$3:$PL$215,G$7,FALSE)","v":59},{"$f":"VLOOKUP($B159,[1]FlowData!$A$3:$PL$215,H$7,FALSE)","v":37},{"$f":"VLOOKUP($B159,[1]FlowData!$A$3:$PL$215,I$7,FALSE)","v":15},{"$f":"VLOOKUP($B159,[1]FlowData!$A$3:$PL$215,J$7,FALSE)","v":16},{"$f":"VLOOKUP($B159,[1]FlowData!$A$3:$PL$215,K$7,FALSE)","v":1.9},{"$f":"VLOOKUP($B159,[1]FlowData!$A$3:$PL$215,L$7,FALSE)","v":0.99},{"$f":"VLOOKUP($B159,[1]FlowData!$A$3:$PL$215,M$7,FALSE)","v":0.47},{"$f":"VLOOKUP($B159,[1]FlowData!$A$3:$PL$215,N$7,FALSE)","v":1.3},{"$f":"VLOOKUP($B159,[1]FlowData!$A$3:$PL$215,O$7,FALSE)","v":1.4},{"$f":"VLOOKUP($B159,[1]FlowData!$A$3:$PL$215,P$7,FALSE)","v":0.9},{"$f":"VLOOKUP($B159,[1]FlowData!$A$3:$PL$215,Q$7,FALSE)","v":0.48},{"$f":"VLOOKUP($B159,[1]FlowData!$A$3:$PL$215,R$7,FALSE)","v":1.1000000000000001},{"$f":"VLOOKUP($B159,[1]FlowData!$A$3:$PL$215,S$7,FALSE)","v":2.7},{"$f":"VLOOKUP($B159,[1]FlowData!$A$3:$PL$215,T$7,FALSE)","v":1.3},{"$f":"VLOOKUP($B159,[1]FlowData!$A$3:$PL$215,U$7,FALSE)","v":0.52},{"$f":"VLOOKUP($B159,[1]FlowData!$A$3:$PL$215,V$7,FALSE)","v":2.2000000000000002},{"$f":"VLOOKUP($B159,[1]FlowData!$A$3:$PL$215,W$7,FALSE)","v":27},{"$f":"VLOOKUP($B159,[1]FlowData!$A$3:$PL$215,X$7,FALSE)","v":9.6999999999999993},{"$f":"VLOOKUP($B159,[1]FlowData!$A$3:$PL$215,Y$7,FALSE)","v":3.3},{"$f":"VLOOKUP($B159,[1]FlowData!$A$3:$PL$215,Z$7,FALSE)","v":18},{"$f":"VLOOKUP($B159,[1]FlowData!$A$3:$PL$215,AA$7,FALSE)","v":128},{"$f":"VLOOKUP($B159,[1]FlowData!$A$3:$PL$215,AB$7,FALSE)","v":63},{"$f":"VLOOKUP($B159,[1]FlowData!$A$3:$PL$215,AC$7,FALSE)","v":26},{"$f":"VLOOKUP($B159,[1]FlowData!$A$3:$PL$215,AD$7,FALSE)","v":80},{"$f":"VLOOKUP($B159,[1]FlowData!$A$3:$PL$215,AE$7,FALSE)","v":116},{"$f":"VLOOKUP($B159,[1]FlowData!$A$3:$PL$215,AF$7,FALSE)","v":49},{"$f":"VLOOKUP($B159,[1]FlowData!$A$3:$PL$215,AG$7,FALSE)","v":17},{"$f":"VLOOKUP($B159,[1]FlowData!$A$3:$PL$215,AH$7,FALSE)","v":70},{"$f":"VLOOKUP($B159,[1]FlowData!$A$3:$PL$215,AI$7,FALSE)","v":19},{"$f":"VLOOKUP($B159,[1]FlowData!$A$3:$PL$215,AJ$7,FALSE)","v":6.5},{"$f":"VLOOKUP($B159,[1]FlowData!$A$3:$PL$215,AK$7,FALSE)","v":2.6},{"$f":"VLOOKUP($B159,[1]FlowData!$A$3:$PL$215,AL$7,FALSE)","v":12},{"$f":"VLOOKUP($B159,[1]FlowData!$A$3:$PL$215,AM$7,FALSE)","v":3.7},{"$f":"VLOOKUP($B159,[1]FlowData!$A$3:$PL$215,AN$7,FALSE)","v":1.2},{"$f":"VLOOKUP($B159,[1]FlowData!$A$3:$PL$215,AO$7,FALSE)","v":0.49},{"$f":"VLOOKUP($B159,[1]FlowData!$A$3:$PL$215,AP$7,FALSE)","v":2.4},{"$f":"VLOOKUP($B159,[1]FlowData!$A$3:$PL$215,AQ$7,FALSE)","v":3},{"$f":"VLOOKUP($B159,[1]FlowData!$A$3:$PL$215,AR$7,FALSE)","v":1.2},{"$f":"VLOOKUP($B159,[1]FlowData!$A$3:$PL$215,AS$7,FALSE)","v":0.47},{"$f":"VLOOKUP($B159,[1]FlowData!$A$3:$PL$215,AT$7,FALSE)","v":2.1},{"$f":"VLOOKUP($B159,[1]FlowData!$A$3:$PL$215,AU$7,FALSE)","v":4.2},{"$f":"VLOOKUP($B159,[1]FlowData!$A$3:$PL$215,AV$7,FALSE)","v":1.5},{"$f":"VLOOKUP($B159,[1]FlowData!$A$3:$PL$215,AW$7,FALSE)","v":0.57999999999999996},{"$f":"VLOOKUP($B159,[1]FlowData!$A$3:$PL$215,AX$7,FALSE)","v":2.8},{"$f":"VLOOKUP($B159,[1]FlowData!$A$3:$PL$215,AY$7,FALSE)","v":3.1},{"$f":"VLOOKUP($B159,[1]FlowData!$A$3:$PL$215,AZ$7,FALSE)","v":1.1000000000000001},{"$f":"VLOOKUP($B159,[1]FlowData!$A$3:$PL$215,BA$7,FALSE)","v":0.46},{"$f":"VLOOKUP($B159,[1]FlowData!$A$3:$PL$215,BB$7,FALSE)","v":2.1},{"$f":"VLOOKUP($B159,[1]FlowData!$A$3:$PL$215,BC$7,FALSE)","v":2.1},{"$f":"VLOOKUP($B159,[1]FlowData!$A$3:$PL$215,BD$7,FALSE)","v":1},{"$f":"VLOOKUP($B159,[1]FlowData!$A$3:$PL$215,BE$7,FALSE)","v":0.47},{"$f":"VLOOKUP($B159,[1]FlowData!$A$3:$PL$215,BF$7,FALSE)","v":1.6}]
[{"$f":"VLOOKUP(B160,'[2]Gages and BCs'!$A$4:$BJ$973,62,FALSE)","v":103},6063000,{"$f":"VLOOKUP(B160,'[2]Gages and BCs'!$A$4:$BJ$973,60,FALSE)","v":"Tenmile Creek near Helena, Montana"},"1909–28, 1930–54, 1997–98",{"$f":"VLOOKUP($B160,[1]FlowData!$A$3:$PL$215,E$7,FALSE)","v":8.8999999999999996E-2},{"$f":"VLOOKUP($B160,[1]FlowData!$A$3:$PL$215,F$7,FALSE)","v":0.186},{"$f":"VLOOKUP($B160,[1]FlowData!$A$3:$PL$215,G$7,FALSE)","v":32},{"$f":"VLOOKUP($B160,[1]FlowData!$A$3:$PL$215,H$7,FALSE)","v":19},{"$f":"VLOOKUP($B160,[1]FlowData!$A$3:$PL$215,I$7,FALSE)","v":7.1},{"$f":"VLOOKUP($B160,[1]FlowData!$A$3:$PL$215,J$7,FALSE)","v":29},{"$f":"VLOOKUP($B160,[1]FlowData!$A$3:$PL$215,K$7,FALSE)","v":8.8000000000000007},{"$f":"VLOOKUP($B160,[1]FlowData!$A$3:$PL$215,L$7,FALSE)","v":5.0999999999999996},{"$f":"VLOOKUP($B160,[1]FlowData!$A$3:$PL$215,M$7,FALSE)","v":2.4},{"$f":"VLOOKUP($B160,[1]FlowData!$A$3:$PL$215,N$7,FALSE)","v":6},{"$f":"VLOOKUP($B160,[1]FlowData!$A$3:$PL$215,O$7,FALSE)","v":7.6},{"$f":"VLOOKUP($B160,[1]FlowData!$A$3:$PL$215,P$7,FALSE)","v":4.8},{"$f":"VLOOKUP($B160,[1]FlowData!$A$3:$PL$215,Q$7,FALSE)","v":2.5},{"$f":"VLOOKUP($B160,[1]FlowData!$A$3:$PL$215,R$7,FALSE)","v":5.7},{"$f":"VLOOKUP($B160,[1]FlowData!$A$3:$PL$215,S$7,FALSE)","v":14},{"$f":"VLOOKUP($B160,[1]FlowData!$A$3:$PL$215,T$7,FALSE)","v":6.8},{"$f":"VLOOKUP($B160,[1]FlowData!$A$3:$PL$215,U$7,FALSE)","v":3.2},{"$f":"VLOOKUP($B160,[1]FlowData!$A$3:$PL$215,V$7,FALSE)","v":10},{"$f":"VLOOKUP($B160,[1]FlowData!$A$3:$PL$215,W$7,FALSE)","v":55},{"$f":"VLOOKUP($B160,[1]FlowData!$A$3:$PL$215,X$7,FALSE)","v":24},{"$f":"VLOOKUP($B160,[1]FlowData!$A$3:$PL$215,Y$7,FALSE)","v":9.1},{"$f":"VLOOKUP($B160,[1]FlowData!$A$3:$PL$215,Z$7,FALSE)","v":36},{"$f":"VLOOKUP($B160,[1]FlowData!$A$3:$PL$215,AA$7,FALSE)","v":175},{"$f":"VLOOKUP($B160,[1]FlowData!$A$3:$PL$215,AB$7,FALSE)","v":80},{"$f":"VLOOKUP($B160,[1]FlowData!$A$3:$PL$215,AC$7,FALSE)","v":39},{"$f":"VLOOKUP($B160,[1]FlowData!$A$3:$PL$215,AD$7,FALSE)","v":115},{"$f":"VLOOKUP($B160,[1]FlowData!$A$3:$PL$215,AE$7,FALSE)","v":182},{"$f":"VLOOKUP($B160,[1]FlowData!$A$3:$PL$215,AF$7,FALSE)","v":64},{"$f":"VLOOKUP($B160,[1]FlowData!$A$3:$PL$215,AG$7,FALSE)","v":19},{"$f":"VLOOKUP($B160,[1]FlowData!$A$3:$PL$215,AH$7,FALSE)","v":105},{"$f":"VLOOKUP($B160,[1]FlowData!$A$3:$PL$215,AI$7,FALSE)","v":31},{"$f":"VLOOKUP($B160,[1]FlowData!$A$3:$PL$215,AJ$7,FALSE)","v":9.3000000000000007},{"$f":"VLOOKUP($B160,[1]FlowData!$A$3:$PL$215,AK$7,FALSE)","v":3.3},{"$f":"VLOOKUP($B160,[1]FlowData!$A$3:$PL$215,AL$7,FALSE)","v":19},{"$f":"VLOOKUP($B160,[1]FlowData!$A$3:$PL$215,AM$7,FALSE)","v":4.3},{"$f":"VLOOKUP($B160,[1]FlowData!$A$3:$PL$215,AN$7,FALSE)","v":1.5},{"$f":"VLOOKUP($B160,[1]FlowData!$A$3:$PL$215,AO$7,FALSE)","v":0.33},{"$f":"VLOOKUP($B160,[1]FlowData!$A$3:$PL$215,AP$7,FALSE)","v":3.3},{"$f":"VLOOKUP($B160,[1]FlowData!$A$3:$PL$215,AQ$7,FALSE)","v":5.8},{"$f":"VLOOKUP($B160,[1]FlowData!$A$3:$PL$215,AR$7,FALSE)","v":1.4},{"$f":"VLOOKUP($B160,[1]FlowData!$A$3:$PL$215,AS$7,FALSE)","v":0.4},{"$f":"VLOOKUP($B160,[1]FlowData!$A$3:$PL$215,AT$7,FALSE)","v":3.4},{"$f":"VLOOKUP($B160,[1]FlowData!$A$3:$PL$215,AU$7,FALSE)","v":14},{"$f":"VLOOKUP($B160,[1]FlowData!$A$3:$PL$215,AV$7,FALSE)","v":5.6},{"$f":"VLOOKUP($B160,[1]FlowData!$A$3:$PL$215,AW$7,FALSE)","v":1.9},{"$f":"VLOOKUP($B160,[1]FlowData!$A$3:$PL$215,AX$7,FALSE)","v":8.6999999999999993},{"$f":"VLOOKUP($B160,[1]FlowData!$A$3:$PL$215,AY$7,FALSE)","v":13},{"$f":"VLOOKUP($B160,[1]FlowData!$A$3:$PL$215,AZ$7,FALSE)","v":7.2},{"$f":"VLOOKUP($B160,[1]FlowData!$A$3:$PL$215,BA$7,FALSE)","v":3.5},{"$f":"VLOOKUP($B160,[1]FlowData!$A$3:$PL$215,BB$7,FALSE)","v":8.8000000000000007},{"$f":"VLOOKUP($B160,[1]FlowData!$A$3:$PL$215,BC$7,FALSE)","v":9.9},{"$f":"VLOOKUP($B160,[1]FlowData!$A$3:$PL$215,BD$7,FALSE)","v":4.5999999999999996},{"$f":"VLOOKUP($B160,[1]FlowData!$A$3:$PL$215,BE$7,FALSE)","v":2.2999999999999998},{"$f":"VLOOKUP($B160,[1]FlowData!$A$3:$PL$215,BF$7,FALSE)","v":6.2}]
[{"$f":"VLOOKUP(B161,'[2]Gages and BCs'!$A$4:$BJ$973,62,FALSE)","v":106},6068500,{"$f":"VLOOKUP(B161,'[2]Gages and BCs'!$A$4:$BJ$973,60,FALSE)","v":"Little Prickly Pear Creek near Marysville, Montana"},"1914, 1916–25, 1927–32",{"$f":"VLOOKUP($B161,[1]FlowData!$A$3:$PL$215,E$7,FALSE)","v":""},{"$f":"VLOOKUP($B161,[1]FlowData!$A$3:$PL$215,F$7,FALSE)","v":""},{"$f":"VLOOKUP($B161,[1]FlowData!$A$3:$PL$215,G$7,FALSE)","v":""},{"$f":"VLOOKUP($B161,[1]FlowData!$A$3:$PL$215,H$7,FALSE)","v":""},{"$f":"VLOOKUP($B161,[1]FlowData!$A$3:$PL$215,I$7,FALSE)","v":""},{"$f":"VLOOKUP($B161,[1]FlowData!$A$3:$PL$215,J$7,FALSE)","v":""},{"$f":"VLOOKUP($B161,[1]FlowData!$A$3:$PL$215,K$7,FALSE)","v":""},{"$f":"VLOOKUP($B161,[1]FlowData!$A$3:$PL$215,L$7,FALSE)","v":""},{"$f":"VLOOKUP($B161,[1]FlowData!$A$3:$PL$215,M$7,FALSE)","v":""},{"$f":"VLOOKUP($B161,[1]FlowData!$A$3:$PL$215,N$7,FALSE)","v":""},{"$f":"VLOOKUP($B161,[1]FlowData!$A$3:$PL$215,O$7,FALSE)","v":""},{"$f":"VLOOKUP($B161,[1]FlowData!$A$3:$PL$215,P$7,FALSE)","v":""},{"$f":"VLOOKUP($B161,[1]FlowData!$A$3:$PL$215,Q$7,FALSE)","v":""},{"$f":"VLOOKUP($B161,[1]FlowData!$A$3:$PL$215,R$7,FALSE)","v":""},{"$f":"VLOOKUP($B161,[1]FlowData!$A$3:$PL$215,S$7,FALSE)","v":12},{"$f":"VLOOKUP($B161,[1]FlowData!$A$3:$PL$215,T$7,FALSE)","v":7.3},{"$f":"VLOOKUP($B161,[1]FlowData!$A$3:$PL$215,U$7,FALSE)","v":5.0999999999999996},{"$f":"VLOOKUP($B161,[1]FlowData!$A$3:$PL$215,V$7,FALSE)","v":9.6},{"$f":"VLOOKUP($B161,[1]FlowData!$A$3:$PL$215,W$7,FALSE)","v":48},{"$f":"VLOOKUP($B161,[1]FlowData!$A$3:$PL$215,X$7,FALSE)","v":20},{"$f":"VLOOKUP($B161,[1]FlowData!$A$3:$PL$215,Y$7,FALSE)","v":11},{"$f":"VLOOKUP($B161,[1]FlowData!$A$3:$PL$215,Z$7,FALSE)","v":30},{"$f":"VLOOKUP($B161,[1]FlowData!$A$3:$PL$215,AA$7,FALSE)","v":127},{"$f":"VLOOKUP($B161,[1]FlowData!$A$3:$PL$215,AB$7,FALSE)","v":71},{"$f":"VLOOKUP($B161,[1]FlowData!$A$3:$PL$215,AC$7,FALSE)","v":38},{"$f":"VLOOKUP($B161,[1]FlowData!$A$3:$PL$215,AD$7,FALSE)","v":87},{"$f":"VLOOKUP($B161,[1]FlowData!$A$3:$PL$215,AE$7,FALSE)","v":115},{"$f":"VLOOKUP($B161,[1]FlowData!$A$3:$PL$215,AF$7,FALSE)","v":56},{"$f":"VLOOKUP($B161,[1]FlowData!$A$3:$PL$215,AG$7,FALSE)","v":30},{"$f":"VLOOKUP($B161,[1]FlowData!$A$3:$PL$215,AH$7,FALSE)","v":78},{"$f":"VLOOKUP($B161,[1]FlowData!$A$3:$PL$215,AI$7,FALSE)","v":41},{"$f":"VLOOKUP($B161,[1]FlowData!$A$3:$PL$215,AJ$7,FALSE)","v":29},{"$f":"VLOOKUP($B161,[1]FlowData!$A$3:$PL$215,AK$7,FALSE)","v":17},{"$f":"VLOOKUP($B161,[1]FlowData!$A$3:$PL$215,AL$7,FALSE)","v":32},{"$f":"VLOOKUP($B161,[1]FlowData!$A$3:$PL$215,AM$7,FALSE)","v":25},{"$f":"VLOOKUP($B161,[1]FlowData!$A$3:$PL$215,AN$7,FALSE)","v":19},{"$f":"VLOOKUP($B161,[1]FlowData!$A$3:$PL$215,AO$7,FALSE)","v":12},{"$f":"VLOOKUP($B161,[1]FlowData!$A$3:$PL$215,AP$7,FALSE)","v":19},{"$f":"VLOOKUP($B161,[1]FlowData!$A$3:$PL$215,AQ$7,FALSE)","v":18},{"$f":"VLOOKUP($B161,[1]FlowData!$A$3:$PL$215,AR$7,FALSE)","v":15},{"$f":"VLOOKUP($B161,[1]FlowData!$A$3:$PL$215,AS$7,FALSE)","v":9.1999999999999993},{"$f":"VLOOKUP($B161,[1]FlowData!$A$3:$PL$215,AT$7,FALSE)","v":14},{"$f":"VLOOKUP($B161,[1]FlowData!$A$3:$PL$215,AU$7,FALSE)","v":""},{"$f":"VLOOKUP($B161,[1]FlowData!$A$3:$PL$215,AV$7,FALSE)","v":""},{"$f":"VLOOKUP($B161,[1]FlowData!$A$3:$PL$215,AW$7,FALSE)","v":""},{"$f":"VLOOKUP($B161,[1]FlowData!$A$3:$PL$215,AX$7,FALSE)","v":""},{"$f":"VLOOKUP($B161,[1]FlowData!$A$3:$PL$215,AY$7,FALSE)","v":""},{"$f":"VLOOKUP($B161,[1]FlowData!$A$3:$PL$215,AZ$7,FALSE)","v":""},{"$f":"VLOOKUP($B161,[1]FlowData!$A$3:$PL$215,BA$7,FALSE)","v":""},{"$f":"VLOOKUP($B161,[1]FlowData!$A$3:$PL$215,BB$7,FALSE)","v":""},{"$f":"VLOOKUP($B161,[1]FlowData!$A$3:$PL$215,BC$7,FALSE)","v":""},{"$f":"VLOOKUP($B161,[1]FlowData!$A$3:$PL$215,BD$7,FALSE)","v":""},{"$f":"VLOOKUP($B161,[1]FlowData!$A$3:$PL$215,BE$7,FALSE)","v":""},{"$f":"VLOOKUP($B161,[1]FlowData!$A$3:$PL$215,BF$7,FALSE)","v":""}]
[{"$f":"VLOOKUP(B162,'[2]Gages and BCs'!$A$4:$BJ$973,62,FALSE)","v":107},6071000,{"$f":"VLOOKUP(B162,'[2]Gages and BCs'!$A$4:$BJ$973,60,FALSE)","v":"Little Prickly Pear Creek near Canyon Creek, Montana"},"1909–11, 1913–16, 1918–24",{"$f":"VLOOKUP($B162,[1]FlowData!$A$3:$PL$215,E$7,FALSE)","v":""},{"$f":"VLOOKUP($B162,[1]FlowData!$A$3:$PL$215,F$7,FALSE)","v":0.89900000000000002},{"$f":"VLOOKUP($B162,[1]FlowData!$A$3:$PL$215,G$7,FALSE)","v":""},{"$f":"VLOOKUP($B162,[1]FlowData!$A$3:$PL$215,H$7,FALSE)","v":""},{"$f":"VLOOKUP($B162,[1]FlowData!$A$3:$PL$215,I$7,FALSE)","v":""},{"$f":"VLOOKUP($B162,[1]FlowData!$A$3:$PL$215,J$7,FALSE)","v":""},{"$f":"VLOOKUP($B162,[1]FlowData!$A$3:$PL$215,K$7,FALSE)","v":""},{"$f":"VLOOKUP($B162,[1]FlowData!$A$3:$PL$215,L$7,FALSE)","v":""},{"$f":"VLOOKUP($B162,[1]FlowData!$A$3:$PL$215,M$7,FALSE)","v":""},{"$f":"VLOOKUP($B162,[1]FlowData!$A$3:$PL$215,N$7,FALSE)","v":""},{"$f":"VLOOKUP($B162,[1]FlowData!$A$3:$PL$215,O$7,FALSE)","v":""},{"$f":"VLOOKUP($B162,[1]FlowData!$A$3:$PL$215,P$7,FALSE)","v":""},{"$f":"VLOOKUP($B162,[1]FlowData!$A$3:$PL$215,Q$7,FALSE)","v":""},{"$f":"VLOOKUP($B162,[1]FlowData!$A$3:$PL$215,R$7,FALSE)","v":""},{"$f":"VLOOKUP($B162,[1]FlowData!$A$3:$PL$215,S$7,FALSE)","v":""},{"$f":"VLOOKUP($B162,[1]FlowData!$A$3:$PL$215,T$7,FALSE)","v":""},{"$f":"VLOOKUP($B162,[1]FlowData!$A$3:$PL$215,U$7,FALSE)","v":""},{"$f":"VLOOKUP($B162,[1]FlowData!$A$3:$PL$215,V$7,FALSE)","v":""},{"$f":"VLOOKUP($B162,[1]FlowData!$A$3:$PL$215,W$7,FALSE)","v":119},{"$f":"VLOOKUP($B162,[1]FlowData!$A$3:$PL$215,X$7,FALSE)","v":66},{"$f":"VLOOKUP($B162,[1]FlowData!$A$3:$PL$215,Y$7,FALSE)","v":40},{"$f":"VLOOKUP($B162,[1]FlowData!$A$3:$PL$215,Z$7,FALSE)","v":83},{"$f":"VLOOKUP($B162,[1]FlowData!$A$3:$PL$215,AA$7,FALSE)","v":289},{"$f":"VLOOKUP($B162,[1]FlowData!$A$3:$PL$215,AB$7,FALSE)","v":167},{"$f":"VLOOKUP($B162,[1]FlowData!$A$3:$PL$215,AC$7,FALSE)","v":67},{"$f":"VLOOKUP($B162,[1]FlowData!$A$3:$PL$215,AD$7,FALSE)","v":189},{"$f":"VLOOKUP($B162,[1]FlowData!$A$3:$PL$215,AE$7,FALSE)","v":221},{"$f":"VLOOKUP($B162,[1]FlowData!$A$3:$PL$215,AF$7,FALSE)","v":92},{"$f":"VLOOKUP($B162,[1]FlowData!$A$3:$PL$215,AG$7,FALSE)","v":17},{"$f":"VLOOKUP($B162,[1]FlowData!$A$3:$PL$215,AH$7,FALSE)","v":111},{"$f":"VLOOKUP($B162,[1]FlowData!$A$3:$PL$215,AI$7,FALSE)","v":47},{"$f":"VLOOKUP($B162,[1]FlowData!$A$3:$PL$215,AJ$7,FALSE)","v":13},{"$f":"VLOOKUP($B162,[1]FlowData!$A$3:$PL$215,AK$7,FALSE)","v":4.3},{"$f":"VLOOKUP($B162,[1]FlowData!$A$3:$PL$215,AL$7,FALSE)","v":32},{"$f":"VLOOKUP($B162,[1]FlowData!$A$3:$PL$215,AM$7,FALSE)","v":23},{"$f":"VLOOKUP($B162,[1]FlowData!$A$3:$PL$215,AN$7,FALSE)","v":6.8},{"$f":"VLOOKUP($B162,[1]FlowData!$A$3:$PL$215,AO$7,FALSE)","v":2.1},{"$f":"VLOOKUP($B162,[1]FlowData!$A$3:$PL$215,AP$7,FALSE)","v":13},{"$f":"VLOOKUP($B162,[1]FlowData!$A$3:$PL$215,AQ$7,FALSE)","v":30},{"$f":"VLOOKUP($B162,[1]FlowData!$A$3:$PL$215,AR$7,FALSE)","v":18},{"$f":"VLOOKUP($B162,[1]FlowData!$A$3:$PL$215,AS$7,FALSE)","v":7.7},{"$f":"VLOOKUP($B162,[1]FlowData!$A$3:$PL$215,AT$7,FALSE)","v":20},{"$f":"VLOOKUP($B162,[1]FlowData!$A$3:$PL$215,AU$7,FALSE)","v":34},{"$f":"VLOOKUP($B162,[1]FlowData!$A$3:$PL$215,AV$7,FALSE)","v":20},{"$f":"VLOOKUP($B162,[1]FlowData!$A$3:$PL$215,AW$7,FALSE)","v":13},{"$f":"VLOOKUP($B162,[1]FlowData!$A$3:$PL$215,AX$7,FALSE)","v":22},{"$f":"VLOOKUP($B162,[1]FlowData!$A$3:$PL$215,AY$7,FALSE)","v":37},{"$f":"VLOOKUP($B162,[1]FlowData!$A$3:$PL$215,AZ$7,FALSE)","v":27},{"$f":"VLOOKUP($B162,[1]FlowData!$A$3:$PL$215,BA$7,FALSE)","v":20},{"$f":"VLOOKUP($B162,[1]FlowData!$A$3:$PL$215,BB$7,FALSE)","v":28},{"$f":"VLOOKUP($B162,[1]FlowData!$A$3:$PL$215,BC$7,FALSE)","v":""},{"$f":"VLOOKUP($B162,[1]FlowData!$A$3:$PL$215,BD$7,FALSE)","v":""},{"$f":"VLOOKUP($B162,[1]FlowData!$A$3:$PL$215,BE$7,FALSE)","v":""},{"$f":"VLOOKUP($B162,[1]FlowData!$A$3:$PL$215,BF$7,FALSE)","v":""}]
[{"$f":"VLOOKUP(B163,'[2]Gages and BCs'!$A$4:$BJ$973,62,FALSE)","v":109},6071300,{"$f":"VLOOKUP(B163,'[2]Gages and BCs'!$A$4:$BJ$973,60,FALSE)","v":"Little Prickly Pear Creek at Wolf Creek, Montana"},"1962–67, 1992–2009",{"$f":"VLOOKUP($B163,[1]FlowData!$A$3:$PL$215,E$7,FALSE)","v":15.048},{"$f":"VLOOKUP($B163,[1]FlowData!$A$3:$PL$215,F$7,FALSE)","v":20.274000000000001},{"$f":"VLOOKUP($B163,[1]FlowData!$A$3:$PL$215,G$7,FALSE)","v":98},{"$f":"VLOOKUP($B163,[1]FlowData!$A$3:$PL$215,H$7,FALSE)","v":65},{"$f":"VLOOKUP($B163,[1]FlowData!$A$3:$PL$215,I$7,FALSE)","v":31},{"$f":"VLOOKUP($B163,[1]FlowData!$A$3:$PL$215,J$7,FALSE)","v":85},{"$f":"VLOOKUP($B163,[1]FlowData!$A$3:$PL$215,K$7,FALSE)","v":56},{"$f":"VLOOKUP($B163,[1]FlowData!$A$3:$PL$215,L$7,FALSE)","v":43},{"$f":"VLOOKUP($B163,[1]FlowData!$A$3:$PL$215,M$7,FALSE)","v":30},{"$f":"VLOOKUP($B163,[1]FlowData!$A$3:$PL$215,N$7,FALSE)","v":44},{"$f":"VLOOKUP($B163,[1]FlowData!$A$3:$PL$215,O$7,FALSE)","v":60},{"$f":"VLOOKUP($B163,[1]FlowData!$A$3:$PL$215,P$7,FALSE)","v":43},{"$f":"VLOOKUP($B163,[1]FlowData!$A$3:$PL$215,Q$7,FALSE)","v":26},{"$f":"VLOOKUP($B163,[1]FlowData!$A$3:$PL$215,R$7,FALSE)","v":56},{"$f":"VLOOKUP($B163,[1]FlowData!$A$3:$PL$215,S$7,FALSE)","v":81},{"$f":"VLOOKUP($B163,[1]FlowData!$A$3:$PL$215,T$7,FALSE)","v":58},{"$f":"VLOOKUP($B163,[1]FlowData!$A$3:$PL$215,U$7,FALSE)","v":42},{"$f":"VLOOKUP($B163,[1]FlowData!$A$3:$PL$215,V$7,FALSE)","v":65},{"$f":"VLOOKUP($B163,[1]FlowData!$A$3:$PL$215,W$7,FALSE)","v":181},{"$f":"VLOOKUP($B163,[1]FlowData!$A$3:$PL$215,X$7,FALSE)","v":91},{"$f":"VLOOKUP($B163,[1]FlowData!$A$3:$PL$215,Y$7,FALSE)","v":65},{"$f":"VLOOKUP($B163,[1]FlowData!$A$3:$PL$215,Z$7,FALSE)","v":128},{"$f":"VLOOKUP($B163,[1]FlowData!$A$3:$PL$215,AA$7,FALSE)","v":373},{"$f":"VLOOKUP($B163,[1]FlowData!$A$3:$PL$215,AB$7,FALSE)","v":161},{"$f":"VLOOKUP($B163,[1]FlowData!$A$3:$PL$215,AC$7,FALSE)","v":75},{"$f":"VLOOKUP($B163,[1]FlowData!$A$3:$PL$215,AD$7,FALSE)","v":227},{"$f":"VLOOKUP($B163,[1]FlowData!$A$3:$PL$215,AE$7,FALSE)","v":281},{"$f":"VLOOKUP($B163,[1]FlowData!$A$3:$PL$215,AF$7,FALSE)","v":143},{"$f":"VLOOKUP($B163,[1]FlowData!$A$3:$PL$215,AG$7,FALSE)","v":63},{"$f":"VLOOKUP($B163,[1]FlowData!$A$3:$PL$215,AH$7,FALSE)","v":194},{"$f":"VLOOKUP($B163,[1]FlowData!$A$3:$PL$215,AI$7,FALSE)","v":106},{"$f":"VLOOKUP($B163,[1]FlowData!$A$3:$PL$215,AJ$7,FALSE)","v":61},{"$f":"VLOOKUP($B163,[1]FlowData!$A$3:$PL$215,AK$7,FALSE)","v":37},{"$f":"VLOOKUP($B163,[1]FlowData!$A$3:$PL$215,AL$7,FALSE)","v":75},{"$f":"VLOOKUP($B163,[1]FlowData!$A$3:$PL$215,AM$7,FALSE)","v":55},{"$f":"VLOOKUP($B163,[1]FlowData!$A$3:$PL$215,AN$7,FALSE)","v":39},{"$f":"VLOOKUP($B163,[1]FlowData!$A$3:$PL$215,AO$7,FALSE)","v":24},{"$f":"VLOOKUP($B163,[1]FlowData!$A$3:$PL$215,AP$7,FALSE)","v":43},{"$f":"VLOOKUP($B163,[1]FlowData!$A$3:$PL$215,AQ$7,FALSE)","v":54},{"$f":"VLOOKUP($B163,[1]FlowData!$A$3:$PL$215,AR$7,FALSE)","v":36},{"$f":"VLOOKUP($B163,[1]FlowData!$A$3:$PL$215,AS$7,FALSE)","v":26},{"$f":"VLOOKUP($B163,[1]FlowData!$A$3:$PL$215,AT$7,FALSE)","v":45},{"$f":"VLOOKUP($B163,[1]FlowData!$A$3:$PL$215,AU$7,FALSE)","v":52},{"$f":"VLOOKUP($B163,[1]FlowData!$A$3:$PL$215,AV$7,FALSE)","v":42},{"$f":"VLOOKUP($B163,[1]FlowData!$A$3:$PL$215,AW$7,FALSE)","v":33},{"$f":"VLOOKUP($B163,[1]FlowData!$A$3:$PL$215,AX$7,FALSE)","v":48},{"$f":"VLOOKUP($B163,[1]FlowData!$A$3:$PL$215,AY$7,FALSE)","v":62},{"$f":"VLOOKUP($B163,[1]FlowData!$A$3:$PL$215,AZ$7,FALSE)","v":49},{"$f":"VLOOKUP($B163,[1]FlowData!$A$3:$PL$215,BA$7,FALSE)","v":38},{"$f":"VLOOKUP($B163,[1]FlowData!$A$3:$PL$215,BB$7,FALSE)","v":52},{"$f":"VLOOKUP($B163,[1]FlowData!$A$3:$PL$215,BC$7,FALSE)","v":59},{"$f":"VLOOKUP($B163,[1]FlowData!$A$3:$PL$215,BD$7,FALSE)","v":47},{"$f":"VLOOKUP($B163,[1]FlowData!$A$3:$PL$215,BE$7,FALSE)","v":34},{"$f":"VLOOKUP($B163,[1]FlowData!$A$3:$PL$215,BF$7,FALSE)","v":48}]
[]
["2Flood-frequency results not reported because of too many values less than the low-outlier threshold used in the analysis. This is discussed further in McCarthy and others (2015)."]

{"sheet":"Table 1-2_Lookup","index":2,"n_rows":160,"n_cols":8,"rows_kept":160,"cut":false,"hidden":true,"merged":[[85,0,85,7],[135,0,135,7],[1,0,1,7],[0,0,0,7],[2,5,2,7],[4,0,4,7],[58,0,58,7],[2,3,2,4]]}
["Table 1–3.  Basin-characteristics data for streamflow-gaging stations used in developing the regional regression equations."]
["[A,  contributing drainage area, in square miles; P, mean annual precipitation, in inches;  --, not applicable; SLP50, percent of basin with slope greater than 50 percent]"]
[null,null,null,"Gage location",null,"Basin-characteristics data"]
["Map number (fig. 1)","Station identification","Station name","Latitude, decimal degrees1","Longitude, decimal degrees1","A","P","SLP50"]
["West hydrologic region"]
[{"$f":"VLOOKUP(B6,'[2]Gages and BCs'!$A$4:$BJ$973,62,FALSE)","v":596},12301300,{"$f":"VLOOKUP(B6,'[2]Gages and BCs'!$A$4:$BJ$973,60,FALSE)","v":"Tobacco River near Eureka, Montana"},{"$f":"VLOOKUP($B6,[1]BasinCharacteristics!$A$2:$U$972,3,FALSE)","v":48.893591669999999},{"$f":"VLOOKUP($B6,[1]BasinCharacteristics!$A$2:$U$972,4,FALSE)","v":-115.08785278000001},{"$f":"VLOOKUP($B6,[1]BasinCharacteristics!$A$2:$U$972,5,FALSE)","v":419},"--",{"$f":"VLOOKUP($B6,[1]BasinCharacteristics!$A$2:$U$972,20,FALSE)","v":12.401999999999999}]
[{"$f":"VLOOKUP(B7,'[2]Gages and BCs'!$A$4:$BJ$973,62,FALSE)","v":605},12301999,{"$f":"VLOOKUP(B7,'[2]Gages and BCs'!$A$4:$BJ$973,60,FALSE)","v":"Wolf Creek near Libby, Montana"},{"$f":"VLOOKUP($B7,[1]BasinCharacteristics!$A$2:$U$972,3,FALSE)","v":48.23356716},{"$f":"VLOOKUP($B7,[1]BasinCharacteristics!$A$2:$U$972,4,FALSE)","v":-115.28488348},{"$f":"VLOOKUP($B7,[1]BasinCharacteristics!$A$2:$U$972,5,FALSE)","v":216},"--",{"$f":"VLOOKUP($B7,[1]BasinCharacteristics!$A$2:$U$972,20,FALSE)","v":5.7670000000000003}]
[{"$f":"VLOOKUP(B8,'[2]Gages and BCs'!$A$4:$BJ$973,62,FALSE)","v":607},12302055,{"$f":"VLOOKUP(B8,'[2]Gages and BCs'!$A$4:$BJ$973,60,FALSE)","v":"Fisher River near Libby, Montana"},{"$f":"VLOOKUP($B8,[1]BasinCharacteristics!$A$2:$U$972,3,FALSE)","v":48.355602779999998},{"$f":"VLOOKUP($B8,[1]BasinCharacteristics!$A$2:$U$972,4,FALSE)","v":-115.31465},{"$f":"VLOOKUP($B8,[1]BasinCharacteristics!$A$2:$U$972,5,FALSE)","v":842},"--",{"$f":"VLOOKUP($B8,[1]BasinCharacteristics!$A$2:$U$972,20,FALSE)","v":11.186}]
[{"$f":"VLOOKUP(B9,'[2]Gages and BCs'!$A$4:$BJ$973,62,FALSE)","v":609},12302500,{"$f":"VLOOKUP(B9,'[2]Gages and BCs'!$A$4:$BJ$973,60,FALSE)","v":"Granite Creek near Libby, Montana"},{"$f":"VLOOKUP($B9,[1]BasinCharacteristics!$A$2:$U$972,3,FALSE)","v":48.301802780000003},{"$f":"VLOOKUP($B9,[1]BasinCharacteristics!$A$2:$U$972,4,FALSE)","v":-115.59236667},{"$f":"VLOOKUP($B9,[1]BasinCharacteristics!$A$2:$U$972,5,FALSE)","v":23.7},"--",{"$f":"VLOOKUP($B9,[1]BasinCharacteristics!$A$2:$U$972,20,FALSE)","v":56.671999999999997}]
[{"$f":"VLOOKUP(B10,'[2]Gages and BCs'!$A$4:$BJ$973,62,FALSE)","v":611},12303100,{"$f":"VLOOKUP(B10,'[2]Gages and BCs'!$A$4:$BJ$973,60,FALSE)","v":"Flower Creek near Libby, Montana"},{"$f":"VLOOKUP($B10,[1]BasinCharacteristics!$A$2:$U$972,3,FALSE)","v":48.344838889999998},{"$f":"VLOOKUP($B10,[1]BasinCharacteristics!$A$2:$U$972,4,FALSE)","v":-115.60656944},{"$f":"VLOOKUP($B10,[1]BasinCharacteristics!$A$2:$U$972,5,FALSE)","v":11.2},"--",{"$f":"VLOOKUP($B10,[1]BasinCharacteristics!$A$2:$U$972,20,FALSE)","v":44.42}]
[{"$f":"VLOOKUP(B11,'[2]Gages and BCs'!$A$4:$BJ$973,62,FALSE)","v":614},12303500,{"$f":"VLOOKUP(B11,'[2]Gages and BCs'!$A$4:$BJ$973,60,FALSE)","v":"Lake Creek at Troy, Montana"},{"$f":"VLOOKUP($B11,[1]BasinCharacteristics!$A$2:$U$972,3,FALSE)","v":48.44686111},{"$f":"VLOOKUP($B11,[1]BasinCharacteristics!$A$2:$U$972,4,FALSE)","v":-115.87713611},{"$f":"VLOOKUP($B11,[1]BasinCharacteristics!$A$2:$U$972,5,FALSE)","v":204},"--",{"$f":"VLOOKUP($B11,[1]BasinCharacteristics!$A$2:$U$972,20,FALSE)","v":34.610999999999997}]
[{"$f":"VLOOKUP(B12,'[2]Gages and BCs'!$A$4:$BJ$973,62,FALSE)","v":615},12304040,{"$f":"VLOOKUP(B12,'[2]Gages and BCs'!$A$4:$BJ$973,60,FALSE)","v":"Basin Creek near Yaak, Montana"},{"$f":"VLOOKUP($B12,[1]BasinCharacteristics!$A$2:$U$972,3,FALSE)","v":48.930547220000001},{"$f":"VLOOKUP($B12,[1]BasinCharacteristics!$A$2:$U$972,4,FALSE)","v":-115.48163056},{"$f":"VLOOKUP($B12,[1]BasinCharacteristics!$A$2:$U$972,5,FALSE)","v":27.5},"--",{"$f":"VLOOKUP($B12,[1]BasinCharacteristics!$A$2:$U$972,20,FALSE)","v":6.0620000000000003}]
[{"$f":"VLOOKUP(B13,'[2]Gages and BCs'!$A$4:$BJ$973,62,FALSE)","v":621},12304500,{"$f":"VLOOKUP(B13,'[2]Gages and BCs'!$A$4:$BJ$973,60,FALSE)","v":"Yaak River near Troy, Montana"},{"$f":"VLOOKUP($B13,[1]BasinCharacteristics!$A$2:$U$972,3,FALSE)","v":48.56172222},{"$f":"VLOOKUP($B13,[1]BasinCharacteristics!$A$2:$U$972,4,FALSE)","v":-115.97015833},{"$f":"VLOOKUP($B13,[1]BasinCharacteristics!$A$2:$U$972,5,FALSE)","v":792},"--",{"$f":"VLOOKUP($B13,[1]BasinCharacteristics!$A$2:$U$972,20,FALSE)","v":7.3949999999999996}]
[{"$f":"VLOOKUP(B14,'[2]Gages and BCs'!$A$4:$BJ$973,62,FALSE)","v":624},12323240,{"$f":"VLOOKUP(B14,'[2]Gages and BCs'!$A$4:$BJ$973,60,FALSE)","v":"Blacktail Creek at Butte, Montana"},{"$f":"VLOOKUP($B14,[1]BasinCharacteristics!$A$2:$U$972,3,FALSE)","v":45.994669440000003},{"$f":"VLOOKUP($B14,[1]BasinCharacteristics!$A$2:$U$972,4,FALSE)","v":-112.53571389},{"$f":"VLOOKUP($B14,[1]BasinCharacteristics!$A$2:$U$972,5,FALSE)","v":90.9},"--",{"$f":"VLOOKUP($B14,[1]BasinCharacteristics!$A$2:$U$972,20,FALSE)","v":4.8339999999999996}]
[{"$f":"VLOOKUP(B15,'[2]Gages and BCs'!$A$4:$BJ$973,62,FALSE)","v":627},12323500,{"$f":"VLOOKUP(B15,'[2]Gages and BCs'!$A$4:$BJ$973,60,FALSE)","v":"German Gulch Creek near Ramsay, Montana"},{"$f":"VLOOKUP($B15,[1]BasinCharacteristics!$A$2:$U$972,3,FALSE)","v":46.014600000000002},{"$f":"VLOOKUP($B15,[1]BasinCharacteristics!$A$2:$U$972,4,FALSE)","v":-112.79324722},{"$f":"VLOOKUP($B15,[1]BasinCharacteristics!$A$2:$U$972,5,FALSE)","v":40.9},"--",{"$f":"VLOOKUP($B15,[1]BasinCharacteristics!$A$2:$U$972,20,FALSE)","v":8.6920000000000002}]
[{"$f":"VLOOKUP(B16,'[2]Gages and BCs'!$A$4:$BJ$973,62,FALSE)","v":628},12323600,{"$f":"VLOOKUP(B16,'[2]Gages and BCs'!$A$4:$BJ$973,60,FALSE)","v":"Silver Bow Creek at Opportunity, Montana"},{"$f":"VLOOKUP($B16,[1]BasinCharacteristics!$A$2:$U$972,3,FALSE)","v":46.107758330000003},{"$f":"VLOOKUP($B16,[1]BasinCharacteristics!$A$2:$U$972,4,FALSE)","v":-112.80528332999999},{"$f":"VLOOKUP($B16,[1]BasinCharacteristics!$A$2:$U$972,5,FALSE)","v":343},"--",{"$f":"VLOOKUP($B16,[1]BasinCharacteristics!$A$2:$U$972,20,FALSE)","v":4.6500000000000004}]
[{"$f":"VLOOKUP(B17,'[2]Gages and BCs'!$A$4:$BJ$973,62,FALSE)","v":633},12324100,{"$f":"VLOOKUP(B17,'[2]Gages and BCs'!$A$4:$BJ$973,60,FALSE)","v":"Racetrack Creek below Granite Creek, near Anaconda, Montana"},{"$f":"VLOOKUP($B17,[1]BasinCharacteristics!$A$2:$U$972,3,FALSE)","v":46.278944439999997},{"$f":"VLOOKUP($B17,[1]BasinCharacteristics!$A$2:$U$972,4,FALSE)","v":-112.919175},{"$f":"VLOOKUP($B17,[1]BasinCharacteristics!$A$2:$U$972,5,FALSE)","v":41.1},"--",{"$f":"VLOOKUP($B17,[1]BasinCharacteristics!$A$2:$U$972,20,FALSE)","v":22.882999999999999}]
[{"$f":"VLOOKUP(B18,'[2]Gages and BCs'!$A$4:$BJ$973,62,FALSE)","v":634},12324200,{"$f":"VLOOKUP(B18,'[2]Gages and BCs'!$A$4:$BJ$973,60,FALSE)","v":"Clark Fork at Deer Lodge, Montana"},{"$f":"VLOOKUP($B18,[1]BasinCharacteristics!$A$2:$U$972,3,FALSE)","v":46.397649999999999},{"$f":"VLOOKUP($B18,[1]BasinCharacteristics!$A$2:$U$972,4,FALSE)","v":-112.74253889000001},{"$f":"VLOOKUP($B18,[1]BasinCharacteristics!$A$2:$U$972,5,FALSE)","v":1001},"--",{"$f":"VLOOKUP($B18,[1]BasinCharacteristics!$A$2:$U$972,20,FALSE)","v":7.2229999999999999}]
[{"$f":"VLOOKUP(B19,'[2]Gages and BCs'!$A$4:$BJ$973,62,FALSE)","v":636},12324590,{"$f":"VLOOKUP(B19,'[2]Gages and BCs'!$A$4:$BJ$973,60,FALSE)","v":"Little Blackfoot River near Garrison, Montana"},{"$f":"VLOOKUP($B19,[1]BasinCharacteristics!$A$2:$U$972,3,FALSE)","v":46.51948333},{"$f":"VLOOKUP($B19,[1]BasinCharacteristics!$A$2:$U$972,4,FALSE)","v":-112.79317222},{"$f":"VLOOKUP($B19,[1]BasinCharacteristics!$A$2:$U$972,5,FALSE)","v":414},"--",{"$f":"VLOOKUP($B19,[1]BasinCharacteristics!$A$2:$U$972,20,FALSE)","v":2.3940000000000001}]
[{"$f":"VLOOKUP(B20,'[2]Gages and BCs'!$A$4:$BJ$973,62,FALSE)","v":642},12330000,{"$f":"VLOOKUP(B20,'[2]Gages and BCs'!$A$4:$BJ$973,60,FALSE)","v":"Boulder Creek at Maxville, Montana"},{"$f":"VLOOKUP($B20,[1]BasinCharacteristics!$A$2:$U$972,3,FALSE)","v":46.471652779999999},{"$f":"VLOOKUP($B20,[1]BasinCharacteristics!$A$2:$U$972,4,FALSE)","v":-113.23576944},{"$f":"VLOOKUP($B20,[1]BasinCharacteristics!$A$2:$U$972,5,FALSE)","v":70.5},"--",{"$f":"VLOOKUP($B20,[1]BasinCharacteristics!$A$2:$U$972,20,FALSE)","v":15.986000000000001}]
[{"$f":"VLOOKUP(B21,'[2]Gages and BCs'!$A$4:$BJ$973,62,FALSE)","v":646},12331800,{"$f":"VLOOKUP(B21,'[2]Gages and BCs'!$A$4:$BJ$973,60,FALSE)","v":"Clark Fork near Drummond, Montana"},{"$f":"VLOOKUP($B21,[1]BasinCharacteristics!$A$2:$U$972,3,FALSE)","v":46.711913889999998},{"$f":"VLOOKUP($B21,[1]BasinCharacteristics!$A$2:$U$972,4,FALSE)","v":-113.33078055999999},{"$f":"VLOOKUP($B21,[1]BasinCharacteristics!$A$2:$U$972,5,FALSE)","v":2516},"--",{"$f":"VLOOKUP($B21,[1]BasinCharacteristics!$A$2:$U$972,20,FALSE)","v":6.0259999999999998}]
[{"$f":"VLOOKUP(B22,'[2]Gages and BCs'!$A$4:$BJ$973,62,FALSE)","v":648},12332000,{"$f":"VLOOKUP(B22,'[2]Gages and BCs'!$A$4:$BJ$973,60,FALSE)","v":"Middle Fork Rock Creek near Philipsburg, Montana"},{"$f":"VLOOKUP($B22,[1]BasinCharacteristics!$A$2:$U$972,3,FALSE)","v":46.184569439999997},{"$f":"VLOOKUP($B22,[1]BasinCharacteristics!$A$2:$U$972,4,FALSE)","v":-113.50156944},{"$f":"VLOOKUP($B22,[1]BasinCharacteristics!$A$2:$U$972,5,FALSE)","v":121},"--",{"$f":"VLOOKUP($B22,[1]BasinCharacteristics!$A$2:$U$972,20,FALSE)","v":13.96}]
[{"$f":"VLOOKUP(B23,'[2]Gages and BCs'!$A$4:$BJ$973,62,FALSE)","v":649},12334510,{"$f":"VLOOKUP(B23,'[2]Gages and BCs'!$A$4:$BJ$973,60,FALSE)","v":"Rock Creek near Clinton, Montana"},{"$f":"VLOOKUP($B23,[1]BasinCharacteristics!$A$2:$U$972,3,FALSE)","v":46.722336110000001},{"$f":"VLOOKUP($B23,[1]BasinCharacteristics!$A$2:$U$972,4,FALSE)","v":-113.68306111},{"$f":"VLOOKUP($B23,[1]BasinCharacteristics!$A$2:$U$972,5,FALSE)","v":889},"--",{"$f":"VLOOKUP($B23,[1]BasinCharacteristics!$A$2:$U$972,20,FALSE)","v":21.175999999999998}]
[{"$f":"VLOOKUP(B24,'[2]Gages and BCs'!$A$4:$BJ$973,62,FALSE)","v":653},12335500,{"$f":"VLOOKUP(B24,'[2]Gages and BCs'!$A$4:$BJ$973,60,FALSE)","v":"Nevada Creek above reservoir, near Helmville, Montana"},{"$f":"VLOOKUP($B24,[1]BasinCharacteristics!$A$2:$U$972,3,FALSE)","v":46.777777780000001},{"$f":"VLOOKUP($B24,[1]BasinCharacteristics!$A$2:$U$972,4,FALSE)","v":-112.76778611},{"$f":"VLOOKUP($B24,[1]BasinCharacteristics!$A$2:$U$972,5,FALSE)","v":119},"--",{"$f":"VLOOKUP($B24,[1]BasinCharacteristics!$A$2:$U$972,20,FALSE)","v":13.933999999999999}]
[{"$f":"VLOOKUP(B25,'[2]Gages and BCs'!$A$4:$BJ$973,62,FALSE)","v":654},12338300,{"$f":"VLOOKUP(B25,'[2]Gages and BCs'!$A$4:$BJ$973,60,FALSE)","v":"North Fork Blackfoot River above Dry Gulch, near Ovando, Montana"},{"$f":"VLOOKUP($B25,[1]BasinCharacteristics!$A$2:$U$972,3,FALSE)","v":46.979494440000003},{"$f":"VLOOKUP($B25,[1]BasinCharacteristics!$A$2:$U$972,4,FALSE)","v":-113.09218611},{"$f":"VLOOKUP($B25,[1]BasinCharacteristics!$A$2:$U$972,5,FALSE)","v":310},"--",{"$f":"VLOOKUP($B25,[1]BasinCharacteristics!$A$2:$U$972,20,FALSE)","v":25.007999999999999}]
[{"$f":"VLOOKUP(B26,'[2]Gages and BCs'!$A$4:$BJ$973,62,FALSE)","v":655},12338500,{"$f":"VLOOKUP(B26,'[2]Gages and BCs'!$A$4:$BJ$973,60,FALSE)","v":"Blackfoot River near Ovando, Montana"},{"$f":"VLOOKUP($B26,[1]BasinCharacteristics!$A$2:$U$972,3,FALSE)","v":47.015558329999998},{"$f":"VLOOKUP($B26,[1]BasinCharacteristics!$A$2:$U$972,4,FALSE)","v":-113.22881667},{"$f":"VLOOKUP($B26,[1]BasinCharacteristics!$A$2:$U$972,5,FALSE)","v":1270},"--",{"$f":"VLOOKUP($B26,[1]BasinCharacteristics!$A$2:$U$972,20,FALSE)","v":14.218}]
[{"$f":"VLOOKUP(B27,'[2]Gages and BCs'!$A$4:$BJ$973,62,FALSE)","v":659},12338690,{"$f":"VLOOKUP(B27,'[2]Gages and BCs'!$A$4:$BJ$973,60,FALSE)","v":"Monture Creek near Ovando, Montana"},{"$f":"VLOOKUP($B27,[1]BasinCharacteristics!$A$2:$U$972,3,FALSE)","v":47.045291669999997},{"$f":"VLOOKUP($B27,[1]BasinCharacteristics!$A$2:$U$972,4,FALSE)","v":-113.19016388999999},{"$f":"VLOOKUP($B27,[1]BasinCharacteristics!$A$2:$U$972,5,FALSE)","v":146},"--",{"$f":"VLOOKUP($B27,[1]BasinCharacteristics!$A$2:$U$972,20,FALSE)","v":27.059000000000001}]
[{"$f":"VLOOKUP(B28,'[2]Gages and BCs'!$A$4:$BJ$973,62,FALSE)","v":661},12339450,{"$f":"VLOOKUP(B28,'[2]Gages and BCs'!$A$4:$BJ$973,60,FALSE)","v":"Clearwater River near Clearwater, Montana"},{"$f":"VLOOKUP($B28,[1]BasinCharacteristics!$A$2:$U$972,3,FALSE)","v":47.018677779999997},{"$f":"VLOOKUP($B28,[1]BasinCharacteristics!$A$2:$U$972,4,FALSE)","v":-113.3877},{"$f":"VLOOKUP($B28,[1]BasinCharacteristics!$A$2:$U$972,5,FALSE)","v":346},"--",{"$f":"VLOOKUP($B28,[1]BasinCharacteristics!$A$2:$U$972,20,FALSE)","v":9.157}]
[{"$f":"VLOOKUP(B29,'[2]Gages and BCs'!$A$4:$BJ$973,62,FALSE)","v":663},12340000,{"$f":"VLOOKUP(B29,'[2]Gages and BCs'!$A$4:$BJ$973,60,FALSE)","v":"Blackfoot River near Bonner, Montana"},{"$f":"VLOOKUP($B29,[1]BasinCharacteristics!$A$2:$U$972,3,FALSE)","v":46.899411110000003},{"$f":"VLOOKUP($B29,[1]BasinCharacteristics!$A$2:$U$972,4,FALSE)","v":-113.75631944},{"$f":"VLOOKUP($B29,[1]BasinCharacteristics!$A$2:$U$972,5,FALSE)","v":2287},"--",{"$f":"VLOOKUP($B29,[1]BasinCharacteristics!$A$2:$U$972,20,FALSE)","v":12.837999999999999}]
[{"$f":"VLOOKUP(B30,'[2]Gages and BCs'!$A$4:$BJ$973,62,FALSE)","v":669},12343400,{"$f":"VLOOKUP(B30,'[2]Gages and BCs'!$A$4:$BJ$973,60,FALSE)","v":"East Fork Bitterroot River near Conner, Montana"},{"$f":"VLOOKUP($B30,[1]BasinCharacteristics!$A$2:$U$972,3,FALSE)","v":45.883016670000004},{"$f":"VLOOKUP($B30,[1]BasinCharacteristics!$A$2:$U$972,4,FALSE)","v":-114.06631389},{"$f":"VLOOKUP($B30,[1]BasinCharacteristics!$A$2:$U$972,5,FALSE)","v":380},"--",{"$f":"VLOOKUP($B30,[1]BasinCharacteristics!$A$2:$U$972,20,FALSE)","v":17.824999999999999}]
[{"$f":"VLOOKUP(B31,'[2]Gages and BCs'!$A$4:$BJ$973,62,FALSE)","v":675},12346500,{"$f":"VLOOKUP(B31,'[2]Gages and BCs'!$A$4:$BJ$973,60,FALSE)","v":"Skalkaho Creek near Hamilton, Montana"},{"$f":"VLOOKUP($B31,[1]BasinCharacteristics!$A$2:$U$972,3,FALSE)","v":46.160794439999997},{"$f":"VLOOKUP($B31,[1]BasinCharacteristics!$A$2:$U$972,4,FALSE)","v":-113.94871944},{"$f":"VLOOKUP($B31,[1]BasinCharacteristics!$A$2:$U$972,5,FALSE)","v":87.5},"--",{"$f":"VLOOKUP($B31,[1]BasinCharacteristics!$A$2:$U$972,20,FALSE)","v":28.587}]
[{"$f":"VLOOKUP(B32,'[2]Gages and BCs'!$A$4:$BJ$973,62,FALSE)","v":676},12347500,{"$f":"VLOOKUP(B32,'[2]Gages and BCs'!$A$4:$BJ$973,60,FALSE)","v":"Blodgett Creek near Corvallis, Montana"},{"$f":"VLOOKUP($B32,[1]BasinCharacteristics!$A$2:$U$972,3,FALSE)","v":46.269422220000003},{"$f":"VLOOKUP($B32,[1]BasinCharacteristics!$A$2:$U$972,4,FALSE)","v":-114.23705556},{"$f":"VLOOKUP($B32,[1]BasinCharacteristics!$A$2:$U$972,5,FALSE)","v":25.9},"--",{"$f":"VLOOKUP($B32,[1]BasinCharacteristics!$A$2:$U$972,20,FALSE)","v":60.2}]
[{"$f":"VLOOKUP(B33,'[2]Gages and BCs'!$A$4:$BJ$973,62,FALSE)","v":678},12350000,{"$f":"VLOOKUP(B33,'[2]Gages and BCs'!$A$4:$BJ$973,60,FALSE)","v":"Bear Creek near Victor, Montana"},{"$f":"VLOOKUP($B33,[1]BasinCharacteristics!$A$2:$U$972,3,FALSE)","v":46.38092778},{"$f":"VLOOKUP($B33,[1]BasinCharacteristics!$A$2:$U$972,4,FALSE)","v":-114.22041111},{"$f":"VLOOKUP($B33,[1]BasinCharacteristics!$A$2:$U$972,5,FALSE)","v":27.4},"--",{"$f":"VLOOKUP($B33,[1]BasinCharacteristics!$A$2:$U$972,20,FALSE)","v":54.484000000000002}]
[{"$f":"VLOOKUP(B34,'[2]Gages and BCs'!$A$4:$BJ$973,62,FALSE)","v":681},12350500,{"$f":"VLOOKUP(B34,'[2]Gages and BCs'!$A$4:$BJ$973,60,FALSE)","v":"Kootenai Creek near Stevensville, Montana"},{"$f":"VLOOKUP($B34,[1]BasinCharacteristics!$A$2:$U$972,3,FALSE)","v":46.53683333},{"$f":"VLOOKUP($B34,[1]BasinCharacteristics!$A$2:$U$972,4,FALSE)","v":-114.15956389},{"$f":"VLOOKUP($B34,[1]BasinCharacteristics!$A$2:$U$972,5,FALSE)","v":28.9},"--",{"$f":"VLOOKUP($B34,[1]BasinCharacteristics!$A$2:$U$972,20,FALSE)","v":67.146000000000001}]
[{"$f":"VLOOKUP(B35,'[2]Gages and BCs'!$A$4:$BJ$973,62,FALSE)","v":682},12351000,{"$f":"VLOOKUP(B35,'[2]Gages and BCs'!$A$4:$BJ$973,60,FALSE)","v":"Burnt Fork Bitterroot River near Stevensville, Montana"},{"$f":"VLOOKUP($B35,[1]BasinCharacteristics!$A$2:$U$972,3,FALSE)","v":46.46368056},{"$f":"VLOOKUP($B35,[1]BasinCharacteristics!$A$2:$U$972,4,FALSE)","v":-113.94561111},{"$f":"VLOOKUP($B35,[1]BasinCharacteristics!$A$2:$U$972,5,FALSE)","v":73.5},"--",{"$f":"VLOOKUP($B35,[1]BasinCharacteristics!$A$2:$U$972,20,FALSE)","v":21.728999999999999}]
[{"$f":"VLOOKUP(B36,'[2]Gages and BCs'!$A$4:$BJ$973,62,FALSE)","v":683},12351200,{"$f":"VLOOKUP(B36,'[2]Gages and BCs'!$A$4:$BJ$973,60,FALSE)","v":"Bitterroot River near Florence, Montana"},{"$f":"VLOOKUP($B36,[1]BasinCharacteristics!$A$2:$U$972,3,FALSE)","v":46.633088890000003},{"$f":"VLOOKUP($B36,[1]BasinCharacteristics!$A$2:$U$972,4,FALSE)","v":-114.05095833},{"$f":"VLOOKUP($B36,[1]BasinCharacteristics!$A$2:$U$972,5,FALSE)","v":2342},"--",{"$f":"VLOOKUP($B36,[1]BasinCharacteristics!$A$2:$U$972,20,FALSE)","v":25.202999999999999}]
[{"$f":"VLOOKUP(B37,'[2]Gages and BCs'!$A$4:$BJ$973,62,FALSE)","v":685},12352000,{"$f":"VLOOKUP(B37,'[2]Gages and BCs'!$A$4:$BJ$973,60,FALSE)","v":"Lolo Creek above Sleeman Creek, near Lolo, Montana"},{"$f":"VLOOKUP($B37,[1]BasinCharacteristics!$A$2:$U$972,3,FALSE)","v":46.744113890000001},{"$f":"VLOOKUP($B37,[1]BasinCharacteristics!$A$2:$U$972,4,FALSE)","v":-114.14342499999999},{"$f":"VLOOKUP($B37,[1]BasinCharacteristics!$A$2:$U$972,5,FALSE)","v":250},"--",{"$f":"VLOOKUP($B37,[1]BasinCharacteristics!$A$2:$U$972,20,FALSE)","v":22.010999999999999}]
[{"$f":"VLOOKUP(B38,'[2]Gages and BCs'!$A$4:$BJ$973,62,FALSE)","v":690},12353280,{"$f":"VLOOKUP(B38,'[2]Gages and BCs'!$A$4:$BJ$973,60,FALSE)","v":"Ninemile Creek near Huson, Montana"},{"$f":"VLOOKUP($B38,[1]BasinCharacteristics!$A$2:$U$972,3,FALSE)","v":47.063397219999999},{"$f":"VLOOKUP($B38,[1]BasinCharacteristics!$A$2:$U$972,4,FALSE)","v":-114.41378889000001},{"$f":"VLOOKUP($B38,[1]BasinCharacteristics!$A$2:$U$972,5,FALSE)","v":170},"--",{"$f":"VLOOKUP($B38,[1]BasinCharacteristics!$A$2:$U$972,20,FALSE)","v":14.573}]
[{"$f":"VLOOKUP(B39,'[2]Gages and BCs'!$A$4:$BJ$973,62,FALSE)","v":695},12354000,{"$f":"VLOOKUP(B39,'[2]Gages and BCs'!$A$4:$BJ$973,60,FALSE)","v":"St. Regis River near St. Regis, Montana"},{"$f":"VLOOKUP($B39,[1]BasinCharacteristics!$A$2:$U$972,3,FALSE)","v":47.296711109999997},{"$f":"VLOOKUP($B39,[1]BasinCharacteristics!$A$2:$U$972,4,FALSE)","v":-115.122625},{"$f":"VLOOKUP($B39,[1]BasinCharacteristics!$A$2:$U$972,5,FALSE)","v":304},"--",{"$f":"VLOOKUP($B39,[1]BasinCharacteristics!$A$2:$U$972,20,FALSE)","v":30.760999999999999}]
[{"$f":"VLOOKUP(B40,'[2]Gages and BCs'!$A$4:$BJ$973,62,FALSE)","v":698},12355000,{"$f":"VLOOKUP(B40,'[2]Gages and BCs'!$A$4:$BJ$973,60,FALSE)","v":"Flathead River at Flathead, British Columbia"},{"$f":"VLOOKUP($B40,[1]BasinCharacteristics!$A$2:$U$972,3,FALSE)","v":49.001241669999999},{"$f":"VLOOKUP($B40,[1]BasinCharacteristics!$A$2:$U$972,4,FALSE)","v":-114.47566389000001},{"$f":"VLOOKUP($B40,[1]BasinCharacteristics!$A$2:$U$972,5,FALSE)","v":429},"--",{"$f":"VLOOKUP($B40,[1]BasinCharacteristics!$A$2:$U$972,20,FALSE)","v":27.117999999999999}]
[{"$f":"VLOOKUP(B41,'[2]Gages and BCs'!$A$4:$BJ$973,62,FALSE)","v":718},12363920,{"$f":"VLOOKUP(B41,'[2]Gages and BCs'!$A$4:$BJ$973,60,FALSE)","v":"Stillwater River at Olney, Montana"},{"$f":"VLOOKUP($B41,[1]BasinCharacteristics!$A$2:$U$972,3,FALSE)","v":48.535480560000003},{"$f":"VLOOKUP($B41,[1]BasinCharacteristics!$A$2:$U$972,4,FALSE)","v":-114.57168611},{"$f":"VLOOKUP($B41,[1]BasinCharacteristics!$A$2:$U$972,5,FALSE)","v":162},"--",{"$f":"VLOOKUP($B41,[1]BasinCharacteristics!$A$2:$U$972,20,FALSE)","v":13.593999999999999}]
[{"$f":"VLOOKUP(B42,'[2]Gages and BCs'!$A$4:$BJ$973,62,FALSE)","v":720},12365000,{"$f":"VLOOKUP(B42,'[2]Gages and BCs'!$A$4:$BJ$973,60,FALSE)","v":"Stillwater River near Whitefish, Montana"},{"$f":"VLOOKUP($B42,[1]BasinCharacteristics!$A$2:$U$972,3,FALSE)","v":48.31905278},{"$f":"VLOOKUP($B42,[1]BasinCharacteristics!$A$2:$U$972,4,FALSE)","v":-114.38715833000001},{"$f":"VLOOKUP($B42,[1]BasinCharacteristics!$A$2:$U$972,5,FALSE)","v":558},"--",{"$f":"VLOOKUP($B42,[1]BasinCharacteristics!$A$2:$U$972,20,FALSE)","v":5.423}]
[{"$f":"VLOOKUP(B43,'[2]Gages and BCs'!$A$4:$BJ$973,62,FALSE)","v":722},12366000,{"$f":"VLOOKUP(B43,'[2]Gages and BCs'!$A$4:$BJ$973,60,FALSE)","v":"Whitefish River near Kalispell, Montana"},{"$f":"VLOOKUP($B43,[1]BasinCharacteristics!$A$2:$U$972,3,FALSE)","v":48.320186110000002},{"$f":"VLOOKUP($B43,[1]BasinCharacteristics!$A$2:$U$972,4,FALSE)","v":-114.27859444000001},{"$f":"VLOOKUP($B43,[1]BasinCharacteristics!$A$2:$U$972,5,FALSE)","v":170},"--",{"$f":"VLOOKUP($B43,[1]BasinCharacteristics!$A$2:$U$972,20,FALSE)","v":13.366}]
[{"$f":"VLOOKUP(B44,'[2]Gages and BCs'!$A$4:$BJ$973,62,FALSE)","v":724},12367500,{"$f":"VLOOKUP(B44,'[2]Gages and BCs'!$A$4:$BJ$973,60,FALSE)","v":"Ashley Creek near Kalispell, Montana"},{"$f":"VLOOKUP($B44,[1]BasinCharacteristics!$A$2:$U$972,3,FALSE)","v":48.164997219999997},{"$f":"VLOOKUP($B44,[1]BasinCharacteristics!$A$2:$U$972,4,FALSE)","v":-114.43237778},{"$f":"VLOOKUP($B44,[1]BasinCharacteristics!$A$2:$U$972,5,FALSE)","v":201},"--",{"$f":"VLOOKUP($B44,[1]BasinCharacteristics!$A$2:$U$972,20,FALSE)","v":1.869}]
[{"$f":"VLOOKUP(B45,'[2]Gages and BCs'!$A$4:$BJ$973,62,FALSE)","v":725},12369200,{"$f":"VLOOKUP(B45,'[2]Gages and BCs'!$A$4:$BJ$973,60,FALSE)","v":"Swan River near Condon, Montana"},{"$f":"VLOOKUP($B45,[1]BasinCharacteristics!$A$2:$U$972,3,FALSE)","v":47.422383330000002},{"$f":"VLOOKUP($B45,[1]BasinCharacteristics!$A$2:$U$972,4,FALSE)","v":-113.67097222},{"$f":"VLOOKUP($B45,[1]BasinCharacteristics!$A$2:$U$972,5,FALSE)","v":69.099999999999994},"--",{"$f":"VLOOKUP($B45,[1]BasinCharacteristics!$A$2:$U$972,20,FALSE)","v":18.991}]
[{"$f":"VLOOKUP(B46,'[2]Gages and BCs'!$A$4:$BJ$973,62,FALSE)","v":728},12370000,{"$f":"VLOOKUP(B46,'[2]Gages and BCs'!$A$4:$BJ$973,60,FALSE)","v":"Swan River near Bigfork, Montana"},{"$f":"VLOOKUP($B46,[1]BasinCharacteristics!$A$2:$U$972,3,FALSE)","v":48.024230559999999},{"$f":"VLOOKUP($B46,[1]BasinCharacteristics!$A$2:$U$972,4,FALSE)","v":-113.97881944},{"$f":"VLOOKUP($B46,[1]BasinCharacteristics!$A$2:$U$972,5,FALSE)","v":672},"--",{"$f":"VLOOKUP($B46,[1]BasinCharacteristics!$A$2:$U$972,20,FALSE)","v":20.835000000000001}]
[{"$f":"VLOOKUP(B47,'[2]Gages and BCs'!$A$4:$BJ$973,62,FALSE)","v":731},12371100,{"$f":"VLOOKUP(B47,'[2]Gages and BCs'!$A$4:$BJ$973,60,FALSE)","v":"Hell Roaring Creek near Polson, Montana"},{"$f":"VLOOKUP($B47,[1]BasinCharacteristics!$A$2:$U$972,3,FALSE)","v":47.702952779999997},{"$f":"VLOOKUP($B47,[1]BasinCharacteristics!$A$2:$U$972,4,FALSE)","v":-114.04838611},{"$f":"VLOOKUP($B47,[1]BasinCharacteristics!$A$2:$U$972,5,FALSE)","v":6.4},"--",{"$f":"VLOOKUP($B47,[1]BasinCharacteristics!$A$2:$U$972,20,FALSE)","v":18.93}]
[{"$f":"VLOOKUP(B48,'[2]Gages and BCs'!$A$4:$BJ$973,62,FALSE)","v":733},12374250,{"$f":"VLOOKUP(B48,'[2]Gages and BCs'!$A$4:$BJ$973,60,FALSE)","v":"Mill Creek above Bassoo Creek, near Niarada, Montana"},{"$f":"VLOOKUP($B48,[1]BasinCharacteristics!$A$2:$U$972,3,FALSE)","v":47.829827780000002},{"$f":"VLOOKUP($B48,[1]BasinCharacteristics!$A$2:$U$972,4,FALSE)","v":-114.69783332999999},{"$f":"VLOOKUP($B48,[1]BasinCharacteristics!$A$2:$U$972,5,FALSE)","v":19.600000000000001},"--",{"$f":"VLOOKUP($B48,[1]BasinCharacteristics!$A$2:$U$972,20,FALSE)","v":5.26}]
[{"$f":"VLOOKUP(B49,'[2]Gages and BCs'!$A$4:$BJ$973,62,FALSE)","v":738},12377150,{"$f":"VLOOKUP(B49,'[2]Gages and BCs'!$A$4:$BJ$973,60,FALSE)","v":"Mission Creek above reservoir, near St. Ignatius, Montana"},{"$f":"VLOOKUP($B49,[1]BasinCharacteristics!$A$2:$U$972,3,FALSE)","v":47.322822219999999},{"$f":"VLOOKUP($B49,[1]BasinCharacteristics!$A$2:$U$972,4,FALSE)","v":-113.97938056},{"$f":"VLOOKUP($B49,[1]BasinCharacteristics!$A$2:$U$972,5,FALSE)","v":12.4},"--",{"$f":"VLOOKUP($B49,[1]BasinCharacteristics!$A$2:$U$972,20,FALSE)","v":67.474000000000004}]
[{"$f":"VLOOKUP(B50,'[2]Gages and BCs'!$A$4:$BJ$973,62,FALSE)","v":739},12378000,{"$f":"VLOOKUP(B50,'[2]Gages and BCs'!$A$4:$BJ$973,60,FALSE)","v":"Mission Creek near St. Ignatius, Montana"},{"$f":"VLOOKUP($B50,[1]BasinCharacteristics!$A$2:$U$972,3,FALSE)","v":47.327905559999998},{"$f":"VLOOKUP($B50,[1]BasinCharacteristics!$A$2:$U$972,4,FALSE)","v":-114.12303889},{"$f":"VLOOKUP($B50,[1]BasinCharacteristics!$A$2:$U$972,5,FALSE)","v":52},"--",{"$f":"VLOOKUP($B50,[1]BasinCharacteristics!$A$2:$U$972,20,FALSE)","v":40.228999999999999}]
[{"$f":"VLOOKUP(B51,'[2]Gages and BCs'!$A$4:$BJ$973,62,FALSE)","v":740},12381400,{"$f":"VLOOKUP(B51,'[2]Gages and BCs'!$A$4:$BJ$973,60,FALSE)","v":"South Fork Jocko River near Arlee, Montana"},{"$f":"VLOOKUP($B51,[1]BasinCharacteristics!$A$2:$U$972,3,FALSE)","v":47.195549999999997},{"$f":"VLOOKUP($B51,[1]BasinCharacteristics!$A$2:$U$972,4,FALSE)","v":-113.85073611},{"$f":"VLOOKUP($B51,[1]BasinCharacteristics!$A$2:$U$972,5,FALSE)","v":57.6},"--",{"$f":"VLOOKUP($B51,[1]BasinCharacteristics!$A$2:$U$972,20,FALSE)","v":16.812000000000001}]
[{"$f":"VLOOKUP(B52,'[2]Gages and BCs'!$A$4:$BJ$973,62,FALSE)","v":741},12383500,{"$f":"VLOOKUP(B52,'[2]Gages and BCs'!$A$4:$BJ$973,60,FALSE)","v":"Big Knife Creek near Arlee , Montana"},{"$f":"VLOOKUP($B52,[1]BasinCharacteristics!$A$2:$U$972,3,FALSE)","v":47.147261110000002},{"$f":"VLOOKUP($B52,[1]BasinCharacteristics!$A$2:$U$972,4,FALSE)","v":-113.974475},{"$f":"VLOOKUP($B52,[1]BasinCharacteristics!$A$2:$U$972,5,FALSE)","v":6.86},"--",{"$f":"VLOOKUP($B52,[1]BasinCharacteristics!$A$2:$U$972,20,FALSE)","v":54.46}]
[{"$f":"VLOOKUP(B53,'[2]Gages and BCs'!$A$4:$BJ$973,62,FALSE)","v":742},12387450,{"$f":"VLOOKUP(B53,'[2]Gages and BCs'!$A$4:$BJ$973,60,FALSE)","v":"Valley Creek near Arlee, Montana"},{"$f":"VLOOKUP($B53,[1]BasinCharacteristics!$A$2:$U$972,3,FALSE)","v":47.170297220000002},{"$f":"VLOOKUP($B53,[1]BasinCharacteristics!$A$2:$U$972,4,FALSE)","v":-114.23079444},{"$f":"VLOOKUP($B53,[1]BasinCharacteristics!$A$2:$U$972,5,FALSE)","v":16},"--",{"$f":"VLOOKUP($B53,[1]BasinCharacteristics!$A$2:$U$972,20,FALSE)","v":16.387}]
[{"$f":"VLOOKUP(B54,'[2]Gages and BCs'!$A$4:$BJ$973,62,FALSE)","v":743},12388200,{"$f":"VLOOKUP(B54,'[2]Gages and BCs'!$A$4:$BJ$973,60,FALSE)","v":"Jocko River at Dixon, Montana"},{"$f":"VLOOKUP($B54,[1]BasinCharacteristics!$A$2:$U$972,3,FALSE)","v":47.312113889999999},{"$f":"VLOOKUP($B54,[1]BasinCharacteristics!$A$2:$U$972,4,FALSE)","v":-114.29737778000001},{"$f":"VLOOKUP($B54,[1]BasinCharacteristics!$A$2:$U$972,5,FALSE)","v":383},"--",{"$f":"VLOOKUP($B54,[1]BasinCharacteristics!$A$2:$U$972,20,FALSE)","v":16.021999999999998}]
[{"$f":"VLOOKUP(B55,'[2]Gages and BCs'!$A$4:$BJ$973,62,FALSE)","v":744},12388400,{"$f":"VLOOKUP(B55,'[2]Gages and BCs'!$A$4:$BJ$973,60,FALSE)","v":"Revais Creek below West Fork, near Dixon, Montana"},{"$f":"VLOOKUP($B55,[1]BasinCharacteristics!$A$2:$U$972,3,FALSE)","v":47.266302779999997},{"$f":"VLOOKUP($B55,[1]BasinCharacteristics!$A$2:$U$972,4,FALSE)","v":-114.40684444},{"$f":"VLOOKUP($B55,[1]BasinCharacteristics!$A$2:$U$972,5,FALSE)","v":23.3},"--",{"$f":"VLOOKUP($B55,[1]BasinCharacteristics!$A$2:$U$972,20,FALSE)","v":8.5670000000000002}]
[{"$f":"VLOOKUP(B56,'[2]Gages and BCs'!$A$4:$BJ$973,62,FALSE)","v":748},12389500,{"$f":"VLOOKUP(B56,'[2]Gages and BCs'!$A$4:$BJ$973,60,FALSE)","v":"Thompson River near Thompson Falls, Montana"},{"$f":"VLOOKUP($B56,[1]BasinCharacteristics!$A$2:$U$972,3,FALSE)","v":47.591858330000001},{"$f":"VLOOKUP($B56,[1]BasinCharacteristics!$A$2:$U$972,4,FALSE)","v":-115.22953611},{"$f":"VLOOKUP($B56,[1]BasinCharacteristics!$A$2:$U$972,5,FALSE)","v":638},"--",{"$f":"VLOOKUP($B56,[1]BasinCharacteristics!$A$2:$U$972,20,FALSE)","v":16}]
[{"$f":"VLOOKUP(B57,'[2]Gages and BCs'!$A$4:$BJ$973,62,FALSE)","v":749},12390700,{"$f":"VLOOKUP(B57,'[2]Gages and BCs'!$A$4:$BJ$973,60,FALSE)","v":"Prospect Creek at Thompson Falls, Montana"},{"$f":"VLOOKUP($B57,[1]BasinCharacteristics!$A$2:$U$972,3,FALSE)","v":47.586061110000003},{"$f":"VLOOKUP($B57,[1]BasinCharacteristics!$A$2:$U$972,4,FALSE)","v":-115.35509999999999},{"$f":"VLOOKUP($B57,[1]BasinCharacteristics!$A$2:$U$972,5,FALSE)","v":182},"--",{"$f":"VLOOKUP($B57,[1]BasinCharacteristics!$A$2:$U$972,20,FALSE)","v":39.091000000000001}]
[{"$f":"VLOOKUP(B58,'[2]Gages and BCs'!$A$4:$BJ$973,62,FALSE)","v":755},12391550,{"$f":"VLOOKUP(B58,'[2]Gages and BCs'!$A$4:$BJ$973,60,FALSE)","v":"Bull River near Noxon, Montana"},{"$f":"VLOOKUP($B58,[1]BasinCharacteristics!$A$2:$U$972,3,FALSE)","v":48.04735556},{"$f":"VLOOKUP($B58,[1]BasinCharacteristics!$A$2:$U$972,4,FALSE)","v":-115.83500278},{"$f":"VLOOKUP($B58,[1]BasinCharacteristics!$A$2:$U$972,5,FALSE)","v":141},"--",{"$f":"VLOOKUP($B58,[1]BasinCharacteristics!$A$2:$U$972,20,FALSE)","v":44.715000000000003}]
["Northwest hydrologic region"]
[{"$f":"VLOOKUP(B60,'[2]Gages and BCs'!$A$4:$BJ$973,62,FALSE)","v":2},5011000,{"$f":"VLOOKUP(B60,'[2]Gages and BCs'!$A$4:$BJ$973,60,FALSE)","v":"Belly River near Mountain View, Alberta"},{"$f":"VLOOKUP($B60,[1]BasinCharacteristics!$A$2:$U$972,3,FALSE)","v":49.099963889999998},{"$f":"VLOOKUP($B60,[1]BasinCharacteristics!$A$2:$U$972,4,FALSE)","v":-113.69857777999999},{"$f":"VLOOKUP($B60,[1]BasinCharacteristics!$A$2:$U$972,5,FALSE)","v":123},{"$f":"VLOOKUP($B60,[1]BasinCharacteristics!$A$2:$U$972,21,FALSE)","v":59.070999999999998},{"$f":"VLOOKUP($B60,[1]BasinCharacteristics!$A$2:$U$972,20,FALSE)","v":34.622}]
[{"$f":"VLOOKUP(B61,'[2]Gages and BCs'!$A$4:$BJ$973,62,FALSE)","v":3},5011500,{"$f":"VLOOKUP(B61,'[2]Gages and BCs'!$A$4:$BJ$973,60,FALSE)","v":"Waterton River near international boundary"},{"$f":"VLOOKUP($B61,[1]BasinCharacteristics!$A$2:$U$972,3,FALSE)","v":48.954949999999997},{"$f":"VLOOKUP($B61,[1]BasinCharacteristics!$A$2:$U$972,4,FALSE)","v":-113.89986111},{"$f":"VLOOKUP($B61,[1]BasinCharacteristics!$A$2:$U$972,5,FALSE)","v":61.8},{"$f":"VLOOKUP($B61,[1]BasinCharacteristics!$A$2:$U$972,21,FALSE)","v":69.358000000000004},{"$f":"VLOOKUP($B61,[1]BasinCharacteristics!$A$2:$U$972,20,FALSE)","v":44.585000000000001}]
[{"$f":"VLOOKUP(B62,'[2]Gages and BCs'!$A$4:$BJ$973,62,FALSE)","v":4},5012500,{"$f":"VLOOKUP(B62,'[2]Gages and BCs'!$A$4:$BJ$973,60,FALSE)","v":"Boundary Creek at international boundary"},{"$f":"VLOOKUP($B62,[1]BasinCharacteristics!$A$2:$U$972,3,FALSE)","v":48.995836109999999},{"$f":"VLOOKUP($B62,[1]BasinCharacteristics!$A$2:$U$972,4,FALSE)","v":-113.90768056},{"$f":"VLOOKUP($B62,[1]BasinCharacteristics!$A$2:$U$972,5,FALSE)","v":20.399999999999999},{"$f":"VLOOKUP($B62,[1]BasinCharacteristics!$A$2:$U$972,21,FALSE)","v":68.281999999999996},{"$f":"VLOOKUP($B62,[1]BasinCharacteristics!$A$2:$U$972,20,FALSE)","v":43.951000000000001}]
[{"$f":"VLOOKUP(B63,'[2]Gages and BCs'!$A$4:$BJ$973,62,FALSE)","v":6},5013700,{"$f":"VLOOKUP(B63,'[2]Gages and BCs'!$A$4:$BJ$973,60,FALSE)","v":"St. Mary River above Swiftcurrent Creek, near Babb, Montana"},{"$f":"VLOOKUP($B63,[1]BasinCharacteristics!$A$2:$U$972,3,FALSE)","v":48.85088056},{"$f":"VLOOKUP($B63,[1]BasinCharacteristics!$A$2:$U$972,4,FALSE)","v":-113.416175},{"$f":"VLOOKUP($B63,[1]BasinCharacteristics!$A$2:$U$972,5,FALSE)","v":174},{"$f":"VLOOKUP($B63,[1]BasinCharacteristics!$A$2:$U$972,21,FALSE)","v":54.131999999999998},{"$f":"VLOOKUP($B63,[1]BasinCharacteristics!$A$2:$U$972,20,FALSE)","v":33.698}]
[{"$f":"VLOOKUP(B64,'[2]Gages and BCs'!$A$4:$BJ$973,62,FALSE)","v":9},5014500,{"$f":"VLOOKUP(B64,'[2]Gages and BCs'!$A$4:$BJ$973,60,FALSE)","v":"Swiftcurrent Creek at Many Glacier, Montana"},{"$f":"VLOOKUP($B64,[1]BasinCharacteristics!$A$2:$U$972,3,FALSE)","v":48.798833330000001},{"$f":"VLOOKUP($B64,[1]BasinCharacteristics!$A$2:$U$972,4,FALSE)","v":-113.65673056},{"$f":"VLOOKUP($B64,[1]BasinCharacteristics!$A$2:$U$972,5,FALSE)","v":31.2},{"$f":"VLOOKUP($B64,[1]BasinCharacteristics!$A$2:$U$972,21,FALSE)","v":83.156000000000006},{"$f":"VLOOKUP($B64,[1]BasinCharacteristics!$A$2:$U$972,20,FALSE)","v":53.417000000000002}]
[{"$f":"VLOOKUP(B65,'[2]Gages and BCs'!$A$4:$BJ$973,62,FALSE)","v":10},5015000,{"$f":"VLOOKUP(B65,'[2]Gages and BCs'!$A$4:$BJ$973,60,FALSE)","v":"Canyon Creek near Many Glacier, Montana"},{"$f":"VLOOKUP($B65,[1]BasinCharacteristics!$A$2:$U$972,3,FALSE)","v":48.796047219999998},{"$f":"VLOOKUP($B65,[1]BasinCharacteristics!$A$2:$U$972,4,FALSE)","v":-113.62418889},{"$f":"VLOOKUP($B65,[1]BasinCharacteristics!$A$2:$U$972,5,FALSE)","v":7.74},{"$f":"VLOOKUP($B65,[1]BasinCharacteristics!$A$2:$U$972,21,FALSE)","v":73.914000000000001},{"$f":"VLOOKUP($B65,[1]BasinCharacteristics!$A$2:$U$972,20,FALSE)","v":65.94}]
[{"$f":"VLOOKUP(B66,'[2]Gages and BCs'!$A$4:$BJ$973,62,FALSE)","v":14},5020500,{"$f":"VLOOKUP(B66,'[2]Gages and BCs'!$A$4:$BJ$973,60,FALSE)","v":"St. Mary River at international boundary"},{"$f":"VLOOKUP($B66,[1]BasinCharacteristics!$A$2:$U$972,3,FALSE)","v":49.011408330000002},{"$f":"VLOOKUP($B66,[1]BasinCharacteristics!$A$2:$U$972,4,FALSE)","v":-113.29954721999999},{"$f":"VLOOKUP($B66,[1]BasinCharacteristics!$A$2:$U$972,5,FALSE)","v":462},{"$f":"VLOOKUP($B66,[1]BasinCharacteristics!$A$2:$U$972,21,FALSE)","v":47.820999999999998},{"$f":"VLOOKUP($B66,[1]BasinCharacteristics!$A$2:$U$972,20,FALSE)","v":22.574999999999999}]
[{"$f":"VLOOKUP(B67,'[2]Gages and BCs'!$A$4:$BJ$973,62,FALSE)","v":112},6073000,{"$f":"VLOOKUP(B67,'[2]Gages and BCs'!$A$4:$BJ$973,60,FALSE)","v":"Dearborn River near Clemons, Montana"},{"$f":"VLOOKUP($B67,[1]BasinCharacteristics!$A$2:$U$972,3,FALSE)","v":47.294047220000003},{"$f":"VLOOKUP($B67,[1]BasinCharacteristics!$A$2:$U$972,4,FALSE)","v":-112.44878889},{"$f":"VLOOKUP($B67,[1]BasinCharacteristics!$A$2:$U$972,5,FALSE)","v":115},{"$f":"VLOOKUP($B67,[1]BasinCharacteristics!$A$2:$U$972,21,FALSE)","v":30.765999999999998},{"$f":"VLOOKUP($B67,[1]BasinCharacteristics!$A$2:$U$972,20,FALSE)","v":28.262}]
[{"$f":"VLOOKUP(B68,'[2]Gages and BCs'!$A$4:$BJ$973,62,FALSE)","v":129},6078500,{"$f":"VLOOKUP(B68,'[2]Gages and BCs'!$A$4:$BJ$973,60,FALSE)","v":"North Fork Sun River near Augusta, Montana"},{"$f":"VLOOKUP($B68,[1]BasinCharacteristics!$A$2:$U$972,3,FALSE)","v":47.640827780000002},{"$f":"VLOOKUP($B68,[1]BasinCharacteristics!$A$2:$U$972,4,FALSE)","v":-112.86021389},{"$f":"VLOOKUP($B68,[1]BasinCharacteristics!$A$2:$U$972,5,FALSE)","v":259},{"$f":"VLOOKUP($B68,[1]BasinCharacteristics!$A$2:$U$972,21,FALSE)","v":39.277000000000001},{"$f":"VLOOKUP($B68,[1]BasinCharacteristics!$A$2:$U$972,20,FALSE)","v":22.129000000000001}]
[{"$f":"VLOOKUP(B69,'[2]Gages and BCs'!$A$4:$BJ$973,62,FALSE)","v":131},6080000,{"$f":"VLOOKUP(B69,'[2]Gages and BCs'!$A$4:$BJ$973,60,FALSE)","v":"Sun River near Augusta, Montana"},{"$f":"VLOOKUP($B69,[1]BasinCharacteristics!$A$2:$U$972,3,FALSE)","v":47.620874999999998},{"$f":"VLOOKUP($B69,[1]BasinCharacteristics!$A$2:$U$972,4,FALSE)","v":-112.70700278},{"$f":"VLOOKUP($B69,[1]BasinCharacteristics!$A$2:$U$972,5,FALSE)","v":609},{"$f":"VLOOKUP($B69,[1]BasinCharacteristics!$A$2:$U$972,21,FALSE)","v":36.613},{"$f":"VLOOKUP($B69,[1]BasinCharacteristics!$A$2:$U$972,20,FALSE)","v":26.75}]
[{"$f":"VLOOKUP(B70,'[2]Gages and BCs'!$A$4:$BJ$973,62,FALSE)","v":133},6081500,{"$f":"VLOOKUP(B70,'[2]Gages and BCs'!$A$4:$BJ$973,60,FALSE)","v":"Willow Creek near Augusta, Montana"},{"$f":"VLOOKUP($B70,[1]BasinCharacteristics!$A$2:$U$972,3,FALSE)","v":47.545505560000002},{"$f":"VLOOKUP($B70,[1]BasinCharacteristics!$A$2:$U$972,4,FALSE)","v":-112.47368333},{"$f":"VLOOKUP($B70,[1]BasinCharacteristics!$A$2:$U$972,5,FALSE)","v":95.1},{"$f":"VLOOKUP($B70,[1]BasinCharacteristics!$A$2:$U$972,21,FALSE)","v":20.742000000000001},{"$f":"VLOOKUP($B70,[1]BasinCharacteristics!$A$2:$U$972,20,FALSE)","v":5.6509999999999998}]
[{"$f":"VLOOKUP(B71,'[2]Gages and BCs'!$A$4:$BJ$973,62,FALSE)","v":134},6084500,{"$f":"VLOOKUP(B71,'[2]Gages and BCs'!$A$4:$BJ$973,60,FALSE)","v":"Elk Creek at Augusta, Montana"},{"$f":"VLOOKUP($B71,[1]BasinCharacteristics!$A$2:$U$972,3,FALSE)","v":47.485399999999998},{"$f":"VLOOKUP($B71,[1]BasinCharacteristics!$A$2:$U$972,4,FALSE)","v":-112.38748611},{"$f":"VLOOKUP($B71,[1]BasinCharacteristics!$A$2:$U$972,5,FALSE)","v":165},{"$f":"VLOOKUP($B71,[1]BasinCharacteristics!$A$2:$U$972,21,FALSE)","v":21.933},{"$f":"VLOOKUP($B71,[1]BasinCharacteristics!$A$2:$U$972,20,FALSE)","v":13.08}]
[{"$f":"VLOOKUP(B72,'[2]Gages and BCs'!$A$4:$BJ$973,62,FALSE)","v":149},6092000,{"$f":"VLOOKUP(B72,'[2]Gages and BCs'!$A$4:$BJ$973,60,FALSE)","v":"Two Medicine River near Browning, Montana"},{"$f":"VLOOKUP($B72,[1]BasinCharacteristics!$A$2:$U$972,3,FALSE)","v":48.471716669999999},{"$f":"VLOOKUP($B72,[1]BasinCharacteristics!$A$2:$U$972,4,FALSE)","v":-112.80378056000001},{"$f":"VLOOKUP($B72,[1]BasinCharacteristics!$A$2:$U$972,5,FALSE)","v":320},{"$f":"VLOOKUP($B72,[1]BasinCharacteristics!$A$2:$U$972,21,FALSE)","v":36.823999999999998},{"$f":"VLOOKUP($B72,[1]BasinCharacteristics!$A$2:$U$972,20,FALSE)","v":11.497999999999999}]
[{"$f":"VLOOKUP(B73,'[2]Gages and BCs'!$A$4:$BJ$973,62,FALSE)","v":150},6092500,{"$f":"VLOOKUP(B73,'[2]Gages and BCs'!$A$4:$BJ$973,60,FALSE)","v":"Badger Creek near Browning, Montana"},{"$f":"VLOOKUP($B73,[1]BasinCharacteristics!$A$2:$U$972,3,FALSE)","v":48.346219439999999},{"$f":"VLOOKUP($B73,[1]BasinCharacteristics!$A$2:$U$972,4,FALSE)","v":-112.84086388999999},{"$f":"VLOOKUP($B73,[1]BasinCharacteristics!$A$2:$U$972,5,FALSE)","v":126},{"$f":"VLOOKUP($B73,[1]BasinCharacteristics!$A$2:$U$972,21,FALSE)","v":38.470999999999997},{"$f":"VLOOKUP($B73,[1]BasinCharacteristics!$A$2:$U$972,20,FALSE)","v":25.614999999999998}]
[{"$f":"VLOOKUP(B74,'[2]Gages and BCs'!$A$4:$BJ$973,62,FALSE)","v":158},6098500,{"$f":"VLOOKUP(B74,'[2]Gages and BCs'!$A$4:$BJ$973,60,FALSE)","v":"Cut Bank Creek near Browning, Montana"},{"$f":"VLOOKUP($B74,[1]BasinCharacteristics!$A$2:$U$972,3,FALSE)","v":48.616858329999999},{"$f":"VLOOKUP($B74,[1]BasinCharacteristics!$A$2:$U$972,4,FALSE)","v":-113.03610833},{"$f":"VLOOKUP($B74,[1]BasinCharacteristics!$A$2:$U$972,5,FALSE)","v":121},{"$f":"VLOOKUP($B74,[1]BasinCharacteristics!$A$2:$U$972,21,FALSE)","v":37.268999999999998},{"$f":"VLOOKUP($B74,[1]BasinCharacteristics!$A$2:$U$972,20,FALSE)","v":14.528}]
[{"$f":"VLOOKUP(B75,'[2]Gages and BCs'!$A$4:$BJ$973,62,FALSE)","v":178},6102500,{"$f":"VLOOKUP(B75,'[2]Gages and BCs'!$A$4:$BJ$973,60,FALSE)","v":"Teton River below South Fork, near Choteau, Montana"},{"$f":"VLOOKUP($B75,[1]BasinCharacteristics!$A$2:$U$972,3,FALSE)","v":47.883083329999998},{"$f":"VLOOKUP($B75,[1]BasinCharacteristics!$A$2:$U$972,4,FALSE)","v":-112.61198333},{"$f":"VLOOKUP($B75,[1]BasinCharacteristics!$A$2:$U$972,5,FALSE)","v":110},{"$f":"VLOOKUP($B75,[1]BasinCharacteristics!$A$2:$U$972,21,FALSE)","v":36.764000000000003},{"$f":"VLOOKUP($B75,[1]BasinCharacteristics!$A$2:$U$972,20,FALSE)","v":45.442}]
[{"$f":"VLOOKUP(B76,'[2]Gages and BCs'!$A$4:$BJ$973,62,FALSE)","v":268},6132200,{"$f":"VLOOKUP(B76,'[2]Gages and BCs'!$A$4:$BJ$973,60,FALSE)","v":"South Fork Milk River near Babb, Montana"},{"$f":"VLOOKUP($B76,[1]BasinCharacteristics!$A$2:$U$972,3,FALSE)","v":48.753483330000002},{"$f":"VLOOKUP($B76,[1]BasinCharacteristics!$A$2:$U$972,4,FALSE)","v":-113.16743056},{"$f":"VLOOKUP($B76,[1]BasinCharacteristics!$A$2:$U$972,5,FALSE)","v":69.099999999999994},{"$f":"VLOOKUP($B76,[1]BasinCharacteristics!$A$2:$U$972,21,FALSE)","v":34.207999999999998},{"$f":"VLOOKUP($B76,[1]BasinCharacteristics!$A$2:$U$972,20,FALSE)","v":1.29}]
[{"$f":"VLOOKUP(B77,'[2]Gages and BCs'!$A$4:$BJ$973,62,FALSE)","v":272},6133500,{"$f":"VLOOKUP(B77,'[2]Gages and BCs'!$A$4:$BJ$973,60,FALSE)","v":"North Fork Milk River above St. Mary Canal, near Browning, Montana"},{"$f":"VLOOKUP($B77,[1]BasinCharacteristics!$A$2:$U$972,3,FALSE)","v":48.970783330000003},{"$f":"VLOOKUP($B77,[1]BasinCharacteristics!$A$2:$U$972,4,FALSE)","v":-113.05596944},{"$f":"VLOOKUP($B77,[1]BasinCharacteristics!$A$2:$U$972,5,FALSE)","v":60.8},{"$f":"VLOOKUP($B77,[1]BasinCharacteristics!$A$2:$U$972,21,FALSE)","v":22.962},{"$f":"VLOOKUP($B77,[1]BasinCharacteristics!$A$2:$U$972,20,FALSE)","v":5.7000000000000002E-2}]
[{"$f":"VLOOKUP(B78,'[2]Gages and BCs'!$A$4:$BJ$973,62,FALSE)","v":651},12335000,{"$f":"VLOOKUP(B78,'[2]Gages and BCs'!$A$4:$BJ$973,60,FALSE)","v":"Blackfoot River near Helmville, Montana"},{"$f":"VLOOKUP($B78,[1]BasinCharacteristics!$A$2:$U$972,3,FALSE)","v":46.93871944},{"$f":"VLOOKUP($B78,[1]BasinCharacteristics!$A$2:$U$972,4,FALSE)","v":-112.94073611},{"$f":"VLOOKUP($B78,[1]BasinCharacteristics!$A$2:$U$972,5,FALSE)","v":482},{"$f":"VLOOKUP($B78,[1]BasinCharacteristics!$A$2:$U$972,21,FALSE)","v":27.236999999999998},{"$f":"VLOOKUP($B78,[1]BasinCharacteristics!$A$2:$U$972,20,FALSE)","v":15.183999999999999}]
[{"$f":"VLOOKUP(B79,'[2]Gages and BCs'!$A$4:$BJ$973,62,FALSE)","v":700},12355500,{"$f":"VLOOKUP(B79,'[2]Gages and BCs'!$A$4:$BJ$973,60,FALSE)","v":"North Fork Flathead River near Columbia Falls, Montana"},{"$f":"VLOOKUP($B79,[1]BasinCharacteristics!$A$2:$U$972,3,FALSE)","v":48.49579722},{"$f":"VLOOKUP($B79,[1]BasinCharacteristics!$A$2:$U$972,4,FALSE)","v":-114.12676389000001},{"$f":"VLOOKUP($B79,[1]BasinCharacteristics!$A$2:$U$972,5,FALSE)","v":1556},{"$f":"VLOOKUP($B79,[1]BasinCharacteristics!$A$2:$U$972,21,FALSE)","v":43.92},{"$f":"VLOOKUP($B79,[1]BasinCharacteristics!$A$2:$U$972,20,FALSE)","v":27.783999999999999}]
[{"$f":"VLOOKUP(B80,'[2]Gages and BCs'!$A$4:$BJ$973,62,FALSE)","v":704},12357000,{"$f":"VLOOKUP(B80,'[2]Gages and BCs'!$A$4:$BJ$973,60,FALSE)","v":"Middle Fork Flathead River at Essex, Montana"},{"$f":"VLOOKUP($B80,[1]BasinCharacteristics!$A$2:$U$972,3,FALSE)","v":48.275091670000002},{"$f":"VLOOKUP($B80,[1]BasinCharacteristics!$A$2:$U$972,4,FALSE)","v":-113.60508889},{"$f":"VLOOKUP($B80,[1]BasinCharacteristics!$A$2:$U$972,5,FALSE)","v":509},{"$f":"VLOOKUP($B80,[1]BasinCharacteristics!$A$2:$U$972,21,FALSE)","v":49.219000000000001},{"$f":"VLOOKUP($B80,[1]BasinCharacteristics!$A$2:$U$972,20,FALSE)","v":35.564999999999998}]
[{"$f":"VLOOKUP(B81,'[2]Gages and BCs'!$A$4:$BJ$973,62,FALSE)","v":708},12358500,{"$f":"VLOOKUP(B81,'[2]Gages and BCs'!$A$4:$BJ$973,60,FALSE)","v":"Middle Fork Flathead River near West Glacier, Montana"},{"$f":"VLOOKUP($B81,[1]BasinCharacteristics!$A$2:$U$972,3,FALSE)","v":48.495516670000001},{"$f":"VLOOKUP($B81,[1]BasinCharacteristics!$A$2:$U$972,4,FALSE)","v":-114.01020833},{"$f":"VLOOKUP($B81,[1]BasinCharacteristics!$A$2:$U$972,5,FALSE)","v":1125},{"$f":"VLOOKUP($B81,[1]BasinCharacteristics!$A$2:$U$972,21,FALSE)","v":49.923999999999999},{"$f":"VLOOKUP($B81,[1]BasinCharacteristics!$A$2:$U$972,20,FALSE)","v":40.258000000000003}]
[{"$f":"VLOOKUP(B82,'[2]Gages and BCs'!$A$4:$BJ$973,62,FALSE)","v":711},12359800,{"$f":"VLOOKUP(B82,'[2]Gages and BCs'!$A$4:$BJ$973,60,FALSE)","v":"South Fork Flathead River above Twin Creek, near Hungry Horse, Montana"},{"$f":"VLOOKUP($B82,[1]BasinCharacteristics!$A$2:$U$972,3,FALSE)","v":47.97909722},{"$f":"VLOOKUP($B82,[1]BasinCharacteristics!$A$2:$U$972,4,FALSE)","v":-113.56068333},{"$f":"VLOOKUP($B82,[1]BasinCharacteristics!$A$2:$U$972,5,FALSE)","v":1159},{"$f":"VLOOKUP($B82,[1]BasinCharacteristics!$A$2:$U$972,21,FALSE)","v":49.134999999999998},{"$f":"VLOOKUP($B82,[1]BasinCharacteristics!$A$2:$U$972,20,FALSE)","v":34.841000000000001}]
[{"$f":"VLOOKUP(B83,'[2]Gages and BCs'!$A$4:$BJ$973,62,FALSE)","v":712},12360000,{"$f":"VLOOKUP(B83,'[2]Gages and BCs'!$A$4:$BJ$973,60,FALSE)","v":"Twin Creek near Hungry Horse, Montana"},{"$f":"VLOOKUP($B83,[1]BasinCharacteristics!$A$2:$U$972,3,FALSE)","v":47.98479167},{"$f":"VLOOKUP($B83,[1]BasinCharacteristics!$A$2:$U$972,4,FALSE)","v":-113.56132778},{"$f":"VLOOKUP($B83,[1]BasinCharacteristics!$A$2:$U$972,5,FALSE)","v":47.2},{"$f":"VLOOKUP($B83,[1]BasinCharacteristics!$A$2:$U$972,21,FALSE)","v":47.62},{"$f":"VLOOKUP($B83,[1]BasinCharacteristics!$A$2:$U$972,20,FALSE)","v":42.408000000000001}]
[{"$f":"VLOOKUP(B84,'[2]Gages and BCs'!$A$4:$BJ$973,62,FALSE)","v":713},12361000,{"$f":"VLOOKUP(B84,'[2]Gages and BCs'!$A$4:$BJ$973,60,FALSE)","v":"Sullivan Creek near Hungry Horse, Montana"},{"$f":"VLOOKUP($B84,[1]BasinCharacteristics!$A$2:$U$972,3,FALSE)","v":48.029538889999998},{"$f":"VLOOKUP($B84,[1]BasinCharacteristics!$A$2:$U$972,4,FALSE)","v":-113.704125},{"$f":"VLOOKUP($B84,[1]BasinCharacteristics!$A$2:$U$972,5,FALSE)","v":71.099999999999994},{"$f":"VLOOKUP($B84,[1]BasinCharacteristics!$A$2:$U$972,21,FALSE)","v":57.68},{"$f":"VLOOKUP($B84,[1]BasinCharacteristics!$A$2:$U$972,20,FALSE)","v":39.151000000000003}]
[{"$f":"VLOOKUP(B85,'[2]Gages and BCs'!$A$4:$BJ$973,62,FALSE)","v":714},12361500,{"$f":"VLOOKUP(B85,'[2]Gages and BCs'!$A$4:$BJ$973,60,FALSE)","v":"Graves Creek near Hungry Horse, Montana"},{"$f":"VLOOKUP($B85,[1]BasinCharacteristics!$A$2:$U$972,3,FALSE)","v":48.12785556},{"$f":"VLOOKUP($B85,[1]BasinCharacteristics!$A$2:$U$972,4,FALSE)","v":-113.81207222},{"$f":"VLOOKUP($B85,[1]BasinCharacteristics!$A$2:$U$972,5,FALSE)","v":27.9},{"$f":"VLOOKUP($B85,[1]BasinCharacteristics!$A$2:$U$972,21,FALSE)","v":65.552999999999997},{"$f":"VLOOKUP($B85,[1]BasinCharacteristics!$A$2:$U$972,20,FALSE)","v":42.243000000000002}]
["Upper Yellowstone-Central Mountain hydrologic region"]
[{"$f":"VLOOKUP(B87,'[2]Gages and BCs'!$A$4:$BJ$973,62,FALSE)","v":77},6043000,{"$f":"VLOOKUP(B87,'[2]Gages and BCs'!$A$4:$BJ$973,60,FALSE)","v":"Taylor Creek near Grayling, Montana"},{"$f":"VLOOKUP($B87,[1]BasinCharacteristics!$A$2:$U$972,3,FALSE)","v":45.070897219999999},{"$f":"VLOOKUP($B87,[1]BasinCharacteristics!$A$2:$U$972,4,FALSE)","v":-111.20516944000001},{"$f":"VLOOKUP($B87,[1]BasinCharacteristics!$A$2:$U$972,5,FALSE)","v":98},{"$f":"VLOOKUP($B87,[1]BasinCharacteristics!$A$2:$U$972,21,FALSE)","v":33.606999999999999},"--"]
[{"$f":"VLOOKUP(B88,'[2]Gages and BCs'!$A$4:$BJ$973,62,FALSE)","v":80},6043500,{"$f":"VLOOKUP(B88,'[2]Gages and BCs'!$A$4:$BJ$973,60,FALSE)","v":"Gallatin River near Gallatin Gateway, Montana"},{"$f":"VLOOKUP($B88,[1]BasinCharacteristics!$A$2:$U$972,3,FALSE)","v":45.497300000000003},{"$f":"VLOOKUP($B88,[1]BasinCharacteristics!$A$2:$U$972,4,FALSE)","v":-111.27070833000001},{"$f":"VLOOKUP($B88,[1]BasinCharacteristics!$A$2:$U$972,5,FALSE)","v":819},{"$f":"VLOOKUP($B88,[1]BasinCharacteristics!$A$2:$U$972,21,FALSE)","v":34.656999999999996},"--"]
[{"$f":"VLOOKUP(B89,'[2]Gages and BCs'!$A$4:$BJ$973,62,FALSE)","v":84},6048000,{"$f":"VLOOKUP(B89,'[2]Gages and BCs'!$A$4:$BJ$973,60,FALSE)","v":"East Gallatin River at Bozeman, Montana"},{"$f":"VLOOKUP($B89,[1]BasinCharacteristics!$A$2:$U$972,3,FALSE)","v":45.700536110000002},{"$f":"VLOOKUP($B89,[1]BasinCharacteristics!$A$2:$U$972,4,FALSE)","v":-111.02926667},{"$f":"VLOOKUP($B89,[1]BasinCharacteristics!$A$2:$U$972,5,FALSE)","v":151},{"$f":"VLOOKUP($B89,[1]BasinCharacteristics!$A$2:$U$972,21,FALSE)","v":26.616},"--"]
[{"$f":"VLOOKUP(B90,'[2]Gages and BCs'!$A$4:$BJ$973,62,FALSE)","v":85},6048500,{"$f":"VLOOKUP(B90,'[2]Gages and BCs'!$A$4:$BJ$973,60,FALSE)","v":"Bridger Creek near Bozeman, Montana"},{"$f":"VLOOKUP($B90,[1]BasinCharacteristics!$A$2:$U$972,3,FALSE)","v":45.705174999999997},{"$f":"VLOOKUP($B90,[1]BasinCharacteristics!$A$2:$U$972,4,FALSE)","v":-110.96205556},{"$f":"VLOOKUP($B90,[1]BasinCharacteristics!$A$2:$U$972,5,FALSE)","v":62.3},{"$f":"VLOOKUP($B90,[1]BasinCharacteristics!$A$2:$U$972,21,FALSE)","v":32.927},"--"]
[{"$f":"VLOOKUP(B91,'[2]Gages and BCs'!$A$4:$BJ$973,62,FALSE)","v":87},6050000,{"$f":"VLOOKUP(B91,'[2]Gages and BCs'!$A$4:$BJ$973,60,FALSE)","v":"Hyalite Creek at Hyalite Ranger Station, near Bozeman, Montana"},{"$f":"VLOOKUP($B91,[1]BasinCharacteristics!$A$2:$U$972,3,FALSE)","v":45.561466670000001},{"$f":"VLOOKUP($B91,[1]BasinCharacteristics!$A$2:$U$972,4,FALSE)","v":-111.07112499999999},{"$f":"VLOOKUP($B91,[1]BasinCharacteristics!$A$2:$U$972,5,FALSE)","v":48.5},{"$f":"VLOOKUP($B91,[1]BasinCharacteristics!$A$2:$U$972,21,FALSE)","v":33.843000000000004},"--"]
[{"$f":"VLOOKUP(B92,'[2]Gages and BCs'!$A$4:$BJ$973,62,FALSE)","v":88},6052500,{"$f":"VLOOKUP(B92,'[2]Gages and BCs'!$A$4:$BJ$973,60,FALSE)","v":"Gallatin River at Logan, Montana"},{"$f":"VLOOKUP($B92,[1]BasinCharacteristics!$A$2:$U$972,3,FALSE)","v":45.885355560000001},{"$f":"VLOOKUP($B92,[1]BasinCharacteristics!$A$2:$U$972,4,FALSE)","v":-111.43828611000001},{"$f":"VLOOKUP($B92,[1]BasinCharacteristics!$A$2:$U$972,5,FALSE)","v":1789},{"$f":"VLOOKUP($B92,[1]BasinCharacteristics!$A$2:$U$972,21,FALSE)","v":27.818999999999999},"--"]
[{"$f":"VLOOKUP(B93,'[2]Gages and BCs'!$A$4:$BJ$973,62,FALSE)","v":122},6077000,{"$f":"VLOOKUP(B93,'[2]Gages and BCs'!$A$4:$BJ$973,60,FALSE)","v":"Sheep Creek near White Sulphur Springs, Montana"},{"$f":"VLOOKUP($B93,[1]BasinCharacteristics!$A$2:$U$972,3,FALSE)","v":46.768163889999997},{"$f":"VLOOKUP($B93,[1]BasinCharacteristics!$A$2:$U$972,4,FALSE)","v":-110.80997778},{"$f":"VLOOKUP($B93,[1]BasinCharacteristics!$A$2:$U$972,5,FALSE)","v":43.1},{"$f":"VLOOKUP($B93,[1]BasinCharacteristics!$A$2:$U$972,21,FALSE)","v":27.927},"--"]
[{"$f":"VLOOKUP(B94,'[2]Gages and BCs'!$A$4:$BJ$973,62,FALSE)","v":125},6077500,{"$f":"VLOOKUP(B94,'[2]Gages and BCs'!$A$4:$BJ$973,60,FALSE)","v":"Smith River near Eden, Montana"},{"$f":"VLOOKUP($B94,[1]BasinCharacteristics!$A$2:$U$972,3,FALSE)","v":47.190052780000002},{"$f":"VLOOKUP($B94,[1]BasinCharacteristics!$A$2:$U$972,4,FALSE)","v":-111.38719444},{"$f":"VLOOKUP($B94,[1]BasinCharacteristics!$A$2:$U$972,5,FALSE)","v":1588},{"$f":"VLOOKUP($B94,[1]BasinCharacteristics!$A$2:$U$972,21,FALSE)","v":19.613},"--"]
[{"$f":"VLOOKUP(B95,'[2]Gages and BCs'!$A$4:$BJ$973,62,FALSE)","v":143},6090500,{"$f":"VLOOKUP(B95,'[2]Gages and BCs'!$A$4:$BJ$973,60,FALSE)","v":"Belt Creek near Monarch, Montana"},{"$f":"VLOOKUP($B95,[1]BasinCharacteristics!$A$2:$U$972,3,FALSE)","v":47.208594439999999},{"$f":"VLOOKUP($B95,[1]BasinCharacteristics!$A$2:$U$972,4,FALSE)","v":-110.93174722000001},{"$f":"VLOOKUP($B95,[1]BasinCharacteristics!$A$2:$U$972,5,FALSE)","v":355},{"$f":"VLOOKUP($B95,[1]BasinCharacteristics!$A$2:$U$972,21,FALSE)","v":24.952999999999999},"--"]
[{"$f":"VLOOKUP(B96,'[2]Gages and BCs'!$A$4:$BJ$973,62,FALSE)","v":190},6109800,{"$f":"VLOOKUP(B96,'[2]Gages and BCs'!$A$4:$BJ$973,60,FALSE)","v":"South Fork Judith River near Utica, Montana"},{"$f":"VLOOKUP($B96,[1]BasinCharacteristics!$A$2:$U$972,3,FALSE)","v":46.75343333},{"$f":"VLOOKUP($B96,[1]BasinCharacteristics!$A$2:$U$972,4,FALSE)","v":-110.32315833},{"$f":"VLOOKUP($B96,[1]BasinCharacteristics!$A$2:$U$972,5,FALSE)","v":49.9},{"$f":"VLOOKUP($B96,[1]BasinCharacteristics!$A$2:$U$972,21,FALSE)","v":26.42},"--"]
[{"$f":"VLOOKUP(B97,'[2]Gages and BCs'!$A$4:$BJ$973,62,FALSE)","v":192},6110000,{"$f":"VLOOKUP(B97,'[2]Gages and BCs'!$A$4:$BJ$973,60,FALSE)","v":"Judith River near Utica, Montana"},{"$f":"VLOOKUP($B97,[1]BasinCharacteristics!$A$2:$U$972,3,FALSE)","v":46.892411109999998},{"$f":"VLOOKUP($B97,[1]BasinCharacteristics!$A$2:$U$972,4,FALSE)","v":-110.23145278},{"$f":"VLOOKUP($B97,[1]BasinCharacteristics!$A$2:$U$972,5,FALSE)","v":312},{"$f":"VLOOKUP($B97,[1]BasinCharacteristics!$A$2:$U$972,21,FALSE)","v":25.036000000000001},"--"]
[{"$f":"VLOOKUP(B98,'[2]Gages and BCs'!$A$4:$BJ$973,62,FALSE)","v":193},6111000,{"$f":"VLOOKUP(B98,'[2]Gages and BCs'!$A$4:$BJ$973,60,FALSE)","v":"Ross Fork Creek near Hobson, Montana"},{"$f":"VLOOKUP($B98,[1]BasinCharacteristics!$A$2:$U$972,3,FALSE)","v":46.992736110000003},{"$f":"VLOOKUP($B98,[1]BasinCharacteristics!$A$2:$U$972,4,FALSE)","v":-109.795075},{"$f":"VLOOKUP($B98,[1]BasinCharacteristics!$A$2:$U$972,5,FALSE)","v":340},{"$f":"VLOOKUP($B98,[1]BasinCharacteristics!$A$2:$U$972,21,FALSE)","v":16.812000000000001},"--"]
[{"$f":"VLOOKUP(B99,'[2]Gages and BCs'!$A$4:$BJ$973,62,FALSE)","v":197},6114500,{"$f":"VLOOKUP(B99,'[2]Gages and BCs'!$A$4:$BJ$973,60,FALSE)","v":"Wolf Creek near Stanford, Montana"},{"$f":"VLOOKUP($B99,[1]BasinCharacteristics!$A$2:$U$972,3,FALSE)","v":47.11900833},{"$f":"VLOOKUP($B99,[1]BasinCharacteristics!$A$2:$U$972,4,FALSE)","v":-110.28720278},{"$f":"VLOOKUP($B99,[1]BasinCharacteristics!$A$2:$U$972,5,FALSE)","v":116.08},{"$f":"VLOOKUP($B99,[1]BasinCharacteristics!$A$2:$U$972,21,FALSE)","v":22.606000000000002},"--"]
[{"$f":"VLOOKUP(B100,'[2]Gages and BCs'!$A$4:$BJ$973,62,FALSE)","v":205},6115500,{"$f":"VLOOKUP(B100,'[2]Gages and BCs'!$A$4:$BJ$973,60,FALSE)","v":"North Fork Musselshell River near Delpine, Montana"},{"$f":"VLOOKUP($B100,[1]BasinCharacteristics!$A$2:$U$972,3,FALSE)","v":46.609786110000002},{"$f":"VLOOKUP($B100,[1]BasinCharacteristics!$A$2:$U$972,4,FALSE)","v":-110.57662222},{"$f":"VLOOKUP($B100,[1]BasinCharacteristics!$A$2:$U$972,5,FALSE)","v":37.299999999999997},{"$f":"VLOOKUP($B100,[1]BasinCharacteristics!$A$2:$U$972,21,FALSE)","v":23.224},"--"]
[{"$f":"VLOOKUP(B101,'[2]Gages and BCs'!$A$4:$BJ$973,62,FALSE)","v":209},6118500,{"$f":"VLOOKUP(B101,'[2]Gages and BCs'!$A$4:$BJ$973,60,FALSE)","v":"South Fork Musselshell River above Martinsdale, Montana"},{"$f":"VLOOKUP($B101,[1]BasinCharacteristics!$A$2:$U$972,3,FALSE)","v":46.453241669999997},{"$f":"VLOOKUP($B101,[1]BasinCharacteristics!$A$2:$U$972,4,FALSE)","v":-110.38228889},{"$f":"VLOOKUP($B101,[1]BasinCharacteristics!$A$2:$U$972,5,FALSE)","v":268},{"$f":"VLOOKUP($B101,[1]BasinCharacteristics!$A$2:$U$972,21,FALSE)","v":24.091000000000001},"--"]
[{"$f":"VLOOKUP(B102,'[2]Gages and BCs'!$A$4:$BJ$973,62,FALSE)","v":212},6120500,{"$f":"VLOOKUP(B102,'[2]Gages and BCs'!$A$4:$BJ$973,60,FALSE)","v":"Musselshell River at Harlowton, Montana"},{"$f":"VLOOKUP($B102,[1]BasinCharacteristics!$A$2:$U$972,3,FALSE)","v":46.428800000000003},{"$f":"VLOOKUP($B102,[1]BasinCharacteristics!$A$2:$U$972,4,FALSE)","v":-109.84119444},{"$f":"VLOOKUP($B102,[1]BasinCharacteristics!$A$2:$U$972,5,FALSE)","v":1108},{"$f":"VLOOKUP($B102,[1]BasinCharacteristics!$A$2:$U$972,21,FALSE)","v":20.611999999999998},"--"]
[{"$f":"VLOOKUP(B103,'[2]Gages and BCs'!$A$4:$BJ$973,62,FALSE)","v":217},6121000,{"$f":"VLOOKUP(B103,'[2]Gages and BCs'!$A$4:$BJ$973,60,FALSE)","v":"American Fork near Harlowton, Montana"},{"$f":"VLOOKUP($B103,[1]BasinCharacteristics!$A$2:$U$972,3,FALSE)","v":46.373952780000003},{"$f":"VLOOKUP($B103,[1]BasinCharacteristics!$A$2:$U$972,4,FALSE)","v":-109.79209167},{"$f":"VLOOKUP($B103,[1]BasinCharacteristics!$A$2:$U$972,5,FALSE)","v":79.099999999999994},{"$f":"VLOOKUP($B103,[1]BasinCharacteristics!$A$2:$U$972,21,FALSE)","v":21.36},"--"]
[{"$f":"VLOOKUP(B104,'[2]Gages and BCs'!$A$4:$BJ$973,62,FALSE)","v":218},6121500,{"$f":"VLOOKUP(B104,'[2]Gages and BCs'!$A$4:$BJ$973,60,FALSE)","v":"Lebo Creek near Harlowton, Montana"},{"$f":"VLOOKUP($B104,[1]BasinCharacteristics!$A$2:$U$972,3,FALSE)","v":46.380419439999997},{"$f":"VLOOKUP($B104,[1]BasinCharacteristics!$A$2:$U$972,4,FALSE)","v":-109.79929444},{"$f":"VLOOKUP($B104,[1]BasinCharacteristics!$A$2:$U$972,5,FALSE)","v":54.6},{"$f":"VLOOKUP($B104,[1]BasinCharacteristics!$A$2:$U$972,21,FALSE)","v":16.454000000000001},"--"]
[{"$f":"VLOOKUP(B105,'[2]Gages and BCs'!$A$4:$BJ$973,62,FALSE)","v":219},6122000,{"$f":"VLOOKUP(B105,'[2]Gages and BCs'!$A$4:$BJ$973,60,FALSE)","v":"American Fork below Lebo Creek, near Harlowton, Montana"},{"$f":"VLOOKUP($B105,[1]BasinCharacteristics!$A$2:$U$972,3,FALSE)","v":46.396197219999998},{"$f":"VLOOKUP($B105,[1]BasinCharacteristics!$A$2:$U$972,4,FALSE)","v":-109.74214444},{"$f":"VLOOKUP($B105,[1]BasinCharacteristics!$A$2:$U$972,5,FALSE)","v":171},{"$f":"VLOOKUP($B105,[1]BasinCharacteristics!$A$2:$U$972,21,FALSE)","v":20.802},"--"]
[{"$f":"VLOOKUP(B106,'[2]Gages and BCs'!$A$4:$BJ$973,62,FALSE)","v":423},6191000,{"$f":"VLOOKUP(B106,'[2]Gages and BCs'!$A$4:$BJ$973,60,FALSE)","v":"Gardner River near Mammoth, Yellowstone National Park, Wyoming"},{"$f":"VLOOKUP($B106,[1]BasinCharacteristics!$A$2:$U$972,3,FALSE)","v":44.992344439999997},{"$f":"VLOOKUP($B106,[1]BasinCharacteristics!$A$2:$U$972,4,FALSE)","v":-110.69097499999999},{"$f":"VLOOKUP($B106,[1]BasinCharacteristics!$A$2:$U$972,5,FALSE)","v":198},{"$f":"VLOOKUP($B106,[1]BasinCharacteristics!$A$2:$U$972,21,FALSE)","v":32.328000000000003},"--"]
[{"$f":"VLOOKUP(B107,'[2]Gages and BCs'!$A$4:$BJ$973,62,FALSE)","v":424},6191500,{"$f":"VLOOKUP(B107,'[2]Gages and BCs'!$A$4:$BJ$973,60,FALSE)","v":"Yellowstone River at Corwin Springs, Montana"},{"$f":"VLOOKUP($B107,[1]BasinCharacteristics!$A$2:$U$972,3,FALSE)","v":45.112119440000001},{"$f":"VLOOKUP($B107,[1]BasinCharacteristics!$A$2:$U$972,4,FALSE)","v":-110.79366666999999},{"$f":"VLOOKUP($B107,[1]BasinCharacteristics!$A$2:$U$972,5,FALSE)","v":2616},{"$f":"VLOOKUP($B107,[1]BasinCharacteristics!$A$2:$U$972,21,FALSE)","v":31.33},"--"]
[{"$f":"VLOOKUP(B108,'[2]Gages and BCs'!$A$4:$BJ$973,62,FALSE)","v":426},6193000,{"$f":"VLOOKUP(B108,'[2]Gages and BCs'!$A$4:$BJ$973,60,FALSE)","v":"Shields River near Wilsall, Montana"},{"$f":"VLOOKUP($B108,[1]BasinCharacteristics!$A$2:$U$972,3,FALSE)","v":46.152605559999998},{"$f":"VLOOKUP($B108,[1]BasinCharacteristics!$A$2:$U$972,4,FALSE)","v":-110.58681944},{"$f":"VLOOKUP($B108,[1]BasinCharacteristics!$A$2:$U$972,5,FALSE)","v":90.9},{"$f":"VLOOKUP($B108,[1]BasinCharacteristics!$A$2:$U$972,21,FALSE)","v":30.835000000000001},"--"]
[{"$f":"VLOOKUP(B109,'[2]Gages and BCs'!$A$4:$BJ$973,62,FALSE)","v":427},6193500,{"$f":"VLOOKUP(B109,'[2]Gages and BCs'!$A$4:$BJ$973,60,FALSE)","v":"Shields River at Clyde Park, Montana"},{"$f":"VLOOKUP($B109,[1]BasinCharacteristics!$A$2:$U$972,3,FALSE)","v":45.885733330000001},{"$f":"VLOOKUP($B109,[1]BasinCharacteristics!$A$2:$U$972,4,FALSE)","v":-110.61795832999999},{"$f":"VLOOKUP($B109,[1]BasinCharacteristics!$A$2:$U$972,5,FALSE)","v":539},{"$f":"VLOOKUP($B109,[1]BasinCharacteristics!$A$2:$U$972,21,FALSE)","v":22.997},"--"]
[{"$f":"VLOOKUP(B110,'[2]Gages and BCs'!$A$4:$BJ$973,62,FALSE)","v":428},6194000,{"$f":"VLOOKUP(B110,'[2]Gages and BCs'!$A$4:$BJ$973,60,FALSE)","v":"Brackett Creek near Clyde Park, Montana"},{"$f":"VLOOKUP($B110,[1]BasinCharacteristics!$A$2:$U$972,3,FALSE)","v":45.866619440000001},{"$f":"VLOOKUP($B110,[1]BasinCharacteristics!$A$2:$U$972,4,FALSE)","v":-110.67023055999999},{"$f":"VLOOKUP($B110,[1]BasinCharacteristics!$A$2:$U$972,5,FALSE)","v":58.1},{"$f":"VLOOKUP($B110,[1]BasinCharacteristics!$A$2:$U$972,21,FALSE)","v":29.831},"--"]
[{"$f":"VLOOKUP(B111,'[2]Gages and BCs'!$A$4:$BJ$973,62,FALSE)","v":430},6197000,{"$f":"VLOOKUP(B111,'[2]Gages and BCs'!$A$4:$BJ$973,60,FALSE)","v":"Big Timber Creek near Big Timber, Montana"},{"$f":"VLOOKUP($B111,[1]BasinCharacteristics!$A$2:$U$972,3,FALSE)","v":45.954311109999999},{"$f":"VLOOKUP($B111,[1]BasinCharacteristics!$A$2:$U$972,4,FALSE)","v":-110.02945556},{"$f":"VLOOKUP($B111,[1]BasinCharacteristics!$A$2:$U$972,5,FALSE)","v":75.3},{"$f":"VLOOKUP($B111,[1]BasinCharacteristics!$A$2:$U$972,21,FALSE)","v":26.763999999999999},"--"]
[{"$f":"VLOOKUP(B112,'[2]Gages and BCs'!$A$4:$BJ$973,62,FALSE)","v":431},6197500,{"$f":"VLOOKUP(B112,'[2]Gages and BCs'!$A$4:$BJ$973,60,FALSE)","v":"Boulder River near Contact, Montana"},{"$f":"VLOOKUP($B112,[1]BasinCharacteristics!$A$2:$U$972,3,FALSE)","v":45.554533329999998},{"$f":"VLOOKUP($B112,[1]BasinCharacteristics!$A$2:$U$972,4,FALSE)","v":-110.20054167000001},{"$f":"VLOOKUP($B112,[1]BasinCharacteristics!$A$2:$U$972,5,FALSE)","v":225},{"$f":"VLOOKUP($B112,[1]BasinCharacteristics!$A$2:$U$972,21,FALSE)","v":35.338000000000001},"--"]
[{"$f":"VLOOKUP(B113,'[2]Gages and BCs'!$A$4:$BJ$973,62,FALSE)","v":432},6200000,{"$f":"VLOOKUP(B113,'[2]Gages and BCs'!$A$4:$BJ$973,60,FALSE)","v":"Boulder River at Big Timber, Montana"},{"$f":"VLOOKUP($B113,[1]BasinCharacteristics!$A$2:$U$972,3,FALSE)","v":45.833794439999998},{"$f":"VLOOKUP($B113,[1]BasinCharacteristics!$A$2:$U$972,4,FALSE)","v":-109.93870556},{"$f":"VLOOKUP($B113,[1]BasinCharacteristics!$A$2:$U$972,5,FALSE)","v":525},{"$f":"VLOOKUP($B113,[1]BasinCharacteristics!$A$2:$U$972,21,FALSE)","v":30.524000000000001},"--"]
[{"$f":"VLOOKUP(B114,'[2]Gages and BCs'!$A$4:$BJ$973,62,FALSE)","v":433},6200500,{"$f":"VLOOKUP(B114,'[2]Gages and BCs'!$A$4:$BJ$973,60,FALSE)","v":"Sweet Grass Creek above Melville, Montana"},{"$f":"VLOOKUP($B114,[1]BasinCharacteristics!$A$2:$U$972,3,FALSE)","v":46.155380559999998},{"$f":"VLOOKUP($B114,[1]BasinCharacteristics!$A$2:$U$972,4,FALSE)","v":-110.08705},{"$f":"VLOOKUP($B114,[1]BasinCharacteristics!$A$2:$U$972,5,FALSE)","v":60.4},{"$f":"VLOOKUP($B114,[1]BasinCharacteristics!$A$2:$U$972,21,FALSE)","v":35.975000000000001},"--"]
[{"$f":"VLOOKUP(B115,'[2]Gages and BCs'!$A$4:$BJ$973,62,FALSE)","v":434},6201000,{"$f":"VLOOKUP(B115,'[2]Gages and BCs'!$A$4:$BJ$973,60,FALSE)","v":"Sweet Grass Creek below Melville, Montana"},{"$f":"VLOOKUP($B115,[1]BasinCharacteristics!$A$2:$U$972,3,FALSE)","v":46.06143333},{"$f":"VLOOKUP($B115,[1]BasinCharacteristics!$A$2:$U$972,4,FALSE)","v":-109.84524166999999},{"$f":"VLOOKUP($B115,[1]BasinCharacteristics!$A$2:$U$972,5,FALSE)","v":147},{"$f":"VLOOKUP($B115,[1]BasinCharacteristics!$A$2:$U$972,21,FALSE)","v":25.823},"--"]
[{"$f":"VLOOKUP(B116,'[2]Gages and BCs'!$A$4:$BJ$973,62,FALSE)","v":440},6202510,{"$f":"VLOOKUP(B116,'[2]Gages and BCs'!$A$4:$BJ$973,60,FALSE)","v":"Stillwater River above Nye Creek, near Nye, Montana"},{"$f":"VLOOKUP($B116,[1]BasinCharacteristics!$A$2:$U$972,3,FALSE)","v":45.394308330000001},{"$f":"VLOOKUP($B116,[1]BasinCharacteristics!$A$2:$U$972,4,FALSE)","v":-109.86951667},{"$f":"VLOOKUP($B116,[1]BasinCharacteristics!$A$2:$U$972,5,FALSE)","v":192},{"$f":"VLOOKUP($B116,[1]BasinCharacteristics!$A$2:$U$972,21,FALSE)","v":38.847000000000001},"--"]
[{"$f":"VLOOKUP(B117,'[2]Gages and BCs'!$A$4:$BJ$973,62,FALSE)","v":442},6204500,{"$f":"VLOOKUP(B117,'[2]Gages and BCs'!$A$4:$BJ$973,60,FALSE)","v":"Rosebud Creek near Absarokee, Montana"},{"$f":"VLOOKUP($B117,[1]BasinCharacteristics!$A$2:$U$972,3,FALSE)","v":45.486591670000003},{"$f":"VLOOKUP($B117,[1]BasinCharacteristics!$A$2:$U$972,4,FALSE)","v":-109.45613056000001},{"$f":"VLOOKUP($B117,[1]BasinCharacteristics!$A$2:$U$972,5,FALSE)","v":396},{"$f":"VLOOKUP($B117,[1]BasinCharacteristics!$A$2:$U$972,21,FALSE)","v":31.599},"--"]
[{"$f":"VLOOKUP(B118,'[2]Gages and BCs'!$A$4:$BJ$973,62,FALSE)","v":443},6205000,{"$f":"VLOOKUP(B118,'[2]Gages and BCs'!$A$4:$BJ$973,60,FALSE)","v":"Stillwater River near Absarokee, Montana"},{"$f":"VLOOKUP($B118,[1]BasinCharacteristics!$A$2:$U$972,3,FALSE)","v":45.551436109999997},{"$f":"VLOOKUP($B118,[1]BasinCharacteristics!$A$2:$U$972,4,FALSE)","v":-109.38803056},{"$f":"VLOOKUP($B118,[1]BasinCharacteristics!$A$2:$U$972,5,FALSE)","v":976},{"$f":"VLOOKUP($B118,[1]BasinCharacteristics!$A$2:$U$972,21,FALSE)","v":30.164999999999999},"--"]
[{"$f":"VLOOKUP(B119,'[2]Gages and BCs'!$A$4:$BJ$973,62,FALSE)","v":445},6207500,{"$f":"VLOOKUP(B119,'[2]Gages and BCs'!$A$4:$BJ$973,60,FALSE)","v":"Clarks Fork Yellowstone River near Belfry, Montana"},{"$f":"VLOOKUP($B119,[1]BasinCharacteristics!$A$2:$U$972,3,FALSE)","v":45.009911109999997},{"$f":"VLOOKUP($B119,[1]BasinCharacteristics!$A$2:$U$972,4,FALSE)","v":-109.06536667},{"$f":"VLOOKUP($B119,[1]BasinCharacteristics!$A$2:$U$972,5,FALSE)","v":1152},{"$f":"VLOOKUP($B119,[1]BasinCharacteristics!$A$2:$U$972,21,FALSE)","v":27.913},"--"]
[{"$f":"VLOOKUP(B120,'[2]Gages and BCs'!$A$4:$BJ$973,62,FALSE)","v":447},6207800,{"$f":"VLOOKUP(B120,'[2]Gages and BCs'!$A$4:$BJ$973,60,FALSE)","v":"Bluewater Creek near Bridger, Montana"},{"$f":"VLOOKUP($B120,[1]BasinCharacteristics!$A$2:$U$972,3,FALSE)","v":45.331372219999999},{"$f":"VLOOKUP($B120,[1]BasinCharacteristics!$A$2:$U$972,4,FALSE)","v":-108.801475},{"$f":"VLOOKUP($B120,[1]BasinCharacteristics!$A$2:$U$972,5,FALSE)","v":28.1},{"$f":"VLOOKUP($B120,[1]BasinCharacteristics!$A$2:$U$972,21,FALSE)","v":21.013999999999999},"--"]
[{"$f":"VLOOKUP(B121,'[2]Gages and BCs'!$A$4:$BJ$973,62,FALSE)","v":450},6209500,{"$f":"VLOOKUP(B121,'[2]Gages and BCs'!$A$4:$BJ$973,60,FALSE)","v":"Rock Creek near Red Lodge, Montana"},{"$f":"VLOOKUP($B121,[1]BasinCharacteristics!$A$2:$U$972,3,FALSE)","v":45.086147220000001},{"$f":"VLOOKUP($B121,[1]BasinCharacteristics!$A$2:$U$972,4,FALSE)","v":-109.32918889},{"$f":"VLOOKUP($B121,[1]BasinCharacteristics!$A$2:$U$972,5,FALSE)","v":105},{"$f":"VLOOKUP($B121,[1]BasinCharacteristics!$A$2:$U$972,21,FALSE)","v":33.573999999999998},"--"]
[{"$f":"VLOOKUP(B122,'[2]Gages and BCs'!$A$4:$BJ$973,62,FALSE)","v":451},6210000,{"$f":"VLOOKUP(B122,'[2]Gages and BCs'!$A$4:$BJ$973,60,FALSE)","v":"West Fork Rock Creek below Basin Creek, near Red Lodge, Montana"},{"$f":"VLOOKUP($B122,[1]BasinCharacteristics!$A$2:$U$972,3,FALSE)","v":45.154536110000002},{"$f":"VLOOKUP($B122,[1]BasinCharacteristics!$A$2:$U$972,4,FALSE)","v":-109.36743333},{"$f":"VLOOKUP($B122,[1]BasinCharacteristics!$A$2:$U$972,5,FALSE)","v":51.1},{"$f":"VLOOKUP($B122,[1]BasinCharacteristics!$A$2:$U$972,21,FALSE)","v":32.933},"--"]
[{"$f":"VLOOKUP(B123,'[2]Gages and BCs'!$A$4:$BJ$973,62,FALSE)","v":453},6211000,{"$f":"VLOOKUP(B123,'[2]Gages and BCs'!$A$4:$BJ$973,60,FALSE)","v":"Red Lodge Creek above Cooney Reservoir, near Boyd, Montana"},{"$f":"VLOOKUP($B123,[1]BasinCharacteristics!$A$2:$U$972,3,FALSE)","v":45.437849999999997},{"$f":"VLOOKUP($B123,[1]BasinCharacteristics!$A$2:$U$972,4,FALSE)","v":-109.25331111},{"$f":"VLOOKUP($B123,[1]BasinCharacteristics!$A$2:$U$972,5,FALSE)","v":142},{"$f":"VLOOKUP($B123,[1]BasinCharacteristics!$A$2:$U$972,21,FALSE)","v":23.78},"--"]
[{"$f":"VLOOKUP(B124,'[2]Gages and BCs'!$A$4:$BJ$973,62,FALSE)","v":454},6211500,{"$f":"VLOOKUP(B124,'[2]Gages and BCs'!$A$4:$BJ$973,60,FALSE)","v":"Willow Creek near Boyd, Montana"},{"$f":"VLOOKUP($B124,[1]BasinCharacteristics!$A$2:$U$972,3,FALSE)","v":45.422147219999999},{"$f":"VLOOKUP($B124,[1]BasinCharacteristics!$A$2:$U$972,4,FALSE)","v":-109.23053056000001},{"$f":"VLOOKUP($B124,[1]BasinCharacteristics!$A$2:$U$972,5,FALSE)","v":49.2},{"$f":"VLOOKUP($B124,[1]BasinCharacteristics!$A$2:$U$972,21,FALSE)","v":20.878},"--"]
[{"$f":"VLOOKUP(B125,'[2]Gages and BCs'!$A$4:$BJ$973,62,FALSE)","v":460},6216000,{"$f":"VLOOKUP(B125,'[2]Gages and BCs'!$A$4:$BJ$973,60,FALSE)","v":"Pryor Creek at Pryor, Montana"},{"$f":"VLOOKUP($B125,[1]BasinCharacteristics!$A$2:$U$972,3,FALSE)","v":45.434677780000001},{"$f":"VLOOKUP($B125,[1]BasinCharacteristics!$A$2:$U$972,4,FALSE)","v":-108.53365278},{"$f":"VLOOKUP($B125,[1]BasinCharacteristics!$A$2:$U$972,5,FALSE)","v":118},{"$f":"VLOOKUP($B125,[1]BasinCharacteristics!$A$2:$U$972,21,FALSE)","v":20.271000000000001},"--"]
[{"$f":"VLOOKUP(B126,'[2]Gages and BCs'!$A$4:$BJ$973,62,FALSE)","v":464},6216900,{"$f":"VLOOKUP(B126,'[2]Gages and BCs'!$A$4:$BJ$973,60,FALSE)","v":"Pryor Creek near Huntley, Montana"},{"$f":"VLOOKUP($B126,[1]BasinCharacteristics!$A$2:$U$972,3,FALSE)","v":45.819694439999999},{"$f":"VLOOKUP($B126,[1]BasinCharacteristics!$A$2:$U$972,4,FALSE)","v":-108.29033333},{"$f":"VLOOKUP($B126,[1]BasinCharacteristics!$A$2:$U$972,5,FALSE)","v":574},{"$f":"VLOOKUP($B126,[1]BasinCharacteristics!$A$2:$U$972,21,FALSE)","v":17.827000000000002},"--"]
[{"$f":"VLOOKUP(B127,'[2]Gages and BCs'!$A$4:$BJ$973,62,FALSE)","v":471},6287500,{"$f":"VLOOKUP(B127,'[2]Gages and BCs'!$A$4:$BJ$973,60,FALSE)","v":"Soap Creek near St. Xavier, Montana"},{"$f":"VLOOKUP($B127,[1]BasinCharacteristics!$A$2:$U$972,3,FALSE)","v":45.326908330000002},{"$f":"VLOOKUP($B127,[1]BasinCharacteristics!$A$2:$U$972,4,FALSE)","v":-107.76982778},{"$f":"VLOOKUP($B127,[1]BasinCharacteristics!$A$2:$U$972,5,FALSE)","v":94.4},{"$f":"VLOOKUP($B127,[1]BasinCharacteristics!$A$2:$U$972,21,FALSE)","v":19.937000000000001},"--"]
[{"$f":"VLOOKUP(B128,'[2]Gages and BCs'!$A$4:$BJ$973,62,FALSE)","v":472},6288000,{"$f":"VLOOKUP(B128,'[2]Gages and BCs'!$A$4:$BJ$973,60,FALSE)","v":"Rotten Grass Creek near St. Xavier, Montana"},{"$f":"VLOOKUP($B128,[1]BasinCharacteristics!$A$2:$U$972,3,FALSE)","v":45.412166669999998},{"$f":"VLOOKUP($B128,[1]BasinCharacteristics!$A$2:$U$972,4,FALSE)","v":-107.68310278},{"$f":"VLOOKUP($B128,[1]BasinCharacteristics!$A$2:$U$972,5,FALSE)","v":146},{"$f":"VLOOKUP($B128,[1]BasinCharacteristics!$A$2:$U$972,21,FALSE)","v":18.914000000000001},"--"]
[{"$f":"VLOOKUP(B129,'[2]Gages and BCs'!$A$4:$BJ$973,62,FALSE)","v":473},6288200,{"$f":"VLOOKUP(B129,'[2]Gages and BCs'!$A$4:$BJ$973,60,FALSE)","v":"Beauvais Creek near St. Xavier, Montana"},{"$f":"VLOOKUP($B129,[1]BasinCharacteristics!$A$2:$U$972,3,FALSE)","v":45.477038890000003},{"$f":"VLOOKUP($B129,[1]BasinCharacteristics!$A$2:$U$972,4,FALSE)","v":-108.00796389},{"$f":"VLOOKUP($B129,[1]BasinCharacteristics!$A$2:$U$972,5,FALSE)","v":123},{"$f":"VLOOKUP($B129,[1]BasinCharacteristics!$A$2:$U$972,21,FALSE)","v":19.016999999999999},"--"]
[{"$f":"VLOOKUP(B130,'[2]Gages and BCs'!$A$4:$BJ$973,62,FALSE)","v":475},6289000,{"$f":"VLOOKUP(B130,'[2]Gages and BCs'!$A$4:$BJ$973,60,FALSE)","v":"Little Bighorn River at State line, near Wyola, Montana"},{"$f":"VLOOKUP($B130,[1]BasinCharacteristics!$A$2:$U$972,3,FALSE)","v":45.007111109999997},{"$f":"VLOOKUP($B130,[1]BasinCharacteristics!$A$2:$U$972,4,FALSE)","v":-107.61540832999999},{"$f":"VLOOKUP($B130,[1]BasinCharacteristics!$A$2:$U$972,5,FALSE)","v":182},{"$f":"VLOOKUP($B130,[1]BasinCharacteristics!$A$2:$U$972,21,FALSE)","v":26.693999999999999},"--"]
[{"$f":"VLOOKUP(B131,'[2]Gages and BCs'!$A$4:$BJ$973,62,FALSE)","v":477},6290000,{"$f":"VLOOKUP(B131,'[2]Gages and BCs'!$A$4:$BJ$973,60,FALSE)","v":"Pass Creek near Wyola, Montana"},{"$f":"VLOOKUP($B131,[1]BasinCharacteristics!$A$2:$U$972,3,FALSE)","v":45.056263889999997},{"$f":"VLOOKUP($B131,[1]BasinCharacteristics!$A$2:$U$972,4,FALSE)","v":-107.35590000000001},{"$f":"VLOOKUP($B131,[1]BasinCharacteristics!$A$2:$U$972,5,FALSE)","v":113},{"$f":"VLOOKUP($B131,[1]BasinCharacteristics!$A$2:$U$972,21,FALSE)","v":20.068000000000001},"--"]
[{"$f":"VLOOKUP(B132,'[2]Gages and BCs'!$A$4:$BJ$973,62,FALSE)","v":479},6290500,{"$f":"VLOOKUP(B132,'[2]Gages and BCs'!$A$4:$BJ$973,60,FALSE)","v":"Little Bighorn River below Pass Creek, near Wyola, Montana"},{"$f":"VLOOKUP($B132,[1]BasinCharacteristics!$A$2:$U$972,3,FALSE)","v":45.177133329999997},{"$f":"VLOOKUP($B132,[1]BasinCharacteristics!$A$2:$U$972,4,FALSE)","v":-107.39455},{"$f":"VLOOKUP($B132,[1]BasinCharacteristics!$A$2:$U$972,5,FALSE)","v":426},{"$f":"VLOOKUP($B132,[1]BasinCharacteristics!$A$2:$U$972,21,FALSE)","v":22.353999999999999},"--"]
[{"$f":"VLOOKUP(B133,'[2]Gages and BCs'!$A$4:$BJ$973,62,FALSE)","v":480},6291000,{"$f":"VLOOKUP(B133,'[2]Gages and BCs'!$A$4:$BJ$973,60,FALSE)","v":"Owl Creek near Lodge Grass, Montana"},{"$f":"VLOOKUP($B133,[1]BasinCharacteristics!$A$2:$U$972,3,FALSE)","v":45.26796667},{"$f":"VLOOKUP($B133,[1]BasinCharacteristics!$A$2:$U$972,4,FALSE)","v":-107.30138332999999},{"$f":"VLOOKUP($B133,[1]BasinCharacteristics!$A$2:$U$972,5,FALSE)","v":163},{"$f":"VLOOKUP($B133,[1]BasinCharacteristics!$A$2:$U$972,21,FALSE)","v":18.738},"--"]
[{"$f":"VLOOKUP(B134,'[2]Gages and BCs'!$A$4:$BJ$973,62,FALSE)","v":481},6291500,{"$f":"VLOOKUP(B134,'[2]Gages and BCs'!$A$4:$BJ$973,60,FALSE)","v":"Lodge Grass Creek above Willow Creek diversion, near Wyola, Montana"},{"$f":"VLOOKUP($B134,[1]BasinCharacteristics!$A$2:$U$972,3,FALSE)","v":45.126480559999997},{"$f":"VLOOKUP($B134,[1]BasinCharacteristics!$A$2:$U$972,4,FALSE)","v":-107.59989167000001},{"$f":"VLOOKUP($B134,[1]BasinCharacteristics!$A$2:$U$972,5,FALSE)","v":83.9},{"$f":"VLOOKUP($B134,[1]BasinCharacteristics!$A$2:$U$972,21,FALSE)","v":23.187000000000001},"--"]
[{"$f":"VLOOKUP(B135,'[2]Gages and BCs'!$A$4:$BJ$973,62,FALSE)","v":484},6294000,{"$f":"VLOOKUP(B135,'[2]Gages and BCs'!$A$4:$BJ$973,60,FALSE)","v":"Little Bighorn River near Hardin, Montana"},{"$f":"VLOOKUP($B135,[1]BasinCharacteristics!$A$2:$U$972,3,FALSE)","v":45.735686110000003},{"$f":"VLOOKUP($B135,[1]BasinCharacteristics!$A$2:$U$972,4,FALSE)","v":-107.55746944000001},{"$f":"VLOOKUP($B135,[1]BasinCharacteristics!$A$2:$U$972,5,FALSE)","v":1294},{"$f":"VLOOKUP($B135,[1]BasinCharacteristics!$A$2:$U$972,21,FALSE)","v":19.597999999999999},"--"]
["Southwest hydrologic region"]
[{"$f":"VLOOKUP(B137,'[2]Gages and BCs'!$A$4:$BJ$973,62,FALSE)","v":15},6006000,{"$f":"VLOOKUP(B137,'[2]Gages and BCs'!$A$4:$BJ$973,60,FALSE)","v":"Red Rock Creek above Lakes, near Lakeview, Montana"},{"$f":"VLOOKUP($B137,[1]BasinCharacteristics!$A$2:$U$972,3,FALSE)","v":44.617030560000003},{"$f":"VLOOKUP($B137,[1]BasinCharacteristics!$A$2:$U$972,4,FALSE)","v":-111.65674722},{"$f":"VLOOKUP($B137,[1]BasinCharacteristics!$A$2:$U$972,5,FALSE)","v":37.299999999999997},{"$f":"VLOOKUP($B137,[1]BasinCharacteristics!$A$2:$U$972,21,FALSE)","v":37.018000000000001},{"$f":"VLOOKUP($B137,[1]BasinCharacteristics!$A$2:$U$972,20,FALSE)","v":10.268000000000001}]
[{"$f":"VLOOKUP(B138,'[2]Gages and BCs'!$A$4:$BJ$973,62,FALSE)","v":16},6011000,{"$f":"VLOOKUP(B138,'[2]Gages and BCs'!$A$4:$BJ$973,60,FALSE)","v":"Red Rock River at Kennedy Ranch, near Lakeview, Montana"},{"$f":"VLOOKUP($B138,[1]BasinCharacteristics!$A$2:$U$972,3,FALSE)","v":44.647930559999999},{"$f":"VLOOKUP($B138,[1]BasinCharacteristics!$A$2:$U$972,4,FALSE)","v":-112.05640556},{"$f":"VLOOKUP($B138,[1]BasinCharacteristics!$A$2:$U$972,5,FALSE)","v":321},{"$f":"VLOOKUP($B138,[1]BasinCharacteristics!$A$2:$U$972,21,FALSE)","v":27.318999999999999},{"$f":"VLOOKUP($B138,[1]BasinCharacteristics!$A$2:$U$972,20,FALSE)","v":4.4000000000000004}]
[{"$f":"VLOOKUP(B139,'[2]Gages and BCs'!$A$4:$BJ$973,62,FALSE)","v":20},6013500,{"$f":"VLOOKUP(B139,'[2]Gages and BCs'!$A$4:$BJ$973,60,FALSE)","v":"Big Sheep Creek below Muddy Creek, near Dell, Montana"},{"$f":"VLOOKUP($B139,[1]BasinCharacteristics!$A$2:$U$972,3,FALSE)","v":44.65511111},{"$f":"VLOOKUP($B139,[1]BasinCharacteristics!$A$2:$U$972,4,FALSE)","v":-112.778475},{"$f":"VLOOKUP($B139,[1]BasinCharacteristics!$A$2:$U$972,5,FALSE)","v":279},{"$f":"VLOOKUP($B139,[1]BasinCharacteristics!$A$2:$U$972,21,FALSE)","v":19.765999999999998},{"$f":"VLOOKUP($B139,[1]BasinCharacteristics!$A$2:$U$972,20,FALSE)","v":10.601000000000001}]
[{"$f":"VLOOKUP(B140,'[2]Gages and BCs'!$A$4:$BJ$973,62,FALSE)","v":25},6015500,{"$f":"VLOOKUP(B140,'[2]Gages and BCs'!$A$4:$BJ$973,60,FALSE)","v":"Grasshopper Creek near Dillon, Montana"},{"$f":"VLOOKUP($B140,[1]BasinCharacteristics!$A$2:$U$972,3,FALSE)","v":45.110141669999997},{"$f":"VLOOKUP($B140,[1]BasinCharacteristics!$A$2:$U$972,4,FALSE)","v":-112.80081944},{"$f":"VLOOKUP($B140,[1]BasinCharacteristics!$A$2:$U$972,5,FALSE)","v":348},{"$f":"VLOOKUP($B140,[1]BasinCharacteristics!$A$2:$U$972,21,FALSE)","v":16.738},{"$f":"VLOOKUP($B140,[1]BasinCharacteristics!$A$2:$U$972,20,FALSE)","v":3.956}]
[{"$f":"VLOOKUP(B141,'[2]Gages and BCs'!$A$4:$BJ$973,62,FALSE)","v":29},6017500,{"$f":"VLOOKUP(B141,'[2]Gages and BCs'!$A$4:$BJ$973,60,FALSE)","v":"Blacktail Deer Creek near Dillon, Montana"},{"$f":"VLOOKUP($B141,[1]BasinCharacteristics!$A$2:$U$972,3,FALSE)","v":45.046063889999999},{"$f":"VLOOKUP($B141,[1]BasinCharacteristics!$A$2:$U$972,4,FALSE)","v":-112.54965556000001},{"$f":"VLOOKUP($B141,[1]BasinCharacteristics!$A$2:$U$972,5,FALSE)","v":316},{"$f":"VLOOKUP($B141,[1]BasinCharacteristics!$A$2:$U$972,21,FALSE)","v":20.411000000000001},{"$f":"VLOOKUP($B141,[1]BasinCharacteristics!$A$2:$U$972,20,FALSE)","v":6.3819999999999997}]
[{"$f":"VLOOKUP(B142,'[2]Gages and BCs'!$A$4:$BJ$973,62,FALSE)","v":33},6019500,{"$f":"VLOOKUP(B142,'[2]Gages and BCs'!$A$4:$BJ$973,60,FALSE)","v":"Ruby River above reservoir, near Alder, Montana"},{"$f":"VLOOKUP($B142,[1]BasinCharacteristics!$A$2:$U$972,3,FALSE)","v":45.192319439999999},{"$f":"VLOOKUP($B142,[1]BasinCharacteristics!$A$2:$U$972,4,FALSE)","v":-112.14281667},{"$f":"VLOOKUP($B142,[1]BasinCharacteristics!$A$2:$U$972,5,FALSE)","v":534},{"$f":"VLOOKUP($B142,[1]BasinCharacteristics!$A$2:$U$972,21,FALSE)","v":21.619},{"$f":"VLOOKUP($B142,[1]BasinCharacteristics!$A$2:$U$972,20,FALSE)","v":6.1349999999999998}]
[{"$f":"VLOOKUP(B143,'[2]Gages and BCs'!$A$4:$BJ$973,62,FALSE)","v":39},6024450,{"$f":"VLOOKUP(B143,'[2]Gages and BCs'!$A$4:$BJ$973,60,FALSE)","v":"Big Hole River below Big Lake Creek, at Wisdom, Montana"},{"$f":"VLOOKUP($B143,[1]BasinCharacteristics!$A$2:$U$972,3,FALSE)","v":45.617966670000001},{"$f":"VLOOKUP($B143,[1]BasinCharacteristics!$A$2:$U$972,4,FALSE)","v":-113.45694167000001},{"$f":"VLOOKUP($B143,[1]BasinCharacteristics!$A$2:$U$972,5,FALSE)","v":586},{"$f":"VLOOKUP($B143,[1]BasinCharacteristics!$A$2:$U$972,21,FALSE)","v":23.271999999999998},{"$f":"VLOOKUP($B143,[1]BasinCharacteristics!$A$2:$U$972,20,FALSE)","v":5.0069999999999997}]
[{"$f":"VLOOKUP(B144,'[2]Gages and BCs'!$A$4:$BJ$973,62,FALSE)","v":40},6024500,{"$f":"VLOOKUP(B144,'[2]Gages and BCs'!$A$4:$BJ$973,60,FALSE)","v":"Trail Creek near Wisdom, Montana"},{"$f":"VLOOKUP($B144,[1]BasinCharacteristics!$A$2:$U$972,3,FALSE)","v":45.656419440000001},{"$f":"VLOOKUP($B144,[1]BasinCharacteristics!$A$2:$U$972,4,FALSE)","v":-113.71670278000001},{"$f":"VLOOKUP($B144,[1]BasinCharacteristics!$A$2:$U$972,5,FALSE)","v":72.599999999999994},{"$f":"VLOOKUP($B144,[1]BasinCharacteristics!$A$2:$U$972,21,FALSE)","v":36.442999999999998},{"$f":"VLOOKUP($B144,[1]BasinCharacteristics!$A$2:$U$972,20,FALSE)","v":0.96199999999999997}]
[{"$f":"VLOOKUP(B145,'[2]Gages and BCs'!$A$4:$BJ$973,62,FALSE)","v":41},6024540,{"$f":"VLOOKUP(B145,'[2]Gages and BCs'!$A$4:$BJ$973,60,FALSE)","v":"Big Hole River below Mudd Creek, near Wisdom, Montana"},{"$f":"VLOOKUP($B145,[1]BasinCharacteristics!$A$2:$U$972,3,FALSE)","v":45.807541669999999},{"$f":"VLOOKUP($B145,[1]BasinCharacteristics!$A$2:$U$972,4,FALSE)","v":-113.31326944},{"$f":"VLOOKUP($B145,[1]BasinCharacteristics!$A$2:$U$972,5,FALSE)","v":1275},{"$f":"VLOOKUP($B145,[1]BasinCharacteristics!$A$2:$U$972,21,FALSE)","v":23.652999999999999},{"$f":"VLOOKUP($B145,[1]BasinCharacteristics!$A$2:$U$972,20,FALSE)","v":3.8180000000000001}]
[{"$f":"VLOOKUP(B146,'[2]Gages and BCs'!$A$4:$BJ$973,62,FALSE)","v":42},6024590,{"$f":"VLOOKUP(B146,'[2]Gages and BCs'!$A$4:$BJ$973,60,FALSE)","v":"Wise River near Wise River, Montana"},{"$f":"VLOOKUP($B146,[1]BasinCharacteristics!$A$2:$U$972,3,FALSE)","v":45.704555560000003},{"$f":"VLOOKUP($B146,[1]BasinCharacteristics!$A$2:$U$972,4,FALSE)","v":-113.03161111},{"$f":"VLOOKUP($B146,[1]BasinCharacteristics!$A$2:$U$972,5,FALSE)","v":221},{"$f":"VLOOKUP($B146,[1]BasinCharacteristics!$A$2:$U$972,21,FALSE)","v":27.881},{"$f":"VLOOKUP($B146,[1]BasinCharacteristics!$A$2:$U$972,20,FALSE)","v":14.769}]
[{"$f":"VLOOKUP(B147,'[2]Gages and BCs'!$A$4:$BJ$973,62,FALSE)","v":45},6025500,{"$f":"VLOOKUP(B147,'[2]Gages and BCs'!$A$4:$BJ$973,60,FALSE)","v":"Big Hole River near Melrose, Montana"},{"$f":"VLOOKUP($B147,[1]BasinCharacteristics!$A$2:$U$972,3,FALSE)","v":45.526580559999999},{"$f":"VLOOKUP($B147,[1]BasinCharacteristics!$A$2:$U$972,4,FALSE)","v":-112.701725},{"$f":"VLOOKUP($B147,[1]BasinCharacteristics!$A$2:$U$972,5,FALSE)","v":2472},{"$f":"VLOOKUP($B147,[1]BasinCharacteristics!$A$2:$U$972,21,FALSE)","v":23.553000000000001},{"$f":"VLOOKUP($B147,[1]BasinCharacteristics!$A$2:$U$972,20,FALSE)","v":6.984}]
[{"$f":"VLOOKUP(B148,'[2]Gages and BCs'!$A$4:$BJ$973,62,FALSE)","v":46},6026000,{"$f":"VLOOKUP(B148,'[2]Gages and BCs'!$A$4:$BJ$973,60,FALSE)","v":"Birch Creek near Glen, Montana"},{"$f":"VLOOKUP($B148,[1]BasinCharacteristics!$A$2:$U$972,3,FALSE)","v":45.37949167},{"$f":"VLOOKUP($B148,[1]BasinCharacteristics!$A$2:$U$972,4,FALSE)","v":-112.79754444},{"$f":"VLOOKUP($B148,[1]BasinCharacteristics!$A$2:$U$972,5,FALSE)","v":35.700000000000003},{"$f":"VLOOKUP($B148,[1]BasinCharacteristics!$A$2:$U$972,21,FALSE)","v":24.382000000000001},{"$f":"VLOOKUP($B148,[1]BasinCharacteristics!$A$2:$U$972,20,FALSE)","v":18.841999999999999}]
[{"$f":"VLOOKUP(B149,'[2]Gages and BCs'!$A$4:$BJ$973,62,FALSE)","v":54},6030500,{"$f":"VLOOKUP(B149,'[2]Gages and BCs'!$A$4:$BJ$973,60,FALSE)","v":"Boulder River above Rock Creek, near Basin, Montana"},{"$f":"VLOOKUP($B149,[1]BasinCharacteristics!$A$2:$U$972,3,FALSE)","v":46.254269440000002},{"$f":"VLOOKUP($B149,[1]BasinCharacteristics!$A$2:$U$972,4,FALSE)","v":-112.50094722},{"$f":"VLOOKUP($B149,[1]BasinCharacteristics!$A$2:$U$972,5,FALSE)","v":24.4},{"$f":"VLOOKUP($B149,[1]BasinCharacteristics!$A$2:$U$972,21,FALSE)","v":24.254000000000001},{"$f":"VLOOKUP($B149,[1]BasinCharacteristics!$A$2:$U$972,20,FALSE)","v":0.995}]
[{"$f":"VLOOKUP(B150,'[2]Gages and BCs'!$A$4:$BJ$973,62,FALSE)","v":56},6033000,{"$f":"VLOOKUP(B150,'[2]Gages and BCs'!$A$4:$BJ$973,60,FALSE)","v":"Boulder River near Boulder, Montana"},{"$f":"VLOOKUP($B150,[1]BasinCharacteristics!$A$2:$U$972,3,FALSE)","v":46.211030559999998},{"$f":"VLOOKUP($B150,[1]BasinCharacteristics!$A$2:$U$972,4,FALSE)","v":-112.09165},{"$f":"VLOOKUP($B150,[1]BasinCharacteristics!$A$2:$U$972,5,FALSE)","v":381},{"$f":"VLOOKUP($B150,[1]BasinCharacteristics!$A$2:$U$972,21,FALSE)","v":22.003},{"$f":"VLOOKUP($B150,[1]BasinCharacteristics!$A$2:$U$972,20,FALSE)","v":5.3179999999999996}]
[{"$f":"VLOOKUP(B151,'[2]Gages and BCs'!$A$4:$BJ$973,62,FALSE)","v":60},6035000,{"$f":"VLOOKUP(B151,'[2]Gages and BCs'!$A$4:$BJ$973,60,FALSE)","v":"Willow Creek near Harrison, Montana"},{"$f":"VLOOKUP($B151,[1]BasinCharacteristics!$A$2:$U$972,3,FALSE)","v":45.723058330000001},{"$f":"VLOOKUP($B151,[1]BasinCharacteristics!$A$2:$U$972,4,FALSE)","v":-111.74102499999999},{"$f":"VLOOKUP($B151,[1]BasinCharacteristics!$A$2:$U$972,5,FALSE)","v":85.9},{"$f":"VLOOKUP($B151,[1]BasinCharacteristics!$A$2:$U$972,21,FALSE)","v":27.940999999999999},{"$f":"VLOOKUP($B151,[1]BasinCharacteristics!$A$2:$U$972,20,FALSE)","v":16.713999999999999}]
[{"$f":"VLOOKUP(B152,'[2]Gages and BCs'!$A$4:$BJ$973,62,FALSE)","v":62},6036500,{"$f":"VLOOKUP(B152,'[2]Gages and BCs'!$A$4:$BJ$973,60,FALSE)","v":"Willow Creek near Willow Creek, Montana"},{"$f":"VLOOKUP($B152,[1]BasinCharacteristics!$A$2:$U$972,3,FALSE)","v":45.750349999999997},{"$f":"VLOOKUP($B152,[1]BasinCharacteristics!$A$2:$U$972,4,FALSE)","v":-111.65820832999999},{"$f":"VLOOKUP($B152,[1]BasinCharacteristics!$A$2:$U$972,5,FALSE)","v":167},{"$f":"VLOOKUP($B152,[1]BasinCharacteristics!$A$2:$U$972,21,FALSE)","v":22.306000000000001},{"$f":"VLOOKUP($B152,[1]BasinCharacteristics!$A$2:$U$972,20,FALSE)","v":9.0739999999999998}]
[{"$f":"VLOOKUP(B153,'[2]Gages and BCs'!$A$4:$BJ$973,62,FALSE)","v":74},6040300,{"$f":"VLOOKUP(B153,'[2]Gages and BCs'!$A$4:$BJ$973,60,FALSE)","v":"Jack Creek near Ennis, Montana"},{"$f":"VLOOKUP($B153,[1]BasinCharacteristics!$A$2:$U$972,3,FALSE)","v":45.356266669999997},{"$f":"VLOOKUP($B153,[1]BasinCharacteristics!$A$2:$U$972,4,FALSE)","v":-111.58162222},{"$f":"VLOOKUP($B153,[1]BasinCharacteristics!$A$2:$U$972,5,FALSE)","v":51.3},{"$f":"VLOOKUP($B153,[1]BasinCharacteristics!$A$2:$U$972,21,FALSE)","v":30.565000000000001},{"$f":"VLOOKUP($B153,[1]BasinCharacteristics!$A$2:$U$972,20,FALSE)","v":22.553000000000001}]
[{"$f":"VLOOKUP(B154,'[2]Gages and BCs'!$A$4:$BJ$973,62,FALSE)","v":91},6055500,{"$f":"VLOOKUP(B154,'[2]Gages and BCs'!$A$4:$BJ$973,60,FALSE)","v":"Crow Creek near Radersburg, Montana"},{"$f":"VLOOKUP($B154,[1]BasinCharacteristics!$A$2:$U$972,3,FALSE)","v":46.262288890000001},{"$f":"VLOOKUP($B154,[1]BasinCharacteristics!$A$2:$U$972,4,FALSE)","v":-111.68711944},{"$f":"VLOOKUP($B154,[1]BasinCharacteristics!$A$2:$U$972,5,FALSE)","v":77.900000000000006},{"$f":"VLOOKUP($B154,[1]BasinCharacteristics!$A$2:$U$972,21,FALSE)","v":25.632000000000001},{"$f":"VLOOKUP($B154,[1]BasinCharacteristics!$A$2:$U$972,20,FALSE)","v":6.5549999999999997}]
[{"$f":"VLOOKUP(B155,'[2]Gages and BCs'!$A$4:$BJ$973,62,FALSE)","v":97},6061500,{"$f":"VLOOKUP(B155,'[2]Gages and BCs'!$A$4:$BJ$973,60,FALSE)","v":"Prickly Pear Creek near Clancy, Montana"},{"$f":"VLOOKUP($B155,[1]BasinCharacteristics!$A$2:$U$972,3,FALSE)","v":46.519097219999999},{"$f":"VLOOKUP($B155,[1]BasinCharacteristics!$A$2:$U$972,4,FALSE)","v":-111.94678611000001},{"$f":"VLOOKUP($B155,[1]BasinCharacteristics!$A$2:$U$972,5,FALSE)","v":192},{"$f":"VLOOKUP($B155,[1]BasinCharacteristics!$A$2:$U$972,21,FALSE)","v":19.059000000000001},{"$f":"VLOOKUP($B155,[1]BasinCharacteristics!$A$2:$U$972,20,FALSE)","v":4.9050000000000002}]
[{"$f":"VLOOKUP(B156,'[2]Gages and BCs'!$A$4:$BJ$973,62,FALSE)","v":101},6062500,{"$f":"VLOOKUP(B156,'[2]Gages and BCs'!$A$4:$BJ$973,60,FALSE)","v":"Tenmile Creek near Rimini, Montana"},{"$f":"VLOOKUP($B156,[1]BasinCharacteristics!$A$2:$U$972,3,FALSE)","v":46.523897220000002},{"$f":"VLOOKUP($B156,[1]BasinCharacteristics!$A$2:$U$972,4,FALSE)","v":-112.25664722},{"$f":"VLOOKUP($B156,[1]BasinCharacteristics!$A$2:$U$972,5,FALSE)","v":33},{"$f":"VLOOKUP($B156,[1]BasinCharacteristics!$A$2:$U$972,21,FALSE)","v":24.777999999999999},{"$f":"VLOOKUP($B156,[1]BasinCharacteristics!$A$2:$U$972,20,FALSE)","v":7.5380000000000003}]
[{"$f":"VLOOKUP(B157,'[2]Gages and BCs'!$A$4:$BJ$973,62,FALSE)","v":103},6063000,{"$f":"VLOOKUP(B157,'[2]Gages and BCs'!$A$4:$BJ$973,60,FALSE)","v":"Tenmile Creek near Helena, Montana"},{"$f":"VLOOKUP($B157,[1]BasinCharacteristics!$A$2:$U$972,3,FALSE)","v":46.604925000000001},{"$f":"VLOOKUP($B157,[1]BasinCharacteristics!$A$2:$U$972,4,FALSE)","v":-112.08936111},{"$f":"VLOOKUP($B157,[1]BasinCharacteristics!$A$2:$U$972,5,FALSE)","v":98.7},{"$f":"VLOOKUP($B157,[1]BasinCharacteristics!$A$2:$U$972,21,FALSE)","v":20.861000000000001},{"$f":"VLOOKUP($B157,[1]BasinCharacteristics!$A$2:$U$972,20,FALSE)","v":5.6349999999999998}]
[{"$f":"VLOOKUP(B158,'[2]Gages and BCs'!$A$4:$BJ$973,62,FALSE)","v":106},6068500,{"$f":"VLOOKUP(B158,'[2]Gages and BCs'!$A$4:$BJ$973,60,FALSE)","v":"Little Prickly Pear Creek near Marysville, Montana"},{"$f":"VLOOKUP($B158,[1]BasinCharacteristics!$A$2:$U$972,3,FALSE)","v":46.787711109999996},{"$f":"VLOOKUP($B158,[1]BasinCharacteristics!$A$2:$U$972,4,FALSE)","v":-112.40672222000001},{"$f":"VLOOKUP($B158,[1]BasinCharacteristics!$A$2:$U$972,5,FALSE)","v":44.6},{"$f":"VLOOKUP($B158,[1]BasinCharacteristics!$A$2:$U$972,21,FALSE)","v":23.792000000000002},{"$f":"VLOOKUP($B158,[1]BasinCharacteristics!$A$2:$U$972,20,FALSE)","v":19.780999999999999}]
[{"$f":"VLOOKUP(B159,'[2]Gages and BCs'!$A$4:$BJ$973,62,FALSE)","v":107},6071000,{"$f":"VLOOKUP(B159,'[2]Gages and BCs'!$A$4:$BJ$973,60,FALSE)","v":"Little Prickly Pear Creek near Canyon Creek, Montana"},{"$f":"VLOOKUP($B159,[1]BasinCharacteristics!$A$2:$U$972,3,FALSE)","v":46.818908329999999},{"$f":"VLOOKUP($B159,[1]BasinCharacteristics!$A$2:$U$972,4,FALSE)","v":-112.25050555999999},{"$f":"VLOOKUP($B159,[1]BasinCharacteristics!$A$2:$U$972,5,FALSE)","v":182},{"$f":"VLOOKUP($B159,[1]BasinCharacteristics!$A$2:$U$972,21,FALSE)","v":20.943999999999999},{"$f":"VLOOKUP($B159,[1]BasinCharacteristics!$A$2:$U$972,20,FALSE)","v":12.387}]
[{"$f":"VLOOKUP(B160,'[2]Gages and BCs'!$A$4:$BJ$973,62,FALSE)","v":109},6071300,{"$f":"VLOOKUP(B160,'[2]Gages and BCs'!$A$4:$BJ$973,60,FALSE)","v":"Little Prickly Pear Creek at Wolf Creek, Montana"},{"$f":"VLOOKUP($B160,[1]BasinCharacteristics!$A$2:$U$972,3,FALSE)","v":47.005436109999998},{"$f":"VLOOKUP($B160,[1]BasinCharacteristics!$A$2:$U$972,4,FALSE)","v":-112.07031111000001},{"$f":"VLOOKUP($B160,[1]BasinCharacteristics!$A$2:$U$972,5,FALSE)","v":391},{"$f":"VLOOKUP($B160,[1]BasinCharacteristics!$A$2:$U$972,21,FALSE)","v":18.468},{"$f":"VLOOKUP($B160,[1]BasinCharacteristics!$A$2:$U$972,20,FALSE)","v":13.943}]

{"sheet":"Table 1-3_Lookup","index":3,"n_rows":225,"n_cols":34,"rows_kept":225,"cut":false,"hidden":true,"merged":[[168,0,168,10],[223,0,223,10],[224,0,224,10],[0,0,0,9],[3,0,3,10],[1,0,1,10],[58,0,58,10],[113,0,113,10]]}
["Table 1-4.  Regression equations for estimating streamflow characteristics at ungaged sites in Western Montana."]
["[Q, streamflow, in cubic feet per second, for indicated streamflow characteristic (definitions provided in table 1-XX); A, contributing drainage area, in square miles; SLP50, percent of basin with slope greater than 50 percent; P, mean annual precipitation, in inches; GLS, generalized least squares; OLS, ordinary least squares; n, number of gaging stations used in developing regression equations for indicated hydrologic region; MEV, model error variance;  --, not determined for method of regression used; AVP, average variance of prediction;SEM, average standard error of model; SEP, average standard error of prediction; Pseudo-R2, pseudo coefficient of determination; RMSE, root mean square error of model; R2, coefficient of detemination] "]
["Regression equation for indicated streamflow characteristic","Method of regression","Number of gaging stations (n)1","MEV, in log units","AVP, in log units","SEM, \nin percent","SEP, \nin percent","Pseudo-R2, \nin percent","RMSE, \nin percent","R2, \nin percent","Coefficient for drainage area adjustment2",null,null,null,null,null,null,null,null,null,"=sign","A","P","SLP50",null,null,null,"Region","Flow","V1","V2","Contant exp","V1 exp","V2 exp"]
["West hydrologic region"]
["QAL7Q10=10-1.678A0.964(SLP50 + 1)0.676","GLS",{"$f":"[3]ReportTable!$C545","v":43},{"$f":"[3]ReportTable!$E545","v":6.7000000000000004E-2},{"$f":"[3]ReportTable!$G545","v":7.2999999999999995E-2},{"$f":"[3]ReportTable!$K545","v":65.430000000000007},{"$f":"IF($B5=\"GLS\",[3]ReportTable!$I545,\"--\")","v":68.540000000000006},{"$f":"IF($B5=\"GLS\",[3]ReportTable!$M545,\"--\")","v":84.85},{"$f":"IF($B5=\"OLS\",[3]ReportTable!$I545,\"--\")","v":"--"},{"$f":"IF($B5=\"OLS\",[3]ReportTable!$M545,\"--\")","v":"--"},{"$f":"[3]ReportTable!$AX545","v":0.82264394829699328},null,null,null,null,null,1,null,null,null,{"$f":"FIND(\"=\",A5)","v":8},{"$f":"FIND(V$3,$A5,U5)","v":17},{"$f":"IF(X5<>\"X\",\"X\",FIND(W$3,$A5))","v":"X"},{"$f":"IF(ISERROR(FIND(X$3,$A5)),\"X\",FIND(X$3,$A5))","v":24},null,{"$f":"IF(W5=\"X\",FIND(\"(\",A5),W5)","v":23},{"$f":"IF(W5=\"X\",FIND(\")\",A5),W5)","v":33},"West","QAL7Q10","A",{"$f":"IF(W5=\"X\",\"SLP50\",\"P\")","v":"SLP50"},{"$f":"MID(A5,U5+3,V5-U5-3)","v":"-1.678"},{"$f":"MID(A5,V5+1,Z5-V5-1)","v":"0.964"},{"$f":"MID(A5,AA5+1,LEN(A5)-AA5)","v":"0.676"}]
["QS214Q5=10-1.402A0.913(SLP50 + 1)0.711","GLS",{"$f":"[3]ReportTable!$C594","v":46},{"$f":"[3]ReportTable!$E594","v":7.1999999999999995E-2},{"$f":"[3]ReportTable!$G594","v":7.8E-2},{"$f":"[3]ReportTable!$K594","v":68.430000000000007},{"$f":"IF($B6=\"GLS\",[3]ReportTable!$I594,\"--\")","v":71.44},{"$f":"IF($B6=\"GLS\",[3]ReportTable!$M594,\"--\")","v":82.92},{"$f":"IF($B6=\"OLS\",[3]ReportTable!$I594,\"--\")","v":"--"},{"$f":"IF($B6=\"OLS\",[3]ReportTable!$M594,\"--\")","v":"--"},{"$f":"[3]ReportTable!$AX594","v":0.77473055852160466},null,null,null,null,null,2,null,null,null,{"$f":"FIND(\"=\",A6)","v":8},{"$f":"FIND(V$3,$A6,U6)","v":17},{"$f":"IF(X6<>\"X\",\"X\",FIND(W$3,$A6))","v":"X"},{"$f":"IF(ISERROR(FIND(X$3,$A6)),\"X\",FIND(X$3,$A6))","v":24},null,{"$f":"IF(W6=\"X\",FIND(\"(\",A6),W6)","v":23},{"$f":"IF(W6=\"X\",FIND(\")\",A6),W6)","v":33},"West","QS214Q5","A",{"$f":"IF(W6=\"X\",\"SLP50\",\"P\")","v":"SLP50"},{"$f":"MID(A6,U6+3,V6-U6-3)","v":"-1.402"},{"$f":"MID(A6,V6+1,Z6-V6-1)","v":"0.913"},{"$f":"MID(A6,AA6+1,LEN(A6)-AA6)","v":"0.711"}]
["QA0.2=10-0.913A0.956(SLP50 + 1)0.882","OLS",{"$f":"[3]ReportTable!$C546","v":50},{"$f":"[3]ReportTable!$E546","v":"--"},{"$f":"[3]ReportTable!$G546","v":"--"},{"$f":"[3]ReportTable!$K546","v":"--"},{"$f":"IF($B7=\"GLS\",[3]ReportTable!$I546,\"--\")","v":"--"},{"$f":"IF($B7=\"GLS\",[3]ReportTable!$M546,\"--\")","v":"--"},{"$f":"IF($B7=\"OLS\",[3]ReportTable!$I546,\"--\")","v":53.196701474335384},{"$f":"IF($B7=\"OLS\",[3]ReportTable!$M546,\"--\")","v":88.51},{"$f":"[3]ReportTable!$AX546","v":0.78628827750882424},null,null,null,null,null,3,null,null,null,6,15,"X",22,null,21,31,"West","QA0.2","A","SLP50","-0.913","0.956","0.882"]
["QA0.5=10-1.075A0.937(SLP50 + 1)0.716","OLS",{"$f":"[3]ReportTable!$C547","v":50},{"$f":"[3]ReportTable!$E547","v":"--"},{"$f":"[3]ReportTable!$G547","v":"--"},{"$f":"[3]ReportTable!$K547","v":"--"},{"$f":"IF($B8=\"GLS\",[3]ReportTable!$I547,\"--\")","v":"--"},{"$f":"IF($B8=\"GLS\",[3]ReportTable!$M547,\"--\")","v":"--"},{"$f":"IF($B8=\"OLS\",[3]ReportTable!$I547,\"--\")","v":41.521936364144445},{"$f":"IF($B8=\"OLS\",[3]ReportTable!$M547,\"--\")","v":92.11},{"$f":"[3]ReportTable!$AX547","v":0.79939535767183023},null,null,null,null,null,4,null,null,null,6,15,"X",22,null,21,31,"West","QA0.5","A","SLP50","-1.075","0.937","0.716"]
["QA0.8=10-1.405A0.942(SLP50 + 1)0.732","OLS",{"$f":"[3]ReportTable!$C548","v":50},{"$f":"[3]ReportTable!$E548","v":"--"},{"$f":"[3]ReportTable!$G548","v":"--"},{"$f":"[3]ReportTable!$K548","v":"--"},{"$f":"IF($B9=\"GLS\",[3]ReportTable!$I548,\"--\")","v":"--"},{"$f":"IF($B9=\"GLS\",[3]ReportTable!$M548,\"--\")","v":"--"},{"$f":"IF($B9=\"OLS\",[3]ReportTable!$I548,\"--\")","v":45.858813208494141},{"$f":"IF($B9=\"OLS\",[3]ReportTable!$M548,\"--\")","v":90.77},{"$f":"[3]ReportTable!$AX548","v":0.80054195022499708},null,null,null,null,null,5,null,null,null,6,15,"X",22,null,21,31,"West","QA0.8","A","SLP50","-1.405","0.942","0.732"]
["QAMEAN=10-0.973A0.95(SLP50 + 1)0.827","OLS",{"$f":"[3]ReportTable!$C549","v":50},{"$f":"[3]ReportTable!$E549","v":"--"},{"$f":"[3]ReportTable!$G549","v":"--"},{"$f":"[3]ReportTable!$K549","v":"--"},{"$f":"IF($B10=\"GLS\",[3]ReportTable!$I549,\"--\")","v":"--"},{"$f":"IF($B10=\"GLS\",[3]ReportTable!$M549,\"--\")","v":"--"},{"$f":"IF($B10=\"OLS\",[3]ReportTable!$I549,\"--\")","v":45.155627502771047},{"$f":"IF($B10=\"OLS\",[3]ReportTable!$M549,\"--\")","v":91.13},{"$f":"[3]ReportTable!$AX549","v":0.78998391349710251},null,null,null,null,null,6,null,null,null,7,16,"X",22,null,21,31,"West","QAMEAN","A","SLP50","-0.973","0.95","0.827"]
["QJAN0.2=10-1.355A1.005(SLP50 + 1)0.763","OLS",{"$f":"[3]ReportTable!$C566","v":51},{"$f":"[3]ReportTable!$E566","v":"--"},{"$f":"[3]ReportTable!$G566","v":"--"},{"$f":"[3]ReportTable!$K566","v":"--"},{"$f":"IF($B11=\"GLS\",[3]ReportTable!$I566,\"--\")","v":"--"},{"$f":"IF($B11=\"GLS\",[3]ReportTable!$M566,\"--\")","v":"--"},{"$f":"IF($B11=\"OLS\",[3]ReportTable!$I566,\"--\")","v":47.927857432976431},{"$f":"IF($B11=\"OLS\",[3]ReportTable!$M566,\"--\")","v":91.05},{"$f":"[3]ReportTable!$AX566","v":0.85898139504362925},null,null,null,null,null,7,null,null,null,8,17,"X",24,null,23,33,"West","QJAN0.2","A","SLP50","-1.355","1.005","0.763"]
["QJAN0.5=10-1.539A1.00(SLP50 + 1)0.792","OLS",{"$f":"[3]ReportTable!$C567","v":51},{"$f":"[3]ReportTable!$E567","v":"--"},{"$f":"[3]ReportTable!$G567","v":"--"},{"$f":"[3]ReportTable!$K567","v":"--"},{"$f":"IF($B12=\"GLS\",[3]ReportTable!$I567,\"--\")","v":"--"},{"$f":"IF($B12=\"GLS\",[3]ReportTable!$M567,\"--\")","v":"--"},{"$f":"IF($B12=\"OLS\",[3]ReportTable!$I567,\"--\")","v":49.94236163139955},{"$f":"IF($B12=\"OLS\",[3]ReportTable!$M567,\"--\")","v":90.29},{"$f":"[3]ReportTable!$AX567","v":0.84883079288166385},null,null,null,null,null,8,null,null,null,8,17,"X",23,null,22,32,"West","QJAN0.5","A","SLP50","-1.539","1.00","0.792"]
["QJAN0.8=10-1.832A1.011(SLP50 + 1)0.88","OLS",{"$f":"[3]ReportTable!$C568","v":51},{"$f":"[3]ReportTable!$E568","v":"--"},{"$f":"[3]ReportTable!$G568","v":"--"},{"$f":"[3]ReportTable!$K568","v":"--"},{"$f":"IF($B13=\"GLS\",[3]ReportTable!$I568,\"--\")","v":"--"},{"$f":"IF($B13=\"GLS\",[3]ReportTable!$M568,\"--\")","v":"--"},{"$f":"IF($B13=\"OLS\",[3]ReportTable!$I568,\"--\")","v":64.727733027560731},{"$f":"IF($B13=\"OLS\",[3]ReportTable!$M568,\"--\")","v":85.88},{"$f":"[3]ReportTable!$AX568","v":0.84268426113567185},null,null,null,null,null,9,null,null,null,8,17,"X",24,null,23,33,"West","QJAN0.8","A","SLP50","-1.832","1.011","0.88"]
["QJANMEAN=10-1.384A0.996(SLP50 + 1)0.725","OLS",{"$f":"[3]ReportTable!$C569","v":51},{"$f":"[3]ReportTable!$E569","v":"--"},{"$f":"[3]ReportTable!$G569","v":"--"},{"$f":"[3]ReportTable!$K569","v":"--"},{"$f":"IF($B14=\"GLS\",[3]ReportTable!$I569,\"--\")","v":"--"},{"$f":"IF($B14=\"GLS\",[3]ReportTable!$M569,\"--\")","v":"--"},{"$f":"IF($B14=\"OLS\",[3]ReportTable!$I569,\"--\")","v":47.927857432976431},{"$f":"IF($B14=\"OLS\",[3]ReportTable!$M569,\"--\")","v":90.86},{"$f":"[3]ReportTable!$AX569","v":0.85683297794902247},null,null,null,null,null,10,null,null,null,9,18,"X",25,null,24,34,"West","QJANMEAN","A","SLP50","-1.384","0.996","0.725"]
["QFEB0.2=10-1.221A1.007(SLP50 + 1)0.662","OLS",{"$f":"[3]ReportTable!$C562","v":52},{"$f":"[3]ReportTable!$E562","v":"--"},{"$f":"[3]ReportTable!$G562","v":"--"},{"$f":"[3]ReportTable!$K562","v":"--"},{"$f":"IF($B15=\"GLS\",[3]ReportTable!$I562,\"--\")","v":"--"},{"$f":"IF($B15=\"GLS\",[3]ReportTable!$M562,\"--\")","v":"--"},{"$f":"IF($B15=\"OLS\",[3]ReportTable!$I562,\"--\")","v":47.244611829214058},{"$f":"IF($B15=\"OLS\",[3]ReportTable!$M562,\"--\")","v":91.1},{"$f":"[3]ReportTable!$AX562","v":0.8761907286664038},null,null,null,null,null,11,null,null,null,8,17,"X",24,null,23,33,"West","QFEB0.2","A","SLP50","-1.221","1.007","0.662"]
["QFEB0.5=10-1.513A1.019(SLP50 + 1)0.74","OLS",{"$f":"[3]ReportTable!$C563","v":52},{"$f":"[3]ReportTable!$E563","v":"--"},{"$f":"[3]ReportTable!$G563","v":"--"},{"$f":"[3]ReportTable!$K563","v":"--"},{"$f":"IF($B16=\"GLS\",[3]ReportTable!$I563,\"--\")","v":"--"},{"$f":"IF($B16=\"GLS\",[3]ReportTable!$M563,\"--\")","v":"--"},{"$f":"IF($B16=\"OLS\",[3]ReportTable!$I563,\"--\")","v":50.602958909477245},{"$f":"IF($B16=\"OLS\",[3]ReportTable!$M563,\"--\")","v":90.18},{"$f":"[3]ReportTable!$AX563","v":0.87268807300759788},null,null,null,null,null,12,null,null,null,8,17,"X",24,null,23,33,"West","QFEB0.5","A","SLP50","-1.513","1.019","0.74"]
["QFEB0.8=10-1.938A1.037(SLP50 + 1)0.914","OLS",{"$f":"[3]ReportTable!$C564","v":52},{"$f":"[3]ReportTable!$E564","v":"--"},{"$f":"[3]ReportTable!$G564","v":"--"},{"$f":"[3]ReportTable!$K564","v":"--"},{"$f":"IF($B17=\"GLS\",[3]ReportTable!$I564,\"--\")","v":"--"},{"$f":"IF($B17=\"GLS\",[3]ReportTable!$M564,\"--\")","v":"--"},{"$f":"IF($B17=\"OLS\",[3]ReportTable!$I564,\"--\")","v":77.652885543736389},{"$f":"IF($B17=\"OLS\",[3]ReportTable!$M564,\"--\")","v":82.29},{"$f":"[3]ReportTable!$AX564","v":0.85641545934237129},null,null,null,null,null,13,null,null,null,8,17,"X",24,null,23,33,"West","QFEB0.8","A","SLP50","-1.938","1.037","0.914"]
["QFEBMEAN=10-1.356A1.015(SLP50 + 1)0.683","OLS",{"$f":"[3]ReportTable!$C565","v":52},{"$f":"[3]ReportTable!$E565","v":"--"},{"$f":"[3]ReportTable!$G565","v":"--"},{"$f":"[3]ReportTable!$K565","v":"--"},{"$f":"IF($B18=\"GLS\",[3]ReportTable!$I565,\"--\")","v":"--"},{"$f":"IF($B18=\"GLS\",[3]ReportTable!$M565,\"--\")","v":"--"},{"$f":"IF($B18=\"OLS\",[3]ReportTable!$I565,\"--\")","v":50.602958909477245},{"$f":"IF($B18=\"OLS\",[3]ReportTable!$M565,\"--\")","v":90.23},{"$f":"[3]ReportTable!$AX565","v":0.88003340770378635},null,null,null,null,null,14,null,null,null,9,18,"X",25,null,24,34,"West","QFEBMEAN","A","SLP50","-1.356","1.015","0.683"]
["QMAR0.2=10-0.944A1.014(SLP50 + 1)0.52","OLS",{"$f":"[3]ReportTable!$C578","v":52},{"$f":"[3]ReportTable!$E578","v":"--"},{"$f":"[3]ReportTable!$G578","v":"--"},{"$f":"[3]ReportTable!$K578","v":"--"},{"$f":"IF($B19=\"GLS\",[3]ReportTable!$I578,\"--\")","v":"--"},{"$f":"IF($B19=\"GLS\",[3]ReportTable!$M578,\"--\")","v":"--"},{"$f":"IF($B19=\"OLS\",[3]ReportTable!$I578,\"--\")","v":58.795779438743267},{"$f":"IF($B19=\"OLS\",[3]ReportTable!$M578,\"--\")","v":87.72},{"$f":"[3]ReportTable!$AX578","v":0.91199575217762652},null,null,null,null,null,15,null,null,null,8,17,"X",24,null,23,33,"West","QMAR0.2","A","SLP50","-0.944","1.014","0.52"]
["QMAR0.5=10-1.235A1.019(SLP50 + 1)0.604","OLS",{"$f":"[3]ReportTable!$C579","v":52},{"$f":"[3]ReportTable!$E579","v":"--"},{"$f":"[3]ReportTable!$G579","v":"--"},{"$f":"[3]ReportTable!$K579","v":"--"},{"$f":"IF($B20=\"GLS\",[3]ReportTable!$I579,\"--\")","v":"--"},{"$f":"IF($B20=\"GLS\",[3]ReportTable!$M579,\"--\")","v":"--"},{"$f":"IF($B20=\"OLS\",[3]ReportTable!$I579,\"--\")","v":47.927857432976431},{"$f":"IF($B20=\"OLS\",[3]ReportTable!$M579,\"--\")","v":91.08},{"$f":"[3]ReportTable!$AX579","v":0.90024346736141492},null,null,null,null,null,16,null,null,null,8,17,"X",24,null,23,33,"West","QMAR0.5","A","SLP50","-1.235","1.019","0.604"]
["QMAR0.8=10-1.57A1.032(SLP50 + 1)0.716","OLS",{"$f":"[3]ReportTable!$C580","v":52},{"$f":"[3]ReportTable!$E580","v":"--"},{"$f":"[3]ReportTable!$G580","v":"--"},{"$f":"[3]ReportTable!$K580","v":"--"},{"$f":"IF($B21=\"GLS\",[3]ReportTable!$I580,\"--\")","v":"--"},{"$f":"IF($B21=\"GLS\",[3]ReportTable!$M580,\"--\")","v":"--"},{"$f":"IF($B21=\"OLS\",[3]ReportTable!$I580,\"--\")","v":50.602958909477245},{"$f":"IF($B21=\"OLS\",[3]ReportTable!$M580,\"--\")","v":90.54},{"$f":"[3]ReportTable!$AX580","v":0.89052285190212499},null,null,null,null,null,17,null,null,null,8,16,"X",23,null,22,32,"West","QMAR0.8","A","SLP50","-1.57","1.032","0.716"]
["QMARMEAN=10-1.045A1.014(SLP50 + 1)0.529","OLS",{"$f":"[3]ReportTable!$C581","v":52},{"$f":"[3]ReportTable!$E581","v":"--"},{"$f":"[3]ReportTable!$G581","v":"--"},{"$f":"[3]ReportTable!$K581","v":"--"},{"$f":"IF($B22=\"GLS\",[3]ReportTable!$I581,\"--\")","v":"--"},{"$f":"IF($B22=\"GLS\",[3]ReportTable!$M581,\"--\")","v":"--"},{"$f":"IF($B22=\"OLS\",[3]ReportTable!$I581,\"--\")","v":52.555165433651716},{"$f":"IF($B22=\"OLS\",[3]ReportTable!$M581,\"--\")","v":89.62},{"$f":"[3]ReportTable!$AX581","v":0.90971201451774641},null,null,null,null,null,18,null,null,null,9,18,"X",25,null,24,34,"West","QMARMEAN","A","SLP50","-1.045","1.014","0.529"]
["QAPR0.2=10-0.524A0.997(SLP50 + 1)0.574","OLS",{"$f":"[3]ReportTable!$C550","v":53},{"$f":"[3]ReportTable!$E550","v":"--"},{"$f":"[3]ReportTable!$G550","v":"--"},{"$f":"[3]ReportTable!$K550","v":"--"},{"$f":"IF($B23=\"GLS\",[3]ReportTable!$I550,\"--\")","v":"--"},{"$f":"IF($B23=\"GLS\",[3]ReportTable!$M550,\"--\")","v":"--"},{"$f":"IF($B23=\"OLS\",[3]ReportTable!$I550,\"--\")","v":79.290480603181123},{"$f":"IF($B23=\"OLS\",[3]ReportTable!$M550,\"--\")","v":81.13},{"$f":"[3]ReportTable!$AX550","v":0.88871472896694992},null,null,null,null,null,19,null,null,null,8,17,"X",24,null,23,33,"West","QAPR0.2","A","SLP50","-0.524","0.997","0.574"]
["QAPR0.5=10-0.954A1.027(SLP50 + 1)0.649","OLS",{"$f":"[3]ReportTable!$C551","v":53},{"$f":"[3]ReportTable!$E551","v":"--"},{"$f":"[3]ReportTable!$G551","v":"--"},{"$f":"[3]ReportTable!$K551","v":"--"},{"$f":"IF($B24=\"GLS\",[3]ReportTable!$I551,\"--\")","v":"--"},{"$f":"IF($B24=\"GLS\",[3]ReportTable!$M551,\"--\")","v":"--"},{"$f":"IF($B24=\"OLS\",[3]ReportTable!$I551,\"--\")","v":71.006008672913083},{"$f":"IF($B24=\"OLS\",[3]ReportTable!$M551,\"--\")","v":84.33},{"$f":"[3]ReportTable!$AX551","v":0.90397308665703224},null,null,null,null,null,20,null,null,null,8,17,"X",24,null,23,33,"West","QAPR0.5","A","SLP50","-0.954","1.027","0.649"]
["QAPR0.8=10-1.164A1.021(SLP50 + 1)0.633","OLS",{"$f":"[3]ReportTable!$C552","v":53},{"$f":"[3]ReportTable!$E552","v":"--"},{"$f":"[3]ReportTable!$G552","v":"--"},{"$f":"[3]ReportTable!$K552","v":"--"},{"$f":"IF($B25=\"GLS\",[3]ReportTable!$I552,\"--\")","v":"--"},{"$f":"IF($B25=\"GLS\",[3]ReportTable!$M552,\"--\")","v":"--"},{"$f":"IF($B25=\"OLS\",[3]ReportTable!$I552,\"--\")","v":60.003328820844445},{"$f":"IF($B25=\"OLS\",[3]ReportTable!$M552,\"--\")","v":87.6},{"$f":"[3]ReportTable!$AX552","v":0.90189914436237162},null,null,null,null,null,21,null,null,null,8,17,"X",24,null,23,33,"West","QAPR0.8","A","SLP50","-1.164","1.021","0.633"]
["QAPRMEAN=10-0.714A0.998(SLP50 + 1)0.601","OLS",{"$f":"[3]ReportTable!$C553","v":53},{"$f":"[3]ReportTable!$E553","v":"--"},{"$f":"[3]ReportTable!$G553","v":"--"},{"$f":"[3]ReportTable!$K553","v":"--"},{"$f":"IF($B26=\"GLS\",[3]ReportTable!$I553,\"--\")","v":"--"},{"$f":"IF($B26=\"GLS\",[3]ReportTable!$M553,\"--\")","v":"--"},{"$f":"IF($B26=\"OLS\",[3]ReportTable!$I553,\"--\")","v":72.126311117702997},{"$f":"IF($B26=\"OLS\",[3]ReportTable!$M553,\"--\")","v":83.28},{"$f":"[3]ReportTable!$AX553","v":0.8848974282060047},null,null,null,null,null,22,null,null,null,9,18,"X",25,null,24,34,"West","QAPRMEAN","A","SLP50","-0.714","0.998","0.601"]
["QMAY0.2=10-0.387A0.961(SLP50 + 1)0.819","OLS",{"$f":"[3]ReportTable!$C582","v":53},{"$f":"[3]ReportTable!$E582","v":"--"},{"$f":"[3]ReportTable!$G582","v":"--"},{"$f":"[3]ReportTable!$K582","v":"--"},{"$f":"IF($B27=\"GLS\",[3]ReportTable!$I582,\"--\")","v":"--"},{"$f":"IF($B27=\"GLS\",[3]ReportTable!$M582,\"--\")","v":"--"},{"$f":"IF($B27=\"OLS\",[3]ReportTable!$I582,\"--\")","v":65.885859146084741},{"$f":"IF($B27=\"OLS\",[3]ReportTable!$M582,\"--\")","v":84.32},{"$f":"[3]ReportTable!$AX582","v":0.80635262508315164},null,null,null,null,null,23,null,null,null,8,17,"X",24,null,23,33,"West","QMAY0.2","A","SLP50","-0.387","0.961","0.819"]
["QMAY0.5=10-0.769A0.995(SLP50 + 1)0.886","OLS",{"$f":"[3]ReportTable!$C583","v":53},{"$f":"[3]ReportTable!$E583","v":"--"},{"$f":"[3]ReportTable!$G583","v":"--"},{"$f":"[3]ReportTable!$K583","v":"--"},{"$f":"IF($B28=\"GLS\",[3]ReportTable!$I583,\"--\")","v":"--"},{"$f":"IF($B28=\"GLS\",[3]ReportTable!$M583,\"--\")","v":"--"},{"$f":"IF($B28=\"OLS\",[3]ReportTable!$I583,\"--\")","v":70.443686077063731},{"$f":"IF($B28=\"OLS\",[3]ReportTable!$M583,\"--\")","v":83.72},{"$f":"[3]ReportTable!$AX583","v":0.82790983831650489},null,null,null,null,null,24,null,null,null,8,17,"X",24,null,23,33,"West","QMAY0.5","A","SLP50","-0.769","0.995","0.886"]
["QMAY0.8=10-1.049A1.011(SLP50 + 1)0.899","OLS",{"$f":"[3]ReportTable!$C584","v":53},{"$f":"[3]ReportTable!$E584","v":"--"},{"$f":"[3]ReportTable!$G584","v":"--"},{"$f":"[3]ReportTable!$K584","v":"--"},{"$f":"IF($B29=\"GLS\",[3]ReportTable!$I584,\"--\")","v":"--"},{"$f":"IF($B29=\"GLS\",[3]ReportTable!$M584,\"--\")","v":"--"},{"$f":"IF($B29=\"OLS\",[3]ReportTable!$I584,\"--\")","v":77.105156586344776},{"$f":"IF($B29=\"OLS\",[3]ReportTable!$M584,\"--\")","v":82.18},{"$f":"[3]ReportTable!$AX584","v":0.84090751771551375},null,null,null,null,null,25,null,null,null,8,17,"X",24,null,23,33,"West","QMAY0.8","A","SLP50","-1.049","1.011","0.899"]
["QMAYMEAN=10-0.567A0.971(SLP50 + 1)0.823","OLS",{"$f":"[3]ReportTable!$C585","v":53},{"$f":"[3]ReportTable!$E585","v":"--"},{"$f":"[3]ReportTable!$G585","v":"--"},{"$f":"[3]ReportTable!$K585","v":"--"},{"$f":"IF($B30=\"GLS\",[3]ReportTable!$I585,\"--\")","v":"--"},{"$f":"IF($B30=\"GLS\",[3]ReportTable!$M585,\"--\")","v":"--"},{"$f":"IF($B30=\"OLS\",[3]ReportTable!$I585,\"--\")","v":66.461895711315023},{"$f":"IF($B30=\"OLS\",[3]ReportTable!$M585,\"--\")","v":84.38},{"$f":"[3]ReportTable!$AX585","v":0.81572064598145599},null,null,null,null,null,26,null,null,null,9,18,"X",25,null,24,34,"West","QMAYMEAN","A","SLP50","-0.567","0.971","0.823"]
["QJUN0.2=10-0.559A0.955(SLP50 + 1)0.967","OLS",{"$f":"[3]ReportTable!$C574","v":53},{"$f":"[3]ReportTable!$E574","v":"--"},{"$f":"[3]ReportTable!$G574","v":"--"},{"$f":"[3]ReportTable!$K574","v":"--"},{"$f":"IF($B31=\"GLS\",[3]ReportTable!$I574,\"--\")","v":"--"},{"$f":"IF($B31=\"GLS\",[3]ReportTable!$M574,\"--\")","v":"--"},{"$f":"IF($B31=\"OLS\",[3]ReportTable!$I574,\"--\")","v":54.467056216302211},{"$f":"IF($B31=\"OLS\",[3]ReportTable!$M574,\"--\")","v":88.21},{"$f":"[3]ReportTable!$AX574","v":0.77228030760280342},null,null,null,null,null,27,null,null,null,8,17,"X",24,null,23,33,"West","QJUN0.2","A","SLP50","-0.559","0.955","0.967"]
["QJUN0.5=10-0.987A0.975(SLP50 + 1)1.107","OLS",{"$f":"[3]ReportTable!$C575","v":53},{"$f":"[3]ReportTable!$E575","v":"--"},{"$f":"[3]ReportTable!$G575","v":"--"},{"$f":"[3]ReportTable!$K575","v":"--"},{"$f":"IF($B32=\"GLS\",[3]ReportTable!$I575,\"--\")","v":"--"},{"$f":"IF($B32=\"GLS\",[3]ReportTable!$M575,\"--\")","v":"--"},{"$f":"IF($B32=\"OLS\",[3]ReportTable!$I575,\"--\")","v":60.003328820844445},{"$f":"IF($B32=\"OLS\",[3]ReportTable!$M575,\"--\")","v":87},{"$f":"[3]ReportTable!$AX575","v":0.76560918517266285},null,null,null,null,null,28,null,null,null,8,17,"X",24,null,23,33,"West","QJUN0.5","A","SLP50","-0.987","0.975","1.107"]
["QJUN0.8=10-1.27A0.958(SLP50 + 1)1.167","OLS",{"$f":"[3]ReportTable!$C576","v":53},{"$f":"[3]ReportTable!$E576","v":"--"},{"$f":"[3]ReportTable!$G576","v":"--"},{"$f":"[3]ReportTable!$K576","v":"--"},{"$f":"IF($B33=\"GLS\",[3]ReportTable!$I576,\"--\")","v":"--"},{"$f":"IF($B33=\"GLS\",[3]ReportTable!$M576,\"--\")","v":"--"},{"$f":"IF($B33=\"OLS\",[3]ReportTable!$I576,\"--\")","v":65.885859146084741},{"$f":"IF($B33=\"OLS\",[3]ReportTable!$M576,\"--\")","v":84.99},{"$f":"[3]ReportTable!$AX576","v":0.73775334503020162},null,null,null,null,null,29,null,null,null,8,16,"X",23,null,22,32,"West","QJUN0.8","A","SLP50","-1.27","0.958","1.167"]
["QJUNMEAN=10-0.776A0.956(SLP50 + 1)1.017","OLS",{"$f":"[3]ReportTable!$C577","v":53},{"$f":"[3]ReportTable!$E577","v":"--"},{"$f":"[3]ReportTable!$G577","v":"--"},{"$f":"[3]ReportTable!$K577","v":"--"},{"$f":"IF($B34=\"GLS\",[3]ReportTable!$I577,\"--\")","v":"--"},{"$f":"IF($B34=\"GLS\",[3]ReportTable!$M577,\"--\")","v":"--"},{"$f":"IF($B34=\"OLS\",[3]ReportTable!$I577,\"--\")","v":55.096203033983784},{"$f":"IF($B34=\"OLS\",[3]ReportTable!$M577,\"--\")","v":88.12},{"$f":"[3]ReportTable!$AX577","v":0.76375539656915459},null,null,null,null,null,30,null,null,null,9,18,"X",25,null,24,34,"West","QJUNMEAN","A","SLP50","-0.776","0.956","1.017"]
["QJUL0.2=10-0.986A0.923(SLP50 + 1)1.021","OLS",{"$f":"[3]ReportTable!$C570","v":53},{"$f":"[3]ReportTable!$E570","v":"--"},{"$f":"[3]ReportTable!$G570","v":"--"},{"$f":"[3]ReportTable!$K570","v":"--"},{"$f":"IF($B35=\"GLS\",[3]ReportTable!$I570,\"--\")","v":"--"},{"$f":"IF($B35=\"GLS\",[3]ReportTable!$M570,\"--\")","v":"--"},{"$f":"IF($B35=\"OLS\",[3]ReportTable!$I570,\"--\")","v":58.795779438743267},{"$f":"IF($B35=\"OLS\",[3]ReportTable!$M570,\"--\")","v":86.18},{"$f":"[3]ReportTable!$AX570","v":0.73040929996381587},null,null,null,null,null,31,null,null,null,8,17,"X",24,null,23,33,"West","QJUL0.2","A","SLP50","-0.986","0.923","1.021"]
["QJUL0.5=10-1.154A0.897(SLP50 + 1)1.019","OLS",{"$f":"[3]ReportTable!$C571","v":53},{"$f":"[3]ReportTable!$E571","v":"--"},{"$f":"[3]ReportTable!$G571","v":"--"},{"$f":"[3]ReportTable!$K571","v":"--"},{"$f":"IF($B36=\"GLS\",[3]ReportTable!$I571,\"--\")","v":"--"},{"$f":"IF($B36=\"GLS\",[3]ReportTable!$M571,\"--\")","v":"--"},{"$f":"IF($B36=\"OLS\",[3]ReportTable!$I571,\"--\")","v":60.602803839314724},{"$f":"IF($B36=\"OLS\",[3]ReportTable!$M571,\"--\")","v":84.85},{"$f":"[3]ReportTable!$AX571","v":0.70463663447006641},null,null,null,null,null,32,null,null,null,8,17,"X",24,null,23,33,"West","QJUL0.5","A","SLP50","-1.154","0.897","1.019"]
["QJUL0.8=10-1.312A0.878(SLP50 + 1)1.006","OLS",{"$f":"[3]ReportTable!$C572","v":53},{"$f":"[3]ReportTable!$E572","v":"--"},{"$f":"[3]ReportTable!$G572","v":"--"},{"$f":"[3]ReportTable!$K572","v":"--"},{"$f":"IF($B37=\"GLS\",[3]ReportTable!$I572,\"--\")","v":"--"},{"$f":"IF($B37=\"GLS\",[3]ReportTable!$M572,\"--\")","v":"--"},{"$f":"IF($B37=\"OLS\",[3]ReportTable!$I572,\"--\")","v":63.561056954656124},{"$f":"IF($B37=\"OLS\",[3]ReportTable!$M572,\"--\")","v":83.12},{"$f":"[3]ReportTable!$AX572","v":0.68815821355589857},null,null,null,null,null,33,null,null,null,8,17,"X",24,null,23,33,"West","QJUL0.8","A","SLP50","-1.312","0.878","1.006"]
["QJULMEAN=10-1.077A0.908(SLP50 + 1)1.009","OLS",{"$f":"[3]ReportTable!$C573","v":53},{"$f":"[3]ReportTable!$E573","v":"--"},{"$f":"[3]ReportTable!$G573","v":"--"},{"$f":"[3]ReportTable!$K573","v":"--"},{"$f":"IF($B38=\"GLS\",[3]ReportTable!$I573,\"--\")","v":"--"},{"$f":"IF($B38=\"GLS\",[3]ReportTable!$M573,\"--\")","v":"--"},{"$f":"IF($B38=\"OLS\",[3]ReportTable!$I573,\"--\")","v":55.721534500516022},{"$f":"IF($B38=\"OLS\",[3]ReportTable!$M573,\"--\")","v":86.73},{"$f":"[3]ReportTable!$AX573","v":0.71701399525610066},null,null,null,null,null,34,null,null,null,9,18,"X",25,null,24,34,"West","QJULMEAN","A","SLP50","-1.077","0.908","1.009"]
["QAUG0.2=10-1.025A0.886(SLP50 + 1)0.807","OLS",{"$f":"[3]ReportTable!$C554","v":53},{"$f":"[3]ReportTable!$E554","v":"--"},{"$f":"[3]ReportTable!$G554","v":"--"},{"$f":"[3]ReportTable!$K554","v":"--"},{"$f":"IF($B39=\"GLS\",[3]ReportTable!$I554,\"--\")","v":"--"},{"$f":"IF($B39=\"GLS\",[3]ReportTable!$M554,\"--\")","v":"--"},{"$f":"IF($B39=\"OLS\",[3]ReportTable!$I554,\"--\")","v":58.187491963191974},{"$f":"IF($B39=\"OLS\",[3]ReportTable!$M554,\"--\")","v":84.97},{"$f":"[3]ReportTable!$AX554","v":0.73369722513829472},null,null,null,null,null,35,null,null,null,8,17,"X",24,null,23,33,"West","QAUG0.2","A","SLP50","-1.025","0.886","0.807"]
["QAUG0.5=10-1.224A0.88(SLP50 + 1)0.857","OLS",{"$f":"[3]ReportTable!$C555","v":53},{"$f":"[3]ReportTable!$E555","v":"--"},{"$f":"[3]ReportTable!$G555","v":"--"},{"$f":"[3]ReportTable!$K555","v":"--"},{"$f":"IF($B40=\"GLS\",[3]ReportTable!$I555,\"--\")","v":"--"},{"$f":"IF($B40=\"GLS\",[3]ReportTable!$M555,\"--\")","v":"--"},{"$f":"IF($B40=\"OLS\",[3]ReportTable!$I555,\"--\")","v":62.385216362602037},{"$f":"IF($B40=\"OLS\",[3]ReportTable!$M555,\"--\")","v":83.18},{"$f":"[3]ReportTable!$AX555","v":0.71804703436605888},null,null,null,null,null,36,null,null,null,8,17,"X",23,null,22,32,"West","QAUG0.5","A","SLP50","-1.224","0.88","0.857"]
["QAUG0.8=10-1.563A0.891(SLP50 + 1)0.971","OLS",{"$f":"[3]ReportTable!$C556","v":53},{"$f":"[3]ReportTable!$E556","v":"--"},{"$f":"[3]ReportTable!$G556","v":"--"},{"$f":"[3]ReportTable!$K556","v":"--"},{"$f":"IF($B41=\"GLS\",[3]ReportTable!$I556,\"--\")","v":"--"},{"$f":"IF($B41=\"GLS\",[3]ReportTable!$M556,\"--\")","v":"--"},{"$f":"IF($B41=\"OLS\",[3]ReportTable!$I556,\"--\")","v":76.556436342648624},{"$f":"IF($B41=\"OLS\",[3]ReportTable!$M556,\"--\")","v":78.760000000000005},{"$f":"[3]ReportTable!$AX556","v":0.70721970359429465},null,null,null,null,null,37,null,null,null,8,17,"X",24,null,23,33,"West","QAUG0.8","A","SLP50","-1.563","0.891","0.971"]
["QAUGMEAN=10-1.16A0.881(SLP50 + 1)0.831","OLS",{"$f":"[3]ReportTable!$C557","v":53},{"$f":"[3]ReportTable!$E557","v":"--"},{"$f":"[3]ReportTable!$G557","v":"--"},{"$f":"[3]ReportTable!$K557","v":"--"},{"$f":"IF($B42=\"GLS\",[3]ReportTable!$I557,\"--\")","v":"--"},{"$f":"IF($B42=\"GLS\",[3]ReportTable!$M557,\"--\")","v":"--"},{"$f":"IF($B42=\"OLS\",[3]ReportTable!$I557,\"--\")","v":60.003328820844445},{"$f":"IF($B42=\"OLS\",[3]ReportTable!$M557,\"--\")","v":84.28},{"$f":"[3]ReportTable!$AX557","v":0.72420123571895234},null,null,null,null,null,38,null,null,null,9,17,"X",24,null,23,33,"West","QAUGMEAN","A","SLP50","-1.16","0.881","0.831"]
["QSEP0.2=10-1.174A0.923(SLP50 + 1)0.776","OLS",{"$f":"[3]ReportTable!$C595","v":53},{"$f":"[3]ReportTable!$E595","v":"--"},{"$f":"[3]ReportTable!$G595","v":"--"},{"$f":"[3]ReportTable!$K595","v":"--"},{"$f":"IF($B43=\"GLS\",[3]ReportTable!$I595,\"--\")","v":"--"},{"$f":"IF($B43=\"GLS\",[3]ReportTable!$M595,\"--\")","v":"--"},{"$f":"IF($B43=\"OLS\",[3]ReportTable!$I595,\"--\")","v":51.909156538819033},{"$f":"IF($B43=\"OLS\",[3]ReportTable!$M595,\"--\")","v":88.11},{"$f":"[3]ReportTable!$AX595","v":0.7760151952237625},null,null,null,null,null,39,null,null,null,8,17,"X",24,null,23,33,"West","QSEP0.2","A","SLP50","-1.174","0.923","0.776"]
["QSEP0.5=10-1.358A0.93(SLP50 + 1)0.8","OLS",{"$f":"[3]ReportTable!$C596","v":53},{"$f":"[3]ReportTable!$E596","v":"--"},{"$f":"[3]ReportTable!$G596","v":"--"},{"$f":"[3]ReportTable!$K596","v":"--"},{"$f":"IF($B44=\"GLS\",[3]ReportTable!$I596,\"--\")","v":"--"},{"$f":"IF($B44=\"GLS\",[3]ReportTable!$M596,\"--\")","v":"--"},{"$f":"IF($B44=\"OLS\",[3]ReportTable!$I596,\"--\")","v":61.79365388156458},{"$f":"IF($B44=\"OLS\",[3]ReportTable!$M596,\"--\")","v":84.89},{"$f":"[3]ReportTable!$AX596","v":0.77931258167834894},null,null,null,null,null,40,null,null,null,8,17,"X",23,null,22,32,"West","QSEP0.5","A","SLP50","-1.358","0.93","0.8"]
["QSEP0.8=10-1.708A0.95(SLP50 + 1)0.921","OLS",{"$f":"[3]ReportTable!$C597","v":53},{"$f":"[3]ReportTable!$E597","v":"--"},{"$f":"[3]ReportTable!$G597","v":"--"},{"$f":"[3]ReportTable!$K597","v":"--"},{"$f":"IF($B45=\"GLS\",[3]ReportTable!$I597,\"--\")","v":"--"},{"$f":"IF($B45=\"GLS\",[3]ReportTable!$M597,\"--\")","v":"--"},{"$f":"IF($B45=\"OLS\",[3]ReportTable!$I597,\"--\")","v":90.582565993008515},{"$f":"IF($B45=\"OLS\",[3]ReportTable!$M597,\"--\")","v":76.17},{"$f":"[3]ReportTable!$AX597","v":0.77563199442972663},null,null,null,null,null,41,null,null,null,8,17,"X",23,null,22,32,"West","QSEP0.8","A","SLP50","-1.708","0.95","0.921"]
["QSEPMEAN=10-1.319A0.923(SLP50 + 1)0.813","OLS",{"$f":"[3]ReportTable!$C598","v":53},{"$f":"[3]ReportTable!$E598","v":"--"},{"$f":"[3]ReportTable!$G598","v":"--"},{"$f":"[3]ReportTable!$K598","v":"--"},{"$f":"IF($B46=\"GLS\",[3]ReportTable!$I598,\"--\")","v":"--"},{"$f":"IF($B46=\"GLS\",[3]ReportTable!$M598,\"--\")","v":"--"},{"$f":"IF($B46=\"OLS\",[3]ReportTable!$I598,\"--\")","v":55.096203033983784},{"$f":"IF($B46=\"OLS\",[3]ReportTable!$M598,\"--\")","v":87.13},{"$f":"[3]ReportTable!$AX598","v":0.76902786828532133},null,null,null,null,null,42,null,null,null,9,18,"X",25,null,24,34,"West","QSEPMEAN","A","SLP50","-1.319","0.923","0.813"]
["QOCT0.2=10-1.232A0.92(SLP50 + 1)0.843","OLS",{"$f":"[3]ReportTable!$C590","v":52},{"$f":"[3]ReportTable!$E590","v":"--"},{"$f":"[3]ReportTable!$G590","v":"--"},{"$f":"[3]ReportTable!$K590","v":"--"},{"$f":"IF($B47=\"GLS\",[3]ReportTable!$I590,\"--\")","v":"--"},{"$f":"IF($B47=\"GLS\",[3]ReportTable!$M590,\"--\")","v":"--"},{"$f":"IF($B47=\"OLS\",[3]ReportTable!$I590,\"--\")","v":46.555032272692976},{"$f":"IF($B47=\"OLS\",[3]ReportTable!$M590,\"--\")","v":90.17},{"$f":"[3]ReportTable!$AX590","v":0.75954115946724543},null,null,null,null,null,43,null,null,null,8,17,"X",23,null,22,32,"West","QOCT0.2","A","SLP50","-1.232","0.92","0.843"]
["QOCT0.5=10-1.403A0.947(SLP50 + 1)0.824","OLS",{"$f":"[3]ReportTable!$C591","v":52},{"$f":"[3]ReportTable!$E591","v":"--"},{"$f":"[3]ReportTable!$G591","v":"--"},{"$f":"[3]ReportTable!$K591","v":"--"},{"$f":"IF($B48=\"GLS\",[3]ReportTable!$I591,\"--\")","v":"--"},{"$f":"IF($B48=\"GLS\",[3]ReportTable!$M591,\"--\")","v":"--"},{"$f":"IF($B48=\"OLS\",[3]ReportTable!$I591,\"--\")","v":48.60505499970774},{"$f":"IF($B48=\"OLS\",[3]ReportTable!$M591,\"--\")","v":89.97},{"$f":"[3]ReportTable!$AX591","v":0.79002806463471287},null,null,null,null,null,44,null,null,null,8,17,"X",24,null,23,33,"West","QOCT0.5","A","SLP50","-1.403","0.947","0.824"]
["QOCT0.8=10-1.678A0.979(SLP50 + 1)0.872","OLS",{"$f":"[3]ReportTable!$C592","v":52},{"$f":"[3]ReportTable!$E592","v":"--"},{"$f":"[3]ReportTable!$G592","v":"--"},{"$f":"[3]ReportTable!$K592","v":"--"},{"$f":"IF($B49=\"GLS\",[3]ReportTable!$I592,\"--\")","v":"--"},{"$f":"IF($B49=\"GLS\",[3]ReportTable!$M592,\"--\")","v":"--"},{"$f":"IF($B49=\"OLS\",[3]ReportTable!$I592,\"--\")","v":73.241147225708787},{"$f":"IF($B49=\"OLS\",[3]ReportTable!$M592,\"--\")","v":82.54},{"$f":"[3]ReportTable!$AX592","v":0.81307445939314316},null,null,null,null,null,45,null,null,null,8,17,"X",24,null,23,33,"West","QOCT0.8","A","SLP50","-1.678","0.979","0.872"]
["QOCTMEAN=10-1.389A0.943(SLP50 + 1)0.857","OLS",{"$f":"[3]ReportTable!$C593","v":52},{"$f":"[3]ReportTable!$E593","v":"--"},{"$f":"[3]ReportTable!$G593","v":"--"},{"$f":"[3]ReportTable!$K593","v":"--"},{"$f":"IF($B50=\"GLS\",[3]ReportTable!$I593,\"--\")","v":"--"},{"$f":"IF($B50=\"GLS\",[3]ReportTable!$M593,\"--\")","v":"--"},{"$f":"IF($B50=\"OLS\",[3]ReportTable!$I593,\"--\")","v":45.858813208494141},{"$f":"IF($B50=\"OLS\",[3]ReportTable!$M593,\"--\")","v":90.92},{"$f":"[3]ReportTable!$AX593","v":0.77918122497840547},null,null,null,null,null,46,null,null,null,9,18,"X",25,null,24,34,"West","QOCTMEAN","A","SLP50","-1.389","0.943","0.857"]
["QNOV0.2=10-1.314A0.965(SLP50 + 1)0.857","OLS",{"$f":"[3]ReportTable!$C586","v":52},{"$f":"[3]ReportTable!$E586","v":"--"},{"$f":"[3]ReportTable!$G586","v":"--"},{"$f":"[3]ReportTable!$K586","v":"--"},{"$f":"IF($B51=\"GLS\",[3]ReportTable!$I586,\"--\")","v":"--"},{"$f":"IF($B51=\"GLS\",[3]ReportTable!$M586,\"--\")","v":"--"},{"$f":"IF($B51=\"OLS\",[3]ReportTable!$I586,\"--\")","v":48.60505499970774},{"$f":"IF($B51=\"OLS\",[3]ReportTable!$M586,\"--\")","v":89.88},{"$f":"[3]ReportTable!$AX586","v":0.79561602566080469},null,null,null,null,null,47,null,null,null,8,17,"X",24,null,23,33,"West","QNOV0.2","A","SLP50","-1.314","0.965","0.857"]
["QNOV0.5=10-1.438A0.972(SLP50 + 1)0.818","OLS",{"$f":"[3]ReportTable!$C587","v":52},{"$f":"[3]ReportTable!$E587","v":"--"},{"$f":"[3]ReportTable!$G587","v":"--"},{"$f":"[3]ReportTable!$K587","v":"--"},{"$f":"IF($B52=\"GLS\",[3]ReportTable!$I587,\"--\")","v":"--"},{"$f":"IF($B52=\"GLS\",[3]ReportTable!$M587,\"--\")","v":"--"},{"$f":"IF($B52=\"OLS\",[3]ReportTable!$I587,\"--\")","v":45.858813208494141},{"$f":"IF($B52=\"OLS\",[3]ReportTable!$M587,\"--\")","v":90.96},{"$f":"[3]ReportTable!$AX587","v":0.81036596787255089},null,null,null,null,null,48,null,null,null,8,17,"X",24,null,23,33,"West","QNOV0.5","A","SLP50","-1.438","0.972","0.818"]
["QNOV0.8=10-1.622A0.983(SLP50 + 1)0.824","OLS",{"$f":"[3]ReportTable!$C588","v":52},{"$f":"[3]ReportTable!$E588","v":"--"},{"$f":"[3]ReportTable!$G588","v":"--"},{"$f":"[3]ReportTable!$K588","v":"--"},{"$f":"IF($B53=\"GLS\",[3]ReportTable!$I588,\"--\")","v":"--"},{"$f":"IF($B53=\"GLS\",[3]ReportTable!$M588,\"--\")","v":"--"},{"$f":"IF($B53=\"OLS\",[3]ReportTable!$I588,\"--\")","v":60.602803839314724},{"$f":"IF($B53=\"OLS\",[3]ReportTable!$M588,\"--\")","v":86.25},{"$f":"[3]ReportTable!$AX588","v":0.82019830296110563},null,null,null,null,null,49,null,null,null,8,17,"X",24,null,23,33,"West","QNOV0.8","A","SLP50","-1.622","0.983","0.824"]
["QNOVMEAN=10-1.37A0.962(SLP50 + 1)0.83","OLS",{"$f":"[3]ReportTable!$C589","v":52},{"$f":"[3]ReportTable!$E589","v":"--"},{"$f":"[3]ReportTable!$G589","v":"--"},{"$f":"[3]ReportTable!$K589","v":"--"},{"$f":"IF($B54=\"GLS\",[3]ReportTable!$I589,\"--\")","v":"--"},{"$f":"IF($B54=\"GLS\",[3]ReportTable!$M589,\"--\")","v":"--"},{"$f":"IF($B54=\"OLS\",[3]ReportTable!$I589,\"--\")","v":49.276472527795462},{"$f":"IF($B54=\"OLS\",[3]ReportTable!$M589,\"--\")","v":89.73},{"$f":"[3]ReportTable!$AX589","v":0.79785572735165511},null,null,null,null,null,50,null,null,null,9,17,"X",24,null,23,33,"West","QNOVMEAN","A","SLP50","-1.37","0.962","0.83"]
["QDEC0.2=10-1.342A0.972(SLP50 + 1)0.837","OLS",{"$f":"[3]ReportTable!$C558","v":52},{"$f":"[3]ReportTable!$E558","v":"--"},{"$f":"[3]ReportTable!$G558","v":"--"},{"$f":"[3]ReportTable!$K558","v":"--"},{"$f":"IF($B55=\"GLS\",[3]ReportTable!$I558,\"--\")","v":"--"},{"$f":"IF($B55=\"GLS\",[3]ReportTable!$M558,\"--\")","v":"--"},{"$f":"IF($B55=\"OLS\",[3]ReportTable!$I558,\"--\")","v":50.602958909477245},{"$f":"IF($B55=\"OLS\",[3]ReportTable!$M558,\"--\")","v":89.34},{"$f":"[3]ReportTable!$AX558","v":0.80713755633155493},null,null,null,null,null,51,null,null,null,8,17,"X",24,null,23,33,"West","QDEC0.2","A","SLP50","-1.342","0.972","0.837"]
["QDEC0.5=10-1.523A0.976(SLP50 + 1)0.841","OLS",{"$f":"[3]ReportTable!$C559","v":52},{"$f":"[3]ReportTable!$E559","v":"--"},{"$f":"[3]ReportTable!$G559","v":"--"},{"$f":"[3]ReportTable!$K559","v":"--"},{"$f":"IF($B56=\"GLS\",[3]ReportTable!$I559,\"--\")","v":"--"},{"$f":"IF($B56=\"GLS\",[3]ReportTable!$M559,\"--\")","v":"--"},{"$f":"IF($B56=\"OLS\",[3]ReportTable!$I559,\"--\")","v":50.602958909477245},{"$f":"IF($B56=\"OLS\",[3]ReportTable!$M559,\"--\")","v":89.54},{"$f":"[3]ReportTable!$AX559","v":0.80980753370769931},null,null,null,null,null,52,null,null,null,8,17,"X",24,null,23,33,"West","QDEC0.5","A","SLP50","-1.523","0.976","0.841"]
["QDEC0.8=10-1.805A1.001(SLP50 + 1)0.894","OLS",{"$f":"[3]ReportTable!$C560","v":52},{"$f":"[3]ReportTable!$E560","v":"--"},{"$f":"[3]ReportTable!$G560","v":"--"},{"$f":"[3]ReportTable!$K560","v":"--"},{"$f":"IF($B57=\"GLS\",[3]ReportTable!$I560,\"--\")","v":"--"},{"$f":"IF($B57=\"GLS\",[3]ReportTable!$M560,\"--\")","v":"--"},{"$f":"IF($B57=\"OLS\",[3]ReportTable!$I560,\"--\")","v":71.006008672913083},{"$f":"IF($B57=\"OLS\",[3]ReportTable!$M560,\"--\")","v":83.34},{"$f":"[3]ReportTable!$AX560","v":0.82431149117590652},null,null,null,null,null,53,null,null,null,8,17,"X",24,null,23,33,"West","QDEC0.8","A","SLP50","-1.805","1.001","0.894"]
["QDECMEAN=10-1.41A0.971(SLP50 + 1)0.816","OLS",{"$f":"[3]ReportTable!$C561","v":52},{"$f":"[3]ReportTable!$E561","v":"--"},{"$f":"[3]ReportTable!$G561","v":"--"},{"$f":"[3]ReportTable!$K561","v":"--"},{"$f":"IF($B58=\"GLS\",[3]ReportTable!$I561,\"--\")","v":"--"},{"$f":"IF($B58=\"GLS\",[3]ReportTable!$M561,\"--\")","v":"--"},{"$f":"IF($B58=\"OLS\",[3]ReportTable!$I561,\"--\")","v":53.196701474335384},{"$f":"IF($B58=\"OLS\",[3]ReportTable!$M561,\"--\")","v":88.47},{"$f":"[3]ReportTable!$AX561","v":0.8104159081780048},null,null,null,null,null,54,null,null,null,9,17,"X",24,null,23,33,"West","QDECMEAN","A","SLP50","-1.41","0.971","0.816"]
["Northwest hydrologic region"]
["QAL7Q10=10-3.28A1.046(SLP50 + 1)1.587","GLS",{"$f":"[3]ReportTable!$C167","v":14},{"$f":"[3]ReportTable!$E167","v":7.1999999999999995E-2},{"$f":"[3]ReportTable!$G167","v":0.09},{"$f":"[3]ReportTable!$K167","v":67.92},{"$f":"IF($B60=\"GLS\",[3]ReportTable!$I167,\"--\")","v":78.12},{"$f":"IF($B60=\"GLS\",[3]ReportTable!$M167,\"--\")","v":85.57},{"$f":"IF($B60=\"OLS\",[3]ReportTable!$I167,\"--\")","v":"--"},{"$f":"IF($B60=\"OLS\",[3]ReportTable!$M167,\"--\")","v":"--"},{"$f":"[3]ReportTable!$AX167","v":1.0840747697837747},null,null,null,null,null,1,null,null,null,{"$f":"FIND(\"=\",A60)","v":8},16,"X",23,null,22,32,"Northwest","QAL7Q10","A",{"$f":"IF(W60=\"X\",\"SLP50\",\"P\")","v":"SLP50"},"-3.28","1.046",{"$f":"MID(A60,AA60+1,LEN(A60)-AA60)","v":"1.587"}]
["QS214Q5=10-4.375A1.088P2.212","GLS",{"$f":"[3]ReportTable!$C216","v":24},{"$f":"[3]ReportTable!$E216","v":0.104},{"$f":"[3]ReportTable!$G216","v":0.11799999999999999},{"$f":"[3]ReportTable!$K216","v":85.6},{"$f":"IF($B61=\"GLS\",[3]ReportTable!$I216,\"--\")","v":93.18},{"$f":"IF($B61=\"GLS\",[3]ReportTable!$M216,\"--\")","v":78.989999999999995},{"$f":"IF($B61=\"OLS\",[3]ReportTable!$I216,\"--\")","v":"--"},{"$f":"IF($B61=\"OLS\",[3]ReportTable!$M216,\"--\")","v":"--"},{"$f":"[3]ReportTable!$AX216","v":0.92095547306449543},null,null,null,null,null,2,null,null,null,{"$f":"FIND(\"=\",A61)","v":8},17,23,"X",null,23,23,"Northwest","QS214Q5","A","P","-4.375","1.088","2.212"]
["QA0.2=10-2.844A1.017P1.984","OLS",{"$f":"[3]ReportTable!$C168","v":18},{"$f":"[3]ReportTable!$E168","v":"--"},{"$f":"[3]ReportTable!$G168","v":"--"},{"$f":"[3]ReportTable!$K168","v":"--"},{"$f":"IF($B62=\"GLS\",[3]ReportTable!$I168,\"--\")","v":"--"},{"$f":"IF($B62=\"GLS\",[3]ReportTable!$M168,\"--\")","v":"--"},{"$f":"IF($B62=\"OLS\",[3]ReportTable!$I168,\"--\")","v":30.711609287771889},{"$f":"IF($B62=\"OLS\",[3]ReportTable!$M168,\"--\")","v":95.32},{"$f":"[3]ReportTable!$AX168","v":0.8179146378344343},null,null,null,null,null,3,null,null,null,6,15,21,"X",null,21,21,"Northwest","QA0.2","A","P","-2.844","1.017","1.984"]
["QA0.5=10-2.421A1.056P1.451","OLS",{"$f":"[3]ReportTable!$C169","v":18},{"$f":"[3]ReportTable!$E169","v":"--"},{"$f":"[3]ReportTable!$G169","v":"--"},{"$f":"[3]ReportTable!$K169","v":"--"},{"$f":"IF($B63=\"GLS\",[3]ReportTable!$I169,\"--\")","v":"--"},{"$f":"IF($B63=\"GLS\",[3]ReportTable!$M169,\"--\")","v":"--"},{"$f":"IF($B63=\"OLS\",[3]ReportTable!$I169,\"--\")","v":50.602958909477245},{"$f":"IF($B63=\"OLS\",[3]ReportTable!$M169,\"--\")","v":89.25},{"$f":"[3]ReportTable!$AX169","v":0.91098857325756999},null,null,null,null,null,4,null,null,null,6,15,21,"X",null,21,21,"Northwest","QA0.5","A","P","-2.421","1.056","1.451"]
["QA0.8=10-2.839A1.074P1.466","OLS",{"$f":"[3]ReportTable!$C170","v":18},{"$f":"[3]ReportTable!$E170","v":"--"},{"$f":"[3]ReportTable!$G170","v":"--"},{"$f":"[3]ReportTable!$K170","v":"--"},{"$f":"IF($B64=\"GLS\",[3]ReportTable!$I170,\"--\")","v":"--"},{"$f":"IF($B64=\"GLS\",[3]ReportTable!$M170,\"--\")","v":"--"},{"$f":"IF($B64=\"OLS\",[3]ReportTable!$I170,\"--\")","v":47.244611829214058},{"$f":"IF($B64=\"OLS\",[3]ReportTable!$M170,\"--\")","v":90.79},{"$f":"[3]ReportTable!$AX170","v":0.92678887055903758},null,null,null,null,null,5,null,null,null,6,15,21,"X",null,21,21,"Northwest","QA0.8","A","P","-2.839","1.074","1.466"]
["QAMEAN=10-2.763A0.993P1.845","OLS",{"$f":"[3]ReportTable!$C171","v":18},{"$f":"[3]ReportTable!$E171","v":"--"},{"$f":"[3]ReportTable!$G171","v":"--"},{"$f":"[3]ReportTable!$K171","v":"--"},{"$f":"IF($B65=\"GLS\",[3]ReportTable!$I171,\"--\")","v":"--"},{"$f":"IF($B65=\"GLS\",[3]ReportTable!$M171,\"--\")","v":"--"},{"$f":"IF($B65=\"OLS\",[3]ReportTable!$I171,\"--\")","v":17.978655225868973},{"$f":"IF($B65=\"OLS\",[3]ReportTable!$M171,\"--\")","v":98.13},{"$f":"[3]ReportTable!$AX171","v":0.80822550898463885},null,null,null,null,null,6,null,null,null,7,16,22,"X",null,22,22,"Northwest","QAMEAN","A","P","-2.763","0.993","1.845"]
["QJAN0.2=10-2.565A0.97P1.446","OLS",{"$f":"[3]ReportTable!$C188","v":18},{"$f":"[3]ReportTable!$E188","v":"--"},{"$f":"[3]ReportTable!$G188","v":"--"},{"$f":"[3]ReportTable!$K188","v":"--"},{"$f":"IF($B66=\"GLS\",[3]ReportTable!$I188,\"--\")","v":"--"},{"$f":"IF($B66=\"GLS\",[3]ReportTable!$M188,\"--\")","v":"--"},{"$f":"IF($B66=\"OLS\",[3]ReportTable!$I188,\"--\")","v":30.711609287771889},{"$f":"IF($B66=\"OLS\",[3]ReportTable!$M188,\"--\")","v":94.6},{"$f":"[3]ReportTable!$AX188","v":0.82560411580611459},null,null,null,null,null,7,null,null,null,8,17,22,"X",null,22,22,"Northwest","QJAN0.2","A","P","-2.565","0.97","1.446"]
["QJAN0.5=10-2.689A0.992P1.383","OLS",{"$f":"[3]ReportTable!$C189","v":18},{"$f":"[3]ReportTable!$E189","v":"--"},{"$f":"[3]ReportTable!$G189","v":"--"},{"$f":"[3]ReportTable!$K189","v":"--"},{"$f":"IF($B67=\"GLS\",[3]ReportTable!$I189,\"--\")","v":"--"},{"$f":"IF($B67=\"GLS\",[3]ReportTable!$M189,\"--\")","v":"--"},{"$f":"IF($B67=\"OLS\",[3]ReportTable!$I189,\"--\")","v":33.446316852914677},{"$f":"IF($B67=\"OLS\",[3]ReportTable!$M189,\"--\")","v":94.04},{"$f":"[3]ReportTable!$AX189","v":0.85340717435425373},null,null,null,null,null,8,null,null,null,8,17,23,"X",null,23,23,"Northwest","QJAN0.5","A","P","-2.689","0.992","1.383"]
["QJAN0.8=10-2.705A0.981P1.304","OLS",{"$f":"[3]ReportTable!$C190","v":18},{"$f":"[3]ReportTable!$E190","v":"--"},{"$f":"[3]ReportTable!$G190","v":"--"},{"$f":"[3]ReportTable!$K190","v":"--"},{"$f":"IF($B68=\"GLS\",[3]ReportTable!$I190,\"--\")","v":"--"},{"$f":"IF($B68=\"GLS\",[3]ReportTable!$M190,\"--\")","v":"--"},{"$f":"IF($B68=\"OLS\",[3]ReportTable!$I190,\"--\")","v":39.230913082500145},{"$f":"IF($B68=\"OLS\",[3]ReportTable!$M190,\"--\")","v":91.99},{"$f":"[3]ReportTable!$AX190","v":0.85000379932052994},null,null,null,null,null,9,null,null,null,8,17,23,"X",null,23,23,"Northwest","QJAN0.8","A","P","-2.705","0.981","1.304"]
["QJANMEAN=10-2.681A0.986P1.428","OLS",{"$f":"[3]ReportTable!$C191","v":18},{"$f":"[3]ReportTable!$E191","v":"--"},{"$f":"[3]ReportTable!$G191","v":"--"},{"$f":"[3]ReportTable!$K191","v":"--"},{"$f":"IF($B69=\"GLS\",[3]ReportTable!$I191,\"--\")","v":"--"},{"$f":"IF($B69=\"GLS\",[3]ReportTable!$M191,\"--\")","v":"--"},{"$f":"IF($B69=\"OLS\",[3]ReportTable!$I191,\"--\")","v":29.754596059843468},{"$f":"IF($B69=\"OLS\",[3]ReportTable!$M191,\"--\")","v":95.23},{"$f":"[3]ReportTable!$AX191","v":0.84273104340086147},null,null,null,null,null,10,null,null,null,9,18,24,"X",null,24,24,"Northwest","QJANMEAN","A","P","-2.681","0.986","1.428"]
["QFEB0.2=10-2.005A0.968P1.106","OLS",{"$f":"[3]ReportTable!$C184","v":19},{"$f":"[3]ReportTable!$E184","v":"--"},{"$f":"[3]ReportTable!$G184","v":"--"},{"$f":"[3]ReportTable!$K184","v":"--"},{"$f":"IF($B70=\"GLS\",[3]ReportTable!$I184,\"--\")","v":"--"},{"$f":"IF($B70=\"GLS\",[3]ReportTable!$M184,\"--\")","v":"--"},{"$f":"IF($B70=\"OLS\",[3]ReportTable!$I184,\"--\")","v":28.771079665258963},{"$f":"IF($B70=\"OLS\",[3]ReportTable!$M184,\"--\")","v":95.14},{"$f":"[3]ReportTable!$AX184","v":0.85328231718445502},null,null,null,null,null,11,null,null,null,8,{"$f":"FIND(V$3,$A70,U70)","v":17},{"$f":"IF(X70<>\"X\",\"X\",FIND(W$3,$A70))","v":23},{"$f":"IF(ISERROR(FIND(X$3,$A70)),\"X\",FIND(X$3,$A70))","v":"X"},null,{"$f":"IF(W70=\"X\",FIND(\"(\",A70),W70)","v":23},{"$f":"IF(W70=\"X\",FIND(\")\",A70),W70)","v":23},"Northwest","QFEB0.2","A","P",{"$f":"MID(A70,U70+3,V70-U70-3)","v":"-2.005"},{"$f":"MID(A70,V70+1,Z70-V70-1)","v":"0.968"},"1.106"]
["QFEB0.5=10-1.982A0.97P0.99","OLS",{"$f":"[3]ReportTable!$C185","v":19},{"$f":"[3]ReportTable!$E185","v":"--"},{"$f":"[3]ReportTable!$G185","v":"--"},{"$f":"[3]ReportTable!$K185","v":"--"},{"$f":"IF($B71=\"GLS\",[3]ReportTable!$I185,\"--\")","v":"--"},{"$f":"IF($B71=\"GLS\",[3]ReportTable!$M185,\"--\")","v":"--"},{"$f":"IF($B71=\"OLS\",[3]ReportTable!$I185,\"--\")","v":30.711609287771889},{"$f":"IF($B71=\"OLS\",[3]ReportTable!$M185,\"--\")","v":94.56},{"$f":"[3]ReportTable!$AX185","v":0.86718230575559163},null,null,null,null,null,12,null,null,null,8,17,22,"X",null,22,22,"Northwest","QFEB0.5","A","P","-1.982","0.97","0.99"]
["QFEB0.8=10-2.318A0.994P1.053","OLS",{"$f":"[3]ReportTable!$C186","v":19},{"$f":"[3]ReportTable!$E186","v":"--"},{"$f":"[3]ReportTable!$G186","v":"--"},{"$f":"[3]ReportTable!$K186","v":"--"},{"$f":"IF($B72=\"GLS\",[3]ReportTable!$I186,\"--\")","v":"--"},{"$f":"IF($B72=\"GLS\",[3]ReportTable!$M186,\"--\")","v":"--"},{"$f":"IF($B72=\"OLS\",[3]ReportTable!$I186,\"--\")","v":36.012807865166288},{"$f":"IF($B72=\"OLS\",[3]ReportTable!$M186,\"--\")","v":93.14},{"$f":"[3]ReportTable!$AX186","v":0.88507311248866904},null,null,null,null,null,13,null,null,null,8,17,23,"X",null,23,23,"Northwest","QFEB0.8","A","P","-2.318","0.994","1.053"]
["QFEBMEAN=10-2.1A0.968P1.111","OLS",{"$f":"[3]ReportTable!$C187","v":19},{"$f":"[3]ReportTable!$E187","v":"--"},{"$f":"[3]ReportTable!$G187","v":"--"},{"$f":"[3]ReportTable!$K187","v":"--"},{"$f":"IF($B73=\"GLS\",[3]ReportTable!$I187,\"--\")","v":"--"},{"$f":"IF($B73=\"GLS\",[3]ReportTable!$M187,\"--\")","v":"--"},{"$f":"IF($B73=\"OLS\",[3]ReportTable!$I187,\"--\")","v":29.754596059843468},{"$f":"IF($B73=\"OLS\",[3]ReportTable!$M187,\"--\")","v":94.76},{"$f":"[3]ReportTable!$AX187","v":0.8532355058499953},null,null,null,null,null,14,null,null,null,9,16,22,"X",null,22,22,"Northwest","QFEBMEAN","A","P","-2.1","0.968","1.111"]
["QMAR0.2=10-1.784A0.993P0.974","OLS",{"$f":"[3]ReportTable!$C200","v":21},{"$f":"[3]ReportTable!$E200","v":"--"},{"$f":"[3]ReportTable!$G200","v":"--"},{"$f":"[3]ReportTable!$K200","v":"--"},{"$f":"IF($B74=\"GLS\",[3]ReportTable!$I200,\"--\")","v":"--"},{"$f":"IF($B74=\"GLS\",[3]ReportTable!$M200,\"--\")","v":"--"},{"$f":"IF($B74=\"OLS\",[3]ReportTable!$I200,\"--\")","v":34.318557809831169},{"$f":"IF($B74=\"OLS\",[3]ReportTable!$M200,\"--\")","v":93.85},{"$f":"[3]ReportTable!$AX200","v":0.92180287158358687},null,null,null,null,null,15,null,null,null,8,17,23,"X",null,23,23,"Northwest","QMAR0.2","A","P","-1.784","0.993","0.974"]
["QMAR0.5=10-1.944A0.981P0.975","OLS",{"$f":"[3]ReportTable!$C201","v":21},{"$f":"[3]ReportTable!$E201","v":"--"},{"$f":"[3]ReportTable!$G201","v":"--"},{"$f":"[3]ReportTable!$K201","v":"--"},{"$f":"IF($B75=\"GLS\",[3]ReportTable!$I201,\"--\")","v":"--"},{"$f":"IF($B75=\"GLS\",[3]ReportTable!$M201,\"--\")","v":"--"},{"$f":"IF($B75=\"OLS\",[3]ReportTable!$I201,\"--\")","v":32.55551209131373},{"$f":"IF($B75=\"OLS\",[3]ReportTable!$M201,\"--\")","v":94.31},{"$f":"[3]ReportTable!$AX201","v":0.90983622575354417},null,null,null,null,null,16,null,null,null,8,17,23,"X",null,23,23,"Northwest","QMAR0.5","A","P","-1.944","0.981","0.975"]
["QMAR0.8=10-2.579A1.038P1.162","OLS",{"$f":"[3]ReportTable!$C202","v":21},{"$f":"[3]ReportTable!$E202","v":"--"},{"$f":"[3]ReportTable!$G202","v":"--"},{"$f":"[3]ReportTable!$K202","v":"--"},{"$f":"IF($B76=\"GLS\",[3]ReportTable!$I202,\"--\")","v":"--"},{"$f":"IF($B76=\"GLS\",[3]ReportTable!$M202,\"--\")","v":"--"},{"$f":"IF($B76=\"OLS\",[3]ReportTable!$I202,\"--\")","v":43.000627371013515},{"$f":"IF($B76=\"OLS\",[3]ReportTable!$M202,\"--\")","v":91.76},{"$f":"[3]ReportTable!$AX202","v":0.95311047461946297},null,null,null,null,null,17,null,null,null,8,17,23,"X",null,23,23,"Northwest","QMAR0.8","A","P","-2.579","1.038","1.162"]
["QMARMEAN=10-1.863A0.991P0.966","OLS",{"$f":"[3]ReportTable!$C203","v":21},{"$f":"[3]ReportTable!$E203","v":"--"},{"$f":"[3]ReportTable!$G203","v":"--"},{"$f":"[3]ReportTable!$K203","v":"--"},{"$f":"IF($B77=\"GLS\",[3]ReportTable!$I203,\"--\")","v":"--"},{"$f":"IF($B77=\"GLS\",[3]ReportTable!$M203,\"--\")","v":"--"},{"$f":"IF($B77=\"OLS\",[3]ReportTable!$I203,\"--\")","v":34.318557809831169},{"$f":"IF($B77=\"OLS\",[3]ReportTable!$M203,\"--\")","v":93.9},{"$f":"[3]ReportTable!$AX203","v":0.92016125835888907},null,null,null,null,null,18,null,null,null,9,18,24,"X",null,24,24,"Northwest","QMARMEAN","A","P","-1.863","0.991","0.966"]
["QAPR0.2=10-2.777A1.077P1.798","OLS",{"$f":"[3]ReportTable!$C172","v":25},{"$f":"[3]ReportTable!$E172","v":"--"},{"$f":"[3]ReportTable!$G172","v":"--"},{"$f":"[3]ReportTable!$K172","v":"--"},{"$f":"IF($B78=\"GLS\",[3]ReportTable!$I172,\"--\")","v":"--"},{"$f":"IF($B78=\"GLS\",[3]ReportTable!$M172,\"--\")","v":"--"},{"$f":"IF($B78=\"OLS\",[3]ReportTable!$I172,\"--\")","v":43.000627371013515},{"$f":"IF($B78=\"OLS\",[3]ReportTable!$M172,\"--\")","v":91.74},{"$f":"[3]ReportTable!$AX172","v":0.9591601218383401},null,null,null,null,null,19,null,null,null,8,17,{"$f":"IF(X78<>\"X\",\"X\",FIND(W$3,$A78,U78))","v":23},"X",null,23,23,"Northwest","QAPR0.2","A","P","-2.777","1.077","1.798"]
["QAPR0.5=10-2.699A1.073P1.564","OLS",{"$f":"[3]ReportTable!$C173","v":25},{"$f":"[3]ReportTable!$E173","v":"--"},{"$f":"[3]ReportTable!$G173","v":"--"},{"$f":"[3]ReportTable!$K173","v":"--"},{"$f":"IF($B79=\"GLS\",[3]ReportTable!$I173,\"--\")","v":"--"},{"$f":"IF($B79=\"GLS\",[3]ReportTable!$M173,\"--\")","v":"--"},{"$f":"IF($B79=\"OLS\",[3]ReportTable!$I173,\"--\")","v":44.445124250513942},{"$f":"IF($B79=\"OLS\",[3]ReportTable!$M173,\"--\")","v":90.9},{"$f":"[3]ReportTable!$AX173","v":0.97094200079266268},null,null,null,null,null,20,null,null,null,8,17,{"$f":"IF(X79<>\"X\",\"X\",FIND(W$3,$A79,U79))","v":23},"X",null,23,23,"Northwest","QAPR0.5","A","P","-2.699","1.073","1.564"]
["QAPR0.8=10-2.752A1.079P1.406","OLS",{"$f":"[3]ReportTable!$C174","v":25},{"$f":"[3]ReportTable!$E174","v":"--"},{"$f":"[3]ReportTable!$G174","v":"--"},{"$f":"[3]ReportTable!$K174","v":"--"},{"$f":"IF($B80=\"GLS\",[3]ReportTable!$I174,\"--\")","v":"--"},{"$f":"IF($B80=\"GLS\",[3]ReportTable!$M174,\"--\")","v":"--"},{"$f":"IF($B80=\"OLS\",[3]ReportTable!$I174,\"--\")","v":39.230913082500145},{"$f":"IF($B80=\"OLS\",[3]ReportTable!$M174,\"--\")","v":92.61},{"$f":"[3]ReportTable!$AX174","v":0.98683891710417537},null,null,null,null,null,21,null,null,null,8,17,23,"X",null,23,23,"Northwest","QAPR0.8","A","P","-2.752","1.079","1.406"]
["QAPRMEAN=10-2.817A1.064P1.74","OLS",{"$f":"[3]ReportTable!$C175","v":25},{"$f":"[3]ReportTable!$E175","v":"--"},{"$f":"[3]ReportTable!$G175","v":"--"},{"$f":"[3]ReportTable!$K175","v":"--"},{"$f":"IF($B81=\"GLS\",[3]ReportTable!$I175,\"--\")","v":"--"},{"$f":"IF($B81=\"GLS\",[3]ReportTable!$M175,\"--\")","v":"--"},{"$f":"IF($B81=\"OLS\",[3]ReportTable!$I175,\"--\")","v":39.230913082500145},{"$f":"IF($B81=\"OLS\",[3]ReportTable!$M175,\"--\")","v":92.73},{"$f":"[3]ReportTable!$AX175","v":0.95041177988543357},null,null,null,null,null,22,null,null,null,9,18,24,"X",null,24,24,"Northwest","QAPRMEAN","A","P","-2.817","1.064","1.74"]
["QMAY0.2=10-3.18A1.122P2.288","OLS",{"$f":"[3]ReportTable!$C204","v":26},{"$f":"[3]ReportTable!$E204","v":"--"},{"$f":"[3]ReportTable!$G204","v":"--"},{"$f":"[3]ReportTable!$K204","v":"--"},{"$f":"IF($B82=\"GLS\",[3]ReportTable!$I204,\"--\")","v":"--"},{"$f":"IF($B82=\"GLS\",[3]ReportTable!$M204,\"--\")","v":"--"},{"$f":"IF($B82=\"OLS\",[3]ReportTable!$I204,\"--\")","v":40.768554789241762},{"$f":"IF($B82=\"OLS\",[3]ReportTable!$M204,\"--\")","v":93.78},{"$f":"[3]ReportTable!$AX204","v":0.91749111191386723},null,null,null,null,null,23,null,null,null,8,16,22,"X",null,22,22,"Northwest","QMAY0.2","A","P","-3.18","1.122","2.288"]
["QMAY0.5=10-3.646A1.146P2.408","OLS",{"$f":"[3]ReportTable!$C205","v":26},{"$f":"[3]ReportTable!$E205","v":"--"},{"$f":"[3]ReportTable!$G205","v":"--"},{"$f":"[3]ReportTable!$K205","v":"--"},{"$f":"IF($B83=\"GLS\",[3]ReportTable!$I205,\"--\")","v":"--"},{"$f":"IF($B83=\"GLS\",[3]ReportTable!$M205,\"--\")","v":"--"},{"$f":"IF($B83=\"OLS\",[3]ReportTable!$I205,\"--\")","v":41.521936364144445},{"$f":"IF($B83=\"OLS\",[3]ReportTable!$M205,\"--\")","v":93.8},{"$f":"[3]ReportTable!$AX205","v":0.93099015552531394},null,null,null,null,null,24,null,null,null,8,17,23,"X",null,23,23,"Northwest","QMAY0.5","A","P","-3.646","1.146","2.408"]
["QMAY0.8=10-4.498A1.208P2.68","OLS",{"$f":"[3]ReportTable!$C206","v":26},{"$f":"[3]ReportTable!$E206","v":"--"},{"$f":"[3]ReportTable!$G206","v":"--"},{"$f":"[3]ReportTable!$K206","v":"--"},{"$f":"IF($B84=\"GLS\",[3]ReportTable!$I206,\"--\")","v":"--"},{"$f":"IF($B84=\"GLS\",[3]ReportTable!$M206,\"--\")","v":"--"},{"$f":"IF($B84=\"OLS\",[3]ReportTable!$I206,\"--\")","v":45.858813208494141},{"$f":"IF($B84=\"OLS\",[3]ReportTable!$M206,\"--\")","v":93.6},{"$f":"[3]ReportTable!$AX206","v":0.96780300868425539},null,null,null,null,null,25,null,null,null,8,17,23,"X",null,23,23,"Northwest","QMAY0.8","A","P","-4.498","1.208","2.68"]
["QMAYMEAN=10-3.263A1.129P2.234","OLS",{"$f":"[3]ReportTable!$C207","v":26},{"$f":"[3]ReportTable!$E207","v":"--"},{"$f":"[3]ReportTable!$G207","v":"--"},{"$f":"[3]ReportTable!$K207","v":"--"},{"$f":"IF($B85=\"GLS\",[3]ReportTable!$I207,\"--\")","v":"--"},{"$f":"IF($B85=\"GLS\",[3]ReportTable!$M207,\"--\")","v":"--"},{"$f":"IF($B85=\"OLS\",[3]ReportTable!$I207,\"--\")","v":40.005084069492796},{"$f":"IF($B85=\"OLS\",[3]ReportTable!$M207,\"--\")","v":93.97},{"$f":"[3]ReportTable!$AX207","v":0.92864065870554713},null,null,null,null,null,26,null,null,null,9,18,24,"X",null,24,24,"Northwest","QMAYMEAN","A","P","-3.263","1.129","2.234"]
["QJUN0.2=10-2.985A1.13P2.204","OLS",{"$f":"[3]ReportTable!$C196","v":26},{"$f":"[3]ReportTable!$E196","v":"--"},{"$f":"[3]ReportTable!$G196","v":"--"},{"$f":"[3]ReportTable!$K196","v":"--"},{"$f":"IF($B86=\"GLS\",[3]ReportTable!$I196,\"--\")","v":"--"},{"$f":"IF($B86=\"GLS\",[3]ReportTable!$M196,\"--\")","v":"--"},{"$f":"IF($B86=\"OLS\",[3]ReportTable!$I196,\"--\")","v":37.647729371743736},{"$f":"IF($B86=\"OLS\",[3]ReportTable!$M196,\"--\")","v":94.56},{"$f":"[3]ReportTable!$AX196","v":0.93272227069816915},null,null,null,null,null,27,null,null,null,8,17,22,"X",null,22,22,"Northwest","QJUN0.2","A","P","-2.985","1.13","2.204"]
["QJUN0.5=10-3.648A1.134P2.475","OLS",{"$f":"[3]ReportTable!$C197","v":26},{"$f":"[3]ReportTable!$E197","v":"--"},{"$f":"[3]ReportTable!$G197","v":"--"},{"$f":"[3]ReportTable!$K197","v":"--"},{"$f":"IF($B87=\"GLS\",[3]ReportTable!$I197,\"--\")","v":"--"},{"$f":"IF($B87=\"GLS\",[3]ReportTable!$M197,\"--\")","v":"--"},{"$f":"IF($B87=\"OLS\",[3]ReportTable!$I197,\"--\")","v":33.446316852914677},{"$f":"IF($B87=\"OLS\",[3]ReportTable!$M197,\"--\")","v":95.71},{"$f":"[3]ReportTable!$AX197","v":0.91240174656750805},null,null,null,null,null,28,null,null,null,8,17,23,"X",null,23,23,"Northwest","QJUN0.5","A","P","-3.648","1.134","2.475"]
["QJUN0.8=10-4.72A1.163P2.939","OLS",{"$f":"[3]ReportTable!$C198","v":26},{"$f":"[3]ReportTable!$E198","v":"--"},{"$f":"[3]ReportTable!$G198","v":"--"},{"$f":"[3]ReportTable!$K198","v":"--"},{"$f":"IF($B88=\"GLS\",[3]ReportTable!$I198,\"--\")","v":"--"},{"$f":"IF($B88=\"GLS\",[3]ReportTable!$M198,\"--\")","v":"--"},{"$f":"IF($B88=\"OLS\",[3]ReportTable!$I198,\"--\")","v":36.837172815858779},{"$f":"IF($B88=\"OLS\",[3]ReportTable!$M198,\"--\")","v":95.6},{"$f":"[3]ReportTable!$AX198","v":0.89973732059197531},null,null,null,null,null,29,null,null,null,8,16,22,"X",null,22,22,"Northwest","QJUN0.8","A","P","-4.72","1.163","2.939"]
["QJUNMEAN=10-3.208A1.127P2.253","OLS",{"$f":"[3]ReportTable!$C199","v":26},{"$f":"[3]ReportTable!$E199","v":"--"},{"$f":"[3]ReportTable!$G199","v":"--"},{"$f":"[3]ReportTable!$K199","v":"--"},{"$f":"IF($B89=\"GLS\",[3]ReportTable!$I199,\"--\")","v":"--"},{"$f":"IF($B89=\"GLS\",[3]ReportTable!$M199,\"--\")","v":"--"},{"$f":"IF($B89=\"OLS\",[3]ReportTable!$I199,\"--\")","v":39.230913082500145},{"$f":"IF($B89=\"OLS\",[3]ReportTable!$M199,\"--\")","v":94.24},{"$f":"[3]ReportTable!$AX199","v":0.92538563221297643},null,null,null,null,null,30,null,null,null,9,18,24,"X",null,24,24,"Northwest","QJUNMEAN","A","P","-3.208","1.127","2.253"]
["QJUL0.2=10-3.531A1.084P2.348","OLS",{"$f":"[3]ReportTable!$C192","v":26},{"$f":"[3]ReportTable!$E192","v":"--"},{"$f":"[3]ReportTable!$G192","v":"--"},{"$f":"[3]ReportTable!$K192","v":"--"},{"$f":"IF($B90=\"GLS\",[3]ReportTable!$I192,\"--\")","v":"--"},{"$f":"IF($B90=\"GLS\",[3]ReportTable!$M192,\"--\")","v":"--"},{"$f":"IF($B90=\"OLS\",[3]ReportTable!$I192,\"--\")","v":36.012807865166288},{"$f":"IF($B90=\"OLS\",[3]ReportTable!$M192,\"--\")","v":94.8},{"$f":"[3]ReportTable!$AX192","v":0.87428808832163996},null,null,null,null,null,31,null,null,null,8,17,23,"X",null,23,23,"Northwest","QJUL0.2","A","P","-3.531","1.084","2.348"]
["QJUL0.5=10-4.133A1.102P2.535","OLS",{"$f":"[3]ReportTable!$C193","v":26},{"$f":"[3]ReportTable!$E193","v":"--"},{"$f":"[3]ReportTable!$G193","v":"--"},{"$f":"[3]ReportTable!$K193","v":"--"},{"$f":"IF($B91=\"GLS\",[3]ReportTable!$I193,\"--\")","v":"--"},{"$f":"IF($B91=\"GLS\",[3]ReportTable!$M193,\"--\")","v":"--"},{"$f":"IF($B91=\"OLS\",[3]ReportTable!$I193,\"--\")","v":39.230913082500145},{"$f":"IF($B91=\"OLS\",[3]ReportTable!$M193,\"--\")","v":94.19},{"$f":"[3]ReportTable!$AX193","v":0.87503885919506597},null,null,null,null,null,32,null,null,null,8,17,23,"X",null,23,23,"Northwest","QJUL0.5","A","P","-4.133","1.102","2.535"]
["QJUL0.8=10-5.12A1.146P2.926","OLS",{"$f":"[3]ReportTable!$C194","v":26},{"$f":"[3]ReportTable!$E194","v":"--"},{"$f":"[3]ReportTable!$G194","v":"--"},{"$f":"[3]ReportTable!$K194","v":"--"},{"$f":"IF($B92=\"GLS\",[3]ReportTable!$I194,\"--\")","v":"--"},{"$f":"IF($B92=\"GLS\",[3]ReportTable!$M194,\"--\")","v":"--"},{"$f":"IF($B92=\"OLS\",[3]ReportTable!$I194,\"--\")","v":52.555165433651716},{"$f":"IF($B92=\"OLS\",[3]ReportTable!$M194,\"--\")","v":91.59},{"$f":"[3]ReportTable!$AX194","v":0.88461255029574126},null,null,null,null,null,33,null,null,null,8,16,22,"X",null,22,22,"Northwest","QJUL0.8","A","P","-5.12","1.146","2.926"]
["QJULMEAN=10-3.761A1.091P2.387","OLS",{"$f":"[3]ReportTable!$C195","v":26},{"$f":"[3]ReportTable!$E195","v":"--"},{"$f":"[3]ReportTable!$G195","v":"--"},{"$f":"[3]ReportTable!$K195","v":"--"},{"$f":"IF($B93=\"GLS\",[3]ReportTable!$I195,\"--\")","v":"--"},{"$f":"IF($B93=\"GLS\",[3]ReportTable!$M195,\"--\")","v":"--"},{"$f":"IF($B93=\"OLS\",[3]ReportTable!$I195,\"--\")","v":36.837172815858779},{"$f":"IF($B93=\"OLS\",[3]ReportTable!$M195,\"--\")","v":94.53},{"$f":"[3]ReportTable!$AX195","v":0.87799148195497678},null,null,null,null,null,34,null,null,null,9,18,24,"X",null,24,24,"Northwest","QJULMEAN","A","P","-3.761","1.091","2.387"]
["QAUG0.2=10-3.034A1.023P1.855","OLS",{"$f":"[3]ReportTable!$C176","v":26},{"$f":"[3]ReportTable!$E176","v":"--"},{"$f":"[3]ReportTable!$G176","v":"--"},{"$f":"[3]ReportTable!$K176","v":"--"},{"$f":"IF($B94=\"GLS\",[3]ReportTable!$I176,\"--\")","v":"--"},{"$f":"IF($B94=\"GLS\",[3]ReportTable!$M176,\"--\")","v":"--"},{"$f":"IF($B94=\"OLS\",[3]ReportTable!$I176,\"--\")","v":47.927857432976431},{"$f":"IF($B94=\"OLS\",[3]ReportTable!$M176,\"--\")","v":90.06},{"$f":"[3]ReportTable!$AX176","v":0.85729103163015563},null,null,null,null,null,35,null,null,null,8,17,23,"X",null,23,23,"Northwest","QAUG0.2","A","P","-3.034","1.023","1.855"]
["QAUG0.5=10-3.76A1.056P2.148","OLS",{"$f":"[3]ReportTable!$C177","v":26},{"$f":"[3]ReportTable!$E177","v":"--"},{"$f":"[3]ReportTable!$G177","v":"--"},{"$f":"[3]ReportTable!$K177","v":"--"},{"$f":"IF($B95=\"GLS\",[3]ReportTable!$I177,\"--\")","v":"--"},{"$f":"IF($B95=\"GLS\",[3]ReportTable!$M177,\"--\")","v":"--"},{"$f":"IF($B95=\"OLS\",[3]ReportTable!$I177,\"--\")","v":55.096203033983784},{"$f":"IF($B95=\"OLS\",[3]ReportTable!$M177,\"--\")","v":88.45},{"$f":"[3]ReportTable!$AX177","v":0.8633982108744539},null,null,null,null,null,36,null,null,null,8,16,22,"X",null,22,22,"Northwest","QAUG0.5","A","P","-3.76","1.056","2.148"]
["QAUG0.8=10-5.133A1.13P2.759","OLS",{"$f":"[3]ReportTable!$C178","v":26},{"$f":"[3]ReportTable!$E178","v":"--"},{"$f":"[3]ReportTable!$G178","v":"--"},{"$f":"[3]ReportTable!$K178","v":"--"},{"$f":"IF($B96=\"GLS\",[3]ReportTable!$I178,\"--\")","v":"--"},{"$f":"IF($B96=\"GLS\",[3]ReportTable!$M178,\"--\")","v":"--"},{"$f":"IF($B96=\"OLS\",[3]ReportTable!$I178,\"--\")","v":75.455872711666558},{"$f":"IF($B96=\"OLS\",[3]ReportTable!$M178,\"--\")","v":84.83},{"$f":"[3]ReportTable!$AX178","v":0.88280636506275467},null,null,null,null,null,37,null,null,null,8,17,22,"X",null,22,22,"Northwest","QAUG0.8","A","P","-5.133","1.13","2.759"]
["QAUGMEAN=10-3.435A1.038P2.004","OLS",{"$f":"[3]ReportTable!$C179","v":26},{"$f":"[3]ReportTable!$E179","v":"--"},{"$f":"[3]ReportTable!$G179","v":"--"},{"$f":"[3]ReportTable!$K179","v":"--"},{"$f":"IF($B97=\"GLS\",[3]ReportTable!$I179,\"--\")","v":"--"},{"$f":"IF($B97=\"GLS\",[3]ReportTable!$M179,\"--\")","v":"--"},{"$f":"IF($B97=\"OLS\",[3]ReportTable!$I179,\"--\")","v":51.258487171657649},{"$f":"IF($B97=\"OLS\",[3]ReportTable!$M179,\"--\")","v":89.31},{"$f":"[3]ReportTable!$AX179","v":0.85839774077192732},null,null,null,null,null,38,null,null,null,9,18,24,"X",null,24,24,"Northwest","QAUGMEAN","A","P","-3.435","1.038","2.004"]
["QSEP0.2=10-2.812A0.978P1.704","OLS",{"$f":"[3]ReportTable!$C217","v":26},{"$f":"[3]ReportTable!$E217","v":"--"},{"$f":"[3]ReportTable!$G217","v":"--"},{"$f":"[3]ReportTable!$K217","v":"--"},{"$f":"IF($B98=\"GLS\",[3]ReportTable!$I217,\"--\")","v":"--"},{"$f":"IF($B98=\"GLS\",[3]ReportTable!$M217,\"--\")","v":"--"},{"$f":"IF($B98=\"OLS\",[3]ReportTable!$I217,\"--\")","v":47.244611829214058},{"$f":"IF($B98=\"OLS\",[3]ReportTable!$M217,\"--\")","v":89.36},{"$f":"[3]ReportTable!$AX217","v":0.8255402081065244},null,null,null,null,null,39,null,null,null,8,17,23,"X",null,23,23,"Northwest","QSEP0.2","A","P","-2.812","0.978","1.704"]
["QSEP0.5=10-3.38A1.038P1.851","OLS",{"$f":"[3]ReportTable!$C218","v":26},{"$f":"[3]ReportTable!$E218","v":"--"},{"$f":"[3]ReportTable!$G218","v":"--"},{"$f":"[3]ReportTable!$K218","v":"--"},{"$f":"IF($B99=\"GLS\",[3]ReportTable!$I218,\"--\")","v":"--"},{"$f":"IF($B99=\"GLS\",[3]ReportTable!$M218,\"--\")","v":"--"},{"$f":"IF($B99=\"OLS\",[3]ReportTable!$I218,\"--\")","v":52.555165433651716},{"$f":"IF($B99=\"OLS\",[3]ReportTable!$M218,\"--\")","v":88.65},{"$f":"[3]ReportTable!$AX218","v":0.87275990234037992},null,null,null,null,null,40,null,null,null,8,16,22,"X",null,22,22,"Northwest","QSEP0.5","A","P","-3.38","1.038","1.851"]
["QSEP0.8=10-4.544A1.125P2.331","OLS",{"$f":"[3]ReportTable!$C219","v":26},{"$f":"[3]ReportTable!$E219","v":"--"},{"$f":"[3]ReportTable!$G219","v":"--"},{"$f":"[3]ReportTable!$K219","v":"--"},{"$f":"IF($B100=\"GLS\",[3]ReportTable!$I219,\"--\")","v":"--"},{"$f":"IF($B100=\"GLS\",[3]ReportTable!$M219,\"--\")","v":"--"},{"$f":"IF($B100=\"OLS\",[3]ReportTable!$I219,\"--\")","v":68.178701445990114},{"$f":"IF($B100=\"OLS\",[3]ReportTable!$M219,\"--\")","v":85.95},{"$f":"[3]ReportTable!$AX219","v":0.91669932886744476},null,null,null,null,null,41,null,null,null,8,17,23,"X",null,23,23,"Northwest","QSEP0.8","A","P","-4.544","1.125","2.331"]
["QSEPMEAN=10-3.307A1.014P1.886","OLS",{"$f":"[3]ReportTable!$C220","v":26},{"$f":"[3]ReportTable!$E220","v":"--"},{"$f":"[3]ReportTable!$G220","v":"--"},{"$f":"[3]ReportTable!$K220","v":"--"},{"$f":"IF($B101=\"GLS\",[3]ReportTable!$I220,\"--\")","v":"--"},{"$f":"IF($B101=\"GLS\",[3]ReportTable!$M220,\"--\")","v":"--"},{"$f":"IF($B101=\"OLS\",[3]ReportTable!$I220,\"--\")","v":45.155627502771047},{"$f":"IF($B101=\"OLS\",[3]ReportTable!$M220,\"--\")","v":90.85},{"$f":"[3]ReportTable!$AX220","v":0.8454946586828026},null,null,null,null,null,42,null,null,null,9,18,24,"X",null,24,24,"Northwest","QSEPMEAN","A","P","-3.307","1.014","1.886"]
["QOCT0.2=10-3.027A0.932P1.947","OLS",{"$f":"[3]ReportTable!$C212","v":26},{"$f":"[3]ReportTable!$E212","v":"--"},{"$f":"[3]ReportTable!$G212","v":"--"},{"$f":"[3]ReportTable!$K212","v":"--"},{"$f":"IF($B102=\"GLS\",[3]ReportTable!$I212,\"--\")","v":"--"},{"$f":"IF($B102=\"GLS\",[3]ReportTable!$M212,\"--\")","v":"--"},{"$f":"IF($B102=\"OLS\",[3]ReportTable!$I212,\"--\")","v":36.012807865166288},{"$f":"IF($B102=\"OLS\",[3]ReportTable!$M212,\"--\")","v":92.93},{"$f":"[3]ReportTable!$AX212","v":0.75766259238950906},null,null,null,null,null,43,null,null,null,8,17,23,"X",null,23,23,"Northwest","QOCT0.2","A","P","-3.027","0.932","1.947"]
["QOCT0.5=10-2.918A0.966P1.698","OLS",{"$f":"[3]ReportTable!$C213","v":26},{"$f":"[3]ReportTable!$E213","v":"--"},{"$f":"[3]ReportTable!$G213","v":"--"},{"$f":"[3]ReportTable!$K213","v":"--"},{"$f":"IF($B103=\"GLS\",[3]ReportTable!$I213,\"--\")","v":"--"},{"$f":"IF($B103=\"GLS\",[3]ReportTable!$M213,\"--\")","v":"--"},{"$f":"IF($B103=\"OLS\",[3]ReportTable!$I213,\"--\")","v":38.445372996709118},{"$f":"IF($B103=\"OLS\",[3]ReportTable!$M213,\"--\")","v":92.4},{"$f":"[3]ReportTable!$AX213","v":0.81379831001976155},null,null,null,null,null,44,null,null,null,8,17,23,"X",null,23,23,"Northwest","QOCT0.5","A","P","-2.918","0.966","1.698"]
["QOCT0.8=10-3.16A1.037P1.618","OLS",{"$f":"[3]ReportTable!$C214","v":26},{"$f":"[3]ReportTable!$E214","v":"--"},{"$f":"[3]ReportTable!$G214","v":"--"},{"$f":"[3]ReportTable!$K214","v":"--"},{"$f":"IF($B104=\"GLS\",[3]ReportTable!$I214,\"--\")","v":"--"},{"$f":"IF($B104=\"GLS\",[3]ReportTable!$M214,\"--\")","v":"--"},{"$f":"IF($B104=\"OLS\",[3]ReportTable!$I214,\"--\")","v":51.258487171657649},{"$f":"IF($B104=\"OLS\",[3]ReportTable!$M214,\"--\")","v":88.76},{"$f":"[3]ReportTable!$AX214","v":0.89221585675063642},null,null,null,null,null,45,null,null,null,8,16,22,"X",null,22,22,"Northwest","QOCT0.8","A","P","-3.16","1.037","1.618"]
["QOCTMEAN=10-3.187A0.945P1.947","OLS",{"$f":"[3]ReportTable!$C215","v":26},{"$f":"[3]ReportTable!$E215","v":"--"},{"$f":"[3]ReportTable!$G215","v":"--"},{"$f":"[3]ReportTable!$K215","v":"--"},{"$f":"IF($B105=\"GLS\",[3]ReportTable!$I215,\"--\")","v":"--"},{"$f":"IF($B105=\"GLS\",[3]ReportTable!$M215,\"--\")","v":"--"},{"$f":"IF($B105=\"OLS\",[3]ReportTable!$I215,\"--\")","v":33.446316852914677},{"$f":"IF($B105=\"OLS\",[3]ReportTable!$M215,\"--\")","v":93.85},{"$f":"[3]ReportTable!$AX215","v":0.7704340241324501},null,null,null,null,null,46,null,null,null,9,18,24,"X",null,24,24,"Northwest","QOCTMEAN","A","P","-3.187","0.945","1.947"]
["QNOV0.2=10-3.331A0.975P2.051","OLS",{"$f":"[3]ReportTable!$C208","v":21},{"$f":"[3]ReportTable!$E208","v":"--"},{"$f":"[3]ReportTable!$G208","v":"--"},{"$f":"[3]ReportTable!$K208","v":"--"},{"$f":"IF($B106=\"GLS\",[3]ReportTable!$I208,\"--\")","v":"--"},{"$f":"IF($B106=\"GLS\",[3]ReportTable!$M208,\"--\")","v":"--"},{"$f":"IF($B106=\"OLS\",[3]ReportTable!$I208,\"--\")","v":27.758213959367033},{"$f":"IF($B106=\"OLS\",[3]ReportTable!$M208,\"--\")","v":95.41},{"$f":"[3]ReportTable!$AX208","v":0.77176046809423915},null,null,null,null,null,47,null,null,null,8,17,23,"X",null,23,23,"Northwest","QNOV0.2","A","P","-3.331","0.975","2.051"]
["QNOV0.5=10-3.052A0.95P1.797","OLS",{"$f":"[3]ReportTable!$C209","v":21},{"$f":"[3]ReportTable!$E209","v":"--"},{"$f":"[3]ReportTable!$G209","v":"--"},{"$f":"[3]ReportTable!$K209","v":"--"},{"$f":"IF($B107=\"GLS\",[3]ReportTable!$I209,\"--\")","v":"--"},{"$f":"IF($B107=\"GLS\",[3]ReportTable!$M209,\"--\")","v":"--"},{"$f":"IF($B107=\"OLS\",[3]ReportTable!$I209,\"--\")","v":29.754596059843468},{"$f":"IF($B107=\"OLS\",[3]ReportTable!$M209,\"--\")","v":94.46},{"$f":"[3]ReportTable!$AX209","v":0.77148606277352094},null,null,null,null,null,48,null,null,null,8,17,22,"X",null,22,22,"Northwest","QNOV0.5","A","P","-3.052","0.95","1.797"]
["QNOV0.8=10-2.642A0.957P1.4","OLS",{"$f":"[3]ReportTable!$C210","v":21},{"$f":"[3]ReportTable!$E210","v":"--"},{"$f":"[3]ReportTable!$G210","v":"--"},{"$f":"[3]ReportTable!$K210","v":"--"},{"$f":"IF($B108=\"GLS\",[3]ReportTable!$I210,\"--\")","v":"--"},{"$f":"IF($B108=\"GLS\",[3]ReportTable!$M210,\"--\")","v":"--"},{"$f":"IF($B108=\"OLS\",[3]ReportTable!$I210,\"--\")","v":37.647729371743736},{"$f":"IF($B108=\"OLS\",[3]ReportTable!$M210,\"--\")","v":91.48},{"$f":"[3]ReportTable!$AX210","v":0.8178547614944589},null,null,null,null,null,49,null,null,null,8,17,23,"X",null,23,23,"Northwest","QNOV0.8","A","P","-2.642","0.957","1.4"]
["QNOVMEAN=10-3.265A0.975P1.933","OLS",{"$f":"[3]ReportTable!$C211","v":21},{"$f":"[3]ReportTable!$E211","v":"--"},{"$f":"[3]ReportTable!$G211","v":"--"},{"$f":"[3]ReportTable!$K211","v":"--"},{"$f":"IF($B109=\"GLS\",[3]ReportTable!$I211,\"--\")","v":"--"},{"$f":"IF($B109=\"GLS\",[3]ReportTable!$M211,\"--\")","v":"--"},{"$f":"IF($B109=\"OLS\",[3]ReportTable!$I211,\"--\")","v":25.630294240815154},{"$f":"IF($B109=\"OLS\",[3]ReportTable!$M211,\"--\")","v":95.89},{"$f":"[3]ReportTable!$AX211","v":0.78366634079045494},null,null,null,null,null,50,null,null,null,9,18,24,"X",null,24,24,"Northwest","QNOVMEAN","A","P","-3.265","0.975","1.933"]
["QDEC0.2=10-2.888A0.971P1.7","OLS",{"$f":"[3]ReportTable!$C180","v":19},{"$f":"[3]ReportTable!$E180","v":"--"},{"$f":"[3]ReportTable!$G180","v":"--"},{"$f":"[3]ReportTable!$K180","v":"--"},{"$f":"IF($B110=\"GLS\",[3]ReportTable!$I180,\"--\")","v":"--"},{"$f":"IF($B110=\"GLS\",[3]ReportTable!$M180,\"--\")","v":"--"},{"$f":"IF($B110=\"OLS\",[3]ReportTable!$I180,\"--\")","v":31.644549718377686},{"$f":"IF($B110=\"OLS\",[3]ReportTable!$M180,\"--\")","v":94.17},{"$f":"[3]ReportTable!$AX180","v":0.79432063181860157},null,null,null,null,null,51,null,null,null,8,17,23,"X",null,23,23,"Northwest","QDEC0.2","A","P","-2.888","0.971","1.7"]
["QDEC0.5=10-2.851A0.965P1.573","OLS",{"$f":"[3]ReportTable!$C181","v":19},{"$f":"[3]ReportTable!$E181","v":"--"},{"$f":"[3]ReportTable!$G181","v":"--"},{"$f":"[3]ReportTable!$K181","v":"--"},{"$f":"IF($B111=\"GLS\",[3]ReportTable!$I181,\"--\")","v":"--"},{"$f":"IF($B111=\"GLS\",[3]ReportTable!$M181,\"--\")","v":"--"},{"$f":"IF($B111=\"OLS\",[3]ReportTable!$I181,\"--\")","v":34.318557809831169},{"$f":"IF($B111=\"OLS\",[3]ReportTable!$M181,\"--\")","v":93.34},{"$f":"[3]ReportTable!$AX181","v":0.80165775392819494},null,null,null,null,null,52,null,null,null,8,17,23,"X",null,23,23,"Northwest","QDEC0.5","A","P","-2.851","0.965","1.573"]
["QDEC0.8=10-2.898A0.983P1.452","OLS",{"$f":"[3]ReportTable!$C182","v":19},{"$f":"[3]ReportTable!$E182","v":"--"},{"$f":"[3]ReportTable!$G182","v":"--"},{"$f":"[3]ReportTable!$K182","v":"--"},{"$f":"IF($B112=\"GLS\",[3]ReportTable!$I182,\"--\")","v":"--"},{"$f":"IF($B112=\"GLS\",[3]ReportTable!$M182,\"--\")","v":"--"},{"$f":"IF($B112=\"OLS\",[3]ReportTable!$I182,\"--\")","v":40.005084069492796},{"$f":"IF($B112=\"OLS\",[3]ReportTable!$M182,\"--\")","v":91.54},{"$f":"[3]ReportTable!$AX182","v":0.83191815435624261},null,null,null,null,null,53,null,null,null,8,17,23,"X",null,23,23,"Northwest","QDEC0.8","A","P","-2.898","0.983","1.452"]
["QDECMEAN=10-2.93A0.964P1.667","OLS",{"$f":"[3]ReportTable!$C183","v":19},{"$f":"[3]ReportTable!$E183","v":"--"},{"$f":"[3]ReportTable!$G183","v":"--"},{"$f":"[3]ReportTable!$K183","v":"--"},{"$f":"IF($B113=\"GLS\",[3]ReportTable!$I183,\"--\")","v":"--"},{"$f":"IF($B113=\"GLS\",[3]ReportTable!$M183,\"--\")","v":"--"},{"$f":"IF($B113=\"OLS\",[3]ReportTable!$I183,\"--\")","v":31.644549718377686},{"$f":"IF($B113=\"OLS\",[3]ReportTable!$M183,\"--\")","v":94.16},{"$f":"[3]ReportTable!$AX183","v":0.79143245317513611},null,null,null,null,null,54,null,null,null,9,17,23,"X",null,23,23,"Northwest","QDECMEAN","A","P","-2.93","0.964","1.667"]
["Upper Yellowstone-Central Mountain hydrologic region"]
["QAL7Q10=10-9.113A1.017P5.411","GLS",{"$f":"[3]ReportTable!$C491","v":35},{"$f":"[3]ReportTable!$E491","v":0.26500000000000001},{"$f":"[3]ReportTable!$G491","v":0.29099999999999998},{"$f":"[3]ReportTable!$K491","v":175.6},{"$f":"IF($B115=\"GLS\",[3]ReportTable!$I491,\"--\")","v":191.8},{"$f":"IF($B115=\"GLS\",[3]ReportTable!$M491,\"--\")","v":61.86},{"$f":"IF($B115=\"OLS\",[3]ReportTable!$I491,\"--\")","v":"--"},{"$f":"IF($B115=\"OLS\",[3]ReportTable!$M491,\"--\")","v":"--"},{"$f":"[3]ReportTable!$AX491","v":0.66116492310579411},null,null,null,null,null,1,null,null,null,{"$f":"FIND(\"=\",A115)","v":8},{"$f":"FIND(V$3,$A115,U115)","v":17},{"$f":"IF(X115<>\"X\",\"X\",FIND(W$3,$A115,U115))","v":23},"X",null,{"$f":"IF(W115=\"X\",FIND(\"(\",A115),W115)","v":23},{"$f":"IF(W115=\"X\",FIND(\")\",A115),W115)","v":23},"Upper Yellowstone-Central Mountain","QAL7Q10","A",{"$f":"IF(W115=\"X\",\"SLP50\",\"P\")","v":"P"},{"$f":"MID(A115,U115+3,V115-U115-3)","v":"-9.113"},{"$f":"MID(A115,V115+1,Z115-V115-1)","v":"1.017"},"5.411"]
["QS214Q5=10-6.949A0.807P4.523","GLS",{"$f":"[3]ReportTable!$C540","v":49},{"$f":"[3]ReportTable!$E540","v":0.182},{"$f":"[3]ReportTable!$G540","v":0.19500000000000001},{"$f":"[3]ReportTable!$K540","v":127.56},{"$f":"IF($B116=\"GLS\",[3]ReportTable!$I540,\"--\")","v":134.81},{"$f":"IF($B116=\"GLS\",[3]ReportTable!$M540,\"--\")","v":64.53},{"$f":"IF($B116=\"OLS\",[3]ReportTable!$I540,\"--\")","v":"--"},{"$f":"IF($B116=\"OLS\",[3]ReportTable!$M540,\"--\")","v":"--"},{"$f":"[3]ReportTable!$AX540","v":0.63618450205258303},null,null,null,null,null,2,null,null,null,8,17,23,"X",null,23,23,"Upper Yellowstone-Central Mountain","QS214Q5","A","P","-6.949","0.807","4.523"]
["QA0.2=10-4.537A0.947P3.184","OLS",{"$f":"[3]ReportTable!$C492","v":40},{"$f":"[3]ReportTable!$E492","v":"--"},{"$f":"[3]ReportTable!$G492","v":"--"},{"$f":"[3]ReportTable!$K492","v":"--"},{"$f":"IF($B117=\"GLS\",[3]ReportTable!$I492,\"--\")","v":"--"},{"$f":"IF($B117=\"GLS\",[3]ReportTable!$M492,\"--\")","v":"--"},{"$f":"IF($B117=\"OLS\",[3]ReportTable!$I492,\"--\")","v":44.445124250513942},{"$f":"IF($B117=\"OLS\",[3]ReportTable!$M492,\"--\")","v":90.55},{"$f":"[3]ReportTable!$AX492","v":0.8960276413512942},null,null,null,null,null,3,null,null,null,6,15,21,"X",null,21,21,"Upper Yellowstone-Central Mountain","QA0.2","A","P","-4.537","0.947","3.184"]
["QA0.5=10-3.441A0.902P2.253","OLS",{"$f":"[3]ReportTable!$C493","v":40},{"$f":"[3]ReportTable!$E493","v":"--"},{"$f":"[3]ReportTable!$G493","v":"--"},{"$f":"[3]ReportTable!$K493","v":"--"},{"$f":"IF($B118=\"GLS\",[3]ReportTable!$I493,\"--\")","v":"--"},{"$f":"IF($B118=\"GLS\",[3]ReportTable!$M493,\"--\")","v":"--"},{"$f":"IF($B118=\"OLS\",[3]ReportTable!$I493,\"--\")","v":50.602958909477245},{"$f":"IF($B118=\"OLS\",[3]ReportTable!$M493,\"--\")","v":85.87},{"$f":"[3]ReportTable!$AX493","v":0.86588042972203116},null,null,null,null,null,4,null,null,null,6,15,21,"X",null,21,21,"Upper Yellowstone-Central Mountain","QA0.5","A","P","-3.441","0.902","2.253"]
["QA0.8=10-4.34A0.879P2.684","OLS",{"$f":"[3]ReportTable!$C494","v":40},{"$f":"[3]ReportTable!$E494","v":"--"},{"$f":"[3]ReportTable!$G494","v":"--"},{"$f":"[3]ReportTable!$K494","v":"--"},{"$f":"IF($B119=\"GLS\",[3]ReportTable!$I494,\"--\")","v":"--"},{"$f":"IF($B119=\"GLS\",[3]ReportTable!$M494,\"--\")","v":"--"},{"$f":"IF($B119=\"OLS\",[3]ReportTable!$I494,\"--\")","v":68.178701445990114},{"$f":"IF($B119=\"OLS\",[3]ReportTable!$M494,\"--\")","v":78.739999999999995},{"$f":"[3]ReportTable!$AX494","v":0.83610116501233678},null,null,null,null,null,5,null,null,null,6,14,20,"X",null,20,20,"Upper Yellowstone-Central Mountain","QA0.8","A","P","-4.34","0.879","2.684"]
["QAMEAN=10-5.116A0.947P3.492","OLS",{"$f":"[3]ReportTable!$C495","v":40},{"$f":"[3]ReportTable!$E495","v":"--"},{"$f":"[3]ReportTable!$G495","v":"--"},{"$f":"[3]ReportTable!$K495","v":"--"},{"$f":"IF($B120=\"GLS\",[3]ReportTable!$I495,\"--\")","v":"--"},{"$f":"IF($B120=\"GLS\",[3]ReportTable!$M495,\"--\")","v":"--"},{"$f":"IF($B120=\"OLS\",[3]ReportTable!$I495,\"--\")","v":47.244611829214058},{"$f":"IF($B120=\"OLS\",[3]ReportTable!$M495,\"--\")","v":90.14},{"$f":"[3]ReportTable!$AX495","v":0.89060684240746968},null,null,null,null,null,6,null,null,null,7,16,22,"X",null,22,22,"Upper Yellowstone-Central Mountain","QAMEAN","A","P","-5.116","0.947","3.492"]
["QJAN0.2=10-3.596A0.923P2.169","OLS",{"$f":"[3]ReportTable!$C512","v":40},{"$f":"[3]ReportTable!$E512","v":"--"},{"$f":"[3]ReportTable!$G512","v":"--"},{"$f":"[3]ReportTable!$K512","v":"--"},{"$f":"IF($B121=\"GLS\",[3]ReportTable!$I512,\"--\")","v":"--"},{"$f":"IF($B121=\"GLS\",[3]ReportTable!$M512,\"--\")","v":"--"},{"$f":"IF($B121=\"OLS\",[3]ReportTable!$I512,\"--\")","v":94.83669485987825},{"$f":"IF($B121=\"OLS\",[3]ReportTable!$M512,\"--\")","v":68.959999999999994},{"$f":"[3]ReportTable!$AX512","v":0.88786823432033235},null,null,null,null,null,7,null,null,null,8,17,23,"X",null,23,23,"Upper Yellowstone-Central Mountain","QJAN0.2","A","P","-3.596","0.923","2.169"]
["QJAN0.5=10-4.163A0.919P2.488","OLS",{"$f":"[3]ReportTable!$C513","v":40},{"$f":"[3]ReportTable!$E513","v":"--"},{"$f":"[3]ReportTable!$G513","v":"--"},{"$f":"[3]ReportTable!$K513","v":"--"},{"$f":"IF($B122=\"GLS\",[3]ReportTable!$I513,\"--\")","v":"--"},{"$f":"IF($B122=\"GLS\",[3]ReportTable!$M513,\"--\")","v":"--"},{"$f":"IF($B122=\"OLS\",[3]ReportTable!$I513,\"--\")","v":108.63425062940681},{"$f":"IF($B122=\"OLS\",[3]ReportTable!$M513,\"--\")","v":65.42},{"$f":"[3]ReportTable!$AX513","v":0.87920002663889407},null,null,null,null,null,8,null,null,null,8,17,23,"X",null,23,23,"Upper Yellowstone-Central Mountain","QJAN0.5","A","P","-4.163","0.919","2.488"]
["QJAN0.8=10-4.905A0.918P2.914","OLS",{"$f":"[3]ReportTable!$C514","v":40},{"$f":"[3]ReportTable!$E514","v":"--"},{"$f":"[3]ReportTable!$G514","v":"--"},{"$f":"[3]ReportTable!$K514","v":"--"},{"$f":"IF($B123=\"GLS\",[3]ReportTable!$I514,\"--\")","v":"--"},{"$f":"IF($B123=\"GLS\",[3]ReportTable!$M514,\"--\")","v":"--"},{"$f":"IF($B123=\"OLS\",[3]ReportTable!$I514,\"--\")","v":126.91722347364353},{"$f":"IF($B123=\"OLS\",[3]ReportTable!$M514,\"--\")","v":62.17},{"$f":"[3]ReportTable!$AX514","v":0.87124372104511127},null,null,null,null,null,9,null,null,null,8,17,23,"X",null,23,23,"Upper Yellowstone-Central Mountain","QJAN0.8","A","P","-4.905","0.918","2.914"]
["QJANMEAN=10-3.879A0.92P2.304","OLS",{"$f":"[3]ReportTable!$C515","v":40},{"$f":"[3]ReportTable!$E515","v":"--"},{"$f":"[3]ReportTable!$G515","v":"--"},{"$f":"[3]ReportTable!$K515","v":"--"},{"$f":"IF($B124=\"GLS\",[3]ReportTable!$I515,\"--\")","v":"--"},{"$f":"IF($B124=\"GLS\",[3]ReportTable!$M515,\"--\")","v":"--"},{"$f":"IF($B124=\"OLS\",[3]ReportTable!$I515,\"--\")","v":103.32282298334357},{"$f":"IF($B124=\"OLS\",[3]ReportTable!$M515,\"--\")","v":66.45},{"$f":"[3]ReportTable!$AX515","v":0.88325264307789242},null,null,null,null,null,10,null,null,null,9,18,23,"X",null,23,23,"Upper Yellowstone-Central Mountain","QJANMEAN","A","P","-3.879","0.92",{"$f":"MID(A124,AA124+1,LEN(A124)-AA124)","v":"2.304"}]
["QFEB0.2=10-2.684A0.933P1.518","OLS",{"$f":"[3]ReportTable!$C508","v":40},{"$f":"[3]ReportTable!$E508","v":"--"},{"$f":"[3]ReportTable!$G508","v":"--"},{"$f":"[3]ReportTable!$K508","v":"--"},{"$f":"IF($B125=\"GLS\",[3]ReportTable!$I508,\"--\")","v":"--"},{"$f":"IF($B125=\"GLS\",[3]ReportTable!$M508,\"--\")","v":"--"},{"$f":"IF($B125=\"OLS\",[3]ReportTable!$I508,\"--\")","v":94.83669485987825},{"$f":"IF($B125=\"OLS\",[3]ReportTable!$M508,\"--\")","v":67.69},{"$f":"[3]ReportTable!$AX508","v":0.90847213945438388},null,null,null,null,null,11,null,null,null,8,17,23,"X",null,23,23,"Upper Yellowstone-Central Mountain","QFEB0.2","A","P","-2.684","0.933","1.518"]
["QFEB0.5=10-3.566A0.932P2.055","OLS",{"$f":"[3]ReportTable!$C509","v":40},{"$f":"[3]ReportTable!$E509","v":"--"},{"$f":"[3]ReportTable!$G509","v":"--"},{"$f":"[3]ReportTable!$K509","v":"--"},{"$f":"IF($B126=\"GLS\",[3]ReportTable!$I509,\"--\")","v":"--"},{"$f":"IF($B126=\"GLS\",[3]ReportTable!$M509,\"--\")","v":"--"},{"$f":"IF($B126=\"OLS\",[3]ReportTable!$I509,\"--\")","v":105.97661232140085},{"$f":"IF($B126=\"OLS\",[3]ReportTable!$M509,\"--\")","v":65.430000000000007},{"$f":"[3]ReportTable!$AX509","v":0.89911736055283542},null,null,null,null,null,12,null,null,null,8,17,23,"X",null,23,23,"Upper Yellowstone-Central Mountain","QFEB0.5","A","P","-3.566","0.932","2.055"]
["QFEB0.8=10-4.591A0.928P2.679","OLS",{"$f":"[3]ReportTable!$C510","v":40},{"$f":"[3]ReportTable!$E510","v":"--"},{"$f":"[3]ReportTable!$G510","v":"--"},{"$f":"[3]ReportTable!$K510","v":"--"},{"$f":"IF($B127=\"GLS\",[3]ReportTable!$I510,\"--\")","v":"--"},{"$f":"IF($B127=\"GLS\",[3]ReportTable!$M510,\"--\")","v":"--"},{"$f":"IF($B127=\"OLS\",[3]ReportTable!$I510,\"--\")","v":130.19936727858828},{"$f":"IF($B127=\"OLS\",[3]ReportTable!$M510,\"--\")","v":60.9},{"$f":"[3]ReportTable!$AX510","v":0.88448278431546801},null,null,null,null,null,13,null,null,null,8,17,23,"X",null,23,23,"Upper Yellowstone-Central Mountain","QFEB0.8","A","P","-4.591","0.928","2.679"]
["QFEBMEAN=10-2.794A0.923P1.56","OLS",{"$f":"[3]ReportTable!$C511","v":40},{"$f":"[3]ReportTable!$E511","v":"--"},{"$f":"[3]ReportTable!$G511","v":"--"},{"$f":"[3]ReportTable!$K511","v":"--"},{"$f":"IF($B128=\"GLS\",[3]ReportTable!$I511,\"--\")","v":"--"},{"$f":"IF($B128=\"GLS\",[3]ReportTable!$M511,\"--\")","v":"--"},{"$f":"IF($B128=\"OLS\",[3]ReportTable!$I511,\"--\")","v":100.14104654672269},{"$f":"IF($B128=\"OLS\",[3]ReportTable!$M511,\"--\")","v":65.67},{"$f":"[3]ReportTable!$AX511","v":0.89765523456304697},null,null,null,null,null,14,null,null,null,9,18,24,"X",null,24,24,"Upper Yellowstone-Central Mountain","QFEBMEAN","A","P","-2.794","0.923","1.56"]
["QMAR0.2=10-1.196A0.972P0.469","OLS",{"$f":"[3]ReportTable!$C524","v":41},{"$f":"[3]ReportTable!$E524","v":"--"},{"$f":"[3]ReportTable!$G524","v":"--"},{"$f":"[3]ReportTable!$K524","v":"--"},{"$f":"IF($B129=\"GLS\",[3]ReportTable!$I524,\"--\")","v":"--"},{"$f":"IF($B129=\"GLS\",[3]ReportTable!$M524,\"--\")","v":"--"},{"$f":"IF($B129=\"OLS\",[3]ReportTable!$I524,\"--\")","v":90.049615880113905},{"$f":"IF($B129=\"OLS\",[3]ReportTable!$M524,\"--\")","v":69.81},{"$f":"[3]ReportTable!$AX524","v":0.96549378876307324},null,null,null,null,null,15,null,null,null,8,17,23,"X",null,23,23,"Upper Yellowstone-Central Mountain","QMAR0.2","A","P","-1.196","0.972","0.469"]
["QMAR0.5=10-2.432A0.977P1.217","OLS",{"$f":"[3]ReportTable!$C525","v":41},{"$f":"[3]ReportTable!$E525","v":"--"},{"$f":"[3]ReportTable!$G525","v":"--"},{"$f":"[3]ReportTable!$K525","v":"--"},{"$f":"IF($B130=\"GLS\",[3]ReportTable!$I525,\"--\")","v":"--"},{"$f":"IF($B130=\"GLS\",[3]ReportTable!$M525,\"--\")","v":"--"},{"$f":"IF($B130=\"OLS\",[3]ReportTable!$I525,\"--\")","v":100.14104654672269},{"$f":"IF($B130=\"OLS\",[3]ReportTable!$M525,\"--\")","v":67.11},{"$f":"[3]ReportTable!$AX525","v":0.95913495027364504},null,null,null,null,null,16,null,null,null,8,17,23,"X",null,23,23,"Upper Yellowstone-Central Mountain","QMAR0.5","A","P","-2.432","0.977","1.217"]
["QMAR0.8=10-3.589A0.99P1.892","OLS",{"$f":"[3]ReportTable!$C526","v":41},{"$f":"[3]ReportTable!$E526","v":"--"},{"$f":"[3]ReportTable!$G526","v":"--"},{"$f":"[3]ReportTable!$K526","v":"--"},{"$f":"IF($B131=\"GLS\",[3]ReportTable!$I526,\"--\")","v":"--"},{"$f":"IF($B131=\"GLS\",[3]ReportTable!$M526,\"--\")","v":"--"},{"$f":"IF($B131=\"OLS\",[3]ReportTable!$I526,\"--\")","v":128.55571856508612},{"$f":"IF($B131=\"OLS\",[3]ReportTable!$M526,\"--\")","v":61.12},{"$f":"[3]ReportTable!$AX526","v":0.96212816060735928},null,null,null,null,null,17,null,null,null,8,17,22,"X",null,22,22,"Upper Yellowstone-Central Mountain","QMAR0.8","A","P","-3.589","0.99","1.892"]
["QMARMEAN=10-1.508A0.974P0.629","OLS",{"$f":"[3]ReportTable!$C527","v":41},{"$f":"[3]ReportTable!$E527","v":"--"},{"$f":"[3]ReportTable!$G527","v":"--"},{"$f":"[3]ReportTable!$K527","v":"--"},{"$f":"IF($B132=\"GLS\",[3]ReportTable!$I527,\"--\")","v":"--"},{"$f":"IF($B132=\"GLS\",[3]ReportTable!$M527,\"--\")","v":"--"},{"$f":"IF($B132=\"OLS\",[3]ReportTable!$I527,\"--\")","v":96.428890119392534},{"$f":"IF($B132=\"OLS\",[3]ReportTable!$M527,\"--\")","v":67.69},{"$f":"[3]ReportTable!$AX527","v":0.96434441066035725},null,null,null,null,null,18,null,null,null,9,18,24,"X",null,24,24,"Upper Yellowstone-Central Mountain","QMARMEAN","A","P","-1.508","0.974","0.629"]
["QAPR0.2=10-2.256A0.887P1.573","OLS",{"$f":"[3]ReportTable!$C496","v":46},{"$f":"[3]ReportTable!$E496","v":"--"},{"$f":"[3]ReportTable!$G496","v":"--"},{"$f":"[3]ReportTable!$K496","v":"--"},{"$f":"IF($B133=\"GLS\",[3]ReportTable!$I496,\"--\")","v":"--"},{"$f":"IF($B133=\"GLS\",[3]ReportTable!$M496,\"--\")","v":"--"},{"$f":"IF($B133=\"OLS\",[3]ReportTable!$I496,\"--\")","v":74.903952042977409},{"$f":"IF($B133=\"OLS\",[3]ReportTable!$M496,\"--\")","v":73.91},{"$f":"[3]ReportTable!$AX496","v":0.89109361584788116},null,null,null,null,null,19,null,null,null,8,17,23,"X",null,23,23,"Upper Yellowstone-Central Mountain","QAPR0.2","A","P","-2.256","0.887","1.573"]
["QAPR0.5=10-2.601A0.894P1.636","OLS",{"$f":"[3]ReportTable!$C497","v":46},{"$f":"[3]ReportTable!$E497","v":"--"},{"$f":"[3]ReportTable!$G497","v":"--"},{"$f":"[3]ReportTable!$K497","v":"--"},{"$f":"IF($B134=\"GLS\",[3]ReportTable!$I497,\"--\")","v":"--"},{"$f":"IF($B134=\"GLS\",[3]ReportTable!$M497,\"--\")","v":"--"},{"$f":"IF($B134=\"OLS\",[3]ReportTable!$I497,\"--\")","v":80.920396996937811},{"$f":"IF($B134=\"OLS\",[3]ReportTable!$M497,\"--\")","v":71.95},{"$f":"[3]ReportTable!$AX497","v":0.89899321123219},null,null,null,null,null,20,null,null,null,8,17,23,{"$f":"IF(ISERROR(FIND(X$3,$A134)),\"X\",FIND(X$3,$A134))","v":"X"},null,23,23,"Upper Yellowstone-Central Mountain","QAPR0.5","A","P","-2.601","0.894","1.636"]
["QAPR0.8=10-3.257A0.934P1.875","OLS",{"$f":"[3]ReportTable!$C498","v":46},{"$f":"[3]ReportTable!$E498","v":"--"},{"$f":"[3]ReportTable!$G498","v":"--"},{"$f":"[3]ReportTable!$K498","v":"--"},{"$f":"IF($B135=\"GLS\",[3]ReportTable!$I498,\"--\")","v":"--"},{"$f":"IF($B135=\"GLS\",[3]ReportTable!$M498,\"--\")","v":"--"},{"$f":"IF($B135=\"OLS\",[3]ReportTable!$I498,\"--\")","v":100.14104654672269},{"$f":"IF($B135=\"OLS\",[3]ReportTable!$M498,\"--\")","v":67.41},{"$f":"[3]ReportTable!$AX498","v":0.9391342706395952},null,null,null,null,null,21,null,null,null,8,17,23,"X",null,23,23,"Upper Yellowstone-Central Mountain","QAPR0.8","A","P","-3.257","0.934","1.875"]
["QAPRMEAN=10-2.475A0.896P1.629","OLS",{"$f":"[3]ReportTable!$C499","v":46},{"$f":"[3]ReportTable!$E499","v":"--"},{"$f":"[3]ReportTable!$G499","v":"--"},{"$f":"[3]ReportTable!$K499","v":"--"},{"$f":"IF($B136=\"GLS\",[3]ReportTable!$I499,\"--\")","v":"--"},{"$f":"IF($B136=\"GLS\",[3]ReportTable!$M499,\"--\")","v":"--"},{"$f":"IF($B136=\"OLS\",[3]ReportTable!$I499,\"--\")","v":72.684388910763218},{"$f":"IF($B136=\"OLS\",[3]ReportTable!$M499,\"--\")","v":75.28},{"$f":"[3]ReportTable!$AX499","v":0.9001523929097931},null,null,null,null,null,22,null,null,null,9,18,24,"X",null,24,24,"Upper Yellowstone-Central Mountain","QAPRMEAN","A","P","-2.475","0.896","1.629"]
["QMAY0.2=10-4.698A0.958P3.544","OLS",{"$f":"[3]ReportTable!$C528","v":49},{"$f":"[3]ReportTable!$E528","v":"--"},{"$f":"[3]ReportTable!$G528","v":"--"},{"$f":"[3]ReportTable!$K528","v":"--"},{"$f":"IF($B137=\"GLS\",[3]ReportTable!$I528,\"--\")","v":"--"},{"$f":"IF($B137=\"GLS\",[3]ReportTable!$M528,\"--\")","v":"--"},{"$f":"IF($B137=\"OLS\",[3]ReportTable!$I528,\"--\")","v":67.036005309998643},{"$f":"IF($B137=\"OLS\",[3]ReportTable!$M528,\"--\")","v":83.58},{"$f":"[3]ReportTable!$AX528","v":0.94142688985471945},null,null,null,null,null,23,null,null,null,8,17,23,"X",null,23,23,"Upper Yellowstone-Central Mountain","QMAY0.2","A","P","-4.698","0.958","3.544"]
["QMAY0.5=10-5.107A0.954P3.644","OLS",{"$f":"[3]ReportTable!$C529","v":49},{"$f":"[3]ReportTable!$E529","v":"--"},{"$f":"[3]ReportTable!$G529","v":"--"},{"$f":"[3]ReportTable!$K529","v":"--"},{"$f":"IF($B138=\"GLS\",[3]ReportTable!$I529,\"--\")","v":"--"},{"$f":"IF($B138=\"GLS\",[3]ReportTable!$M529,\"--\")","v":"--"},{"$f":"IF($B138=\"OLS\",[3]ReportTable!$I529,\"--\")","v":64.727733027560731},{"$f":"IF($B138=\"OLS\",[3]ReportTable!$M529,\"--\")","v":84.62},{"$f":"[3]ReportTable!$AX529","v":0.93711965318434909},null,null,null,null,null,24,null,null,null,8,17,23,"X",null,23,23,"Upper Yellowstone-Central Mountain","QMAY0.5","A","P","-5.107","0.954","3.644"]
["QMAY0.8=10-5.544A0.939P3.743","OLS",{"$f":"[3]ReportTable!$C530","v":49},{"$f":"[3]ReportTable!$E530","v":"--"},{"$f":"[3]ReportTable!$G530","v":"--"},{"$f":"[3]ReportTable!$K530","v":"--"},{"$f":"IF($B139=\"GLS\",[3]ReportTable!$I530,\"--\")","v":"--"},{"$f":"IF($B139=\"GLS\",[3]ReportTable!$M530,\"--\")","v":"--"},{"$f":"IF($B139=\"OLS\",[3]ReportTable!$I530,\"--\")","v":80.920396996937811},{"$f":"IF($B139=\"OLS\",[3]ReportTable!$M530,\"--\")","v":79.27},{"$f":"[3]ReportTable!$AX530","v":0.92187215961275004},null,null,null,null,null,25,null,null,null,8,17,23,"X",null,23,23,"Upper Yellowstone-Central Mountain","QMAY0.8","A","P","-5.544","0.939","3.743"]
["QMAYMEAN=10-4.764A0.941P3.499","OLS",{"$f":"[3]ReportTable!$C531","v":49},{"$f":"[3]ReportTable!$E531","v":"--"},{"$f":"[3]ReportTable!$G531","v":"--"},{"$f":"[3]ReportTable!$K531","v":"--"},{"$f":"IF($B140=\"GLS\",[3]ReportTable!$I531,\"--\")","v":"--"},{"$f":"IF($B140=\"GLS\",[3]ReportTable!$M531,\"--\")","v":"--"},{"$f":"IF($B140=\"OLS\",[3]ReportTable!$I531,\"--\")","v":63.561056954656124},{"$f":"IF($B140=\"OLS\",[3]ReportTable!$M531,\"--\")","v":84.53},{"$f":"[3]ReportTable!$AX531","v":0.92459526507782397},null,null,null,null,null,26,null,null,null,9,18,24,"X",null,24,24,"Upper Yellowstone-Central Mountain","QMAYMEAN","A","P","-4.764","0.941","3.499"]
["QJUN0.2=10-5.968A1.027P4.419","OLS",{"$f":"[3]ReportTable!$C520","v":49},{"$f":"[3]ReportTable!$E520","v":"--"},{"$f":"[3]ReportTable!$G520","v":"--"},{"$f":"[3]ReportTable!$K520","v":"--"},{"$f":"IF($B141=\"GLS\",[3]ReportTable!$I520,\"--\")","v":"--"},{"$f":"IF($B141=\"GLS\",[3]ReportTable!$M520,\"--\")","v":"--"},{"$f":"IF($B141=\"OLS\",[3]ReportTable!$I520,\"--\")","v":65.885859146084741},{"$f":"IF($B141=\"OLS\",[3]ReportTable!$M520,\"--\")","v":87.17},{"$f":"[3]ReportTable!$AX520","v":1.0062010977015965},null,null,null,null,null,27,null,null,null,8,17,23,"X",null,23,23,"Upper Yellowstone-Central Mountain","QJUN0.2","A","P","-5.968","1.027","4.419"]
["QJUN0.5=10-6.964A1.032P4.948","OLS",{"$f":"[3]ReportTable!$C521","v":49},{"$f":"[3]ReportTable!$E521","v":"--"},{"$f":"[3]ReportTable!$G521","v":"--"},{"$f":"[3]ReportTable!$K521","v":"--"},{"$f":"IF($B142=\"GLS\",[3]ReportTable!$I521,\"--\")","v":"--"},{"$f":"IF($B142=\"GLS\",[3]ReportTable!$M521,\"--\")","v":"--"},{"$f":"IF($B142=\"OLS\",[3]ReportTable!$I521,\"--\")","v":62.385216362602037},{"$f":"IF($B142=\"OLS\",[3]ReportTable!$M521,\"--\")","v":89.25},{"$f":"[3]ReportTable!$AX521","v":1.0090822697772708},null,null,null,null,null,28,null,null,null,8,17,23,"X",null,23,23,"Upper Yellowstone-Central Mountain","QJUN0.5","A","P","-6.964","1.032","4.948"]
["QJUN0.8=10-8.28A1.026P5.688","OLS",{"$f":"[3]ReportTable!$C522","v":49},{"$f":"[3]ReportTable!$E522","v":"--"},{"$f":"[3]ReportTable!$G522","v":"--"},{"$f":"[3]ReportTable!$K522","v":"--"},{"$f":"IF($B143=\"GLS\",[3]ReportTable!$I522,\"--\")","v":"--"},{"$f":"IF($B143=\"GLS\",[3]ReportTable!$M522,\"--\")","v":"--"},{"$f":"IF($B143=\"OLS\",[3]ReportTable!$I522,\"--\")","v":73.79663140108066},{"$f":"IF($B143=\"OLS\",[3]ReportTable!$M522,\"--\")","v":87.81},{"$f":"[3]ReportTable!$AX522","v":0.99965324901568176},null,null,null,null,null,29,null,null,null,8,16,22,"X",null,22,22,"Upper Yellowstone-Central Mountain","QJUN0.8","A","P","-8.28","1.026","5.688"]
["QJUNMEAN=10-6.2A1.006P4.511","OLS",{"$f":"[3]ReportTable!$C523","v":49},{"$f":"[3]ReportTable!$E523","v":"--"},{"$f":"[3]ReportTable!$G523","v":"--"},{"$f":"[3]ReportTable!$K523","v":"--"},{"$f":"IF($B144=\"GLS\",[3]ReportTable!$I523,\"--\")","v":"--"},{"$f":"IF($B144=\"GLS\",[3]ReportTable!$M523,\"--\")","v":"--"},{"$f":"IF($B144=\"OLS\",[3]ReportTable!$I523,\"--\")","v":58.795779438743267},{"$f":"IF($B144=\"OLS\",[3]ReportTable!$M523,\"--\")","v":89.23},{"$f":"[3]ReportTable!$AX523","v":0.98502417490802929},null,null,null,null,null,30,null,null,null,9,16,22,"X",null,22,22,"Upper Yellowstone-Central Mountain","QJUNMEAN","A","P","-6.2","1.006","4.511"]
["QJUL0.2=10-7.302A0.978P5.168","OLS",{"$f":"[3]ReportTable!$C516","v":49},{"$f":"[3]ReportTable!$E516","v":"--"},{"$f":"[3]ReportTable!$G516","v":"--"},{"$f":"[3]ReportTable!$K516","v":"--"},{"$f":"IF($B145=\"GLS\",[3]ReportTable!$I516,\"--\")","v":"--"},{"$f":"IF($B145=\"GLS\",[3]ReportTable!$M516,\"--\")","v":"--"},{"$f":"IF($B145=\"OLS\",[3]ReportTable!$I516,\"--\")","v":84.698362659568161},{"$f":"IF($B145=\"OLS\",[3]ReportTable!$M516,\"--\")","v":83.25},{"$f":"[3]ReportTable!$AX516","v":0.95412328999029727},null,null,null,null,null,31,null,null,null,8,17,23,"X",null,23,23,"Upper Yellowstone-Central Mountain","QJUL0.2","A","P","-7.302","0.978","5.168"]
["QJUL0.5=10-7.862A0.923P5.472","OLS",{"$f":"[3]ReportTable!$C517","v":49},{"$f":"[3]ReportTable!$E517","v":"--"},{"$f":"[3]ReportTable!$G517","v":"--"},{"$f":"[3]ReportTable!$K517","v":"--"},{"$f":"IF($B146=\"GLS\",[3]ReportTable!$I517,\"--\")","v":"--"},{"$f":"IF($B146=\"GLS\",[3]ReportTable!$M517,\"--\")","v":"--"},{"$f":"IF($B146=\"OLS\",[3]ReportTable!$I517,\"--\")","v":102.79238525470653},{"$f":"IF($B146=\"OLS\",[3]ReportTable!$M517,\"--\")","v":79.09},{"$f":"[3]ReportTable!$AX517","v":0.89774940635090728},null,null,null,null,null,32,null,null,null,8,17,23,"X",null,23,23,"Upper Yellowstone-Central Mountain","QJUL0.5","A","P","-7.862","0.923","5.472"]
["QJUL0.8=10-9.264A0.881P6.324","OLS",{"$f":"[3]ReportTable!$C518","v":49},{"$f":"[3]ReportTable!$E518","v":"--"},{"$f":"[3]ReportTable!$G518","v":"--"},{"$f":"[3]ReportTable!$K518","v":"--"},{"$f":"IF($B147=\"GLS\",[3]ReportTable!$I518,\"--\")","v":"--"},{"$f":"IF($B147=\"GLS\",[3]ReportTable!$M518,\"--\")","v":"--"},{"$f":"IF($B147=\"OLS\",[3]ReportTable!$I518,\"--\")","v":160.30177661589124},{"$f":"IF($B147=\"OLS\",[3]ReportTable!$M518,\"--\")","v":71.33},{"$f":"[3]ReportTable!$AX518","v":0.85184680204820939},null,null,null,null,null,33,null,null,null,8,17,23,"X",null,23,23,"Upper Yellowstone-Central Mountain","QJUL0.8","A","P","-9.264","0.881","6.324"]
["QJULMEAN=10-7.403A0.952P5.176","OLS",{"$f":"[3]ReportTable!$C519","v":49},{"$f":"[3]ReportTable!$E519","v":"--"},{"$f":"[3]ReportTable!$G519","v":"--"},{"$f":"[3]ReportTable!$K519","v":"--"},{"$f":"IF($B148=\"GLS\",[3]ReportTable!$I519,\"--\")","v":"--"},{"$f":"IF($B148=\"GLS\",[3]ReportTable!$M519,\"--\")","v":"--"},{"$f":"IF($B148=\"OLS\",[3]ReportTable!$I519,\"--\")","v":87.914306531696411},{"$f":"IF($B148=\"OLS\",[3]ReportTable!$M519,\"--\")","v":82.12},{"$f":"[3]ReportTable!$AX519","v":0.92746500427245604},null,null,null,null,null,34,null,null,null,9,18,24,"X",null,24,24,"Upper Yellowstone-Central Mountain","QJULMEAN","A","P","-7.403","0.952","5.176"]
["QAUG0.2=10-6.273A0.871P4.352","OLS",{"$f":"[3]ReportTable!$C500","v":49},{"$f":"[3]ReportTable!$E500","v":"--"},{"$f":"[3]ReportTable!$G500","v":"--"},{"$f":"[3]ReportTable!$K500","v":"--"},{"$f":"IF($B149=\"GLS\",[3]ReportTable!$I500,\"--\")","v":"--"},{"$f":"IF($B149=\"GLS\",[3]ReportTable!$M500,\"--\")","v":"--"},{"$f":"IF($B149=\"OLS\",[3]ReportTable!$I500,\"--\")","v":103.32282298334357},{"$f":"IF($B149=\"OLS\",[3]ReportTable!$M500,\"--\")","v":73.56},{"$f":"[3]ReportTable!$AX500","v":0.85079362651860058},null,null,null,null,null,35,null,null,null,8,17,23,"X",null,23,23,"Upper Yellowstone-Central Mountain","QAUG0.2","A","P","-6.273","0.871","4.352"]
["QAUG0.5=10-7.497A0.862P5.073","OLS",{"$f":"[3]ReportTable!$C501","v":49},{"$f":"[3]ReportTable!$E501","v":"--"},{"$f":"[3]ReportTable!$G501","v":"--"},{"$f":"[3]ReportTable!$K501","v":"--"},{"$f":"IF($B150=\"GLS\",[3]ReportTable!$I501,\"--\")","v":"--"},{"$f":"IF($B150=\"GLS\",[3]ReportTable!$M501,\"--\")","v":"--"},{"$f":"IF($B150=\"OLS\",[3]ReportTable!$I501,\"--\")","v":165.65420787500557},{"$f":"IF($B150=\"OLS\",[3]ReportTable!$M501,\"--\")","v":64.17},{"$f":"[3]ReportTable!$AX501","v":0.83834307717190981},null,null,null,null,null,36,null,null,null,8,17,23,"X",null,23,23,"Upper Yellowstone-Central Mountain","QAUG0.5","A","P","-7.497","0.862","5.073"]
["QAUG0.8=10-9.032A0.776P6.129","OLS",{"$f":"[3]ReportTable!$C502","v":49},{"$f":"[3]ReportTable!$E502","v":"--"},{"$f":"[3]ReportTable!$G502","v":"--"},{"$f":"[3]ReportTable!$K502","v":"--"},{"$f":"IF($B151=\"GLS\",[3]ReportTable!$I502,\"--\")","v":"--"},{"$f":"IF($B151=\"GLS\",[3]ReportTable!$M502,\"--\")","v":"--"},{"$f":"IF($B151=\"OLS\",[3]ReportTable!$I502,\"--\")","v":207.67288690053843},{"$f":"IF($B151=\"OLS\",[3]ReportTable!$M502,\"--\")","v":62.67},{"$f":"[3]ReportTable!$AX502","v":0.74772212295250629},null,null,null,null,null,37,null,null,null,8,17,23,"X",null,23,23,"Upper Yellowstone-Central Mountain","QAUG0.8","A","P","-9.032","0.776","6.129"]
["QAUGMEAN=10-6.788A0.854P4.644","OLS",{"$f":"[3]ReportTable!$C503","v":49},{"$f":"[3]ReportTable!$E503","v":"--"},{"$f":"[3]ReportTable!$G503","v":"--"},{"$f":"[3]ReportTable!$K503","v":"--"},{"$f":"IF($B152=\"GLS\",[3]ReportTable!$I503,\"--\")","v":"--"},{"$f":"IF($B152=\"GLS\",[3]ReportTable!$M503,\"--\")","v":"--"},{"$f":"IF($B152=\"OLS\",[3]ReportTable!$I503,\"--\")","v":110.76416073180637},{"$f":"IF($B152=\"OLS\",[3]ReportTable!$M503,\"--\")","v":72.650000000000006},{"$f":"[3]ReportTable!$AX503","v":0.83203340437416806},null,null,null,null,null,38,null,null,null,9,18,24,"X",null,24,24,"Upper Yellowstone-Central Mountain","QAUGMEAN","A","P","-6.788","0.854","4.644"]
["QSEP0.2=10-5.342A0.861P3.637","OLS",{"$f":"[3]ReportTable!$C541","v":49},{"$f":"[3]ReportTable!$E541","v":"--"},{"$f":"[3]ReportTable!$G541","v":"--"},{"$f":"[3]ReportTable!$K541","v":"--"},{"$f":"IF($B153=\"GLS\",[3]ReportTable!$I541,\"--\")","v":"--"},{"$f":"IF($B153=\"GLS\",[3]ReportTable!$M541,\"--\")","v":"--"},{"$f":"IF($B153=\"OLS\",[3]ReportTable!$I541,\"--\")","v":111.8306377111309},{"$f":"IF($B153=\"OLS\",[3]ReportTable!$M541,\"--\")","v":67.69},{"$f":"[3]ReportTable!$AX541","v":0.84425109927024777},null,null,null,null,null,39,null,null,null,8,17,23,"X",null,23,23,"Upper Yellowstone-Central Mountain","QSEP0.2","A","P","-5.342","0.861","3.637"]
["QSEP0.5=10-6.445A0.838P4.323","OLS",{"$f":"[3]ReportTable!$C542","v":49},{"$f":"[3]ReportTable!$E542","v":"--"},{"$f":"[3]ReportTable!$G542","v":"--"},{"$f":"[3]ReportTable!$K542","v":"--"},{"$f":"IF($B154=\"GLS\",[3]ReportTable!$I542,\"--\")","v":"--"},{"$f":"IF($B154=\"GLS\",[3]ReportTable!$M542,\"--\")","v":"--"},{"$f":"IF($B154=\"OLS\",[3]ReportTable!$I542,\"--\")","v":172.30753966423686},{"$f":"IF($B154=\"OLS\",[3]ReportTable!$M542,\"--\")","v":58.4},{"$f":"[3]ReportTable!$AX542","v":0.79520324421821886},null,null,null,null,null,40,null,null,null,8,17,23,"X",null,23,23,"Upper Yellowstone-Central Mountain","QSEP0.5","A","P","-6.445","0.838","4.323"]
["QSEP0.8=10-7.739A0.791P5.16","OLS",{"$f":"[3]ReportTable!$C543","v":49},{"$f":"[3]ReportTable!$E543","v":"--"},{"$f":"[3]ReportTable!$G543","v":"--"},{"$f":"[3]ReportTable!$K543","v":"--"},{"$f":"IF($B155=\"GLS\",[3]ReportTable!$I543,\"--\")","v":"--"},{"$f":"IF($B155=\"GLS\",[3]ReportTable!$M543,\"--\")","v":"--"},{"$f":"IF($B155=\"OLS\",[3]ReportTable!$I543,\"--\")","v":214.52475252573274},{"$f":"IF($B155=\"OLS\",[3]ReportTable!$M543,\"--\")","v":56.63},{"$f":"[3]ReportTable!$AX543","v":0.76673414740638524},null,null,null,null,null,41,null,null,null,8,17,23,"X",null,23,23,"Upper Yellowstone-Central Mountain","QSEP0.8","A","P","-7.739","0.791","5.16"]
["QSEPMEAN=10-5.849A0.851P3.924","OLS",{"$f":"[3]ReportTable!$C544","v":49},{"$f":"[3]ReportTable!$E544","v":"--"},{"$f":"[3]ReportTable!$G544","v":"--"},{"$f":"[3]ReportTable!$K544","v":"--"},{"$f":"IF($B156=\"GLS\",[3]ReportTable!$I544,\"--\")","v":"--"},{"$f":"IF($B156=\"GLS\",[3]ReportTable!$M544,\"--\")","v":"--"},{"$f":"IF($B156=\"OLS\",[3]ReportTable!$I544,\"--\")","v":123.65480682291472},{"$f":"IF($B156=\"OLS\",[3]ReportTable!$M544,\"--\")","v":65.88},{"$f":"[3]ReportTable!$AX544","v":0.832739759746013},null,null,null,null,null,42,null,null,null,9,18,24,"X",null,24,24,"Upper Yellowstone-Central Mountain","QSEPMEAN","A","P","-5.849","0.851","3.924"]
["QOCT0.2=10-4.311A0.886P2.867","OLS",{"$f":"[3]ReportTable!$C536","v":49},{"$f":"[3]ReportTable!$E536","v":"--"},{"$f":"[3]ReportTable!$G536","v":"--"},{"$f":"[3]ReportTable!$K536","v":"--"},{"$f":"IF($B157=\"GLS\",[3]ReportTable!$I536,\"--\")","v":"--"},{"$f":"IF($B157=\"GLS\",[3]ReportTable!$M536,\"--\")","v":"--"},{"$f":"IF($B157=\"OLS\",[3]ReportTable!$I536,\"--\")","v":93.243080562804792},{"$f":"IF($B157=\"OLS\",[3]ReportTable!$M536,\"--\")","v":70.44},{"$f":"[3]ReportTable!$AX536","v":0.8723993453525094},null,null,null,null,null,43,null,null,null,8,17,23,"X",null,23,23,"Upper Yellowstone-Central Mountain","QOCT0.2","A","P","-4.311","0.886","2.867"]
["QOCT0.5=10-4.715A0.867P3.086","OLS",{"$f":"[3]ReportTable!$C537","v":49},{"$f":"[3]ReportTable!$E537","v":"--"},{"$f":"[3]ReportTable!$G537","v":"--"},{"$f":"[3]ReportTable!$K537","v":"--"},{"$f":"IF($B158=\"GLS\",[3]ReportTable!$I537,\"--\")","v":"--"},{"$f":"IF($B158=\"GLS\",[3]ReportTable!$M537,\"--\")","v":"--"},{"$f":"IF($B158=\"OLS\",[3]ReportTable!$I537,\"--\")","v":113.96707867319596},{"$f":"IF($B158=\"OLS\",[3]ReportTable!$M537,\"--\")","v":64.63},{"$f":"[3]ReportTable!$AX537","v":0.85223278170823225},null,null,null,null,null,44,null,null,null,8,17,23,"X",null,23,23,"Upper Yellowstone-Central Mountain","QOCT0.5","A","P","-4.715","0.867","3.086"]
["QOCT0.8=10-5.806A0.841P3.772","OLS",{"$f":"[3]ReportTable!$C538","v":49},{"$f":"[3]ReportTable!$E538","v":"--"},{"$f":"[3]ReportTable!$G538","v":"--"},{"$f":"[3]ReportTable!$K538","v":"--"},{"$f":"IF($B159=\"GLS\",[3]ReportTable!$I538,\"--\")","v":"--"},{"$f":"IF($B159=\"GLS\",[3]ReportTable!$M538,\"--\")","v":"--"},{"$f":"IF($B159=\"OLS\",[3]ReportTable!$I538,\"--\")","v":165.05553397423455},{"$f":"IF($B159=\"OLS\",[3]ReportTable!$M538,\"--\")","v":56.47},{"$f":"[3]ReportTable!$AX538","v":0.82302953487943487},null,null,null,null,null,45,null,null,null,8,17,23,"X",null,23,23,"Upper Yellowstone-Central Mountain","QOCT0.8","A","P","-5.806","0.841","3.772"]
["QOCTMEAN=10-4.711A0.875P3.09","OLS",{"$f":"[3]ReportTable!$C539","v":49},{"$f":"[3]ReportTable!$E539","v":"--"},{"$f":"[3]ReportTable!$G539","v":"--"},{"$f":"[3]ReportTable!$K539","v":"--"},{"$f":"IF($B160=\"GLS\",[3]ReportTable!$I539,\"--\")","v":"--"},{"$f":"IF($B160=\"GLS\",[3]ReportTable!$M539,\"--\")","v":"--"},{"$f":"IF($B160=\"OLS\",[3]ReportTable!$I539,\"--\")","v":104.38397882584174},{"$f":"IF($B160=\"OLS\",[3]ReportTable!$M539,\"--\")","v":67.61},{"$f":"[3]ReportTable!$AX539","v":0.86082907110129747},null,null,null,null,null,46,null,null,null,9,18,24,"X",null,24,24,"Upper Yellowstone-Central Mountain","QOCTMEAN","A","P","-4.711","0.875","3.09"]
["QNOV0.2=10-3.932A0.918P2.504","OLS",{"$f":"[3]ReportTable!$C532","v":45},{"$f":"[3]ReportTable!$E532","v":"--"},{"$f":"[3]ReportTable!$G532","v":"--"},{"$f":"[3]ReportTable!$K532","v":"--"},{"$f":"IF($B161=\"GLS\",[3]ReportTable!$I532,\"--\")","v":"--"},{"$f":"IF($B161=\"GLS\",[3]ReportTable!$M532,\"--\")","v":"--"},{"$f":"IF($B161=\"OLS\",[3]ReportTable!$I532,\"--\")","v":85.772324018920813},{"$f":"IF($B161=\"OLS\",[3]ReportTable!$M532,\"--\")","v":72.099999999999994},{"$f":"[3]ReportTable!$AX532","v":0.88642448528123807},null,null,null,null,null,47,null,null,null,8,17,23,"X",null,23,23,"Upper Yellowstone-Central Mountain","QNOV0.2","A","P","-3.932","0.918","2.504"]
["QNOV0.5=10-4.288A0.912P2.684","OLS",{"$f":"[3]ReportTable!$C533","v":45},{"$f":"[3]ReportTable!$E533","v":"--"},{"$f":"[3]ReportTable!$G533","v":"--"},{"$f":"[3]ReportTable!$K533","v":"--"},{"$f":"IF($B162=\"GLS\",[3]ReportTable!$I533,\"--\")","v":"--"},{"$f":"IF($B162=\"GLS\",[3]ReportTable!$M533,\"--\")","v":"--"},{"$f":"IF($B162=\"OLS\",[3]ReportTable!$I533,\"--\")","v":98.550405149022083},{"$f":"IF($B162=\"OLS\",[3]ReportTable!$M533,\"--\")","v":68.19},{"$f":"[3]ReportTable!$AX533","v":0.87898121178458877},null,null,null,null,null,48,null,null,null,8,17,23,"X",null,23,23,"Upper Yellowstone-Central Mountain","QNOV0.5","A","P","-4.288","0.912","2.684"]
["QNOV0.8=10-4.992A0.913P3.079","OLS",{"$f":"[3]ReportTable!$C534","v":45},{"$f":"[3]ReportTable!$E534","v":"--"},{"$f":"[3]ReportTable!$G534","v":"--"},{"$f":"[3]ReportTable!$K534","v":"--"},{"$f":"IF($B163=\"GLS\",[3]ReportTable!$I534,\"--\")","v":"--"},{"$f":"IF($B163=\"GLS\",[3]ReportTable!$M534,\"--\")","v":"--"},{"$f":"IF($B163=\"OLS\",[3]ReportTable!$I534,\"--\")","v":120.41028530016978},{"$f":"IF($B163=\"OLS\",[3]ReportTable!$M534,\"--\")","v":63.43},{"$f":"[3]ReportTable!$AX534","v":0.87423921726987652},null,null,null,null,null,49,null,null,null,8,17,23,"X",null,23,23,"Upper Yellowstone-Central Mountain","QNOV0.8","A","P","-4.992","0.913","3.079"]
["QNOVMEAN=10-4.312A0.924P2.69","OLS",{"$f":"[3]ReportTable!$C535","v":45},{"$f":"[3]ReportTable!$E535","v":"--"},{"$f":"[3]ReportTable!$G535","v":"--"},{"$f":"[3]ReportTable!$K535","v":"--"},{"$f":"IF($B164=\"GLS\",[3]ReportTable!$I535,\"--\")","v":"--"},{"$f":"IF($B164=\"GLS\",[3]ReportTable!$M535,\"--\")","v":"--"},{"$f":"IF($B164=\"OLS\",[3]ReportTable!$I535,\"--\")","v":93.243080562804792},{"$f":"IF($B164=\"OLS\",[3]ReportTable!$M535,\"--\")","v":70.23},{"$f":"[3]ReportTable!$AX535","v":0.89001034604049512},null,null,null,null,null,50,null,null,null,9,18,24,"X",null,24,24,"Upper Yellowstone-Central Mountain","QNOVMEAN","A","P","-4.312","0.924","2.69"]
["QDEC0.2=10-4.202A0.954P2.567","OLS",{"$f":"[3]ReportTable!$C504","v":41},{"$f":"[3]ReportTable!$E504","v":"--"},{"$f":"[3]ReportTable!$G504","v":"--"},{"$f":"[3]ReportTable!$K504","v":"--"},{"$f":"IF($B165=\"GLS\",[3]ReportTable!$I504,\"--\")","v":"--"},{"$f":"IF($B165=\"GLS\",[3]ReportTable!$M504,\"--\")","v":"--"},{"$f":"IF($B165=\"OLS\",[3]ReportTable!$I504,\"--\")","v":88.448703179386712},{"$f":"IF($B165=\"OLS\",[3]ReportTable!$M504,\"--\")","v":73.040000000000006},{"$f":"[3]ReportTable!$AX504","v":0.91663260502719002},null,null,null,null,null,51,null,null,null,8,17,23,"X",null,23,23,"Upper Yellowstone-Central Mountain","QDEC0.2","A","P","-4.202","0.954","2.567"]
["QDEC0.5=10-4.601A0.957P2.759","OLS",{"$f":"[3]ReportTable!$C505","v":41},{"$f":"[3]ReportTable!$E505","v":"--"},{"$f":"[3]ReportTable!$G505","v":"--"},{"$f":"[3]ReportTable!$K505","v":"--"},{"$f":"IF($B166=\"GLS\",[3]ReportTable!$I505,\"--\")","v":"--"},{"$f":"IF($B166=\"GLS\",[3]ReportTable!$M505,\"--\")","v":"--"},{"$f":"IF($B166=\"OLS\",[3]ReportTable!$I505,\"--\")","v":103.32282298334357},{"$f":"IF($B166=\"OLS\",[3]ReportTable!$M505,\"--\")","v":69.03},{"$f":"[3]ReportTable!$AX505","v":0.91652179626360175},null,null,null,null,null,52,null,null,null,8,17,23,"X",null,23,23,"Upper Yellowstone-Central Mountain","QDEC0.5","A","P","-4.601","0.957","2.759"]
["QDEC0.8=10-5.075A0.946P3.015","OLS",{"$f":"[3]ReportTable!$C506","v":41},{"$f":"[3]ReportTable!$E506","v":"--"},{"$f":"[3]ReportTable!$G506","v":"--"},{"$f":"[3]ReportTable!$K506","v":"--"},{"$f":"IF($B167=\"GLS\",[3]ReportTable!$I506,\"--\")","v":"--"},{"$f":"IF($B167=\"GLS\",[3]ReportTable!$M506,\"--\")","v":"--"},{"$f":"IF($B167=\"OLS\",[3]ReportTable!$I506,\"--\")","v":119.33242388197773},{"$f":"IF($B167=\"OLS\",[3]ReportTable!$M506,\"--\")","v":65.12},{"$f":"[3]ReportTable!$AX506","v":0.90167313853257824},null,null,null,null,null,53,null,null,null,8,17,23,"X",null,23,23,"Upper Yellowstone-Central Mountain","QDEC0.8","A","P","-5.075","0.946","3.015"]
["QDECMEAN=10-4.394A0.956P2.632","OLS",{"$f":"[3]ReportTable!$C507","v":41},{"$f":"[3]ReportTable!$E507","v":"--"},{"$f":"[3]ReportTable!$G507","v":"--"},{"$f":"[3]ReportTable!$K507","v":"--"},{"$f":"IF($B168=\"GLS\",[3]ReportTable!$I507,\"--\")","v":"--"},{"$f":"IF($B168=\"GLS\",[3]ReportTable!$M507,\"--\")","v":"--"},{"$f":"IF($B168=\"OLS\",[3]ReportTable!$I507,\"--\")","v":94.83669485987825},{"$f":"IF($B168=\"OLS\",[3]ReportTable!$M507,\"--\")","v":71.13},{"$f":"[3]ReportTable!$AX507","v":0.91722426172305149},null,null,null,null,null,54,null,null,null,9,18,24,"X",null,24,24,"Upper Yellowstone-Central Mountain","QDECMEAN","A","P","-4.394","0.956","2.632"]
["Southwest hydrologic region"]
["QAL7Q10=10-5.309A1.725(SLP50 + 1)2.152","GLS",{"$f":"[3]ReportTable!$C383","v":14},{"$f":"[3]ReportTable!$E383","v":0.216},{"$f":"[3]ReportTable!$G383","v":0.26400000000000001},{"$f":"[3]ReportTable!$K383","v":146.44},{"$f":"IF($B170=\"GLS\",[3]ReportTable!$I383,\"--\")","v":174.5},{"$f":"IF($B170=\"GLS\",[3]ReportTable!$M383,\"--\")","v":73.14},{"$f":"IF($B170=\"OLS\",[3]ReportTable!$I383,\"--\")","v":"--"},{"$f":"IF($B170=\"OLS\",[3]ReportTable!$M383,\"--\")","v":"--"},{"$f":"[3]ReportTable!$AX383","v":1.3341556217688353},null,null,null,null,null,1,null,null,null,{"$f":"FIND(\"=\",A170)","v":8},{"$f":"FIND(V$3,$A170,U170)","v":17},{"$f":"IF(X170<>\"X\",\"X\",FIND(W$3,$A170,U170))","v":"X"},{"$f":"IF(ISERROR(FIND(X$3,$A170)),\"X\",FIND(X$3,$A170))","v":24},null,{"$f":"IF(W170=\"X\",FIND(\"(\",A170),W170)","v":23},{"$f":"IF(W170=\"X\",FIND(\")\",A170),W170)","v":33},"Southwest","QAL7Q10","A",{"$f":"IF(W170=\"X\",\"SLP50\",\"P\")","v":"SLP50"},{"$f":"MID(A170,U170+3,V170-U170-3)","v":"-5.309"},{"$f":"MID(A170,V170+1,Z170-V170-1)","v":"1.725"},{"$f":"MID(A170,AA170+1,LEN(A170)-AA170)","v":"2.152"}]
["QS214Q5=10-6.998A1.135P3.934","GLS",{"$f":"[3]ReportTable!$C432","v":23},{"$f":"[3]ReportTable!$E432","v":0.29299999999999998},{"$f":"[3]ReportTable!$G432","v":0.33200000000000002},{"$f":"[3]ReportTable!$K432","v":193.06},{"$f":"IF($B171=\"GLS\",[3]ReportTable!$I432,\"--\")","v":219.61},{"$f":"IF($B171=\"GLS\",[3]ReportTable!$M432,\"--\")","v":46.76},{"$f":"IF($B171=\"OLS\",[3]ReportTable!$I432,\"--\")","v":"--"},{"$f":"IF($B171=\"OLS\",[3]ReportTable!$M432,\"--\")","v":"--"},{"$f":"[3]ReportTable!$AX432","v":0.84069337579333159},null,null,null,null,null,2,null,null,null,8,17,23,"X",null,23,23,"Southwest","QS214Q5","A","P","-6.998","1.135","3.934"]
["QA0.2=10-3.693A0.827P2.804","OLS",{"$f":"[3]ReportTable!$C384","v":14},{"$f":"[3]ReportTable!$E384","v":"--"},{"$f":"[3]ReportTable!$G384","v":"--"},{"$f":"[3]ReportTable!$K384","v":"--"},{"$f":"IF($B172=\"GLS\",[3]ReportTable!$I384,\"--\")","v":"--"},{"$f":"IF($B172=\"GLS\",[3]ReportTable!$M384,\"--\")","v":"--"},{"$f":"IF($B172=\"OLS\",[3]ReportTable!$I384,\"--\")","v":39.230913082500145},{"$f":"IF($B172=\"OLS\",[3]ReportTable!$M384,\"--\")","v":86.48},{"$f":"[3]ReportTable!$AX384","v":0.64758091971380038},null,null,null,null,null,3,null,null,null,6,15,21,"X",null,21,21,"Southwest","QA0.2","A","P","-3.693","0.827","2.804"]
["QA0.5=10-2.413A0.753P1.759","OLS",{"$f":"[3]ReportTable!$C385","v":14},{"$f":"[3]ReportTable!$E385","v":"--"},{"$f":"[3]ReportTable!$G385","v":"--"},{"$f":"[3]ReportTable!$K385","v":"--"},{"$f":"IF($B173=\"GLS\",[3]ReportTable!$I385,\"--\")","v":"--"},{"$f":"IF($B173=\"GLS\",[3]ReportTable!$M385,\"--\")","v":"--"},{"$f":"IF($B173=\"OLS\",[3]ReportTable!$I385,\"--\")","v":36.837172815858779},{"$f":"IF($B173=\"OLS\",[3]ReportTable!$M385,\"--\")","v":85.97},{"$f":"[3]ReportTable!$AX385","v":0.64064272998961103},null,null,null,null,null,4,null,null,null,6,15,21,"X",null,21,21,"Southwest","QA0.5","A","P","-2.413","0.753","1.759"]
["QA0.8=10-2.924A0.794P1.835","OLS",{"$f":"[3]ReportTable!$C386","v":14},{"$f":"[3]ReportTable!$E386","v":"--"},{"$f":"[3]ReportTable!$G386","v":"--"},{"$f":"[3]ReportTable!$K386","v":"--"},{"$f":"IF($B174=\"GLS\",[3]ReportTable!$I386,\"--\")","v":"--"},{"$f":"IF($B174=\"GLS\",[3]ReportTable!$M386,\"--\")","v":"--"},{"$f":"IF($B174=\"OLS\",[3]ReportTable!$I386,\"--\")","v":40.768554789241762},{"$f":"IF($B174=\"OLS\",[3]ReportTable!$M386,\"--\")","v":84.68},{"$f":"[3]ReportTable!$AX386","v":0.6769225183039812},null,null,null,null,null,5,null,null,null,6,15,21,"X",null,21,21,"Southwest","QA0.8","A","P","-2.924","0.794","1.835"]
["QAMEAN=10-4.335A0.962P2.946","OLS",{"$f":"[3]ReportTable!$C387","v":14},{"$f":"[3]ReportTable!$E387","v":"--"},{"$f":"[3]ReportTable!$G387","v":"--"},{"$f":"[3]ReportTable!$K387","v":"--"},{"$f":"IF($B175=\"GLS\",[3]ReportTable!$I387,\"--\")","v":"--"},{"$f":"IF($B175=\"GLS\",[3]ReportTable!$M387,\"--\")","v":"--"},{"$f":"IF($B175=\"OLS\",[3]ReportTable!$I387,\"--\")","v":25.630294240815154},{"$f":"IF($B175=\"OLS\",[3]ReportTable!$M387,\"--\")","v":94.98},{"$f":"[3]ReportTable!$AX387","v":0.77432092700037103},null,null,null,null,null,6,null,null,null,7,16,22,"X",null,22,22,"Southwest","QAMEAN","A","P","-4.335","0.962","2.946"]
["QJAN0.2=10-2.126A1.149(SLP50 + 1)0.975","OLS",{"$f":"[3]ReportTable!$C404","v":14},{"$f":"[3]ReportTable!$E404","v":"--"},{"$f":"[3]ReportTable!$G404","v":"--"},{"$f":"[3]ReportTable!$K404","v":"--"},{"$f":"IF($B176=\"GLS\",[3]ReportTable!$I404,\"--\")","v":"--"},{"$f":"IF($B176=\"GLS\",[3]ReportTable!$M404,\"--\")","v":"--"},{"$f":"IF($B176=\"OLS\",[3]ReportTable!$I404,\"--\")","v":36.012807865166288},{"$f":"IF($B176=\"OLS\",[3]ReportTable!$M404,\"--\")","v":93.4},{"$f":"[3]ReportTable!$AX404","v":0.95503186924260652},null,null,null,null,null,7,null,null,null,8,17,"X",24,null,23,33,"Southwest","QJAN0.2","A","SLP50","-2.126","1.149","0.975"]
["QJAN0.5=10-2.645A1.239(SLP50 + 1)1.168","OLS",{"$f":"[3]ReportTable!$C405","v":14},{"$f":"[3]ReportTable!$E405","v":"--"},{"$f":"[3]ReportTable!$G405","v":"--"},{"$f":"[3]ReportTable!$K405","v":"--"},{"$f":"IF($B177=\"GLS\",[3]ReportTable!$I405,\"--\")","v":"--"},{"$f":"IF($B177=\"GLS\",[3]ReportTable!$M405,\"--\")","v":"--"},{"$f":"IF($B177=\"OLS\",[3]ReportTable!$I405,\"--\")","v":45.858813208494141},{"$f":"IF($B177=\"OLS\",[3]ReportTable!$M405,\"--\")","v":91.19},{"$f":"[3]ReportTable!$AX405","v":1.0066626673820982},null,null,null,null,null,8,null,null,null,8,17,"X",24,null,23,33,"Southwest","QJAN0.5","A","SLP50","-2.645","1.239","1.168"]
["QJAN0.8=10-3.331A1.351(SLP50 + 1)1.451","OLS",{"$f":"[3]ReportTable!$C406","v":14},{"$f":"[3]ReportTable!$E406","v":"--"},{"$f":"[3]ReportTable!$G406","v":"--"},{"$f":"[3]ReportTable!$K406","v":"--"},{"$f":"IF($B178=\"GLS\",[3]ReportTable!$I406,\"--\")","v":"--"},{"$f":"IF($B178=\"GLS\",[3]ReportTable!$M406,\"--\")","v":"--"},{"$f":"IF($B178=\"OLS\",[3]ReportTable!$I406,\"--\")","v":60.602803839314724},{"$f":"IF($B178=\"OLS\",[3]ReportTable!$M406,\"--\")","v":88.22},{"$f":"[3]ReportTable!$AX406","v":1.0631646599621827},null,null,null,null,null,9,null,null,null,8,17,"X",24,null,23,33,"Southwest","QJAN0.8","A","SLP50","-3.331","1.351","1.451"]
["QJANMEAN=10-2.442A1.193(SLP50 + 1)1.093","OLS",{"$f":"[3]ReportTable!$C407","v":14},{"$f":"[3]ReportTable!$E407","v":"--"},{"$f":"[3]ReportTable!$G407","v":"--"},{"$f":"[3]ReportTable!$K407","v":"--"},{"$f":"IF($B179=\"GLS\",[3]ReportTable!$I407,\"--\")","v":"--"},{"$f":"IF($B179=\"GLS\",[3]ReportTable!$M407,\"--\")","v":"--"},{"$f":"IF($B179=\"OLS\",[3]ReportTable!$I407,\"--\")","v":41.521936364144445},{"$f":"IF($B179=\"OLS\",[3]ReportTable!$M407,\"--\")","v":92.11},{"$f":"[3]ReportTable!$AX407","v":0.97581146284887599},null,null,null,null,null,10,null,null,null,9,18,"X",25,null,24,34,"Southwest","QJANMEAN","A","SLP50","-2.442","1.193","1.093"]
["QFEB0.2=10-2.276A1.214(SLP50 + 1)0.964","OLS",{"$f":"[3]ReportTable!$C400","v":14},{"$f":"[3]ReportTable!$E400","v":"--"},{"$f":"[3]ReportTable!$G400","v":"--"},{"$f":"[3]ReportTable!$K400","v":"--"},{"$f":"IF($B180=\"GLS\",[3]ReportTable!$I400,\"--\")","v":"--"},{"$f":"IF($B180=\"GLS\",[3]ReportTable!$M400,\"--\")","v":"--"},{"$f":"IF($B180=\"OLS\",[3]ReportTable!$I400,\"--\")","v":42.265788927328785},{"$f":"IF($B180=\"OLS\",[3]ReportTable!$M400,\"--\")","v":92.11},{"$f":"[3]ReportTable!$AX400","v":1.0219215530993424},null,null,null,null,null,11,null,null,null,8,17,"X",24,null,23,33,"Southwest","QFEB0.2","A","SLP50","-2.276","1.214","0.964"]
["QFEB0.5=10-2.631A1.256(SLP50 + 1)1.116","OLS",{"$f":"[3]ReportTable!$C401","v":14},{"$f":"[3]ReportTable!$E401","v":"--"},{"$f":"[3]ReportTable!$G401","v":"--"},{"$f":"[3]ReportTable!$K401","v":"--"},{"$f":"IF($B181=\"GLS\",[3]ReportTable!$I401,\"--\")","v":"--"},{"$f":"IF($B181=\"GLS\",[3]ReportTable!$M401,\"--\")","v":"--"},{"$f":"IF($B181=\"OLS\",[3]ReportTable!$I401,\"--\")","v":49.276472527795462},{"$f":"IF($B181=\"OLS\",[3]ReportTable!$M401,\"--\")","v":90.51},{"$f":"[3]ReportTable!$AX401","v":1.0338039135186454},null,null,null,null,null,12,null,null,null,8,17,"X",24,null,23,33,"Southwest","QFEB0.5","A","SLP50","-2.631","1.256","1.116"]
["QFEB0.8=10-3.286A1.355(SLP50 + 1)1.395","OLS",{"$f":"[3]ReportTable!$C402","v":14},{"$f":"[3]ReportTable!$E402","v":"--"},{"$f":"[3]ReportTable!$G402","v":"--"},{"$f":"[3]ReportTable!$K402","v":"--"},{"$f":"IF($B182=\"GLS\",[3]ReportTable!$I402,\"--\")","v":"--"},{"$f":"IF($B182=\"GLS\",[3]ReportTable!$M402,\"--\")","v":"--"},{"$f":"IF($B182=\"OLS\",[3]ReportTable!$I402,\"--\")","v":61.79365388156458},{"$f":"IF($B182=\"OLS\",[3]ReportTable!$M402,\"--\")","v":88.04},{"$f":"[3]ReportTable!$AX402","v":1.0777932082700763},null,null,null,null,null,13,null,null,null,8,17,"X",24,null,23,33,"Southwest","QFEB0.8","A","SLP50","-3.286","1.355","1.395"]
["QFEBMEAN=10-2.555A1.248(SLP50 + 1)1.086","OLS",{"$f":"[3]ReportTable!$C403","v":14},{"$f":"[3]ReportTable!$E403","v":"--"},{"$f":"[3]ReportTable!$G403","v":"--"},{"$f":"[3]ReportTable!$K403","v":"--"},{"$f":"IF($B183=\"GLS\",[3]ReportTable!$I403,\"--\")","v":"--"},{"$f":"IF($B183=\"GLS\",[3]ReportTable!$M403,\"--\")","v":"--"},{"$f":"IF($B183=\"OLS\",[3]ReportTable!$I403,\"--\")","v":42.265788927328785},{"$f":"IF($B183=\"OLS\",[3]ReportTable!$M403,\"--\")","v":92.59},{"$f":"[3]ReportTable!$AX403","v":1.0323563421479405},null,null,null,null,null,14,null,null,null,9,18,"X",25,null,24,34,"Southwest","QFEBMEAN","A","SLP50","-2.555","1.248","1.086"]
["QMAR0.2=10-1.493A1.11(SLP50 + 1)0.555","OLS",{"$f":"[3]ReportTable!$C416","v":17},{"$f":"[3]ReportTable!$E416","v":"--"},{"$f":"[3]ReportTable!$G416","v":"--"},{"$f":"[3]ReportTable!$K416","v":"--"},{"$f":"IF($B184=\"GLS\",[3]ReportTable!$I416,\"--\")","v":"--"},{"$f":"IF($B184=\"GLS\",[3]ReportTable!$M416,\"--\")","v":"--"},{"$f":"IF($B184=\"OLS\",[3]ReportTable!$I416,\"--\")","v":31.644549718377686},{"$f":"IF($B184=\"OLS\",[3]ReportTable!$M416,\"--\")","v":94.23},{"$f":"[3]ReportTable!$AX416","v":0.99399857069128217},null,null,null,null,null,15,null,null,null,8,17,"X",23,null,22,32,"Southwest","QMAR0.2","A","SLP50","-1.493","1.11","0.555"]
["QMAR0.5=10-2.138A1.206(SLP50 + 1)0.83","OLS",{"$f":"[3]ReportTable!$C417","v":17},{"$f":"[3]ReportTable!$E417","v":"--"},{"$f":"[3]ReportTable!$G417","v":"--"},{"$f":"[3]ReportTable!$K417","v":"--"},{"$f":"IF($B185=\"GLS\",[3]ReportTable!$I417,\"--\")","v":"--"},{"$f":"IF($B185=\"GLS\",[3]ReportTable!$M417,\"--\")","v":"--"},{"$f":"IF($B185=\"OLS\",[3]ReportTable!$I417,\"--\")","v":40.768554789241762},{"$f":"IF($B185=\"OLS\",[3]ReportTable!$M417,\"--\")","v":91.81},{"$f":"[3]ReportTable!$AX417","v":1.0324435334342366},null,null,null,null,null,16,null,null,null,8,17,"X",24,null,23,33,"Southwest","QMAR0.5","A","SLP50","-2.138","1.206","0.83"]
["QMAR0.8=10-2.909A1.336(SLP50 + 1)1.162","OLS",{"$f":"[3]ReportTable!$C418","v":17},{"$f":"[3]ReportTable!$E418","v":"--"},{"$f":"[3]ReportTable!$G418","v":"--"},{"$f":"[3]ReportTable!$K418","v":"--"},{"$f":"IF($B186=\"GLS\",[3]ReportTable!$I418,\"--\")","v":"--"},{"$f":"IF($B186=\"GLS\",[3]ReportTable!$M418,\"--\")","v":"--"},{"$f":"IF($B186=\"OLS\",[3]ReportTable!$I418,\"--\")","v":56.343194938570662},{"$f":"IF($B186=\"OLS\",[3]ReportTable!$M418,\"--\")","v":88.31},{"$f":"[3]ReportTable!$AX418","v":1.0929153130414699},null,null,null,null,null,17,null,null,null,8,17,"X",24,null,23,33,"Southwest","QMAR0.8","A","SLP50","-2.909","1.336","1.162"]
["QMARMEAN=10-1.739A1.143(SLP50 + 1)0.646","OLS",{"$f":"[3]ReportTable!$C419","v":17},{"$f":"[3]ReportTable!$E419","v":"--"},{"$f":"[3]ReportTable!$G419","v":"--"},{"$f":"[3]ReportTable!$K419","v":"--"},{"$f":"IF($B187=\"GLS\",[3]ReportTable!$I419,\"--\")","v":"--"},{"$f":"IF($B187=\"GLS\",[3]ReportTable!$M419,\"--\")","v":"--"},{"$f":"IF($B187=\"OLS\",[3]ReportTable!$I419,\"--\")","v":30.711609287771889},{"$f":"IF($B187=\"OLS\",[3]ReportTable!$M419,\"--\")","v":94.56},{"$f":"[3]ReportTable!$AX419","v":1.008084419681005},null,null,null,null,null,18,null,null,null,9,18,"X",25,null,24,34,"Southwest","QMARMEAN","A","SLP50","-1.739","1.143","0.646"]
["QAPR0.2=10-3.434A1.096P2.189","OLS",{"$f":"[3]ReportTable!$C388","v":23},{"$f":"[3]ReportTable!$E388","v":"--"},{"$f":"[3]ReportTable!$G388","v":"--"},{"$f":"[3]ReportTable!$K388","v":"--"},{"$f":"IF($B188=\"GLS\",[3]ReportTable!$I388,\"--\")","v":"--"},{"$f":"IF($B188=\"GLS\",[3]ReportTable!$M388,\"--\")","v":"--"},{"$f":"IF($B188=\"OLS\",[3]ReportTable!$I388,\"--\")","v":39.230913082500145},{"$f":"IF($B188=\"OLS\",[3]ReportTable!$M388,\"--\")","v":90.93},{"$f":"[3]ReportTable!$AX388","v":0.92418033350927209},null,null,null,null,null,19,null,null,null,8,17,23,"X",null,23,23,"Southwest","QAPR0.2","A","P","-3.434","1.096","2.189"]
["QAPR0.5=10-3.267A1.115P1.847","OLS",{"$f":"[3]ReportTable!$C389","v":23},{"$f":"[3]ReportTable!$E389","v":"--"},{"$f":"[3]ReportTable!$G389","v":"--"},{"$f":"[3]ReportTable!$K389","v":"--"},{"$f":"IF($B189=\"GLS\",[3]ReportTable!$I389,\"--\")","v":"--"},{"$f":"IF($B189=\"GLS\",[3]ReportTable!$M389,\"--\")","v":"--"},{"$f":"IF($B189=\"OLS\",[3]ReportTable!$I389,\"--\")","v":26.712630504638501},{"$f":"IF($B189=\"OLS\",[3]ReportTable!$M389,\"--\")","v":95.66},{"$f":"[3]ReportTable!$AX389","v":0.97054354380221253},null,null,null,null,null,20,null,null,null,8,17,23,"X",null,23,23,"Southwest","QAPR0.5","A","P","-3.267","1.115","1.847"]
["QAPR0.8=10-2.935A1.105P1.447","OLS",{"$f":"[3]ReportTable!$C390","v":23},{"$f":"[3]ReportTable!$E390","v":"--"},{"$f":"[3]ReportTable!$G390","v":"--"},{"$f":"[3]ReportTable!$K390","v":"--"},{"$f":"IF($B190=\"GLS\",[3]ReportTable!$I390,\"--\")","v":"--"},{"$f":"IF($B190=\"GLS\",[3]ReportTable!$M390,\"--\")","v":"--"},{"$f":"IF($B190=\"OLS\",[3]ReportTable!$I390,\"--\")","v":29.754596059843468},{"$f":"IF($B190=\"OLS\",[3]ReportTable!$M390,\"--\")","v":94.84},{"$f":"[3]ReportTable!$AX390","v":0.99191220414891845},null,null,null,null,null,21,null,null,null,8,17,23,"X",null,23,23,"Southwest","QAPR0.8","A","P","-2.935","1.105","1.447"]
["QAPRMEAN=10-3.343A1.093P2.022","OLS",{"$f":"[3]ReportTable!$C391","v":23},{"$f":"[3]ReportTable!$E391","v":"--"},{"$f":"[3]ReportTable!$G391","v":"--"},{"$f":"[3]ReportTable!$K391","v":"--"},{"$f":"IF($B191=\"GLS\",[3]ReportTable!$I391,\"--\")","v":"--"},{"$f":"IF($B191=\"GLS\",[3]ReportTable!$M391,\"--\")","v":"--"},{"$f":"IF($B191=\"OLS\",[3]ReportTable!$I391,\"--\")","v":30.711609287771889},{"$f":"IF($B191=\"OLS\",[3]ReportTable!$M391,\"--\")","v":94.09},{"$f":"[3]ReportTable!$AX391","v":0.93410019206152883},null,null,null,null,null,22,null,null,null,9,18,24,"X",null,24,24,"Southwest","QAPRMEAN","A","P","-3.343","1.093","2.022"]
["QMAY0.2=10-3.111A0.886P2.593","OLS",{"$f":"[3]ReportTable!$C420","v":24},{"$f":"[3]ReportTable!$E420","v":"--"},{"$f":"[3]ReportTable!$G420","v":"--"},{"$f":"[3]ReportTable!$K420","v":"--"},{"$f":"IF($B192=\"GLS\",[3]ReportTable!$I420,\"--\")","v":"--"},{"$f":"IF($B192=\"GLS\",[3]ReportTable!$M420,\"--\")","v":"--"},{"$f":"IF($B192=\"OLS\",[3]ReportTable!$I420,\"--\")","v":57.576045789876552},{"$f":"IF($B192=\"OLS\",[3]ReportTable!$M420,\"--\")","v":77.87},{"$f":"[3]ReportTable!$AX420","v":0.70326619047410988},null,null,null,null,null,23,null,null,null,8,17,23,"X",null,23,23,"Southwest","QMAY0.2","A","P","-3.111","0.886","2.593"]
["QMAY0.5=10-3.494A0.894P2.672","OLS",{"$f":"[3]ReportTable!$C421","v":24},{"$f":"[3]ReportTable!$E421","v":"--"},{"$f":"[3]ReportTable!$G421","v":"--"},{"$f":"[3]ReportTable!$K421","v":"--"},{"$f":"IF($B193=\"GLS\",[3]ReportTable!$I421,\"--\")","v":"--"},{"$f":"IF($B193=\"GLS\",[3]ReportTable!$M421,\"--\")","v":"--"},{"$f":"IF($B193=\"OLS\",[3]ReportTable!$I421,\"--\")","v":53.833942282648891},{"$f":"IF($B193=\"OLS\",[3]ReportTable!$M421,\"--\")","v":80.12},{"$f":"[3]ReportTable!$AX421","v":0.70546011395539077},null,null,null,null,null,24,null,null,null,8,17,23,"X",null,23,23,"Southwest","QMAY0.5","A","P","-3.494","0.894","2.672"]
["QMAY0.8=10-3.888A0.936P2.679","OLS",{"$f":"[3]ReportTable!$C422","v":24},{"$f":"[3]ReportTable!$E422","v":"--"},{"$f":"[3]ReportTable!$G422","v":"--"},{"$f":"[3]ReportTable!$K422","v":"--"},{"$f":"IF($B194=\"GLS\",[3]ReportTable!$I422,\"--\")","v":"--"},{"$f":"IF($B194=\"GLS\",[3]ReportTable!$M422,\"--\")","v":"--"},{"$f":"IF($B194=\"OLS\",[3]ReportTable!$I422,\"--\")","v":47.927857432976431},{"$f":"IF($B194=\"OLS\",[3]ReportTable!$M422,\"--\")","v":84.39},{"$f":"[3]ReportTable!$AX422","v":0.74733482090373038},null,null,null,null,null,25,null,null,null,8,17,23,"X",null,23,23,"Southwest","QMAY0.8","A","P","-3.888","0.936","2.679"]
["QMAYMEAN=10-3.245A0.892P2.558","OLS",{"$f":"[3]ReportTable!$C423","v":24},{"$f":"[3]ReportTable!$E423","v":"--"},{"$f":"[3]ReportTable!$G423","v":"--"},{"$f":"[3]ReportTable!$K423","v":"--"},{"$f":"IF($B195=\"GLS\",[3]ReportTable!$I423,\"--\")","v":"--"},{"$f":"IF($B195=\"GLS\",[3]ReportTable!$M423,\"--\")","v":"--"},{"$f":"IF($B195=\"OLS\",[3]ReportTable!$I423,\"--\")","v":53.833942282648891},{"$f":"IF($B195=\"OLS\",[3]ReportTable!$M423,\"--\")","v":80.05},{"$f":"[3]ReportTable!$AX423","v":0.71150423764575887},null,null,null,null,null,26,null,null,null,9,18,24,"X",null,24,24,"Southwest","QMAYMEAN","A","P","-3.245","0.892","2.558"]
["QJUN0.2=10-3.233A0.898P2.7","OLS",{"$f":"[3]ReportTable!$C412","v":24},{"$f":"[3]ReportTable!$E412","v":"--"},{"$f":"[3]ReportTable!$G412","v":"--"},{"$f":"[3]ReportTable!$K412","v":"--"},{"$f":"IF($B196=\"GLS\",[3]ReportTable!$I412,\"--\")","v":"--"},{"$f":"IF($B196=\"GLS\",[3]ReportTable!$M412,\"--\")","v":"--"},{"$f":"IF($B196=\"OLS\",[3]ReportTable!$I412,\"--\")","v":47.244611829214058},{"$f":"IF($B196=\"OLS\",[3]ReportTable!$M412,\"--\")","v":83.72},{"$f":"[3]ReportTable!$AX412","v":0.70722349869697831},null,null,null,null,null,27,null,null,null,8,17,23,"X",null,23,23,"Southwest","QJUN0.2","A","P","-3.233","0.898","2.7"]
["QJUN0.5=10-4.127A0.917P3.119","OLS",{"$f":"[3]ReportTable!$C413","v":24},{"$f":"[3]ReportTable!$E413","v":"--"},{"$f":"[3]ReportTable!$G413","v":"--"},{"$f":"[3]ReportTable!$K413","v":"--"},{"$f":"IF($B197=\"GLS\",[3]ReportTable!$I413,\"--\")","v":"--"},{"$f":"IF($B197=\"GLS\",[3]ReportTable!$M413,\"--\")","v":"--"},{"$f":"IF($B197=\"OLS\",[3]ReportTable!$I413,\"--\")","v":47.244611829214058},{"$f":"IF($B197=\"OLS\",[3]ReportTable!$M413,\"--\")","v":84.59},{"$f":"[3]ReportTable!$AX413","v":0.69748193038880169},null,null,null,null,null,28,null,null,null,8,17,23,"X",null,23,23,"Southwest","QJUN0.5","A","P","-4.127","0.917","3.119"]
["QJUN0.8=10-4.929A0.916P3.467","OLS",{"$f":"[3]ReportTable!$C414","v":24},{"$f":"[3]ReportTable!$E414","v":"--"},{"$f":"[3]ReportTable!$G414","v":"--"},{"$f":"[3]ReportTable!$K414","v":"--"},{"$f":"IF($B198=\"GLS\",[3]ReportTable!$I414,\"--\")","v":"--"},{"$f":"IF($B198=\"GLS\",[3]ReportTable!$M414,\"--\")","v":"--"},{"$f":"IF($B198=\"OLS\",[3]ReportTable!$I414,\"--\")","v":65.885859146084741},{"$f":"IF($B198=\"OLS\",[3]ReportTable!$M414,\"--\")","v":75.61},{"$f":"[3]ReportTable!$AX414","v":0.671671897683215},null,null,null,null,null,29,null,null,null,8,17,23,"X",null,23,23,"Southwest","QJUN0.8","A","P","-4.929","0.916","3.467"]
["QJUNMEAN=10-3.56A0.89P2.819","OLS",{"$f":"[3]ReportTable!$C415","v":24},{"$f":"[3]ReportTable!$E415","v":"--"},{"$f":"[3]ReportTable!$G415","v":"--"},{"$f":"[3]ReportTable!$K415","v":"--"},{"$f":"IF($B199=\"GLS\",[3]ReportTable!$I415,\"--\")","v":"--"},{"$f":"IF($B199=\"GLS\",[3]ReportTable!$M415,\"--\")","v":"--"},{"$f":"IF($B199=\"OLS\",[3]ReportTable!$I415,\"--\")","v":45.858813208494141},{"$f":"IF($B199=\"OLS\",[3]ReportTable!$M415,\"--\")","v":84.28},{"$f":"[3]ReportTable!$AX415","v":0.69102903536336346},null,null,null,null,null,30,null,null,null,9,17,22,"X",null,22,22,"Southwest","QJUNMEAN","A","P","-3.56","0.89","2.819"]
["QJUL0.2=10-3.807A0.897P2.772","OLS",{"$f":"[3]ReportTable!$C408","v":24},{"$f":"[3]ReportTable!$E408","v":"--"},{"$f":"[3]ReportTable!$G408","v":"--"},{"$f":"[3]ReportTable!$K408","v":"--"},{"$f":"IF($B200=\"GLS\",[3]ReportTable!$I408,\"--\")","v":"--"},{"$f":"IF($B200=\"GLS\",[3]ReportTable!$M408,\"--\")","v":"--"},{"$f":"IF($B200=\"OLS\",[3]ReportTable!$I408,\"--\")","v":46.555032272692976},{"$f":"IF($B200=\"OLS\",[3]ReportTable!$M408,\"--\")","v":84.26},{"$f":"[3]ReportTable!$AX408","v":0.70207362853122035},null,null,null,null,null,31,null,null,null,8,17,23,"X",null,23,23,"Southwest","QJUL0.2","A","P","-3.807","0.897","2.772"]
["QJUL0.5=10-4.422A0.898P3.002","OLS",{"$f":"[3]ReportTable!$C409","v":24},{"$f":"[3]ReportTable!$E409","v":"--"},{"$f":"[3]ReportTable!$G409","v":"--"},{"$f":"[3]ReportTable!$K409","v":"--"},{"$f":"IF($B201=\"GLS\",[3]ReportTable!$I409,\"--\")","v":"--"},{"$f":"IF($B201=\"GLS\",[3]ReportTable!$M409,\"--\")","v":"--"},{"$f":"IF($B201=\"OLS\",[3]ReportTable!$I409,\"--\")","v":67.036005309998643},{"$f":"IF($B201=\"OLS\",[3]ReportTable!$M409,\"--\")","v":73.930000000000007},{"$f":"[3]ReportTable!$AX409","v":0.68691072397250819},null,null,null,null,null,32,null,null,null,8,17,23,"X",null,23,23,"Southwest","QJUL0.5","A","P","-4.422","0.898","3.002"]
["QJUL0.8=10-4.873A0.893P3.134","OLS",{"$f":"[3]ReportTable!$C410","v":24},{"$f":"[3]ReportTable!$E410","v":"--"},{"$f":"[3]ReportTable!$G410","v":"--"},{"$f":"[3]ReportTable!$K410","v":"--"},{"$f":"IF($B202=\"GLS\",[3]ReportTable!$I410,\"--\")","v":"--"},{"$f":"IF($B202=\"GLS\",[3]ReportTable!$M410,\"--\")","v":"--"},{"$f":"IF($B202=\"OLS\",[3]ReportTable!$I410,\"--\")","v":96.959387105261143},{"$f":"IF($B202=\"OLS\",[3]ReportTable!$M410,\"--\")","v":61.28},{"$f":"[3]ReportTable!$AX410","v":0.67188949641681683},null,null,null,null,null,33,null,null,null,8,17,23,"X",null,23,23,"Southwest","QJUL0.8","A","P","-4.873","0.893","3.134"]
["QJULMEAN=10-3.982A0.893P2.791","OLS",{"$f":"[3]ReportTable!$C411","v":24},{"$f":"[3]ReportTable!$E411","v":"--"},{"$f":"[3]ReportTable!$G411","v":"--"},{"$f":"[3]ReportTable!$K411","v":"--"},{"$f":"IF($B203=\"GLS\",[3]ReportTable!$I411,\"--\")","v":"--"},{"$f":"IF($B203=\"GLS\",[3]ReportTable!$M411,\"--\")","v":"--"},{"$f":"IF($B203=\"OLS\",[3]ReportTable!$I411,\"--\")","v":49.94236163139955},{"$f":"IF($B203=\"OLS\",[3]ReportTable!$M411,\"--\")","v":82.16},{"$f":"[3]ReportTable!$AX411","v":0.6958023394420777},null,null,null,null,null,34,null,null,null,9,18,24,"X",null,24,24,"Southwest","QJULMEAN","A","P","-3.982","0.893","2.791"]
["QAUG0.2=10-3.708A0.916P2.383","OLS",{"$f":"[3]ReportTable!$C392","v":24},{"$f":"[3]ReportTable!$E392","v":"--"},{"$f":"[3]ReportTable!$G392","v":"--"},{"$f":"[3]ReportTable!$K392","v":"--"},{"$f":"IF($B204=\"GLS\",[3]ReportTable!$I392,\"--\")","v":"--"},{"$f":"IF($B204=\"GLS\",[3]ReportTable!$M392,\"--\")","v":"--"},{"$f":"IF($B204=\"OLS\",[3]ReportTable!$I392,\"--\")","v":78.199659280028229},{"$f":"IF($B204=\"OLS\",[3]ReportTable!$M392,\"--\")","v":69.400000000000006},{"$f":"[3]ReportTable!$AX392","v":0.74752195019968837},null,null,null,null,null,35,null,null,null,8,17,23,"X",null,23,23,"Southwest","QAUG0.2","A","P","-3.708","0.916","2.383"]
["QAUG0.5=10-4.599A0.963P2.78","OLS",{"$f":"[3]ReportTable!$C393","v":24},{"$f":"[3]ReportTable!$E393","v":"--"},{"$f":"[3]ReportTable!$G393","v":"--"},{"$f":"[3]ReportTable!$K393","v":"--"},{"$f":"IF($B205=\"GLS\",[3]ReportTable!$I393,\"--\")","v":"--"},{"$f":"IF($B205=\"GLS\",[3]ReportTable!$M393,\"--\")","v":"--"},{"$f":"IF($B205=\"OLS\",[3]ReportTable!$I393,\"--\")","v":110.76416073180637},{"$f":"IF($B205=\"OLS\",[3]ReportTable!$M393,\"--\")","v":59.89},{"$f":"[3]ReportTable!$AX393","v":0.767422258070657},null,null,null,null,null,36,null,null,null,8,17,23,"X",null,23,23,"Southwest","QAUG0.5","A","P","-4.599","0.963","2.78"]
["QAUG0.8=10-5.612A0.98P3.304","OLS",{"$f":"[3]ReportTable!$C394","v":24},{"$f":"[3]ReportTable!$E394","v":"--"},{"$f":"[3]ReportTable!$G394","v":"--"},{"$f":"[3]ReportTable!$K394","v":"--"},{"$f":"IF($B206=\"GLS\",[3]ReportTable!$I394,\"--\")","v":"--"},{"$f":"IF($B206=\"GLS\",[3]ReportTable!$M394,\"--\")","v":"--"},{"$f":"IF($B206=\"OLS\",[3]ReportTable!$I394,\"--\")","v":173.53096698481326},{"$f":"IF($B206=\"OLS\",[3]ReportTable!$M394,\"--\")","v":47.49},{"$f":"[3]ReportTable!$AX394","v":0.74686900191242978},null,null,null,null,null,37,null,null,null,8,17,22,"X",null,22,22,"Southwest","QAUG0.8","A","P","-5.612","0.98","3.304"]
["QAUGMEAN=10-4.015A0.924P2.49","OLS",{"$f":"[3]ReportTable!$C395","v":24},{"$f":"[3]ReportTable!$E395","v":"--"},{"$f":"[3]ReportTable!$G395","v":"--"},{"$f":"[3]ReportTable!$K395","v":"--"},{"$f":"IF($B207=\"GLS\",[3]ReportTable!$I395,\"--\")","v":"--"},{"$f":"IF($B207=\"GLS\",[3]ReportTable!$M395,\"--\")","v":"--"},{"$f":"IF($B207=\"OLS\",[3]ReportTable!$I395,\"--\")","v":80.377890602804456},{"$f":"IF($B207=\"OLS\",[3]ReportTable!$M395,\"--\")","v":68.86},{"$f":"[3]ReportTable!$AX395","v":0.74893318849944923},null,null,null,null,null,38,null,null,null,9,18,24,"X",null,24,24,"Southwest","QAUGMEAN","A","P","-4.015","0.924","2.49"]
["QSEP0.2=10-3.754A0.946P2.321","OLS",{"$f":"[3]ReportTable!$C433","v":24},{"$f":"[3]ReportTable!$E433","v":"--"},{"$f":"[3]ReportTable!$G433","v":"--"},{"$f":"[3]ReportTable!$K433","v":"--"},{"$f":"IF($B208=\"GLS\",[3]ReportTable!$I433,\"--\")","v":"--"},{"$f":"IF($B208=\"GLS\",[3]ReportTable!$M433,\"--\")","v":"--"},{"$f":"IF($B208=\"OLS\",[3]ReportTable!$I433,\"--\")","v":60.003328820844445},{"$f":"IF($B208=\"OLS\",[3]ReportTable!$M433,\"--\")","v":78.97},{"$f":"[3]ReportTable!$AX433","v":0.78206751610458725},null,null,null,null,null,39,null,null,null,8,17,23,"X",null,23,23,"Southwest","QSEP0.2","A","P","-3.754","0.946","2.321"]
["QSEP0.5=10-4.447A0.981P2.616","OLS",{"$f":"[3]ReportTable!$C434","v":24},{"$f":"[3]ReportTable!$E434","v":"--"},{"$f":"[3]ReportTable!$G434","v":"--"},{"$f":"[3]ReportTable!$K434","v":"--"},{"$f":"IF($B209=\"GLS\",[3]ReportTable!$I434,\"--\")","v":"--"},{"$f":"IF($B209=\"GLS\",[3]ReportTable!$M434,\"--\")","v":"--"},{"$f":"IF($B209=\"OLS\",[3]ReportTable!$I434,\"--\")","v":89.516336146888392},{"$f":"IF($B209=\"OLS\",[3]ReportTable!$M434,\"--\")","v":67.8},{"$f":"[3]ReportTable!$AX434","v":0.79704779144695947},null,null,null,null,null,40,null,null,null,8,17,23,"X",null,23,23,"Southwest","QSEP0.5","A","P","-4.447","0.981","2.616"]
["QSEP0.8=10-5.3A1.028P3.011","OLS",{"$f":"[3]ReportTable!$C435","v":24},{"$f":"[3]ReportTable!$E435","v":"--"},{"$f":"[3]ReportTable!$G435","v":"--"},{"$f":"[3]ReportTable!$K435","v":"--"},{"$f":"IF($B210=\"GLS\",[3]ReportTable!$I435,\"--\")","v":"--"},{"$f":"IF($B210=\"GLS\",[3]ReportTable!$M435,\"--\")","v":"--"},{"$f":"IF($B210=\"OLS\",[3]ReportTable!$I435,\"--\")","v":130.74843278927904},{"$f":"IF($B210=\"OLS\",[3]ReportTable!$M435,\"--\")","v":57.79},{"$f":"[3]ReportTable!$AX435","v":0.81554721477489289},null,null,null,null,null,41,null,null,null,8,15,21,"X",null,21,21,"Southwest","QSEP0.8","A","P","-5.3","1.028","3.011"]
["QSEPMEAN=10-3.949A0.95P2.363","OLS",{"$f":"[3]ReportTable!$C436","v":24},{"$f":"[3]ReportTable!$E436","v":"--"},{"$f":"[3]ReportTable!$G436","v":"--"},{"$f":"[3]ReportTable!$K436","v":"--"},{"$f":"IF($B211=\"GLS\",[3]ReportTable!$I436,\"--\")","v":"--"},{"$f":"IF($B211=\"GLS\",[3]ReportTable!$M436,\"--\")","v":"--"},{"$f":"IF($B211=\"OLS\",[3]ReportTable!$I436,\"--\")","v":66.461895711315023},{"$f":"IF($B211=\"OLS\",[3]ReportTable!$M436,\"--\")","v":76.11},{"$f":"[3]ReportTable!$AX436","v":0.78304239564918021},null,null,null,null,null,42,null,null,null,9,18,23,"X",null,23,23,"Southwest","QSEPMEAN","A","P","-3.949","0.95","2.363"]
["QOCT0.2=10-3.207A0.986P1.907","OLS",{"$f":"[3]ReportTable!$C428","v":23},{"$f":"[3]ReportTable!$E428","v":"--"},{"$f":"[3]ReportTable!$G428","v":"--"},{"$f":"[3]ReportTable!$K428","v":"--"},{"$f":"IF($B212=\"GLS\",[3]ReportTable!$I428,\"--\")","v":"--"},{"$f":"IF($B212=\"GLS\",[3]ReportTable!$M428,\"--\")","v":"--"},{"$f":"IF($B212=\"OLS\",[3]ReportTable!$I428,\"--\")","v":45.858813208494141},{"$f":"IF($B212=\"OLS\",[3]ReportTable!$M428,\"--\")","v":86.95},{"$f":"[3]ReportTable!$AX428","v":0.84351331438941124},null,null,null,null,null,43,null,null,null,8,17,23,"X",null,23,23,"Southwest","QOCT0.2","A","P","-3.207","0.986","1.907"]
["QOCT0.5=10-3.854A1.045P2.162","OLS",{"$f":"[3]ReportTable!$C429","v":23},{"$f":"[3]ReportTable!$E429","v":"--"},{"$f":"[3]ReportTable!$G429","v":"--"},{"$f":"[3]ReportTable!$K429","v":"--"},{"$f":"IF($B213=\"GLS\",[3]ReportTable!$I429,\"--\")","v":"--"},{"$f":"IF($B213=\"GLS\",[3]ReportTable!$M429,\"--\")","v":"--"},{"$f":"IF($B213=\"OLS\",[3]ReportTable!$I429,\"--\")","v":60.003328820844445},{"$f":"IF($B213=\"OLS\",[3]ReportTable!$M429,\"--\")","v":82.02},{"$f":"[3]ReportTable!$AX429","v":0.88353989637721742},null,null,null,null,null,44,null,null,null,8,17,23,"X",null,23,23,"Southwest","QOCT0.5","A","P","-3.854","1.045","2.162"]
["QOCT0.8=10-4.555A1.115P2.427","OLS",{"$f":"[3]ReportTable!$C430","v":23},{"$f":"[3]ReportTable!$E430","v":"--"},{"$f":"[3]ReportTable!$G430","v":"--"},{"$f":"[3]ReportTable!$K430","v":"--"},{"$f":"IF($B214=\"GLS\",[3]ReportTable!$I430,\"--\")","v":"--"},{"$f":"IF($B214=\"GLS\",[3]ReportTable!$M430,\"--\")","v":"--"},{"$f":"IF($B214=\"OLS\",[3]ReportTable!$I430,\"--\")","v":83.083143179119261},{"$f":"IF($B214=\"OLS\",[3]ReportTable!$M430,\"--\")","v":75.14},{"$f":"[3]ReportTable!$AX430","v":0.93356591086923635},null,null,null,null,null,45,null,null,null,8,17,23,"X",null,23,23,"Southwest","QOCT0.8","A","P","-4.555","1.115","2.427"]
["QOCTMEAN=10-3.494A1.005P1.999","OLS",{"$f":"[3]ReportTable!$C431","v":23},{"$f":"[3]ReportTable!$E431","v":"--"},{"$f":"[3]ReportTable!$G431","v":"--"},{"$f":"[3]ReportTable!$K431","v":"--"},{"$f":"IF($B215=\"GLS\",[3]ReportTable!$I431,\"--\")","v":"--"},{"$f":"IF($B215=\"GLS\",[3]ReportTable!$M431,\"--\")","v":"--"},{"$f":"IF($B215=\"OLS\",[3]ReportTable!$I431,\"--\")","v":47.244611829214058},{"$f":"IF($B215=\"OLS\",[3]ReportTable!$M431,\"--\")","v":86.51},{"$f":"[3]ReportTable!$AX431","v":0.85561712591153627},null,null,null,null,null,46,null,null,null,9,18,24,"X",null,24,24,"Southwest","QOCTMEAN","A","P","-3.494","1.005","1.999"]
["QNOV0.2=10-3.224A1.096P1.723","OLS",{"$f":"[3]ReportTable!$C424","v":20},{"$f":"[3]ReportTable!$E424","v":"--"},{"$f":"[3]ReportTable!$G424","v":"--"},{"$f":"[3]ReportTable!$K424","v":"--"},{"$f":"IF($B216=\"GLS\",[3]ReportTable!$I424,\"--\")","v":"--"},{"$f":"IF($B216=\"GLS\",[3]ReportTable!$M424,\"--\")","v":"--"},{"$f":"IF($B216=\"OLS\",[3]ReportTable!$I424,\"--\")","v":44.445124250513942},{"$f":"IF($B216=\"OLS\",[3]ReportTable!$M424,\"--\")","v":88.73},{"$f":"[3]ReportTable!$AX424","v":0.97509157232683097},null,null,null,null,null,47,null,null,null,8,17,23,"X",null,23,23,"Southwest","QNOV0.2","A","P","-3.224","1.096","1.723"]
["QNOV0.5=10-3.626A1.164P1.804","OLS",{"$f":"[3]ReportTable!$C425","v":20},{"$f":"[3]ReportTable!$E425","v":"--"},{"$f":"[3]ReportTable!$G425","v":"--"},{"$f":"[3]ReportTable!$K425","v":"--"},{"$f":"IF($B217=\"GLS\",[3]ReportTable!$I425,\"--\")","v":"--"},{"$f":"IF($B217=\"GLS\",[3]ReportTable!$M425,\"--\")","v":"--"},{"$f":"IF($B217=\"OLS\",[3]ReportTable!$I425,\"--\")","v":58.795779438743267},{"$f":"IF($B217=\"OLS\",[3]ReportTable!$M425,\"--\")","v":84.38},{"$f":"[3]ReportTable!$AX425","v":1.0372360101602156},null,null,null,null,null,48,null,null,null,8,17,23,"X",null,23,23,"Southwest","QNOV0.5","A","P","-3.626","1.164","1.804"]
["QNOV0.8=10-4.133A1.242P1.935","OLS",{"$f":"[3]ReportTable!$C426","v":20},{"$f":"[3]ReportTable!$E426","v":"--"},{"$f":"[3]ReportTable!$G426","v":"--"},{"$f":"[3]ReportTable!$K426","v":"--"},{"$f":"IF($B218=\"GLS\",[3]ReportTable!$I426,\"--\")","v":"--"},{"$f":"IF($B218=\"GLS\",[3]ReportTable!$M426,\"--\")","v":"--"},{"$f":"IF($B218=\"OLS\",[3]ReportTable!$I426,\"--\")","v":73.241147225708787},{"$f":"IF($B218=\"OLS\",[3]ReportTable!$M426,\"--\")","v":81.069999999999993},{"$f":"[3]ReportTable!$AX426","v":1.1062682372147135},null,null,null,null,null,49,null,null,null,8,17,23,"X",null,23,23,"Southwest","QNOV0.8","A","P","-4.133","1.242","1.935"]
["QNOVMEAN=10-3.43A1.122P1.75","OLS",{"$f":"[3]ReportTable!$C427","v":20},{"$f":"[3]ReportTable!$E427","v":"--"},{"$f":"[3]ReportTable!$G427","v":"--"},{"$f":"[3]ReportTable!$K427","v":"--"},{"$f":"IF($B219=\"GLS\",[3]ReportTable!$I427,\"--\")","v":"--"},{"$f":"IF($B219=\"GLS\",[3]ReportTable!$M427,\"--\")","v":"--"},{"$f":"IF($B219=\"OLS\",[3]ReportTable!$I427,\"--\")","v":45.858813208494141},{"$f":"IF($B219=\"OLS\",[3]ReportTable!$M427,\"--\")","v":88.63},{"$f":"[3]ReportTable!$AX427","v":0.99942402855095469},null,null,null,null,null,50,null,null,null,9,17,23,"X",null,23,23,"Southwest","QNOVMEAN","A","P","-3.43","1.122","1.75"]
["QDEC0.2=10-1.957A1.118(SLP50 + 1)0.932","OLS",{"$f":"[3]ReportTable!$C396","v":15},{"$f":"[3]ReportTable!$E396","v":"--"},{"$f":"[3]ReportTable!$G396","v":"--"},{"$f":"[3]ReportTable!$K396","v":"--"},{"$f":"IF($B220=\"GLS\",[3]ReportTable!$I396,\"--\")","v":"--"},{"$f":"IF($B220=\"GLS\",[3]ReportTable!$M396,\"--\")","v":"--"},{"$f":"IF($B220=\"OLS\",[3]ReportTable!$I396,\"--\")","v":37.647729371743736},{"$f":"IF($B220=\"OLS\",[3]ReportTable!$M396,\"--\")","v":92.53},{"$f":"[3]ReportTable!$AX396","v":0.95281551293381705},null,null,null,null,null,51,null,null,null,8,17,"X",24,null,23,33,"Southwest","QDEC0.2","A","SLP50","-1.957","1.118","0.932"]
["QDEC0.5=10-2.585A1.226(SLP50 + 1)1.182","OLS",{"$f":"[3]ReportTable!$C397","v":15},{"$f":"[3]ReportTable!$E397","v":"--"},{"$f":"[3]ReportTable!$G397","v":"--"},{"$f":"[3]ReportTable!$K397","v":"--"},{"$f":"IF($B221=\"GLS\",[3]ReportTable!$I397,\"--\")","v":"--"},{"$f":"IF($B221=\"GLS\",[3]ReportTable!$M397,\"--\")","v":"--"},{"$f":"IF($B221=\"OLS\",[3]ReportTable!$I397,\"--\")","v":49.94236163139955},{"$f":"IF($B221=\"OLS\",[3]ReportTable!$M397,\"--\")","v":89.76},{"$f":"[3]ReportTable!$AX397","v":1.0164290050048717},null,null,null,null,null,52,null,null,null,8,17,"X",24,null,23,33,"Southwest","QDEC0.5","A","SLP50","-2.585","1.226","1.182"]
["QDEC0.8=10-3.107A1.332(SLP50 + 1)1.328","OLS",{"$f":"[3]ReportTable!$C398","v":15},{"$f":"[3]ReportTable!$E398","v":"--"},{"$f":"[3]ReportTable!$G398","v":"--"},{"$f":"[3]ReportTable!$K398","v":"--"},{"$f":"IF($B222=\"GLS\",[3]ReportTable!$I398,\"--\")","v":"--"},{"$f":"IF($B222=\"GLS\",[3]ReportTable!$M398,\"--\")","v":"--"},{"$f":"IF($B222=\"OLS\",[3]ReportTable!$I398,\"--\")","v":66.461895711315023},{"$f":"IF($B222=\"OLS\",[3]ReportTable!$M398,\"--\")","v":86.22},{"$f":"[3]ReportTable!$AX398","v":1.0963704576349089},null,null,null,null,null,53,null,null,null,8,17,"X",24,null,23,33,"Southwest","QDEC0.8","A","SLP50","-3.107","1.332","1.328"]
["QDECMEAN=10-2.247A1.16(SLP50 + 1)1.03","OLS",{"$f":"[3]ReportTable!$C399","v":15},{"$f":"[3]ReportTable!$E399","v":"--"},{"$f":"[3]ReportTable!$G399","v":"--"},{"$f":"[3]ReportTable!$K399","v":"--"},{"$f":"IF($B223=\"GLS\",[3]ReportTable!$I399,\"--\")","v":"--"},{"$f":"IF($B223=\"GLS\",[3]ReportTable!$M399,\"--\")","v":"--"},{"$f":"IF($B223=\"OLS\",[3]ReportTable!$I399,\"--\")","v":40.768554789241762},{"$f":"IF($B223=\"OLS\",[3]ReportTable!$M399,\"--\")","v":91.85},{"$f":"[3]ReportTable!$AX399","v":0.97711321171702115},null,null,null,null,null,54,null,null,null,9,18,"X",24,null,23,33,"Southwest","QDECMEAN","A","SLP50","-2.247","1.16","1.03"]
["1The number of gaging stations used for each flow characteristic varies based on data availability. Some streamflow gaging stations were operated on a seasonal basis only."]
["2Regression coefficients for ordinary least squares (OLS) regressions relating streamflow characteristic to contributing drainage area for use with ungaged sites on gaged streams."]

{"sheet":"Table 1","index":4,"n_rows":57,"n_cols":3,"rows_kept":57,"cut":false,"hidden":false,"merged":[[0,0,0,2],[1,0,1,2]]}
["Table 1.  Definition of streamflow characteristics used in this study."]
["[--, StreamStats label has not been defined for this streamflow characteristic]"]
["Streamflow characteristic","StreamStats abbreviation for streamflow characteristic","Description of streamflow characteristic"]
["QAL7Q10","M7D10P","Streamflow for which the mean of a consecutive 7-day annual low-flow can be expected to be lower, on average, once every 10 years (also known as the non-exceedance probability of 10 percent) based on annual low-flow data"]
["QS214Q5","--","Streamflow for which the mean of a consecutive 14-day seasonal low-flow can be expected to be lower, on average, once every 5 years (also known as the non-exceedance probability of 20 percent) based on July–October (season 2) low-flow data"]
["QA0.2","--","Annual streamflow that is exceeded 20 percent of the time"]
["QA0.5","MEDAN","Annual streamflow that is exceeded 50 percent of the time, also known as the median annual streamflow"]
["QA0.8","--","Annual streamflow that is exceeded 80 percent of the time"]
["QAMEAN","QA","Mean annual streamflow"]
["QJAN0.2","JAND20","January streamflow that is exceeded 20 percent of the time"]
["QJAN0.5","JAND50","January streamflow that is exceeded 50 percent of the time, also known as the median January streamflow"]
["QJAN0.8","JAND80","January streamflow that is exceeded 80 percent of the time"]
["QJANMEAN","Q1","Mean January streamflow"]
["QFEB0.2","FEBD20","February streamflow that is exceeded 20 percent of the time"]
["QFEB0.5","FEBD50","February streamflow that is exceeded 50 percent of the time, also known as the median February streamflow"]
["QFEB0.8","FEBD80","February streamflow that is exceeded 80 percent of the time"]
["QFEBMEAN","Q2","Mean February streamflow"]
["QMAR0.2","MARD20","March streamflow that is exceeded 20 percent of the time"]
["QMAR0.5","MARD50","March streamflow that is exceeded 50 percent of the time, also known as the median March streamflow"]
["QMAR0.8","MARD80","March streamflow that is exceeded 80 percent of the time"]
["QMARMEAN","Q3","Mean March streamflow"]
["QAPR0.2","APRD20","April streamflow that is exceeded 20 percent of the time"]
["QAPR0.5","APRD50","April streamflow that is exceeded 50 percent of the time, also known as the median April streamflow"]
["QAPR0.8","APRD80","April streamflow that is exceeded 80 percent of the time"]
["QAPRMEAN","Q4","Mean April streamflow"]
["QMAY0.2","MAYD20","May streamflow that is exceeded 20 percent of the time"]
["QMAY0.5","MAYD50","May streamflow that is exceeded 50 percent of the time, also known as the median May streamflow"]
["QMAY0.8","MAYD80","May streamflow that is exceeded 80 percent of the time"]
["QMAYMEAN","Q5","Mean May streamflow"]
["QJUN0.2","JUND20","June streamflow that is exceeded 20 percent of the time"]
["QJUN0.5","JUND50","June streamflow that is exceeded 50 percent of the time, also known as the median June streamflow"]
["QJUN0.8","JUND80","June streamflow that is exceeded 80 percent of the time"]
["QJUNMEAN","Q6","Mean June streamflow"]
["QJUL0.2","JULD20","July streamflow that is exceeded 20 percent of the time"]
["QJUL0.5","JULD50","July streamflow that is exceeded 50 percent of the time, also known as the median July streamflow"]
["QJUL0.8","JULD80","July streamflow that is exceeded 80 percent of the time"]
["QJULMEAN","Q7","Mean July streamflow"]
["QAUG0.2","AUGD20","August streamflow that is exceeded 20 percent of the time"]
["QAUG0.5","AUGD50","August streamflow that is exceeded 50 percent of the time, also known as the median August streamflow"]
["QAUG0.8","AUGD80","August streamflow that is exceeded 80 percent of the time"]
["QAUGMEAN","Q8","Mean August streamflow"]
["QSEP0.2","SEPD20","September streamflow that is exceeded 20 percent of the time"]
["QSEP0.5","SEPD50","September streamflow that is exceeded 50 percent of the time, also known as the median September streamflow"]
["QSEP0.8","SEPD80","September streamflow that is exceeded 80 percent of the time"]
["QSEPMEAN","Q9","Mean September streamflow"]
["QOCT0.2","OCTD20","October streamflow that is exceeded 20 percent of the time"]
["QOCT0.5","OCTD50","October streamflow that is exceeded 50 percent of the time, also known as the median October streamflow"]
["QOCT0.8","OCTD80","October streamflow that is exceeded 80 percent of the time"]
["QOCTMEAN","Q10","Mean October streamflow"]
["QNOV0.2","NOVD20","November streamflow that is exceeded 20 percent of the time"]
["QNOV0.5","NOVD50","November streamflow that is exceeded 50 percent of the time, also known as the median November streamflow"]
["QNOV0.8","NOVD80","November streamflow that is exceeded 80 percent of the time"]
["QNOVMEAN","Q11","Mean November streamflow"]
["QDEC0.2","DECD20","December streamflow that is exceeded 20 percent of the time"]
["QDEC0.5","DECD50","December streamflow that is exceeded 50 percent of the time, also known as the median December streamflow"]
["QDEC0.8","DECD80","December streamflow that is exceeded 80 percent of the time"]
["QDECMEAN","Q12","Mean December streamflow"]

{"sheet":"Table 2","index":5,"n_rows":49,"n_cols":3,"rows_kept":49,"cut":false,"hidden":false,"merged":[[0,0,0,2],[48,0,48,2],[43,0,43,2],[44,0,44,2],[45,0,45,2],[46,0,46,2],[47,0,47,2]]}
["Table 2. Selected basin characteristics evaluated as explanatory variables in the regional regression equations."]
["[-- not applicable]"]
["StreamStats abbreviation","Abbreviations for basin characteristics discussed in this report","Definition"]
["APRAVTMP","--","Mean April temperature, in degrees Fahrenheit1"]
["AUGAVTMP","--","Mean August temperature, in degrees Fahrenheit1"]
["BASINPERIM","--","Perimeter of the contributing drainage area, in miles2"]
["BSLDEM30M","--","Mean basin slope for the contributing drainage area2"]
["COMPRAT","--","Compactness ratio for the contributing drainage area, computed using the CONTDA and BASINPERIM basin characteristics2"]
["CONTDA","A","Contributing drainage area, in square miles2"]
["DECAVTMP","--","Mean December temperature, in degrees Fahrenheit1"]
["EL5000","--","Percentage of contributing drainage basin above 5,000 feet elevation2"]
["EL5500","--","Percentage of contributing drainage basin above 5,500 feet elevation2"]
["EL6000","--","Percentage of contributing drainage basin above 6,000 feet elevation2"]
["EL6500","--","Percentage of contributing drainage basin above 6,500 feet elevation2"]
["EL7000","--","Percentage of contributing drainage basin above 7,000 feet elevation2"]
["ELEV","--","Mean basin elevation, in feet2"]
["ELEVMAX","--","Maximum basin elevation, in feet2"]
["ET0306MOD","--","Spring (March - June) mean monthly evapotranspiration (2000 - 2012), in inches per month3"]
["ET0710MOD","--","Summer (July - October) mean monthly evapotranspiration (2000 - 2012), in inches per month3"]
["FEBAVTMP","--","Mean February temperature, in degrees Fahrenheit1"]
["IRRIGAT_MT","--","Percent of contributing drainage basin under some irrigation regime4"]
["JANAVTMP","--","Mean January temperature, in degrees Fahrenheit1"]
["JULAVTMP","--","Mean July temperature, in degrees Fahrenheit1"]
["JUNAVTMP","--","Mean June temperature, in degrees Fahrenheit1"]
["LAKESNHDH","--","Percentage of contributing drainage basin in lakes, ponds, and reservoirs5"]
["LC01CRPHAY","--","Percentage of contributing drainage basin covered by agriculture6"]
["LC01DEV","--","Percentage of contributing drainage basin covered by urban land6"]
["LC01FOREST","--","Percentage of contributing drainage basin covered by forest6"]
["LC01WETLND","--","Percentage of contributing drainage basin covered by wetlands6"]
["MARAVTMP","--","Mean March temperature, in degrees Fahrenheit1"]
["MAXTEMP","--","Mean annual maximum temperature, in degrees Fahrenheit1"]
["MAYAVTMP","--","Mean May temperature, in degrees Fahrenheit1"]
["MINBELEV","--","Minimum basin elevation, in feet2"]
["MINTEMP","--","Mean annual minimum temperature, in degrees Fahrenheit1"]
["NFSL30_30M","--","Percentage of contributing drainage basin with north-facing slopes greater than or equal to 30 percent2"]
["NOVAVTMP","--","Mean November temperature, in degrees Fahrenheit1"]
["OCTAVTMP","--","Mean October temperature, in degrees Fahrenheit1"]
["PRECIP","P","Mean annual precipitation, in inches1"]
["RELIEF","--","Difference between the maximum and minimum elevations of the basin, in feet2"]
["SEPAVTMP","--","Mean September temperature, in degrees Fahrenheit1"]
["SLOP30_30M","--","Percentage of contributing drainage basin with slopes greater than or equal to 30 percent2"]
["SLOP50_30M","SLP50","Percentae of contributing drainage basin with slopes greater than or equal to 50 percent2"]
["TEMP","--","Mean annual temperature, in degrees Fahrenheit1"]
["1Parameter-elevation Regressions on Independent Slopes Model  (PRISM Climate Group, 2004) and Long Term Mean Climate Grids for Canada (Natural Resources Canada, 2015) for 1971‒2000."]
["230-meter National Elevation Dataset (NED; Gesch and others, 2002). Elevation refers to distance above North American Vertical Datum of 1988."]
["3Moderate Resolution Imaging Spectroradiometer (MODIS) global evapotranspiration product (MOD16) data (Mu and others, 2007)."]
["4Final Land Unit (FLU) classification (Montana Department of Revenue, 2014)."]
["5National Hydrological Dataset (NHD) High-resolution waterbodies (Horizon Systems Corporation, 2013)."]
["6National Land Cover Dataset 2001 (NLCD; Homer and others, 2007), Northern Land Cover of Canada Circa 2000 (LCC2000; Natural Resources Canada, 2009)."]

{"sheet":"Table 3","index":6,"n_rows":11,"n_cols":5,"rows_kept":11,"cut":false,"hidden":false,"merged":[[0,0,0,4],[10,0,10,4]]}
["Table 3.  Hydrologic regions in Montana."]
["Hydrologic region\n(ordered clockwise from \nnorthwestern Montana)","Hydrologic region \nnumber (fig. 1)","1General description and extent","Number of selected gaing stations","Regression equations developed"]
["West",1,"Mountains and valleys west of Continental Divide; parts of Flathead and Blackfoot River Basins",53,"Yes"]
["Northwest",2,"Eastern parts of Flathead and Blackfoot River Basins; mountains and foothills east of the Continental Divide and northeast of Missoula, Montana",26,"Yes"]
["Northwest Foothills",3,"Foothills and plains of the Marias, Teton, Sun, and Dearborn River Basins near Great Falls, Montana",10,"No"]
["Northeast Plains",4,"Rolling plains of the Milk River Basin upstream from Glasgow, Montana; foothills and plains part of the Judith River Basin",26,"No"]
["East-Central Plains",5,"Plains and badlands of the lower parts of Musselshell, Missouri, Milk, and Poplar River Basins; northern part of Yellowstone River Basin east of Billings, Montana",12,"No"]
["Southeast Plains",6,"Rolling plains of southern part of Yellowstone River Basin east of Billings, Montana",13,"No"]
["Upper Yellowstone-Central Mountain",7,"Mountains and valleys of the upper Yellowstone River Basin; mountains and valleys of the Smith River Basin; parts of the Judith and Musselshell River Basins",49,"Yes"]
["Southwest",8,"Mountains and valleys of the Missouri River Basin upstream from the Dearborn River",24,"Yes"]
["1 The general description and extent of the region as defned by Parrett and Johnson (2004)."]

{"sheet":"Table 4","index":7,"n_rows":8,"n_cols":7,"rows_kept":8,"cut":false,"hidden":false,"merged":[[0,0,0,6],[2,1,2,2],[1,0,1,6],[2,3,2,4],[2,5,2,6],[2,0,3,0]]}
["Table 4.  Ranges of values for basin characteristics used to develop regional regression equations."]
["[A, contributing drainage area, in square miles; P, mean annual precipitation, in inches; SLP50, percentage of basin with slope greater than 50 percent; Min, minimum; Max, maximum; --, not used in regression equations for indicated region]"]
["Hydrologic region\n(ordered clockwise from northwestern Montana)","A",null,"P",null,"SLP50"]
[null,"Min","Max","Min","Max","Min","Max"]
["West",6.4,2516,"--","--",1.869,67.474000000000004]
["Northwest",7.74,1556,20.742000000000001,83.156000000000006,5.7000000000000002E-2,65.94]
["Upper Yellowstone-Central Mountain",28.1,2616,16.454000000000001,38.847000000000001,"--","--"]
["Southwest",24.4,2472,16.738,37.018000000000001,0.96199999999999997,22.553000000000001]

{"sheet":"Table 1-1","index":8,"n_rows":163,"n_cols":58,"rows_kept":163,"cut":false,"hidden":false,"merged":[[0,0,0,57],[138,0,138,57],[1,0,1,41],[2,4,2,57],[7,0,7,57],[61,0,61,57],[88,0,88,57],[2,0,3,0],[2,1,3,1],[2,2,3,2],[2,3,3,3]]}
["Table 1–1.  Streamflow characteristics for each streamflow-gaging station used to develop the regional regression equations."]
["[Water year is the 12-month period from October 1 through September 30 and is designated by the year in which it ends. Streamflow characteristics are defined in table 1; --, not reported]"]
["Map number\n(fig. 1)","Station identification number","Station name","Analysis period of record, in water years","Streamflow for inidcated streamflow characteristic, in cubic feet per second"]
[null,null,null,null,"QAL7Q10","QS214Q5","QA0.2","QA0.5","QA0.8","QAMEAN","QJAN0.2","QJAN0.5","QJAN0.8","QJANMEAN","QFEB0.2","QFEB0.5","QFEB0.8","QFEBMEAN","QMAR0.2","QMAR0.5","QMAR0.8","QMARMEAN","QAPR0.2","QAPR0.5","QAPR0.8","QAPRMEAN","QMAY0.2","QMAY0.5","QMAY0.8","QMAYMEAN","QJUN0.2","QJUN0.5","QJUN0.8","QJUNMEAN","QJUL0.2","QJUL0.5","QJUL0.8","QJULMEAN","QAUG0.2","QAUG0.5","QAUG0.8","QAUGMEAN","QSEP0.2","QSEP0.5","QSEP0.8","QSEPMEAN","QOCT0.2","QOCT0.5","QOCT0.8","QOCTMEAN","QNOV0.2","QNOV0.5","QNOV0.8","QNOVMEAN","QDEC0.2","QDEC0.5","QDEC0.8","QDECMEAN"]
[]
[null,null,null,null,"AL7Q10","S214Q5","A0.2","A0.5","A0.8","AMEAN","JAN0.2","JAN0.5","JAN0.8","JANMEAN","FEB0.2","FEB0.5","FEB0.8","FEBMEAN","MAR0.2","MAR0.5","MAR0.8","MARMEAN","APR0.2","APR0.5","APR0.8","APRMEAN","MAY0.2","MAY0.5","MAY0.8","MAYMEAN","JUN0.2","JUN0.5","JUN0.8","JUNMEAN","JUL0.2","JUL0.5","JUL0.8","JULMEAN","AUG0.2","AUG0.5","AUG0.8","AUGMEAN","SEP0.2","SEP0.5","SEP0.8","SEPMEAN","OCT0.2","OCT0.5","OCT0.8","OCTMEAN","NOV0.2","NOV0.5","NOV0.8","NOVMEAN","DEC0.2","DEC0.5","DEC0.8","DECMEAN"]
[null,null,null,null,18,119,230,227,224,415,245,242,239,416,260,257,254,417,275,272,269,418,290,287,284,419,305,302,299,420,320,317,314,421,335,332,329,422,350,347,344,423,365,362,359,424,380,377,374,425,395,392,389,426,410,407,404,427]
["West hydrologic region"]
[596,12301300,"Tobacco River near Eureka, Montana","1959–2009",37.594999999999999,56.110999999999997,415,147,66,263,130,90,63,102,130,97,57,109,191,124,87,156,599,340,186,415,1020,687,471,756,980,700,433,727,443,253,149,298,170,114,71,122,137,102,70,107,139,103,76,112,157,110,81,131,137,96,71,113]
[605,12301999,"Wolf Creek near Libby, Montana","1968–77","--","--",75,33,15,70,19,11,5.7,22,37,14,6.6,27,69,33,16,69,479,136,51,263,463,262,117,296,122,65,37,82,36,22,11,30,14,12,7.4,11,12,9.1999999999999993,6.9,9.1999999999999993,12,10,8.6,11,13,11,8.6,11,15,9.6,7.9,12]
[607,12302055,"Fisher River near Libby, Montana","1968–2009",57.314,73.902000000000001,735,255,121,468,323,201,99,248,351,224,117,327,758,379,187,570,1740,940,532,1180,1930,1190,731,1380,1160,745,354,799,402,236,142,281,176,128,86,134,140,112,81,114,155,117,93,131,273,161,89,223,283,160,87,234]
[609,12302500,"Granite Creek near Libby, Montana","1933, 1937–43, 1961–69",5.3710000000000004,6.4589999999999996,115,53,24,71,26,19,13,20,35,17,9.3000000000000007,26,42,23,15,31,153,84,44,116,325,216,135,234,306,210,125,224,104,57,34,72,29,21,12,22,24,13,7.5,18,41,19,8.6,27,46,25,12,33,47,31,15,39]
[611,12303100,"Flower Creek near Libby, Montana","1961–92",3.8370000000000002,4.9169999999999998,37,13,6.9,26,14,9.8000000000000007,5.7,9.1,12,7.3,4.7,9.3000000000000007,15,9,5.4,11,43,22,12,31,123,73,41,84,125,81,46,88,43,23,13,29,13,9.6,6.8,10,9.8000000000000007,7.7,6.1,8.4,12,8,5.5,9.1,16,8.8000000000000007,5.2,13,14,10,6,10]
[614,12303500,"Lake Creek at Troy, Montana","1945–57, 1983–96",76.084000000000003,102.337,649,258,131,428,331,188,113,232,364,203,114,286,451,266,166,305,850,559,312,611,1590,1120,722,1190,1460,966,551,1030,607,352,233,438,255,197,151,206,175,148,123,148,212,143,106,177,358,216,112,270,382,207,124,280]
[615,12304040,"Basin Creek near Yaak, Montana","1990–2000","--",6.48,47,16,8.4,32,11,7.2,4.9000000000000004,9.6999999999999993,13,8.1,5.4,12,20,12,7.4,15,83,36,22,53,178,101,64,122,133,72,38,85,43,26,17,30,17,13,8.8000000000000007,14,11,8.8000000000000007,7.1,9.5,12,8.4,6.8,9.4,16,10,6.5,16,17,8.6999999999999993,5.4,16]
[621,12304500,"Yaak River near Troy, Montana","1956–2009",68.602999999999994,93.623999999999995,1260,376,177,836,386,242,127,291,469,254,134,344,845,421,202,601,2750,1540,821,1900,4780,3070,1950,3450,2830,1580,817,1870,683,394,240,479,250,178,121,190,195,143,103,157,225,158,114,192,414,216,116,312,412,228,118,311]
[624,12323240,"Blacktail Creek at Butte, Montana","1989–2009",4.7539999999999996,5.5410000000000004,17,9.6999999999999993,6.1,13,9.9,8.1,7.2,8.6,12,9.3000000000000007,6.9,10,17,12,8.4,14,23,15,11,18,29,18,11,21,32,16,9.1999999999999993,23,14,8.9,6.8,12,12,8.4,6.2,9.4,11,8.3000000000000007,6.4,8.9,12,9.9,7.5,10,12,9.6,7.7,10,11,8.4,7.2,8.9]
[627,12323500,"German Gulch Creek near Ramsay, Montana","1956–69",3.6739999999999999,6.8330000000000002,24,11,5.7,21,7.9,6.4,5.4,6.6,8.1,6.4,5.2,6.8,9.8000000000000007,7.1,5.0999999999999996,8.5,25,14,9.6999999999999993,18,95,56,34,65,112,66,39,76,32,19,13,23,14,11,7.9,11,11,9.3000000000000007,7.6,9.6,12,8.6999999999999993,7.4,9.4,9.9,8,6.7,8.1,9.6,7,5.8,7.5]
[628,12323600,"Silver Bow Creek at Opportunity, Montana","1988–2009",12.337,13.983000000000001,66,41,22,51,42,30,24,34,57,43,28,45,63,43,32,52,83,56,42,65,127,85,48,98,143,79,40,100,65,33,21,43,39,22,15,28,39,27,21,30,44,34,26,35,46,34,26,35,41,28,23,32]
[633,12324100,"Racetrack Creek below Granite Creek, near Anaconda, Montana","1958–72",14.489000000000001,23.992000000000001,88,33,16,61,23,20,17,20,23,20,18,20,22,19,17,20,32,23,20,27,162,87,42,103,289,226,155,230,130,98,79,108,88,70,53,71,55,43,33,44,41,29,26,33,30,24,21,25,25,21,17,22]
[634,12324200,"Clark Fork at Deer Lodge, Montana","1979–2009",25.716000000000001,34.195999999999998,330,218,128,251,267,206,157,217,278,214,167,235,310,234,192,255,336,256,194,272,516,329,191,383,781,379,176,493,354,135,59,209,145,82,41,102,234,143,96,165,299,214,156,230,310,229,179,243,271,207,161,217]
[636,12324590,"Little Blackfoot River near Garrison, Montana","1973–2009",12.986000000000001,18.925000000000001,225,143,61,152,76,58,36,62,93,65,37,81,145,89,63,118,336,171,110,228,711,401,194,481,597,298,131,390,187,105,58,131,85,49,26,60,75,48,29,55,91,68,47,71,89,65,53,71,72,56,36,63]
[642,12330000,"Boulder Creek at Maxville, Montana","1939–2009",5.31,6.9909999999999997,51,29,13,45,22,18,15,19,21,19,15,18,21,18,15,19,35,22,17,28,173,89,45,116,256,155,82,173,82,45,22,58,29,17,11,21,24,16,9.3000000000000007,18,30,22,14,23,28,22,18,24,25,21,16,21]
[646,12331800,"Clark Fork near Drummond, Montana","1993–2009",122.36,152.53800000000001,885,561,379,694,604,473,365,491,683,533,332,569,784,586,460,669,1040,664,540,803,1600,1050,642,1200,2350,1270,697,1550,1010,484,299,679,506,279,189,355,579,370,249,424,708,561,464,580,709,560,476,585,605,480,402,497]
[648,12332000,"Middle Fork Rock Creek near Philipsburg, Montana","1938–2009",14.352,34.484000000000002,149,49,23,118,39,31,24,32,39,32,24,33,43,34,27,36,100,55,36,74,497,274,147,337,673,426,258,474,239,144,87,174,89,65,47,69,62,49,39,52,55,45,37,49,50,40,33,43,43,34,27,36]
[649,12334510,"Rock Creek near Clinton, Montana","1973–2009",73.402000000000001,163.09,657,284,128,517,222,170,124,184,215,177,137,189,299,214,173,244,738,388,247,508,2120,1210,763,1500,2500,1440,777,1680,897,544,340,657,414,284,195,308,330,261,179,261,291,242,192,248,265,216,178,228,232,181,137,196]
[653,12335500,"Nevada Creek above reservoir, near Helmville, Montana","1939–2009",3.0939999999999999,4.9329999999999998,46,30,13,35,19,12,6,12,25,16,7.6,16,44,21,11,34,92,47,20,66,171,84,37,110,136,65,27,88,36,23,12,27,20,12,7.3,14,14,9.1,6,10,18,13,8.6,14,18,14,10,15,17,12,5.7,12]
[654,12338300,"North Fork Blackfoot River above Dry Gulch, near Ovando, Montana","1998–2009",73.515000000000001,131.53800000000001,481,175,108,369,122,102,92,109,115,93,84,101,129,100,82,113,538,232,129,354,1710,1060,724,1300,1650,1060,720,1190,512,349,268,418,253,213,183,219,197,170,155,174,176,151,137,155,176,138,110,159,147,117,102,127]
[655,12338500,"Blackfoot River near Ovando, Montana","1941–63",154.40899999999999,306.28199999999998,1060,454,236,855,329,269,219,274,328,267,223,287,361,295,239,341,1060,545,316,721,3790,2110,973,2460,4150,2780,1560,3000,1540,941,623,1140,651,488,390,526,463,383,325,397,449,365,309,395,439,355,297,377,388,301,252,324]
[659,12338690,"Monture Creek near Ovando, Montana","1974–83","--","--",269,74,40,192,64,36,30,47,62,37,30,44,70,50,30,56,331,130,66,211,984,586,328,668,1090,670,401,746,335,193,112,247,103,81,64,83,67,56,43,55,51,45,39,46,46,41,37,46,42,38,33,45]
[661,12339450,"Clearwater River near Clearwater, Montana","1975–92",25.152999999999999,31.472999999999999,449,109,52,281,114,79,62,92,114,76,59,86,194,123,68,160,1030,529,200,648,1410,904,612,1010,1030,703,344,701,364,182,91,233,111,70,40,76,85,54,36,65,102,71,52,80,140,80,62,100,123,80,67,105]
[663,12340000,"Blackfoot River near Bonner, Montana","1900–01, 1903–05, 1940–2009",285.18599999999998,472.31799999999998,2150,740,393,1560,672,529,414,555,680,530,414,595,966,647,498,786,3060,1580,907,2060,7040,4180,2730,4850,6650,4340,2470,4710,2380,1460,930,1730,1010,782,565,804,791,655,494,654,734,616,494,643,759,605,504,652,711,547,440,603]
[669,12343400,"East Fork Bitterroot River near Conner, Montana","1956–72, 2001–4",41.182000000000002,76.344999999999999,336,126,64,281,101,79,65,84,102,80,69,89,142,95,76,112,342,206,133,257,1380,793,486,940,1570,1010,541,1080,398,244,168,293,160,119,95,127,136,107,87,113,134,106,86,113,121,100,81,102,108,85,63,89]
[675,12346500,"Skalkaho Creek near Hamilton, Montana","1949–53, 1958–79, 2001–3",16.516999999999999,31.675999999999998,114,42,24,91,31,25,21,26,28,25,21,25,29,25,21,26,73,39,27,52,367,187,96,232,490,386,214,373,190,121,84,147,83,63,50,67,56,45,37,47,47,39,32,41,41,34,29,35,34,28,24,29]
[676,12347500,"Blodgett Creek near Corvallis, Montana","1947–69",2.3679999999999999,3.7080000000000002,109,24,10,70,22,11,7.2,15,20,13,7.7,15,21,15,9.6,18,112,50,27,75,360,241,127,254,362,258,168,269,143,70,35,91,29,20,10,21,23,11,5.6,17,41,17,6.5,27,40,18,9.4,26,32,17,8.1,22]
[678,12350000,"Bear Creek near Victor, Montana","1938–54, 1958–59",1.4350000000000001,2.3370000000000002,101,25,10,66,17,12,6.6,13,16,11,6.8,12,17,12,9.1999999999999993,16,123,60,25,81,363,228,120,252,344,217,134,243,130,56,24,84,18,10,5.9,13,14,6.4,2.9,11,34,14,6.5,22,33,15,7.8,22,31,13,6.1,19]
[681,12350500,"Kootenai Creek near Stevensville, Montana","1949–53, 1958–63","--","--",124,28,12,79,17,12,8.6,13,26,13,8.8000000000000007,19,22,18,12,19,126,61,31,84,360,209,120,246,413,287,186,309,184,99,51,125,34,19,11,24,24,13,7.7,18,61,27,11,40,51,24,12,33,32,15,9.9,21]
[682,12351000,"Burnt Fork Bitterroot River near Stevensville, Montana","1920, 1939–62",7.1829999999999998,15.085000000000001,60,22,9.8000000000000007,48,19,17,14,17,20,16,13,16,19,16,13,17,63,31,18,42,214,108,62,141,251,166,95,180,87,50,35,66,37,29,21,30,25,22,18,22,25,20,17,22,26,20,17,22,24,19,16,20]
[683,12351200,"Bitterroot River near Florence, Montana","1958–65, 2003–9",397.22800000000001,443.71,2750,944,523,2130,1050,706,584,807,1070,774,654,883,1180,838,701,1000,2800,1890,1160,2220,9060,5160,3160,6270,10900,7600,4260,7780,2870,1400,690,1960,887,620,516,715,1120,735,554,918,1190,868,636,1040,1380,942,628,1120,1180,811,619,937]
[685,12352000,"Lolo Creek above Sleeman Creek, near Lolo, Montana","1951–60","--","--","--","--","--","--",119,60,46,77,108,70,53,91,128,88,57,101,535,302,134,372,1070,816,516,838,864,638,395,652,321,175,87,211,72,48,24,50,59,39,18,43,"--","--","--","--",134,74,40,89,120,65,45,87]
[690,12353280,"Ninemile Creek near Huson, Montana","1974–83","--","--",195,56,29,132,60,42,24,54,59,34,25,48,146,84,36,109,435,224,95,271,677,458,257,479,504,296,170,339,144,95,61,104,53,39,28,42,40,34,25,33,35,31,26,31,36,31,27,32,53,31,25,43]
[695,12354000,"St. Regis River near St. Regis, Montana","1911–14, 1959–75, 2002–9",64.313999999999993,80.762,850,282,137,541,343,231,119,259,368,204,135,277,574,312,183,421,1620,1050,601,1190,2890,1810,1180,2090,2160,1200,585,1420,497,291,191,378,184,146,108,150,141,112,91,117,154,113,93,132,252,142,89,199,287,145,81,205]
[698,12355000,"Flathead River at Flathead, British Columbia","1929–39, 1941–95, 2000–9",85.245000000000005,167.53,1200,414,199,889,248,158,120,192,216,154,114,174,236,178,120,208,1390,552,228,896,4990,3100,1830,3460,4470,2660,1500,3020,1330,769,480,949,478,343,251,376,347,254,195,289,405,241,158,329,476,259,144,348,294,197,143,236]
[718,12363920,"Stillwater River at Olney, Montana","1973–82","--","--",228,75,44,148,62,40,32,51,64,42,34,48,76,49,40,59,258,139,78,180,562,396,278,421,600,446,259,473,282,193,109,210,141,98,63,99,86,71,45,70,64,58,43,55,68,54,45,57,64,48,42,53]
[720,12365000,"Stillwater River near Whitefish, Montana","1931–50, 1973–2006",47.402000000000001,67.275999999999996,539,159,73,355,143,97,72,123,144,102,74,124,215,128,89,163,1010,492,230,660,1590,1050,590,1150,1220,784,430,857,539,318,179,372,241,165,92,174,164,124,76,125,138,109,74,113,153,114,82,127,142,97,74,121]
[722,12366000,"Whitefish River near Kalispell, Montana","1929–50, 1973–2006",23.332000000000001,28.413,294,104,47,190,94,58,43,72,90,59,42,70,127,84,58,97,329,188,112,227,705,490,357,527,805,598,375,606,392,228,132,272,151,103,64,109,111,78,50,81,92,66,43,70,88,69,47,72,96,59,45,72]
[724,12367500,"Ashley Creek near Kalispell, Montana","1931–32, 1934–50, 1973–74",0,0,42,17,4.9000000000000004,34,12,4.0999999999999996,0.71,8,16,2.9,0.23,7.4,26,14,3.1,18,121,34,17,67,178,54,27,109,142,44,26,78,53,26,14,36,22,9.5,1.7,14,14,4.4000000000000004,0.39,7.2,12,4,0.46,6.3,13,5,0.98,7.3,11,3.7,0.45,6]
[725,12369200,"Swan River near Condon, Montana","1973–92",21.591000000000001,29.696000000000002,271,77,39,159,64,45,32,52,59,44,33,49,91,58,37,72,309,176,76,209,552,384,248,414,644,440,318,486,393,236,119,269,145,87,57,100,88,61,41,69,77,52,34,58,89,56,40,69,75,48,38,62]
[728,12370000,"Swan River near Bigfork, Montana","1922–2009",272.47000000000003,347.54700000000003,1770,682,370,1130,593,442,357,496,594,436,339,496,826,538,391,637,2080,1300,792,1500,3670,2600,1780,2800,4210,3120,2200,3270,2260,1400,891,1610,891,644,470,687,643,495,380,531,644,500,375,545,713,536,403,595,670,492,382,562]
[731,12371100,"Hell Roaring Creek near Polson, Montana","1917–32",2.3439999999999999,3.2320000000000002,7,5,3.7,6.7,5.4,4.5,3.6,4.7,5.4,4.4000000000000004,3.7,4.5,5.2,4,3.3,4.3,9,5.2,3.7,7.2,21,8.6999999999999993,5.0999999999999996,13,24,10,5.0999999999999996,14,9,5.6,4,7.3,7.2,5.6,4.3,5.8,6.5,5.2,4.0999999999999996,5.3,6.5,4.7,3.8,5,6.1,5.0999999999999996,4.2,5.2,6,5,4.2,5.3]
[733,12374250,"Mill Creek above Bassoo Creek, near Niarada, Montana","1983–2009",1.383,1.72,11,5,2.5,7.9,3.9,2.5,1.5,3.4,4.0999999999999996,2.7,1.7,3.6,8.9,3.9,2.4,6.9,29,12,6.5,20,34,19,12,26,21,12,6.5,15,7.1,4.5,3,5.4,3.8,2.8,2.1,3,2.9,2.4,1.9,2.4,2.9,2.4,2,2.5,3.8,2.7,1.9,3.4,3.7,2.6,1.8,3.4]
[738,12377150,"Mission Creek above reservoir, near St. Ignatius, Montana","1983–2009",6.62,15.506,76,22,11,48,12,10,8.6999999999999993,11,11,8.9,7.7,9.1999999999999993,13,9.9,8.3000000000000007,10,34,18,10,24,153,83,36,101,229,158,115,174,155,102,64,113,60,43,30,48,37,27,20,30,32,24,17,25,25,18,14,20,16,13,10,13]
[739,12378000,"Mission Creek near St. Ignatius, Montana","1907–17","--",28.875,"--","--","--","--","--","--","--","--",17,13,11,14,16,14,11,14,37,21,14,29,133,77,36,88,311,228,152,273,284,202,118,204,110,83,57,88,73,53,39,55,51,45,34,44,44,32,26,34,31,25,18,24]
[740,12381400,"South Fork Jocko River near Arlee, Montana","1983–2009",3.7559999999999998,16.067,83,30,13,58,17,11,7.6,13,15,11,7.4,11,21,14,9,17,90,40,18,56,281,171,105,201,284,180,113,201,99,71,49,78,47,38,28,38,32,26,20,27,25,20,17,21,22,17,13,19,19,13,8.9,15]
[741,12383500,"Big Knife Creek near Arlee , Montana","1911, 1913, 1915, 1983–2009",2.9239999999999999,6.66,14,7.6,4.9000000000000004,10,5.9,5,4.2,5,5.0999999999999996,4.4000000000000004,3.9,4.5,5.2,4.3,3.8,4.5,8,5.3,4.2,6.1,23,13,8,16,37,27,18,28,25,18,14,20,15,12,11,13,12,10,8.4,10,9.4,8.1999999999999993,6.9,8.1,7.8,6.9,5.7,6.8,6.8,5.7,4.9000000000000004,5.8]
[742,12387450,"Valley Creek near Arlee, Montana","1983–2008","--",6.6429999999999998,"--","--","--","--","--","--","--","--","--","--","--","--","--","--","--","--",19,11,7.5,14,43,27,20,32,38,24,15,28,17,13,9.6,14,12,9.9,7.6,10,10,9,7,8.9,9.5,8.3000000000000007,6.7,8.3000000000000007,"--","--","--","--","--","--","--","--"]
[743,12388200,"Jocko River at Dixon, Montana","1990–2009",87.664000000000001,138.89500000000001,251,182,112,232,158,129,115,138,153,124,111,134,171,136,119,150,298,184,142,225,632,339,216,438,868,489,264,581,324,205,159,259,199,172,143,174,205,185,153,183,208,183,155,184,204,174,147,181,181,149,129,158]
[744,12388400,"Revais Creek below West Fork, near Dixon, Montana","1983–2009",3.15,4.2919999999999998,23,10,5.4,18,6.8,4.8,3.8,5.5,6.3,4.7,3.8,5.6,9.8000000000000007,5.8,4.3,8.1,34,16,7.8,22,95,54,34,69,81,47,26,55,20,14,10,16,9.4,7.7,6.3,7.9,7.5,6,4.8,6.2,7.5,5.7,4.5999999999999996,6.2,8.1,5.9,4.7,6.7,7.2,5.3,3.9,6.5]
[748,12389500,"Thompson River near Thompson Falls, Montana","1911, 1956–2009",90.599000000000004,135.08199999999999,604,231,122,433,268,164,102,202,304,180,108,242,428,269,180,345,1120,622,358,774,1790,1150,706,1310,1420,902,474,996,523,360,240,396,289,231,166,233,231,191,143,190,207,175,138,178,232,174,136,195,244,173,130,201]
[749,12390700,"Prospect Creek at Thompson Falls, Montana","1956–2009",30.553000000000001,39.33,369,154,75,234,186,124,63,117,199,122,62,154,300,165,90,220,690,405,230,485,1120,697,448,794,789,462,225,526,200,133,97,158,99,82,64,82,73,63,48,61,62,51,40,53,134,93,52,79,144,87,49,110]
[755,12391550,"Bull River near Noxon, Montana","1973–82","--","--",610,210,101,389,300,171,92,261,275,171,104,246,380,256,187,300,736,435,272,531,1470,1010,697,1080,1430,893,535,1030,598,322,183,396,205,148,106,155,140,117,93,118,120,102,88,103,198,120,92,157,369,189,93,282]
["Northwest hydrologic region"]
[2,5011000,"Belly River near Mountain View, Alberta","1912–78",22.178000000000001,67.141999999999996,515,283,117,314,85,61,45,68,82,62,36,68,82,59,41,69,299,143,79,207,1150,710,405,786,1490,1010,669,1120,822,535,346,603,340,246,159,260,232,149,98,177,245,142,85,178,173,117,73,128,108,80,53,86]
[3,5011500,"Waterton River near international boundary","1947–63","--",36.795000000000002,417,91,41,274,44,31,23,36,40,25,18,32,35,24,17,27,192,58,27,129,1250,786,337,820,1500,1050,720,1140,796,402,219,520,173,116,81,130,121,73,52,99,239,110,43,161,130,77,43,94,82,46,31,59]
[4,5012500,"Boundary Creek at international boundary","1948–63","--",12.949,123,30,14,78,21,13,8.8000000000000007,15,16,11,7.3,13,14,12,6.8,11,60,24,11,41,325,201,100,212,368,279,188,284,192,108,73,137,61,43,31,47,42,26,19,35,73,34,16,50,44,28,17,32,26,18,12,21]
[6,5013700,"St. Mary River above Swiftcurrent Creek, near Babb, Montana","1902–15","--",179.80799999999999,"--","--","--","--","--","--","--","--","--","--","--","--","--","--","--","--",326,161,97,237,1440,900,512,1000,2530,1770,1240,1980,1680,1140,834,1300,760,627,463,633,578,345,270,406,505,282,210,345,414,216,134,269,"--","--","--","--"]
[9,5014500,"Swiftcurrent Creek at Many Glacier, Montana","1913, 1915–34, 1936–2009",8.0579999999999998,29.81,236,104,42,140,42,24,14,33,35,22,14,27,42,23,12,32,154,70,31,104,559,337,172,375,657,452,302,485,348,224,151,257,150,105,75,115,106,70,48,84,110,62,32,84,95,59,24,74,49,31,17,37]
[10,5015000,"Canyon Creek near Many Glacier, Montana","1918, 1921–23, 1925, 1928–34, 1936","--",5.476,"--","--","--","--","--","--","--","--","--","--","--","--","--","--","--","--","--","--","--","--",91,52,27,60,98,67,44,74,51,34,23,38,24,18,13,19,19,12,7.6,13,17,11,7.1,16,"--","--","--","--","--","--","--","--"]
[14,5020500,"St. Mary River at international boundary","1903–10, 1912–16","--",305.69299999999998,"--","--","--","--","--","--","--","--","--","--","--","--","--","--","--","--",939,581,279,647,2650,1760,1200,1910,4900,3090,2210,3680,2780,1900,1390,2140,1300,985,716,1030,873,598,436,678,838,581,402,630,664,416,282,476,"--","--","--","--"]
[112,6073000,"Dearborn River near Clemons, Montana","1921–23, 1929–32, 1934–53",10.509,11.587,161,79,36,131,46,29,23,33,43,31,23,33,43,32,24,37,197,68,31,129,554,322,156,375,683,346,144,451,187,82,31,123,68,35,18,47,52,27,14,35,60,41,22,44,60,37,28,46,55,33,25,41]
[129,6078500,"North Fork Sun River near Augusta, Montana","1946–68, 1989–92, 2008",36.170999999999999,80.328999999999994,712,455,198,363,80,64,53,66,78,63,52,66,80,63,52,68,383,164,78,271,1900,1160,585,1270,2090,1350,757,1470,659,371,241,487,212,162,128,172,151,114,95,129,150,105,83,122,122,91,73,100,102,74,60,82]
[131,6080000,"Sun River near Augusta, Montana","1905–22, 1924–25","--",164.18899999999999,"--","--","--","--","--","--","--","--",281,195,134,224,356,185,132,239,1180,473,239,742,3730,2330,1370,2650,5240,3050,1700,3660,1680,979,569,1270,612,392,264,452,443,316,243,344,386,316,208,305,414,283,175,310,300,227,146,231]
[133,6081500,"Willow Creek near Augusta, Montana","1905–25",1.2330000000000001,4.6349999999999998,41,26,10,36,15,8.6999999999999993,5.0999999999999996,12,25,16,6.8,19,21,13,5.5,16,35,20,11,24,79,48,22,67,124,58,22,99,56,26,9.5,39,29,14,3,18,20,10,4.7,13,22,14,7.6,15,18,13,9.1999999999999993,14,14,9.3000000000000007,5.3,11]
[134,6084500,"Elk Creek at Augusta, Montana","1905–08, 1910–19, 1921–24","--",4.3559999999999999,"--","--","--","--","--","--","--","--","--","--","--","--","--","--","--","--",97,58,33,69,386,178,55,262,552,238,86,385,167,68,26,105,67,34,12,45,61,31,9,34,68,42,23,48,"--","--","--","--","--","--","--","--"]
[149,6092000,"Two Medicine River near Browning, Montana","1910–11, 1913–24, 1951–77",2.9660000000000002,9.3989999999999991,1130,707,284,361,110,66,36,79,114,72,45,88,177,92,42,135,764,345,152,475,1860,1250,808,1400,2200,1170,473,1450,599,271,112,383,139,69,27,91,142,65,24,101,205,92,40,131,171,84,47,112,142,71,32,92]
[150,6092500,"Badger Creek near Browning, Montana","1951–73",36.076000000000001,93.884,544,348,153,229,103,85,61,83,104,90,70,92,109,89,73,96,233,136,94,179,923,601,349,651,1090,649,373,753,369,245,181,287,189,154,125,158,147,123,105,128,157,122,109,132,136,113,87,112,122,97,69,95]
[158,6098500,"Cut Bank Creek near Browning, Montana","1920, 1922, 1991–2007, 2009",9.4960000000000004,16.102,196,91,40,123,41,28,21,34,42,27,19,37,70,43,24,59,196,106,58,133,577,335,196,399,685,415,255,475,256,141,75,172,85,49,23,55,59,35,19,39,75,43,28,56,81,58,34,69,48,33,24,41]
[178,6102500,"Teton River below South Fork, near Choteau, Montana","1948–54, 1998–2001, 2004–8","--",57.679000000000002,"--","--","--","--","--","--","--","--","--","--","--","--","--","--","--","--",95,66,49,78,457,245,130,312,630,333,210,447,302,147,99,208,133,97,73,106,98,79,63,82,87,73,58,75,"--","--","--","--","--","--","--","--"]
[268,6132200,"South Fork Milk River near Babb, Montana","1961–2007, 2009","--",2.7469999999999999,"--","--","--","--","--","--","--","--","--","--","--","--",38,17,7.5,31,89,49,25,63,122,60,31,82,175,109,43,86,53,27,10,35,26,14,4.5,17,21,11,4.7,14,23,15,8.1999999999999993,17,"--","--","--","--","--","--","--","--"]
[272,6133500,"North Fork Milk River above St. Mary Canal, near Browning, Montana","1929, 1931, 1933, 1936–37, 1939–46, 1950, 1952–53, 1956, 1961, 1965–2009","--",6.45,"--","--","--","--","--","--","--","--","--","--","--","--",31,21,10,23,49,32,15,36,46,30,13,33,39,25,12,30,26,15,7.3,19,23,13,7.7,16,25,14,6.3,17,24,15,10,17,"--","--","--","--","--","--","--","--"]
[651,12335000,"Blackfoot River near Helmville, Montana","1941–53",71.613,128.96199999999999,430,193,104,352,139,121,95,119,138,119,95,121,142,116,100,125,358,174,113,271,1530,798,298,970,1790,1130,605,1260,676,415,267,500,298,222,168,235,206,171,144,173,191,161,123,159,178,150,124,149,155,134,103,132]
[700,12355500,"North Fork Flathead River near Columbia Falls, Montana","1911–17, 1931–32, 1934–2009",327.83800000000002,667.26400000000001,4550,1710,787,2960,982,659,476,775,876,646,486,737,1160,767,504,922,4910,2490,1150,3250,13400,8820,5680,9710,13800,9270,5620,9970,5520,3350,2100,3990,2070,1460,1080,1600,1410,1030,823,1150,1450,957,749,1160,1530,1020,519,1230,1130,771,564,912]
[704,12357000,"Middle Fork Flathead River at Essex, Montana","1940–53, 1956–64",84.692999999999998,152.934,1480,897,386,1090,287,195,127,223,303,197,128,238,318,209,150,251,1970,896,394,1320,6130,4080,2360,4350,5640,3240,1730,3790,1460,744,447,1040,410,304,227,326,285,225,189,244,500,243,165,357,492,277,155,355,493,248,151,333]
[708,12358500,"Middle Fork Flathead River near West Glacier, Montana","1940–2000, 2005–9",279.291,469.90800000000002,4640,2380,1050,2890,954,615,358,736,901,578,370,720,1130,688,413,893,4750,2390,1180,3190,13700,8750,5400,9630,13900,9340,5930,10000,5640,3270,1950,3910,1760,1250,882,1350,1170,809,613,934,1450,803,512,1070,1760,949,481,1230,1240,725,389,938]
[711,12359800,"South Fork Flathead River above Twin Creek, near Hungry Horse, Montana","1965–82, 1985–2005, 2007–8",178.88200000000001,287.66000000000003,3460,925,443,2310,610,370,216,479,628,380,227,520,729,473,301,588,3890,1830,853,2490,11100,6760,4010,7710,11800,7290,4380,8190,3900,2000,1120,2630,1000,690,481,759,652,456,338,559,715,469,302,573,975,529,296,706,614,409,255,514]
[712,12360000,"Twin Creek near Hungry Horse, Montana","1949–56, 1965–67","--","--",177,52,23,124,35,20,13,23,32,21,15,27,38,27,14,31,323,152,58,205,766,482,318,545,592,355,192,385,127,65,38,87,29,22,16,23,19,13,9.9,18,47,24,10,31,49,31,12,35,44,27,14,36]
[713,12361000,"Sullivan Creek near Hungry Horse, Montana","1949–56, 1960–76",17.725999999999999,24.779,338,101,46,225,88,48,26,64,86,47,28,69,93,54,37,75,403,199,97,272,1180,770,477,837,1130,725,454,797,282,153,91,197,75,54,39,60,68,40,27,59,129,54,29,89,143,75,35,96,109,62,29,80]
[714,12361500,"Graves Creek near Hungry Horse, Montana","1949–56, 1965–67","--","--",206,60,26,135,41,27,19,31,35,24,15,31,36,24,19,29,175,82,34,117,643,393,198,429,722,504,331,532,295,146,71,193,51,34,24,41,47,24,16,33,109,40,17,63,97,53,23,60,66,42,21,54]
["Upper Yellowstone-Central Mountain hydrologic region"]
[77,6043000,"Taylor Creek near Grayling, Montana","1946–53, 1955–56, 1967","--",23.573,"--","--","--","--","--","--","--","--","--","--","--","--","--","--","--","--","--","--","--","--",398,195,75,243,550,404,280,422,275,162,109,191,85,59,44,68,49,38,32,40,38,30,24,33,29,24,20,24,"--","--","--","--"]
[80,6043500,"Gallatin River near Gallatin Gateway, Montana","1930–69, 1972–81, 1985–2009",203.845,340.61900000000003,1010,424,252,805,343,292,250,298,340,288,251,294,351,293,257,305,621,414,314,500,2640,1570,860,1800,3900,2720,1770,2890,1700,1040,686,1260,726,556,449,595,568,460,382,477,529,425,360,442,442,364,298,371,362,303,255,309]
[84,6048000,"East Gallatin River at Bozeman, Montana","1940–61",18.763999999999999,27.696999999999999,107,49,26,85,46,38,30,39,47,40,31,42,69,49,35,60,209,128,70,158,324,210,124,236,257,152,82,178,81,55,38,63,54,39,28,42,58,46,37,49,60,51,43,52,58,50,42,50,52,45,36,46]
[85,6048500,"Bridger Creek near Bozeman, Montana","1946–69, 1971–72, 1987",2.282,5.2859999999999996,51,19,8.3000000000000007,37,10,6.2,4.3,7.2,10,7.4,4.2,8.9,19,10,5,15,89,48,23,64,216,131,77,154,146,83,46,101,43,26,16,31,18,12,7.5,13,13,9.4,6.6,11,14,9.4,7.4,11,14,9.3000000000000007,7,10,13,7.4,5.2,8.8000000000000007]
[87,6050000,"Hyalite Creek at Hyalite Ranger Station, near Bozeman, Montana","1935–50",10.712,22.675000000000001,91,35,19,62,25,20,16,21,22,20,16,19,21,17,14,17,63,30,17,47,187,131,79,143,252,188,135,196,138,85,51,97,57,41,32,44,45,33,25,35,41,30,22,32,33,26,19,26,26,20,15,21]
[88,6052500,"Gallatin River at Logan, Montana","1903–05, 1929–2009",223.35300000000001,268.5,1230,766,514,1060,790,680,569,681,815,680,549,695,922,748,618,790,1320,952,712,1040,3020,1780,1090,2100,4270,2710,1380,2890,1550,613,301,990,606,424,303,478,823,580,404,629,987,758,561,774,984,839,665,832,878,746,610,748]
[122,6077000,"Sheep Creek near White Sulphur Springs, Montana","1942–72",4.875,11.670999999999999,42,16,8.1999999999999993,32,12,9.1,7,9.1999999999999993,11,8.8000000000000007,7.2,9.1,11,8.6999999999999993,7,9.3000000000000007,28,14,9.6999999999999993,21,140,79,41,95,156,98,62,115,57,39,29,43,29,22,17,23,22,17,14,18,18,15,12,16,15,13,10,13,12,10,8,10]
[125,6077500,"Smith River near Eden, Montana","1951–69, 2006–8",14.282999999999999,49.012,450,249,101,338,150,82,47,99,181,120,72,137,252,148,91,184,532,296,183,388,1360,790,419,938,1690,852,490,1140,524,278,158,355,224,128,74,149,177,113,72,145,185,136,95,163,185,128,90,150,142,96,55,110]
[143,6090500,"Belt Creek near Monarch, Montana","1951–82",5.3849999999999998,36.149000000000001,340,213,86,192,39,28,18,29,42,30,18,31,47,30,19,36,190,77,36,127,991,559,292,697,1270,638,303,819,318,179,103,226,125,82,58,91,87,62,44,74,83,56,38,68,63,45,31,50,47,33,20,35]
[190,6109800,"South Fork Judith River near Utica, Montana","1959–79",2.0150000000000001,4.97,34,21,9.1,23,4.8,3.8,3,3.9,4.5,3.9,3.4,4,5.5,4,3.2,5.0999999999999996,31,12,5.8,21,159,79,38,104,103,53,24,73,32,20,12,23,15,11,7.4,12,10,8.1999999999999993,5.7,8.4,8.1999999999999993,6.6,5.0999999999999996,6.8,6.4,5.4,3.9,5.3,5.4,4.4000000000000004,3.5,4.4000000000000004]
[192,6110000,"Judith River near Utica, Montana","1920–29, 1934–75",0.40100000000000002,4.7450000000000001,70,39,16,57,4.7,3.1,1.8,3.3,3.2,2.1,1.2,2.2999999999999998,3.6,2.2000000000000002,0.89,2.5,27,9.6999999999999993,3.9,25,321,154,47,193,419,228,98,271,131,66,26,85,44,23,11,29,25,14,6.9,17,19,11,5.0999999999999996,13,13,8.9,4.7,10,8.3000000000000007,5.5,3.2,6.3]
[193,6111000,"Ross Fork Creek near Hobson, Montana","1946–53, 1955–62","--",0,52,28,4.9000000000000004,14,3,1.6,0.87,2.1,6.5,3,1.1000000000000001,4.9000000000000004,73,27,11,63,61,25,10,49,55,35,14,27,38,23,8.6,24,6.3,2.9,0.74,3.9,1.7,0.5,0,1.1000000000000001,0.77,9.0444444444444452E-3,0,0.44,2,0.65,0,0.97,3.3,1.8,0.81,2.1,3.3,2.1,1.4,2.7]
[197,6114500,"Wolf Creek near Stanford, Montana","1950–53, 1955–58, 1960–62","--",1.32,"--","--","--","--","--","--","--","--","--","--","--","--",3.8,2.4,1.2,2.4,5.0999999999999996,3.1,1.3,3.3,5.3,4,1.8,4.5,17,11,4.7,25,9.5,6.6,2.4,6.9,7.7,4.9000000000000004,2.2000000000000002,5,6.3,3.9,1.7,4,5.8,4.0999999999999996,1.5,3.7,4.9000000000000004,3.3,1.4,3.2,4.0999999999999996,2.2000000000000002,1.4,2.7]
[205,6115500,"North Fork Musselshell River near Delpine, Montana","1940–78",2.5569999999999999,3.4740000000000002,17,8.5,4.2,12,7.1,5.5,4.4000000000000004,5.7,7.6,5.7,4.3,6.3,11,6.1,3.5,9.1999999999999993,26,15,8.6,19,40,24,12,27,43,28,14,29,20,13,7.5,14,13,8.6999999999999993,4.9000000000000004,9,10,7.3,4,7.4,9.4,6.7,4.0999999999999996,7,8.9,7.2,5.6,7.4,7.6,6.2,4.7,6.4]
[209,6118500,"South Fork Musselshell River above Martinsdale, Montana","1942–79",1.389,4.2910000000000004,153,96,38,91,23,18,10,18,25,18,12,20,45,22,12,35,169,84,39,112,515,269,134,334,556,308,118,365,121,58,22,80,39,19,9.8000000000000007,25,33,19,8.9,23,40,28,16,31,35,26,18,28,29,21,10,22]
[212,6120500,"Musselshell River at Harlowton, Montana","1909–32, 1934–55",0,0,170,79,26,137,74,44,26,50,73,50,24,54,151,72,36,128,327,161,70,218,746,352,102,459,876,395,101,535,221,87,25,145,90,35,4.5,54,84,42,3.6,53,116,65,21,72,117,74,38,79,93,53,28,64]
[217,6121000,"American Fork near Harlowton, Montana","1908, 1911, 1913, 1924–32","--",0,"--","--","--","--","--","--","--","--","--","--","--","--","--","--","--","--",6.6,4.0999999999999996,2,5.9,88,18,5.5,46,166,44,11,93,11,1.9,0,8.8000000000000007,2.5,0,0,1.6,3.6,0.36,0,1.7,5.9,3.6,1.4,4.0999999999999996,"--","--","--","--","--","--","--","--"]
[218,6121500,"Lebo Creek near Harlowton, Montana","1909–11, 1913, 1924–31","--",1.431,"--","--","--","--","--","--","--","--","--","--","--","--","--","--","--","--",22,16,8.6,16,26,15,4.8,18,28,8.1,2.2999999999999998,16,11,4.9000000000000004,2.1,7.6,14,7.1,2.8,8.4,19,13,3.8,12,20,16,9.5,15,"--","--","--","--","--","--","--","--"]
[219,6122000,"American Fork below Lebo Creek, near Harlowton, Montana","1946–67",0.25600000000000001,1.468,43,27,11,31,17,13,7.8,13,21,15,9.1999999999999993,17,27,18,10,23,32,20,13,23,112,42,13,70,204,75,25,130,39,19,7.5,30,16,8.1,3.9,10,16,8.5,3.9,12,20,11,4.7,13,20,14,8.3000000000000007,15,19,13,8.8000000000000007,15]
[423,6191000,"Gardner River near Mammoth, Yellowstone National Park, Wyoming","1939–72, 1984–2009",71.063999999999993,104.46,249,127,78,213,106,96,84,96,100,92,84,93,102,93,84,94,171,114,93,141,735,447,256,511,976,642,395,695,394,251,172,296,191,152,124,159,159,132,113,135,144,123,107,126,127,110,96,111,114,101,88,101]
[424,6191500,"Yellowstone River at Corwin Springs, Montana","1911–32, 1934–2009",500.92599999999999,1104.489,4670,1410,768,3140,1010,800,646,822,1000,807,646,823,1050,885,728,893,1890,1270,967,1570,9270,5390,2760,6250,15000,10700,7370,11500,9210,6020,3840,6690,4080,2920,2100,3120,2380,1870,1460,1920,1820,1440,1160,1500,1400,1160,928,1180,1130,933,755,941]
[426,6193000,"Shields River near Wilsall, Montana","1935–57",4.9180000000000001,7.81,79,40,17,63,15,11,7.5,11,15,10,7.7,11,14,11,7.9,12,94,31,13,61,320,175,94,221,360,197,105,242,98,42,26,63,27,18,13,21,21,14,9.1999999999999993,16,23,17,12,19,21,15,11,16,17,13,9.5,14]
[427,6193500,"Shields River at Clyde Park, Montana","1921–23, 1929–32, 1934–67",7.5910000000000002,10.776999999999999,230,89,37,164,57,42,33,46,69,45,26,57,121,79,37,103,374,185,102,252,684,410,218,485,779,440,183,507,213,94,37,133,67,37,15,47,78,44,20,54,91,61,40,70,84,64,46,66,68,48,34,53]
[428,6194000,"Brackett Creek near Clyde Park, Montana","1921–23, 1934–35, 1938–57",1.996,4.5259999999999998,43,16,6.7,30,9.3000000000000007,6.1,4.3,7.1,9,6.2,4,7.2,12,8.1,4.0999999999999996,11,68,31,14,46,146,87,53,102,112,65,35,77,41,24,12,28,16,9.1999999999999993,5.6,11,13,9.6,6.2,9.8000000000000007,13,9.8000000000000007,7.4,11,12,8.8000000000000007,6.2,9.8000000000000007,11,6.7,5,8.4]
[430,6197000,"Big Timber Creek near Big Timber, Montana","1912–16, 1918–23","--",12.481,"--","--","--","--","--","--","--","--","--","--","--","--","--","--","--","--",66,43,25,48,234,116,67,145,407,278,176,310,258,149,76,176,77,47,29,56,44,32,21,35,43,29,17,31,33,26,19,25,"--","--","--","--"]
[431,6197500,"Boulder River near Contact, Montana","1910–15, 1951–69, 1971–74, 1982–83",39.901000000000003,84.617999999999995,484,153,72,375,70,62,53,63,64,57,51,58,61,55,49,55,116,77,50,101,1040,518,198,679,2670,1800,1130,1930,1420,825,489,994,380,235,168,277,190,145,117,158,175,127,90,133,114,91,73,94,87,70,60,73]
[432,6200000,"Boulder River at Big Timber, Montana","1947–53, 1955–2009",38.484999999999999,60.268000000000001,608,227,97,554,163,130,98,134,150,124,99,126,144,123,105,127,258,172,121,212,1810,874,375,1150,3740,2480,1540,2710,1870,947,383,1240,364,177,91,235,269,155,77,182,282,203,141,214,232,185,147,189,188,154,112,152]
[433,6200500,"Sweet Grass Creek above Melville, Montana","1919–21, 1937–69",4.5759999999999996,21.913,121,41,17,86,18,13,9.4,14,14,12,8.1999999999999993,12,13,10,7.4,11,23,17,9.8000000000000007,17,301,131,36,178,523,343,217,385,284,176,109,204,98,65,48,74,55,41,29,44,54,33,24,41,39,28,19,29,25,18,12,18]
[434,6201000,"Sweet Grass Creek below Melville, Montana","1908–10, 1913, 1916, 1918, 1921–24, 1937–42, 1946–52","--",14.756,117,48,21,89,36,27,20,28,30,21,17,24,39,25,15,30,53,35,23,44,280,122,45,174,502,315,168,361,267,130,59,170,78,48,22,57,66,40,23,47,88,64,35,66,70,55,30,52,55,42,27,41]
[440,6202510,"Stillwater River above Nye Creek, near Nye, Montana","1980–91",30.71,81.003,471,154,72,373,68,54,44,56,61,52,43,52,58,49,42,51,185,90,51,138,1210,628,205,781,2650,1660,950,1810,1410,666,406,912,364,283,199,294,204,160,119,169,149,121,84,127,106,81,62,88,78,63,47,63]
[442,6204500,"Rosebud Creek near Absarokee, Montana","1935–69",74.739000000000004,170.749,582,242,116,405,180,146,118,149,170,143,116,149,207,151,116,165,271,192,131,212,722,427,256,526,1630,1050,709,1200,1410,961,648,1060,611,431,292,464,391,296,220,310,292,240,190,246,233,202,167,200,198,166,133,166]
[443,6205000,"Stillwater River near Absarokee, Montana","1911–13, 1935–98, 2000–9",139.702,330.45800000000003,1280,448,212,932,333,275,216,280,312,263,213,268,346,255,199,283,520,353,257,408,2290,1180,640,1510,4720,3150,2040,3440,3180,2060,1230,2310,1190,785,539,879,769,567,401,601,623,497,391,514,475,407,334,404,378,318,249,317]
[445,6207500,"Clarks Fork Yellowstone River near Belfry, Montana","1922–23, 1926–32, 1934–2009",71.978999999999999,110.354,1260,362,163,928,282,235,195,241,263,231,196,233,256,221,187,232,544,300,215,424,3250,1620,671,2070,5650,3670,2360,4080,3230,1850,952,2180,878,497,275,598,433,257,153,303,380,245,150,271,369,285,210,293,321,264,212,267]
[447,6207800,"Bluewater Creek near Bridger, Montana","1960–70","--",23.341999999999999,30,28,26,28,31,30,27,29,31,29,27,29,31,29,28,29,31,29,28,29,30,28,27,28,29,27,25,28,29,25,24,26,28,26,25,26,30,27,26,28,30,28,27,28,31,29,27,29,31,29,27,29]
[450,6209500,"Rock Creek near Red Lodge, Montana","1932, 1934–82, 1985–86, 2000–9",19.864999999999998,57.823999999999998,273,84,41,168,39,34,28,33,34,31,25,30,33,28,24,29,44,35,27,39,332,147,62,217,797,513,330,577,625,435,309,482,311,237,183,253,176,135,102,140,98,75,62,80,64,53,44,54,47,40,33,41]
[451,6210000,"West Fork Rock Creek below Basin Creek, near Red Lodge, Montana","1938–56","--",27.545000000000002,"--","--","--","--","--","--","--","--","--","--","--","--","--","--","--","--","--","--","--","--",172,88,46,120,377,255,163,277,325,220,164,246,148,108,82,118,79,63,48,64,46,37,30,40,"--","--","--","--","--","--","--","--"]
[453,6211000,"Red Lodge Creek above Cooney Reservoir, near Boyd, Montana","1937–42, 1944–48, 1950–2008","--",12.093,"--","--","--","--","--","--","--","--","--","--","--","--","--","--","--","--",114,59,33,74,223,113,45,153,278,158,70,185,129,71,34,88,55,32,19,39,66,41,22,46,60,44,29,47,44,32,23,33,"--","--","--","--"]
[454,6211500,"Willow Creek near Boyd, Montana","1937–2004, 2006–8","--",15.526,"--","--","--","--","--","--","--","--","--","--","--","--","--","--","--","--",47,26,15,33,70,33,13,47,77,48,20,55,71,55,36,55,52,38,25,39,47,34,24,36,37,29,23,30,27,22,17,22,"--","--","--","--"]
[460,6216000,"Pryor Creek at Pryor, Montana","1922–23, 1967–2009",6.306,8.4009999999999998,55,35,16,30,34,26,20,28,34,27,21,29,37,27,22,30,39,27,22,31,68,46,23,51,53,29,15,39,30,18,10,22,28,18,10,19,32,23,15,25,38,29,21,30,36,28,21,30,35,27,20,29]
[464,6216900,"Pryor Creek near Huntley, Montana","1979–2000",0.85699999999999998,2.843,78,46,19,63,63,44,30,51,77,52,32,66,128,67,35,103,112,66,44,86,169,70,34,126,107,57,27,74,49,17,5.7,31,37,17,5.5,22,45,30,18,32,62,46,33,50,62,48,34,50,64,46,34,49]
[471,6287500,"Soap Creek near St. Xavier, Montana","1913, 1939–53, 1968–72",5.7190000000000003,11.71,41,27,11,31,27,19,13,22,39,21,13,31,61,33,18,45,53,36,21,41,56,33,18,48,56,32,18,46,34,24,12,25,26,19,12,19,26,20,13,21,28,23,17,24,27,24,16,22,24,19,14,19]
[472,6288000,"Rotten Grass Creek near St. Xavier, Montana","1913–17, 1919, 1968–72","--",3.1589999999999998,"--","--","--","--","--","--","--","--","--","--","--","--","--","--","--","--","--","--","--","--",69,38,16,54,67,29,11,50,27,17,6.7,22,14,7.9,2.8,8.8000000000000007,12,9.3000000000000007,4.5999999999999996,9.1,14,9.6999999999999993,6.5,11,"--","--","--","--","--","--","--","--"]
[473,6288200,"Beauvais Creek near St. Xavier, Montana","1967–77","--",4.2590000000000003,28,18,7.4,24,13,7.1,3.1,9.8000000000000007,18,9.5,4.2,16,30,15,8.1999999999999993,23,60,27,12,47,140,34,18,72,64,27,14,45,23,13,6.8,18,13,8.5,4.3,9.8000000000000007,12,7.1,4.5,8.6999999999999993,27,18,8.9,15,26,17,8.1999999999999993,12,8.5,6.1,3.6,6.4]
[475,6289000,"Little Bighorn River at State line, near Wyola, Montana","1939–2009",35.319000000000003,69.231999999999999,177,82,43,148,73,62,52,62,69,61,53,61,69,60,54,61,94,73,60,84,489,272,138,327,752,436,262,509,277,190,129,215,148,117,92,121,115,95,79,97,99,83,71,85,87,73,62,74,79,67,56,67]
[477,6290000,"Pass Creek near Wyola, Montana","1935–56, 1983–2009",0,2.0150000000000001,71,44,18,35,23,15,9.9,17,33,18,9.4,23,53,29,15,38,71,40,23,50,134,73,40,97,136,66,27,87,42,20,7.5,26,20,8.5,3,12,19,10,4.8,12,22,17,10,17,23,17,13,18,21,15,11,16]
[479,6290500,"Little Bighorn River below Pass Creek, near Wyola, Montana","1939–58, 1960–75, 1977–2004",37.792000000000002,57.816000000000003,232,149,67,202,124,101,79,104,137,102,77,114,161,116,92,139,230,157,110,181,658,393,200,458,946,517,281,626,320,188,106,228,149,107,67,111,139,103,71,107,144,122,97,121,136,118,100,118,125,104,84,106]
[480,6291000,"Owl Creek near Lodge Grass, Montana","1939–45, 1980–92",0.111,0.20699999999999999,15,9.4,3.6,9.9,7.9,5.3,3.1,6,11,6.7,3.2,14,34,12,5,24,23,12,5.8,17,22,12,5.0999999999999996,20,22,14,5.7,16,6.9,3.4,1.1000000000000001,4.7,3.8,1.1000000000000001,0.19,2.1,3.7,1.6,0.26,2.1,5.2,3.3,1.4,3.7,6.5,4,2.1,4.5,8,5.5,3.3,6.3]
[481,6291500,"Lodge Grass Creek above Willow Creek diversion, near Wyola, Montana","1939–74, 1983–2009",5.7030000000000003,13.055999999999999,57,25,12,47,20,16,11,16,21,16,11,17,25,18,13,20,42,25,11,31,178,96,48,118,295,161,88,193,85,53,32,62,38,25,17,28,29,21,14,22,26,20,15,21,23,18,14,19,20,16,12,16]
[484,6294000,"Little Bighorn River near Hardin, Montana","1953–2009",11.393000000000001,29.201000000000001,517,323,129,272,170,124,84,136,222,145,98,192,364,207,134,299,392,240,154,302,942,461,190,596,1280,654,295,812,372,171,72,253,168,105,50,115,181,118,57,124,194,150,105,151,184,147,109,149,167,125,94,132]
["Southwest hydrologic region"]
[15,6006000,"Red Rock Creek above Lakes, near Lakeview, Montana","1997–98, 2000–8","--",17.32,"--","--","--","--","--","--","--","--","--","--","--","--","--","--","--","--",35,23,17,27,88,46,31,60,131,90,44,95,78,45,28,55,47,32,21,34,38,26,19,28,30,23,17,24,"--","--","--","--","--","--","--","--"]
[16,6011000,"Red Rock River at Kennedy Ranch, near Lakeview, Montana","1936–66","--",14.7,"--","--","--","--","--","--","--","--","--","--","--","--","--","--","--","--",569,266,66,329,535,335,208,380,337,228,145,243,151,82,41,101,66,41,21,45,62,40,23,43,86,61,40,64,88,60,39,59,"--","--","--","--"]
[20,6013500,"Big Sheep Creek below Muddy Creek, near Dell, Montana","1946–53, 1961–79",30.300999999999998,40.259,81,54,41,65,49,42,37,43,47,40,36,42,53,43,36,49,115,70,49,89,117,74,45,86,146,92,49,102,95,65,45,71,84,66,52,67,67,53,42,55,74,63,49,62,66,57,46,57,55,48,40,48]
[25,6015500,"Grasshopper Creek near Dillon, Montana","1921–33, 1946–53, 1955–58, 1960–61",5.1660000000000004,4.3760000000000003,72,37,16,55,33,24,18,25,34,26,18,27,59,34,21,49,95,69,47,73,166,87,51,113,235,105,42,137,61,29,14,40,40,20,9.1,25,29,15,8.3000000000000007,19,47,36,22,35,48,39,31,39,38,25,20,29]
[29,6017500,"Blacktail Deer Creek near Dillon, Montana","1946–53, 1955–66",13.518000000000001,30.167999999999999,67,46,30,54,37,30,20,30,43,33,20,33,54,41,29,43,67,53,44,56,105,72,53,80,168,117,77,128,93,67,44,70,58,46,34,47,55,44,35,45,55,44,36,46,51,42,32,42,40,33,25,33]
[33,6019500,"Ruby River above reservoir, near Alder, Montana","1938–2009",60.728999999999999,75.897000000000006,221,113,64,180,114,102,89,103,113,100,91,102,123,105,90,110,198,138,109,163,594,351,218,417,691,405,229,468,259,161,108,193,147,113,86,120,141,110,92,115,142,120,103,122,137,119,106,122,122,108,97,110]
[39,6024450,"Big Hole River below Big Lake Creek, at Wisdom, Montana","1988–2008","--",8.6790000000000003,"--","--","--","--","--","--","--","--","--","--","--","--","--","--","--","--",486,299,170,369,769,327,111,482,901,323,90,539,321,94,32,187,75,32,12,56,55,30,16,38,88,58,39,67,"--","--","--","--","--","--","--","--"]
[40,6024500,"Trail Creek near Wisdom, Montana","1948–53, 1967–72","--",14.682,"--","--","--","--","--","--","--","--","--","--","--","--","--","--","--","--",135,45,20,81,612,438,163,409,545,276,144,340,82,56,38,62,32,24,19,26,26,19,15,21,25,21,17,22,24,19,15,21,"--","--","--","--"]
[41,6024540,"Big Hole River below Mudd Creek, near Wisdom, Montana","1998–99, 2001–8","--",54.96,"--","--","--","--","--","--","--","--","--","--","--","--","--","--","--","--",1120,627,345,800,2180,1190,671,1470,2220,1160,559,1410,469,231,137,333,173,107,60,124,151,104,73,116,230,162,124,176,"--","--","--","--","--","--","--","--"]
[42,6024590,"Wise River near Wise River, Montana","1973–85",23.225999999999999,45.66,190,78,39,183,49,39,35,42,42,38,34,39,43,38,34,39,126,61,36,88,787,376,174,508,1230,831,461,858,410,200,106,279,129,88,63,99,102,73,51,79,86,63,46,68,69,50,38,54,55,44,36,46]
[45,6025500,"Big Hole River near Melrose, Montana","1924–2009",125.952,168.89500000000001,1460,478,220,1120,415,332,256,339,425,333,272,354,555,404,324,478,2190,1090,589,1470,4700,2650,1540,3240,5820,3460,1630,3860,1850,975,500,1270,656,384,223,451,504,308,214,364,635,441,311,484,598,461,345,487,471,360,283,386]
[46,6026000,"Birch Creek near Glen, Montana","1946–53, 1955–76",2.3540000000000001,7.6319999999999997,44,13,5.9,29,9.9,7.8,6.2,8,8.5,7.4,5.6,7.3,9.8000000000000007,7.5,5.8,8,16,9.8000000000000007,7.2,12,82,38,18,53,155,109,73,115,84,60,42,67,45,24,14,29,16,12,9.4,13,23,16,12,17,15,11,7.1,11,11,7.9,5,8]
[54,6030500,"Boulder River above Rock Creek, near Basin, Montana","1946–53, 1955–57","--",1.3080000000000001,"--","--","--","--","--","--","--","--","--","--","--","--","--","--","--","--","--","--","--","--",73,44,18,50,47,26,14,35,12,5.5,3.1,7.8,3.3,2.1,1.5,2.5,2.8,2,1.6,2.2000000000000002,2.9,2.2000000000000002,1.7,2.4,2.7,2.2000000000000002,1.6,2.2000000000000002,"--","--","--","--"]
[56,6033000,"Boulder River near Boulder, Montana","1929–32, 1934–72, 1985–2009",6.3479999999999999,8.7590000000000003,149,59,24,116,34,26,18,26,37,29,20,30,58,36,27,48,248,114,58,165,678,370,217,459,645,325,146,407,141,64,24,94,43,22,9,31,35,21,12,28,51,31,19,36,46,32,23,35,37,27,20,28]
[60,6035000,"Willow Creek near Harrison, Montana","1938–2002, 2004–9",2.6240000000000001,2.8719999999999999,54,31,14,41,32,25,18,26,35,26,20,29,38,30,24,31,54,39,27,41,92,52,22,62,175,90,33,110,101,35,9.9,59,18,7.3,3.1,12,34,11,4.5,19,48,28,8.6999999999999993,29,45,36,21,34,39,31,24,32]
[62,6036500,"Willow Creek near Willow Creek, Montana","1920–32","--",11.536,"--","--","--","--","--","--","--","--","--","--","--","--",53,41,32,45,69,53,34,53,125,86,47,91,204,85,51,118,78,44,29,57,35,24,14,26,36,24,12,28,50,35,24,38,60,39,24,40,"--","--","--","--"]
[74,6040300,"Jack Creek near Ennis, Montana","1974–86, 1991",9.2609999999999992,19.164000000000001,64,24,13,47,17,15,13,15,15,14,12,13,15,13,12,14,47,26,15,33,172,88,54,111,216,154,99,163,105,68,44,77,50,36,28,39,35,27,23,29,29,23,20,24,25,19,16,20,19,17,14,17]
[91,6055500,"Crow Creek near Radersburg, Montana","1919–28, 1966–72","--",9.891,"--","--","--","--","--","--","--","--","--","--","--","--",14,10,7.4,11,44,22,12,33,245,143,73,167,248,133,75,168,76,44,25,54,30,20,15,23,22,17,12,17,22,17,12,17,19,14,9.9,14,13,9.5,7.7,10]
[97,6061500,"Prickly Pear Creek near Clancy, Montana","1910–11, 1913–15, 1923–33, 1946–53, 1955–69, 1979–2002, 2006–9",7.7519999999999998,11.750999999999999,69,45,20,44,25,19,13,20,28,21,12,22,39,26,17,29,68,44,30,51,146,96,47,107,179,103,57,124,80,43,25,55,42,24,15,29,38,23,16,28,38,26,18,29,34,25,18,27,27,21,15,22]
[101,6062500,"Tenmile Creek near Rimini, Montana","1917, 1921, 1923, 1926–29, 1934–94, 1997–2009",7.5999999999999998E-2,0.219,59,37,15,16,1.9,0.99,0.47,1.3,1.4,0.9,0.48,1.1000000000000001,2.7,1.3,0.52,2.2000000000000002,27,9.6999999999999993,3.3,18,128,63,26,80,116,49,17,70,19,6.5,2.6,12,3.7,1.2,0.49,2.4,3,1.2,0.47,2.1,4.2,1.5,0.57999999999999996,2.8,3.1,1.1000000000000001,0.46,2.1,2.1,1,0.47,1.6]
[103,6063000,"Tenmile Creek near Helena, Montana","1909–28, 1930–54, 1997–98",8.8999999999999996E-2,0.186,32,19,7.1,29,8.8000000000000007,5.0999999999999996,2.4,6,7.6,4.8,2.5,5.7,14,6.8,3.2,10,55,24,9.1,36,175,80,39,115,182,64,19,105,31,9.3000000000000007,3.3,19,4.3,1.5,0.33,3.3,5.8,1.4,0.4,3.4,14,5.6,1.9,8.6999999999999993,13,7.2,3.5,8.8000000000000007,9.9,4.5999999999999996,2.2999999999999998,6.2]
[106,6068500,"Little Prickly Pear Creek near Marysville, Montana","1914, 1916–25, 1927–32","--","--","--","--","--","--","--","--","--","--","--","--","--","--",12,7.3,5.0999999999999996,9.6,48,20,11,30,127,71,38,87,115,56,30,78,41,29,17,32,25,19,12,19,18,15,9.1999999999999993,14,"--","--","--","--","--","--","--","--","--","--","--","--"]
[107,6071000,"Little Prickly Pear Creek near Canyon Creek, Montana","1909–11, 1913–16, 1918–24","--",0.89900000000000002,"--","--","--","--","--","--","--","--","--","--","--","--","--","--","--","--",119,66,40,83,289,167,67,189,221,92,17,111,47,13,4.3,32,23,6.8,2.1,13,30,18,7.7,20,34,20,13,22,37,27,20,28,"--","--","--","--"]
[109,6071300,"Little Prickly Pear Creek at Wolf Creek, Montana","1962–67, 1992–2009",15.048,20.274000000000001,98,65,31,85,56,43,30,44,60,43,26,56,81,58,42,65,181,91,65,128,373,161,75,227,281,143,63,194,106,61,37,75,55,39,24,43,54,36,26,45,52,42,33,48,62,49,38,52,59,47,34,48]

{"sheet":"Table 1–2","index":9,"n_rows":161,"n_cols":8,"rows_kept":161,"cut":false,"hidden":false,"merged":[[85,0,85,7],[135,0,135,7],[160,0,160,7],[0,0,0,7],[1,0,1,7],[2,3,2,4],[2,5,2,7],[4,0,4,7],[58,0,58,7],[2,0,3,0],[2,1,3,1],[2,2,3,2]]}
["Table 1–2.  Basin-characteristics for each streamflow-gaging station used to develop the regional regression equations."]
["[A,  contributing drainage area, in square miles; P, mean annual precipitation, in inches; SLP50, percentage of basin with slope greater than 50 percent;  --, not applicable]"]
["Map number (fig. 1)","Station identification number","Station name","Streamflow-gaging station location",null,"Basin characteristics"]
[null,null,null,"Latitude, in decimal degrees1 (NAD 83)","Longitude, in decimal degrees1 (NAD 83)","A","P","SLP50"]
["West hydrologic region"]
[596,12301300,"Tobacco River near Eureka, Montana",48.893591669999999,-115.08785278000001,419,"--",12.401999999999999]
[605,12301999,"Wolf Creek near Libby, Montana",48.23356716,-115.28488348,216,"--",5.7670000000000003]
[607,12302055,"Fisher River near Libby, Montana",48.355602779999998,-115.31465,842,"--",11.186]
[609,12302500,"Granite Creek near Libby, Montana",48.301802780000003,-115.59236667,23.7,"--",56.671999999999997]
[611,12303100,"Flower Creek near Libby, Montana",48.344838889999998,-115.60656944,11.2,"--",44.42]
[614,12303500,"Lake Creek at Troy, Montana",48.44686111,-115.87713611,204,"--",34.610999999999997]
[615,12304040,"Basin Creek near Yaak, Montana",48.930547220000001,-115.48163056,27.5,"--",6.0620000000000003]
[621,12304500,"Yaak River near Troy, Montana",48.56172222,-115.97015833,792,"--",7.3949999999999996]
[624,12323240,"Blacktail Creek at Butte, Montana",45.994669440000003,-112.53571389,90.9,"--",4.8339999999999996]
[627,12323500,"German Gulch Creek near Ramsay, Montana",46.014600000000002,-112.79324722,40.9,"--",8.6920000000000002]
[628,12323600,"Silver Bow Creek at Opportunity, Montana",46.107758330000003,-112.80528332999999,343,"--",4.6500000000000004]
[633,12324100,"Racetrack Creek below Granite Creek, near Anaconda, Montana",46.278944439999997,-112.919175,41.1,"--",22.882999999999999]
[634,12324200,"Clark Fork at Deer Lodge, Montana",46.397649999999999,-112.74253889000001,1001,"--",7.2229999999999999]
[636,12324590,"Little Blackfoot River near Garrison, Montana",46.51948333,-112.79317222,414,"--",2.3940000000000001]
[642,12330000,"Boulder Creek at Maxville, Montana",46.471652779999999,-113.23576944,70.5,"--",15.986000000000001]
[646,12331800,"Clark Fork near Drummond, Montana",46.711913889999998,-113.33078055999999,2516,"--",6.0259999999999998]
[648,12332000,"Middle Fork Rock Creek near Philipsburg, Montana",46.184569439999997,-113.50156944,121,"--",13.96]
[649,12334510,"Rock Creek near Clinton, Montana",46.722336110000001,-113.68306111,889,"--",21.175999999999998]
[653,12335500,"Nevada Creek above reservoir, near Helmville, Montana",46.777777780000001,-112.76778611,119,"--",13.933999999999999]
[654,12338300,"North Fork Blackfoot River above Dry Gulch, near Ovando, Montana",46.979494440000003,-113.09218611,310,"--",25.007999999999999]
[655,12338500,"Blackfoot River near Ovando, Montana",47.015558329999998,-113.22881667,1270,"--",14.218]
[659,12338690,"Monture Creek near Ovando, Montana",47.045291669999997,-113.19016388999999,146,"--",27.059000000000001]
[661,12339450,"Clearwater River near Clearwater, Montana",47.018677779999997,-113.3877,346,"--",9.157]
[663,12340000,"Blackfoot River near Bonner, Montana",46.899411110000003,-113.75631944,2287,"--",12.837999999999999]
[669,12343400,"East Fork Bitterroot River near Conner, Montana",45.883016670000004,-114.06631389,380,"--",17.824999999999999]
[675,12346500,"Skalkaho Creek near Hamilton, Montana",46.160794439999997,-113.94871944,87.5,"--",28.587]
[676,12347500,"Blodgett Creek near Corvallis, Montana",46.269422220000003,-114.23705556,25.9,"--",60.2]
[678,12350000,"Bear Creek near Victor, Montana",46.38092778,-114.22041111,27.4,"--",54.484000000000002]
[681,12350500,"Kootenai Creek near Stevensville, Montana",46.53683333,-114.15956389,28.9,"--",67.146000000000001]
[682,12351000,"Burnt Fork Bitterroot River near Stevensville, Montana",46.46368056,-113.94561111,73.5,"--",21.728999999999999]
[683,12351200,"Bitterroot River near Florence, Montana",46.633088890000003,-114.05095833,2342,"--",25.202999999999999]
[685,12352000,"Lolo Creek above Sleeman Creek, near Lolo, Montana",46.744113890000001,-114.14342499999999,250,"--",22.010999999999999]
[690,12353280,"Ninemile Creek near Huson, Montana",47.063397219999999,-114.41378889000001,170,"--",14.573]
[695,12354000,"St. Regis River near St. Regis, Montana",47.296711109999997,-115.122625,304,"--",30.760999999999999]
[698,12355000,"Flathead River at Flathead, British Columbia",49.001241669999999,-114.47566389000001,429,"--",27.117999999999999]
[718,12363920,"Stillwater River at Olney, Montana",48.535480560000003,-114.57168611,162,"--",13.593999999999999]
[720,12365000,"Stillwater River near Whitefish, Montana",48.31905278,-114.38715833000001,558,"--",5.423]
[722,12366000,"Whitefish River near Kalispell, Montana",48.320186110000002,-114.27859444000001,170,"--",13.366]
[724,12367500,"Ashley Creek near Kalispell, Montana",48.164997219999997,-114.43237778,201,"--",1.869]
[725,12369200,"Swan River near Condon, Montana",47.422383330000002,-113.67097222,69.099999999999994,"--",18.991]
[728,12370000,"Swan River near Bigfork, Montana",48.024230559999999,-113.97881944,672,"--",20.835000000000001]
[731,12371100,"Hell Roaring Creek near Polson, Montana",47.702952779999997,-114.04838611,6.4,"--",18.93]
[733,12374250,"Mill Creek above Bassoo Creek, near Niarada, Montana",47.829827780000002,-114.69783332999999,19.600000000000001,"--",5.26]
[738,12377150,"Mission Creek above reservoir, near St. Ignatius, Montana",47.322822219999999,-113.97938056,12.4,"--",67.474000000000004]
[739,12378000,"Mission Creek near St. Ignatius, Montana",47.327905559999998,-114.12303889,52,"--",40.228999999999999]
[740,12381400,"South Fork Jocko River near Arlee, Montana",47.195549999999997,-113.85073611,57.6,"--",16.812000000000001]
[741,12383500,"Big Knife Creek near Arlee, Montana",47.147261110000002,-113.974475,6.86,"--",54.46]
[742,12387450,"Valley Creek near Arlee, Montana",47.170297220000002,-114.23079444,16,"--",16.387]
[743,12388200,"Jocko River at Dixon, Montana",47.312113889999999,-114.29737778000001,383,"--",16.021999999999998]
[744,12388400,"Revais Creek below West Fork, near Dixon, Montana",47.266302779999997,-114.40684444,23.3,"--",8.5670000000000002]
[748,12389500,"Thompson River near Thompson Falls, Montana",47.591858330000001,-115.22953611,638,"--",16]
[749,12390700,"Prospect Creek at Thompson Falls, Montana",47.586061110000003,-115.35509999999999,182,"--",39.091000000000001]
[755,12391550,"Bull River near Noxon, Montana",48.04735556,-115.83500278,141,"--",44.715000000000003]
["Northwest hydrologic region"]
[2,5011000,"Belly River near Mountain View, Alberta",49.099963889999998,-113.69857777999999,123,59.070999999999998,34.622]
[3,5011500,"Waterton River near international boundary",48.954949999999997,-113.89986111,61.8,69.358000000000004,44.585000000000001]
[4,5012500,"Boundary Creek at international boundary",48.995836109999999,-113.90768056,20.399999999999999,68.281999999999996,43.951000000000001]
[6,5013700,"St. Mary River above Swiftcurrent Creek, near Babb, Montana",48.85088056,-113.416175,174,54.131999999999998,33.698]
[9,5014500,"Swiftcurrent Creek at Many Glacier, Montana",48.798833330000001,-113.65673056,31.2,83.156000000000006,53.417000000000002]
[10,5015000,"Canyon Creek near Many Glacier, Montana",48.796047219999998,-113.62418889,7.74,73.914000000000001,65.94]
[14,5020500,"St. Mary River at international boundary",49.011408330000002,-113.29954721999999,462,47.820999999999998,22.574999999999999]
[112,6073000,"Dearborn River near Clemons, Montana",47.294047220000003,-112.44878889,115,30.765999999999998,28.262]
[129,6078500,"North Fork Sun River near Augusta, Montana",47.640827780000002,-112.86021389,259,39.277000000000001,22.129000000000001]
[131,6080000,"Sun River near Augusta, Montana",47.620874999999998,-112.70700278,609,36.613,26.75]
[133,6081500,"Willow Creek near Augusta, Montana",47.545505560000002,-112.47368333,95.1,20.742000000000001,5.6509999999999998]
[134,6084500,"Elk Creek at Augusta, Montana",47.485399999999998,-112.38748611,165,21.933,13.08]
[149,6092000,"Two Medicine River near Browning, Montana",48.471716669999999,-112.80378056000001,320,36.823999999999998,11.497999999999999]
[150,6092500,"Badger Creek near Browning, Montana",48.346219439999999,-112.84086388999999,126,38.470999999999997,25.614999999999998]
[158,6098500,"Cut Bank Creek near Browning, Montana",48.616858329999999,-113.03610833,121,37.268999999999998,14.528]
[178,6102500,"Teton River below South Fork, near Choteau, Montana",47.883083329999998,-112.61198333,110,36.764000000000003,45.442]
[268,6132200,"South Fork Milk River near Babb, Montana",48.753483330000002,-113.16743056,69.099999999999994,34.207999999999998,1.29]
[272,6133500,"North Fork Milk River above St. Mary Canal, near Browning, Montana",48.970783330000003,-113.05596944,60.8,22.962,5.7000000000000002E-2]
[651,12335000,"Blackfoot River near Helmville, Montana",46.93871944,-112.94073611,482,27.236999999999998,15.183999999999999]
[700,12355500,"North Fork Flathead River near Columbia Falls, Montana",48.49579722,-114.12676389000001,1556,43.92,27.783999999999999]
[704,12357000,"Middle Fork Flathead River at Essex, Montana",48.275091670000002,-113.60508889,509,49.219000000000001,35.564999999999998]
[708,12358500,"Middle Fork Flathead River near West Glacier, Montana",48.495516670000001,-114.01020833,1125,49.923999999999999,40.258000000000003]
[711,12359800,"South Fork Flathead River above Twin Creek, near Hungry Horse, Montana",47.97909722,-113.56068333,1159,49.134999999999998,34.841000000000001]
[712,12360000,"Twin Creek near Hungry Horse, Montana",47.98479167,-113.56132778,47.2,47.62,42.408000000000001]
[713,12361000,"Sullivan Creek near Hungry Horse, Montana",48.029538889999998,-113.704125,71.099999999999994,57.68,39.151000000000003]
[714,12361500,"Graves Creek near Hungry Horse, Montana",48.12785556,-113.81207222,27.9,65.552999999999997,42.243000000000002]
["Upper Yellowstone-Central Mountain hydrologic region"]
[77,6043000,"Taylor Creek near Grayling, Montana",45.070897219999999,-111.20516944000001,98,33.606999999999999,"--"]
[80,6043500,"Gallatin River near Gallatin Gateway, Montana",45.497300000000003,-111.27070833000001,819,34.656999999999996,"--"]
[84,6048000,"East Gallatin River at Bozeman, Montana",45.700536110000002,-111.02926667,151,26.616,"--"]
[85,6048500,"Bridger Creek near Bozeman, Montana",45.705174999999997,-110.96205556,62.3,32.927,"--"]
[87,6050000,"Hyalite Creek at Hyalite Ranger Station, near Bozeman, Montana",45.561466670000001,-111.07112499999999,48.5,33.843000000000004,"--"]
[88,6052500,"Gallatin River at Logan, Montana",45.885355560000001,-111.43828611000001,1789,27.818999999999999,"--"]
[122,6077000,"Sheep Creek near White Sulphur Springs, Montana",46.768163889999997,-110.80997778,43.1,27.927,"--"]
[125,6077500,"Smith River near Eden, Montana",47.190052780000002,-111.38719444,1588,19.613,"--"]
[143,6090500,"Belt Creek near Monarch, Montana",47.208594439999999,-110.93174722000001,355,24.952999999999999,"--"]
[190,6109800,"South Fork Judith River near Utica, Montana",46.75343333,-110.32315833,49.9,26.42,"--"]
[192,6110000,"Judith River near Utica, Montana",46.892411109999998,-110.23145278,312,25.036000000000001,"--"]
[193,6111000,"Ross Fork Creek near Hobson, Montana",46.992736110000003,-109.795075,340,16.812000000000001,"--"]
[197,6114500,"Wolf Creek near Stanford, Montana",47.11900833,-110.28720278,116.08,22.606000000000002,"--"]
[205,6115500,"North Fork Musselshell River near Delpine, Montana",46.609786110000002,-110.57662222,37.299999999999997,23.224,"--"]
[209,6118500,"South Fork Musselshell River above Martinsdale, Montana",46.453241669999997,-110.38228889,268,24.091000000000001,"--"]
[212,6120500,"Musselshell River at Harlowton, Montana",46.428800000000003,-109.84119444,1108,20.611999999999998,"--"]
[217,6121000,"American Fork near Harlowton, Montana",46.373952780000003,-109.79209167,79.099999999999994,21.36,"--"]
[218,6121500,"Lebo Creek near Harlowton, Montana",46.380419439999997,-109.79929444,54.6,16.454000000000001,"--"]
[219,6122000,"American Fork below Lebo Creek, near Harlowton, Montana",46.396197219999998,-109.74214444,171,20.802,"--"]
[423,6191000,"Gardner River near Mammoth, Yellowstone National Park, Wyoming",44.992344439999997,-110.69097499999999,198,32.328000000000003,"--"]
[424,6191500,"Yellowstone River at Corwin Springs, Montana",45.112119440000001,-110.79366666999999,2616,31.33,"--"]
[426,6193000,"Shields River near Wilsall, Montana",46.152605559999998,-110.58681944,90.9,30.835000000000001,"--"]
[427,6193500,"Shields River at Clyde Park, Montana",45.885733330000001,-110.61795832999999,539,22.997,"--"]
[428,6194000,"Brackett Creek near Clyde Park, Montana",45.866619440000001,-110.67023055999999,58.1,29.831,"--"]
[430,6197000,"Big Timber Creek near Big Timber, Montana",45.954311109999999,-110.02945556,75.3,26.763999999999999,"--"]
[431,6197500,"Boulder River near Contact, Montana",45.554533329999998,-110.20054167000001,225,35.338000000000001,"--"]
[432,6200000,"Boulder River at Big Timber, Montana",45.833794439999998,-109.93870556,525,30.524000000000001,"--"]
[433,6200500,"Sweet Grass Creek above Melville, Montana",46.155380559999998,-110.08705,60.4,35.975000000000001,"--"]
[434,6201000,"Sweet Grass Creek below Melville, Montana",46.06143333,-109.84524166999999,147,25.823,"--"]
[440,6202510,"Stillwater River above Nye Creek, near Nye, Montana",45.394308330000001,-109.86951667,192,38.847000000000001,"--"]
[442,6204500,"Rosebud Creek near Absarokee, Montana",45.486591670000003,-109.45613056000001,396,31.599,"--"]
[443,6205000,"Stillwater River near Absarokee, Montana",45.551436109999997,-109.38803056,976,30.164999999999999,"--"]
[445,6207500,"Clarks Fork Yellowstone River near Belfry, Montana",45.009911109999997,-109.06536667,1152,27.913,"--"]
[447,6207800,"Bluewater Creek near Bridger, Montana",45.331372219999999,-108.801475,28.1,21.013999999999999,"--"]
[450,6209500,"Rock Creek near Red Lodge, Montana",45.086147220000001,-109.32918889,105,33.573999999999998,"--"]
[451,6210000,"West Fork Rock Creek below Basin Creek, near Red Lodge, Montana",45.154536110000002,-109.36743333,51.1,32.933,"--"]
[453,6211000,"Red Lodge Creek above Cooney Reservoir, near Boyd, Montana",45.437849999999997,-109.25331111,142,23.78,"--"]
[454,6211500,"Willow Creek near Boyd, Montana",45.422147219999999,-109.23053056000001,49.2,20.878,"--"]
[460,6216000,"Pryor Creek at Pryor, Montana",45.434677780000001,-108.53365278,118,20.271000000000001,"--"]
[464,6216900,"Pryor Creek near Huntley, Montana",45.819694439999999,-108.29033333,574,17.827000000000002,"--"]
[471,6287500,"Soap Creek near St. Xavier, Montana",45.326908330000002,-107.76982778,94.4,19.937000000000001,"--"]
[472,6288000,"Rotten Grass Creek near St. Xavier, Montana",45.412166669999998,-107.68310278,146,18.914000000000001,"--"]
[473,6288200,"Beauvais Creek near St. Xavier, Montana",45.477038890000003,-108.00796389,123,19.016999999999999,"--"]
[475,6289000,"Little Bighorn River at State line, near Wyola, Montana",45.007111109999997,-107.61540832999999,182,26.693999999999999,"--"]
[477,6290000,"Pass Creek near Wyola, Montana",45.056263889999997,-107.35590000000001,113,20.068000000000001,"--"]
[479,6290500,"Little Bighorn River below Pass Creek, near Wyola, Montana",45.177133329999997,-107.39455,426,22.353999999999999,"--"]
[480,6291000,"Owl Creek near Lodge Grass, Montana",45.26796667,-107.30138332999999,163,18.738,"--"]
[481,6291500,"Lodge Grass Creek above Willow Creek diversion, near Wyola, Montana",45.126480559999997,-107.59989167000001,83.9,23.187000000000001,"--"]
[484,6294000,"Little Bighorn River near Hardin, Montana",45.735686110000003,-107.55746944000001,1294,19.597999999999999,"--"]
["Southwest hydrologic region"]
[15,6006000,"Red Rock Creek above Lakes, near Lakeview, Montana",44.617030560000003,-111.65674722,37.299999999999997,37.018000000000001,10.268000000000001]
[16,6011000,"Red Rock River at Kennedy Ranch, near Lakeview, Montana",44.647930559999999,-112.05640556,321,27.318999999999999,4.4000000000000004]
[20,6013500,"Big Sheep Creek below Muddy Creek, near Dell, Montana",44.65511111,-112.778475,279,19.765999999999998,10.601000000000001]
[25,6015500,"Grasshopper Creek near Dillon, Montana",45.110141669999997,-112.80081944,348,16.738,3.956]
[29,6017500,"Blacktail Deer Creek near Dillon, Montana",45.046063889999999,-112.54965556000001,316,20.411000000000001,6.3819999999999997]
[33,6019500,"Ruby River above reservoir, near Alder, Montana",45.192319439999999,-112.14281667,534,21.619,6.1349999999999998]
[39,6024450,"Big Hole River below Big Lake Creek, at Wisdom, Montana",45.617966670000001,-113.45694167000001,586,23.271999999999998,5.0069999999999997]
[40,6024500,"Trail Creek near Wisdom, Montana",45.656419440000001,-113.71670278000001,72.599999999999994,36.442999999999998,0.96199999999999997]
[41,6024540,"Big Hole River below Mudd Creek, near Wisdom, Montana",45.807541669999999,-113.31326944,1275,23.652999999999999,3.8180000000000001]
[42,6024590,"Wise River near Wise River, Montana",45.704555560000003,-113.03161111,221,27.881,14.769]
[45,6025500,"Big Hole River near Melrose, Montana",45.526580559999999,-112.701725,2472,23.553000000000001,6.984]
[46,6026000,"Birch Creek near Glen, Montana",45.37949167,-112.79754444,35.700000000000003,24.382000000000001,18.841999999999999]
[54,6030500,"Boulder River above Rock Creek, near Basin, Montana",46.254269440000002,-112.50094722,24.4,24.254000000000001,0.995]
[56,6033000,"Boulder River near Boulder, Montana",46.211030559999998,-112.09165,381,22.003,5.3179999999999996]
[60,6035000,"Willow Creek near Harrison, Montana",45.723058330000001,-111.74102499999999,85.9,27.940999999999999,16.713999999999999]
[62,6036500,"Willow Creek near Willow Creek, Montana",45.750349999999997,-111.65820832999999,167,22.306000000000001,9.0739999999999998]
[74,6040300,"Jack Creek near Ennis, Montana",45.356266669999997,-111.58162222,51.3,30.565000000000001,22.553000000000001]
[91,6055500,"Crow Creek near Radersburg, Montana",46.262288890000001,-111.68711944,77.900000000000006,25.632000000000001,6.5549999999999997]
[97,6061500,"Prickly Pear Creek near Clancy, Montana",46.519097219999999,-111.94678611000001,192,19.059000000000001,4.9050000000000002]
[101,6062500,"Tenmile Creek near Rimini, Montana",46.523897220000002,-112.25664722,33,24.777999999999999,7.5380000000000003]
[103,6063000,"Tenmile Creek near Helena, Montana",46.604925000000001,-112.08936111,98.7,20.861000000000001,5.6349999999999998]
[106,6068500,"Little Prickly Pear Creek near Marysville, Montana",46.787711109999996,-112.40672222000001,44.6,23.792000000000002,19.780999999999999]
[107,6071000,"Little Prickly Pear Creek near Canyon Creek, Montana",46.818908329999999,-112.25050555999999,182,20.943999999999999,12.387]
[109,6071300,"Little Prickly Pear Creek at Wolf Creek, Montana",47.005436109999998,-112.07031111000001,391,18.468,13.943]
["1Values of latitude, longitude, and drainage area are from the U.S. Geological Survey National Water Information System (U.S. Goelogical Survey, 2015a). "]

{"sheet":"Table 1–3","index":10,"n_rows":225,"n_cols":12,"rows_kept":225,"cut":false,"hidden":false,"merged":[[223,0,223,11],[224,0,224,11],[0,0,0,10],[1,0,1,11],[3,0,3,11],[58,0,58,11],[113,0,113,11],[168,0,168,11]]}
["Table 1–3.  Regression equations for estimating streamflow characteristics at ungaged sites in western Montana."]
["[n, number of gaging stations used in developing regression equations for indicated hydrologic region; σδ2, model error variance; MVP, mean variance of prediction; SEM, mean standard error of model; SEP, mean standard error of prediction; Pseudo-R2, pseudo coefficient of determination; MSE, mean square error; RMSE, root mean square error of model; R2, coefficient of detemination; exp, coefficient for performing drainage area adjustment for an ungaged site near a streamflow-gaging station on the same stream; Q, streamflow, in cubic feet per second, for indicated streamflow characteristic (definitions provided in table 1); A, contributing drainage area, in square miles; SLP50, percentage of basin with slopes greater than 50 percent; GLS, generalized least squares; --, not determined for method of regression used; OLS, ordinary least squares; P, mean annual precipitation, in inches] "]
["Regression equation for indicated streamflow characteristic","Method of regression","Number of gaging stations (n)1","σδ2, in log units","MVP, in log units","SEM, \nin percent","SEP, \nin percent","Pseudo R2, \nin percent","MSE, in log units","RMSE, \nin percent","R2, \nin percent","Coefficient (exp) for drainage area adjustment2"]
["West hydrologic region"]
["QAL7Q10=10-1.678A0.964(SLP50 + 1)0.676","GLS",43,6.7000000000000004E-2,7.2999999999999995E-2,65.430000000000007,68.540000000000006,84.85,"--","--","--",0.82264394829699328]
["QS214Q5=10-1.402A0.913(SLP50 + 1)0.711","GLS",46,7.1999999999999995E-2,7.8E-2,68.42,71.47,82.92,"--","--","--",0.77473055852160466]
["QA0.2=10-0.913A0.956(SLP50 + 1)0.882","OLS",50,"--","--","--","--","--",4.7E-2,53.196701474335384,88.51,0.78628827750882424]
["QA0.5=10-1.075A0.937(SLP50 + 1)0.716","OLS",50,"--","--","--","--","--",0.03,41.521936364144445,92.11,0.79939535767183023]
["QA0.8=10-1.405A0.942(SLP50 + 1)0.732","OLS",50,"--","--","--","--","--",3.5999999999999997E-2,45.858813208494141,90.77,0.80054195022499708]
["QAMEAN=10-0.973A0.95(SLP50 + 1)0.827","OLS",50,"--","--","--","--","--",3.5000000000000003E-2,45.155627502771047,91.13,0.78998391349710251]
["QJAN0.2=10-1.355A1.005(SLP50 + 1)0.763","OLS",51,"--","--","--","--","--",3.9E-2,47.927857432976431,91.05,0.85898139504362925]
["QJAN0.5=10-1.539A1.00(SLP50 + 1)0.792","OLS",51,"--","--","--","--","--",4.2000000000000003E-2,49.94236163139955,90.29,0.84883079288166385]
["QJAN0.8=10-1.832A1.011(SLP50 + 1)0.88","OLS",51,"--","--","--","--","--",6.6000000000000003E-2,64.727733027560731,85.88,0.84268426113567185]
["QJANMEAN=10-1.384A0.996(SLP50 + 1)0.725","OLS",51,"--","--","--","--","--",3.9E-2,47.927857432976431,90.86,0.85683297794902247]
["QFEB0.2=10-1.221A1.007(SLP50 + 1)0.662","OLS",52,"--","--","--","--","--",3.7999999999999999E-2,47.244611829214058,91.1,0.8761907286664038]
["QFEB0.5=10-1.513A1.019(SLP50 + 1)0.74","OLS",52,"--","--","--","--","--",4.2999999999999997E-2,50.602958909477245,90.18,0.87268807300759788]
["QFEB0.8=10-1.938A1.037(SLP50 + 1)0.914","OLS",52,"--","--","--","--","--",8.8999999999999996E-2,77.652885543736389,82.29,0.85641545934237129]
["QFEBMEAN=10-1.356A1.015(SLP50 + 1)0.683","OLS",52,"--","--","--","--","--",4.2999999999999997E-2,50.602958909477245,90.23,0.88003340770378635]
["QMAR0.2=10-0.944A1.014(SLP50 + 1)0.52","OLS",52,"--","--","--","--","--",5.6000000000000001E-2,58.795779438743267,87.72,0.91199575217762652]
["QMAR0.5=10-1.235A1.019(SLP50 + 1)0.604","OLS",52,"--","--","--","--","--",3.9E-2,47.927857432976431,91.08,0.90024346736141492]
["QMAR0.8=10-1.57A1.032(SLP50 + 1)0.716","OLS",52,"--","--","--","--","--",4.2999999999999997E-2,50.602958909477245,90.54,0.89052285190212499]
["QMARMEAN=10-1.045A1.014(SLP50 + 1)0.529","OLS",52,"--","--","--","--","--",4.5999999999999999E-2,52.555165433651716,89.62,0.90971201451774641]
["QAPR0.2=10-0.524A0.997(SLP50 + 1)0.574","OLS",53,"--","--","--","--","--",9.1999999999999998E-2,79.290480603181123,81.13,0.88871472896694992]
["QAPR0.5=10-0.954A1.027(SLP50 + 1)0.649","OLS",53,"--","--","--","--","--",7.6999999999999999E-2,71.006008672913083,84.33,0.90397308665703224]
["QAPR0.8=10-1.164A1.021(SLP50 + 1)0.633","OLS",53,"--","--","--","--","--",5.8000000000000003E-2,60.003328820844445,87.6,0.90189914436237162]
["QAPRMEAN=10-0.714A0.998(SLP50 + 1)0.601","OLS",53,"--","--","--","--","--",7.9000000000000001E-2,72.126311117702997,83.28,0.8848974282060047]
["QMAY0.2=10-0.387A0.961(SLP50 + 1)0.819","OLS",53,"--","--","--","--","--",6.8000000000000005E-2,65.885859146084741,84.32,0.80635262508315164]
["QMAY0.5=10-0.769A0.995(SLP50 + 1)0.886","OLS",53,"--","--","--","--","--",7.5999999999999998E-2,70.443686077063731,83.72,0.82790983831650489]
["QMAY0.8=10-1.049A1.011(SLP50 + 1)0.899","OLS",53,"--","--","--","--","--",8.7999999999999995E-2,77.105156586344776,82.18,0.84090751771551375]
["QMAYMEAN=10-0.567A0.971(SLP50 + 1)0.823","OLS",53,"--","--","--","--","--",6.9000000000000006E-2,66.461895711315023,84.38,0.81572064598145599]
["QJUN0.2=10-0.559A0.955(SLP50 + 1)0.967","OLS",53,"--","--","--","--","--",4.9000000000000002E-2,54.467056216302211,88.21,0.77228030760280342]
["QJUN0.5=10-0.987A0.975(SLP50 + 1)1.107","OLS",53,"--","--","--","--","--",5.8000000000000003E-2,60.003328820844445,87,0.76560918517266285]
["QJUN0.8=10-1.27A0.958(SLP50 + 1)1.167","OLS",53,"--","--","--","--","--",6.8000000000000005E-2,65.885859146084741,84.99,0.73775334503020162]
["QJUNMEAN=10-0.776A0.956(SLP50 + 1)1.017","OLS",53,"--","--","--","--","--",0.05,55.096203033983784,88.12,0.76375539656915459]
["QJUL0.2=10-0.986A0.923(SLP50 + 1)1.021","OLS",53,"--","--","--","--","--",5.6000000000000001E-2,58.795779438743267,86.18,0.73040929996381587]
["QJUL0.5=10-1.154A0.897(SLP50 + 1)1.019","OLS",53,"--","--","--","--","--",5.8999999999999997E-2,60.602803839314724,84.85,0.70463663447006641]
["QJUL0.8=10-1.312A0.878(SLP50 + 1)1.006","OLS",53,"--","--","--","--","--",6.4000000000000001E-2,63.561056954656124,83.12,0.68815821355589857]
["QJULMEAN=10-1.077A0.908(SLP50 + 1)1.009","OLS",53,"--","--","--","--","--",5.0999999999999997E-2,55.721534500516022,86.73,0.71701399525610066]
["QAUG0.2=10-1.025A0.886(SLP50 + 1)0.807","OLS",53,"--","--","--","--","--",5.5E-2,58.187491963191974,84.97,0.73369722513829472]
["QAUG0.5=10-1.224A0.88(SLP50 + 1)0.857","OLS",53,"--","--","--","--","--",6.2E-2,62.385216362602037,83.18,0.71804703436605888]
["QAUG0.8=10-1.563A0.891(SLP50 + 1)0.971","OLS",53,"--","--","--","--","--",8.6999999999999994E-2,76.556436342648624,78.760000000000005,0.70721970359429465]
["QAUGMEAN=10-1.16A0.881(SLP50 + 1)0.831","OLS",53,"--","--","--","--","--",5.8000000000000003E-2,60.003328820844445,84.28,0.72420123571895234]
["QSEP0.2=10-1.174A0.923(SLP50 + 1)0.776","OLS",53,"--","--","--","--","--",4.4999999999999998E-2,51.909156538819033,88.11,0.7760151952237625]
["QSEP0.5=10-1.358A0.93(SLP50 + 1)0.8","OLS",53,"--","--","--","--","--",6.0999999999999999E-2,61.79365388156458,84.89,0.77931258167834894]
["QSEP0.8=10-1.708A0.95(SLP50 + 1)0.921","OLS",53,"--","--","--","--","--",0.113,90.582565993008515,76.17,0.77563199442972663]
["QSEPMEAN=10-1.319A0.923(SLP50 + 1)0.813","OLS",53,"--","--","--","--","--",0.05,55.096203033983784,87.13,0.76902786828532133]
["QOCT0.2=10-1.232A0.92(SLP50 + 1)0.843","OLS",52,"--","--","--","--","--",3.6999999999999998E-2,46.555032272692976,90.17,0.75954115946724543]
["QOCT0.5=10-1.403A0.947(SLP50 + 1)0.824","OLS",52,"--","--","--","--","--",0.04,48.60505499970774,89.97,0.79002806463471287]
["QOCT0.8=10-1.678A0.979(SLP50 + 1)0.872","OLS",52,"--","--","--","--","--",8.1000000000000003E-2,73.241147225708787,82.54,0.81307445939314316]
["QOCTMEAN=10-1.389A0.943(SLP50 + 1)0.857","OLS",52,"--","--","--","--","--",3.5999999999999997E-2,45.858813208494141,90.92,0.77918122497840547]
["QNOV0.2=10-1.314A0.965(SLP50 + 1)0.857","OLS",52,"--","--","--","--","--",0.04,48.60505499970774,89.88,0.79561602566080469]
["QNOV0.5=10-1.438A0.972(SLP50 + 1)0.818","OLS",52,"--","--","--","--","--",3.5999999999999997E-2,45.858813208494141,90.96,0.81036596787255089]
["QNOV0.8=10-1.622A0.983(SLP50 + 1)0.824","OLS",52,"--","--","--","--","--",5.8999999999999997E-2,60.602803839314724,86.25,0.82019830296110563]
["QNOVMEAN=10-1.37A0.962(SLP50 + 1)0.83","OLS",52,"--","--","--","--","--",4.1000000000000002E-2,49.276472527795462,89.73,0.79785572735165511]
["QDEC0.2=10-1.342A0.972(SLP50 + 1)0.837","OLS",52,"--","--","--","--","--",4.2999999999999997E-2,50.602958909477245,89.34,0.80713755633155493]
["QDEC0.5=10-1.523A0.976(SLP50 + 1)0.841","OLS",52,"--","--","--","--","--",4.2999999999999997E-2,50.602958909477245,89.54,0.80980753370769931]
["QDEC0.8=10-1.805A1.001(SLP50 + 1)0.894","OLS",52,"--","--","--","--","--",7.6999999999999999E-2,71.006008672913083,83.34,0.82431149117590652]
["QDECMEAN=10-1.41A0.971(SLP50 + 1)0.816","OLS",52,"--","--","--","--","--",4.7E-2,53.196701474335384,88.47,0.8104159081780048]
["Northwest hydrologic region"]
["QAL7Q10=10-3.28A1.046(SLP50 + 1)1.587","GLS",14,7.1999999999999995E-2,0.09,67.92,78.12,85.57,"--","--","--",1.0840747697837747]
["QS214Q5=10-4.375A1.088P2.212","GLS",24,0.104,0.11799999999999999,85.6,93.18,78.989999999999995,"--","--","--",0.92095547306449543]
["QA0.2=10-2.844A1.017P1.984","OLS",18,"--","--","--","--","--",1.7000000000000001E-2,30.711609287771889,95.32,0.8179146378344343]
["QA0.5=10-2.421A1.056P1.451","OLS",18,"--","--","--","--","--",4.2999999999999997E-2,50.602958909477245,89.25,0.91098857325756999]
["QA0.8=10-2.839A1.074P1.466","OLS",18,"--","--","--","--","--",3.7999999999999999E-2,47.244611829214058,90.79,0.92678887055903758]
["QAMEAN=10-2.763A0.993P1.845","OLS",18,"--","--","--","--","--",6.0000000000000001E-3,17.978655225868973,98.13,0.80822550898463885]
["QJAN0.2=10-2.565A0.97P1.446","OLS",18,"--","--","--","--","--",1.7000000000000001E-2,30.711609287771889,94.6,0.82560411580611459]
["QJAN0.5=10-2.689A0.992P1.383","OLS",18,"--","--","--","--","--",0.02,33.446316852914677,94.04,0.85340717435425373]
["QJAN0.8=10-2.705A0.981P1.304","OLS",18,"--","--","--","--","--",2.7E-2,39.230913082500145,91.99,0.85000379932052994]
["QJANMEAN=10-2.681A0.986P1.428","OLS",18,"--","--","--","--","--",1.6E-2,29.754596059843468,95.23,0.84273104340086147]
["QFEB0.2=10-2.005A0.968P1.106","OLS",19,"--","--","--","--","--",1.4999999999999999E-2,28.771079665258963,95.14,0.85328231718445502]
["QFEB0.5=10-1.982A0.97P0.99","OLS",19,"--","--","--","--","--",1.7000000000000001E-2,30.711609287771889,94.56,0.86718230575559163]
["QFEB0.8=10-2.318A0.994P1.053","OLS",19,"--","--","--","--","--",2.3E-2,36.012807865166288,93.14,0.88507311248866904]
["QFEBMEAN=10-2.1A0.968P1.111","OLS",19,"--","--","--","--","--",1.6E-2,29.754596059843468,94.76,0.8532355058499953]
["QMAR0.2=10-1.784A0.993P0.974","OLS",21,"--","--","--","--","--",2.1000000000000001E-2,34.318557809831169,93.85,0.92180287158358687]
["QMAR0.5=10-1.944A0.981P0.975","OLS",21,"--","--","--","--","--",1.9E-2,32.55551209131373,94.31,0.90983622575354417]
["QMAR0.8=10-2.579A1.038P1.162","OLS",21,"--","--","--","--","--",3.2000000000000001E-2,43.000627371013515,91.76,0.95311047461946297]
["QMARMEAN=10-1.863A0.991P0.966","OLS",21,"--","--","--","--","--",2.1000000000000001E-2,34.318557809831169,93.9,0.92016125835888907]
["QAPR0.2=10-2.777A1.077P1.798","OLS",25,"--","--","--","--","--",3.2000000000000001E-2,43.000627371013515,91.74,0.9591601218383401]
["QAPR0.5=10-2.699A1.073P1.564","OLS",25,"--","--","--","--","--",3.4000000000000002E-2,44.445124250513942,90.9,0.97094200079266268]
["QAPR0.8=10-2.752A1.079P1.406","OLS",25,"--","--","--","--","--",2.7E-2,39.230913082500145,92.61,0.98683891710417537]
["QAPRMEAN=10-2.817A1.064P1.74","OLS",25,"--","--","--","--","--",2.7E-2,39.230913082500145,92.73,0.95041177988543357]
["QMAY0.2=10-3.18A1.122P2.288","OLS",26,"--","--","--","--","--",2.9000000000000001E-2,40.768554789241762,93.78,0.91749111191386723]
["QMAY0.5=10-3.646A1.146P2.408","OLS",26,"--","--","--","--","--",0.03,41.521936364144445,93.8,0.93099015552531394]
["QMAY0.8=10-4.498A1.208P2.68","OLS",26,"--","--","--","--","--",3.5999999999999997E-2,45.858813208494141,93.6,0.96780300868425539]
["QMAYMEAN=10-3.263A1.129P2.234","OLS",26,"--","--","--","--","--",2.8000000000000001E-2,40.005084069492796,93.97,0.92864065870554713]
["QJUN0.2=10-2.985A1.13P2.204","OLS",26,"--","--","--","--","--",2.5000000000000001E-2,37.647729371743736,94.56,0.93272227069816915]
["QJUN0.5=10-3.648A1.134P2.475","OLS",26,"--","--","--","--","--",0.02,33.446316852914677,95.71,0.91240174656750805]
["QJUN0.8=10-4.72A1.163P2.939","OLS",26,"--","--","--","--","--",2.4E-2,36.837172815858779,95.6,0.89973732059197531]
["QJUNMEAN=10-3.208A1.127P2.253","OLS",26,"--","--","--","--","--",2.7E-2,39.230913082500145,94.24,0.92538563221297643]
["QJUL0.2=10-3.531A1.084P2.348","OLS",26,"--","--","--","--","--",2.3E-2,36.012807865166288,94.8,0.87428808832163996]
["QJUL0.5=10-4.133A1.102P2.535","OLS",26,"--","--","--","--","--",2.7E-2,39.230913082500145,94.19,0.87503885919506597]
["QJUL0.8=10-5.12A1.146P2.926","OLS",26,"--","--","--","--","--",4.5999999999999999E-2,52.555165433651716,91.59,0.88461255029574126]
["QJULMEAN=10-3.761A1.091P2.387","OLS",26,"--","--","--","--","--",2.4E-2,36.837172815858779,94.53,0.87799148195497678]
["QAUG0.2=10-3.034A1.023P1.855","OLS",26,"--","--","--","--","--",3.9E-2,47.927857432976431,90.06,0.85729103163015563]
["QAUG0.5=10-3.76A1.056P2.148","OLS",26,"--","--","--","--","--",0.05,55.096203033983784,88.45,0.8633982108744539]
["QAUG0.8=10-5.133A1.13P2.759","OLS",26,"--","--","--","--","--",8.5000000000000006E-2,75.455872711666558,84.83,0.88280636506275467]
["QAUGMEAN=10-3.435A1.038P2.004","OLS",26,"--","--","--","--","--",4.3999999999999997E-2,51.258487171657649,89.31,0.85839774077192732]
["QSEP0.2=10-2.812A0.978P1.704","OLS",26,"--","--","--","--","--",3.7999999999999999E-2,47.244611829214058,89.36,0.8255402081065244]
["QSEP0.5=10-3.38A1.038P1.851","OLS",26,"--","--","--","--","--",4.5999999999999999E-2,52.555165433651716,88.65,0.87275990234037992]
["QSEP0.8=10-4.544A1.125P2.331","OLS",26,"--","--","--","--","--",7.1999999999999995E-2,68.178701445990114,85.95,0.91669932886744476]
["QSEPMEAN=10-3.307A1.014P1.886","OLS",26,"--","--","--","--","--",3.5000000000000003E-2,45.155627502771047,90.85,0.8454946586828026]
["QOCT0.2=10-3.027A0.932P1.947","OLS",26,"--","--","--","--","--",2.3E-2,36.012807865166288,92.93,0.75766259238950906]
["QOCT0.5=10-2.918A0.966P1.698","OLS",26,"--","--","--","--","--",2.5999999999999999E-2,38.445372996709118,92.4,0.81379831001976155]
["QOCT0.8=10-3.16A1.037P1.618","OLS",26,"--","--","--","--","--",4.3999999999999997E-2,51.258487171657649,88.76,0.89221585675063642]
["QOCTMEAN=10-3.187A0.945P1.947","OLS",26,"--","--","--","--","--",0.02,33.446316852914677,93.85,0.7704340241324501]
["QNOV0.2=10-3.331A0.975P2.051","OLS",21,"--","--","--","--","--",1.4E-2,27.758213959367033,95.41,0.77176046809423915]
["QNOV0.5=10-3.052A0.95P1.797","OLS",21,"--","--","--","--","--",1.6E-2,29.754596059843468,94.46,0.77148606277352094]
["QNOV0.8=10-2.642A0.957P1.4","OLS",21,"--","--","--","--","--",2.5000000000000001E-2,37.647729371743736,91.48,0.8178547614944589]
["QNOVMEAN=10-3.265A0.975P1.933","OLS",21,"--","--","--","--","--",1.2E-2,25.630294240815154,95.89,0.78366634079045494]
["QDEC0.2=10-2.888A0.971P1.7","OLS",19,"--","--","--","--","--",1.7999999999999999E-2,31.644549718377686,94.17,0.79432063181860157]
["QDEC0.5=10-2.851A0.965P1.573","OLS",19,"--","--","--","--","--",2.1000000000000001E-2,34.318557809831169,93.34,0.80165775392819494]
["QDEC0.8=10-2.898A0.983P1.452","OLS",19,"--","--","--","--","--",2.8000000000000001E-2,40.005084069492796,91.54,0.83191815435624261]
["QDECMEAN=10-2.93A0.964P1.667","OLS",19,"--","--","--","--","--",1.7999999999999999E-2,31.644549718377686,94.16,0.79143245317513611]
["Upper Yellowstone-Central Mountain hydrologic region"]
["QAL7Q10=10-9.113A1.017P5.411","GLS",36,0.255,0.28000000000000003,169.17,184.55,62.18,"--","--","--",0.74880464677609426]
["QS214Q5=10-6.949A0.807P4.523","GLS",49,0.182,0.19500000000000001,127.56,134.81,64.53,"--","--","--",0.63618450205258303]
["QA0.2=10-4.537A0.947P3.184","OLS",40,"--","--","--","--","--",3.4000000000000002E-2,44.445124250513942,90.55,0.8960276413512942]
["QA0.5=10-3.441A0.902P2.253","OLS",40,"--","--","--","--","--",4.2999999999999997E-2,50.602958909477245,85.87,0.86588042972203116]
["QA0.8=10-4.34A0.879P2.684","OLS",40,"--","--","--","--","--",7.1999999999999995E-2,68.178701445990114,78.739999999999995,0.83610116501233678]
["QAMEAN=10-5.116A0.947P3.492","OLS",40,"--","--","--","--","--",3.7999999999999999E-2,47.244611829214058,90.14,0.89060684240746968]
["QJAN0.2=10-3.596A0.923P2.169","OLS",40,"--","--","--","--","--",0.121,94.83669485987825,68.959999999999994,0.88786823432033235]
["QJAN0.5=10-4.163A0.919P2.488","OLS",40,"--","--","--","--","--",0.14699999999999999,108.63425062940681,65.42,0.87920002663889407]
["QJAN0.8=10-4.905A0.918P2.914","OLS",40,"--","--","--","--","--",0.18099999999999999,126.91722347364353,62.17,0.87124372104511127]
["QJANMEAN=10-3.879A0.92P2.304","OLS",40,"--","--","--","--","--",0.13700000000000001,103.32282298334357,66.45,0.88325264307789242]
["QFEB0.2=10-2.684A0.933P1.518","OLS",40,"--","--","--","--","--",0.121,94.83669485987825,67.69,0.90847213945438388]
["QFEB0.5=10-3.566A0.932P2.055","OLS",40,"--","--","--","--","--",0.14199999999999999,105.97661232140085,65.430000000000007,0.89911736055283542]
["QFEB0.8=10-4.591A0.928P2.679","OLS",40,"--","--","--","--","--",0.187,130.19936727858828,60.9,0.88448278431546801]
["QFEBMEAN=10-2.794A0.923P1.56","OLS",40,"--","--","--","--","--",0.13100000000000001,100.14104654672269,65.67,0.89765523456304697]
["QMAR0.2=10-1.196A0.972P0.469","OLS",41,"--","--","--","--","--",0.112,90.049615880113905,69.81,0.96549378876307324]
["QMAR0.5=10-2.432A0.977P1.217","OLS",41,"--","--","--","--","--",0.13100000000000001,100.14104654672269,67.11,0.95913495027364504]
["QMAR0.8=10-3.589A0.99P1.892","OLS",41,"--","--","--","--","--",0.184,128.55571856508612,61.12,0.96212816060735928]
["QMARMEAN=10-1.508A0.974P0.629","OLS",41,"--","--","--","--","--",0.124,96.428890119392534,67.69,0.96434441066035725]
["QAPR0.2=10-2.256A0.887P1.573","OLS",46,"--","--","--","--","--",8.4000000000000005E-2,74.903952042977409,73.91,0.89109361584788116]
["QAPR0.5=10-2.601A0.894P1.636","OLS",46,"--","--","--","--","--",9.5000000000000001E-2,80.920396996937811,71.95,0.89899321123219]
["QAPR0.8=10-3.257A0.934P1.875","OLS",46,"--","--","--","--","--",0.13100000000000001,100.14104654672269,67.41,0.9391342706395952]
["QAPRMEAN=10-2.475A0.896P1.629","OLS",46,"--","--","--","--","--",0.08,72.684388910763218,75.28,0.9001523929097931]
["QMAY0.2=10-4.698A0.958P3.544","OLS",49,"--","--","--","--","--",7.0000000000000007E-2,67.036005309998643,83.58,0.94142688985471945]
["QMAY0.5=10-5.107A0.954P3.644","OLS",49,"--","--","--","--","--",6.6000000000000003E-2,64.727733027560731,84.62,0.93711965318434909]
["QMAY0.8=10-5.544A0.939P3.743","OLS",49,"--","--","--","--","--",9.5000000000000001E-2,80.920396996937811,79.27,0.92187215961275004]
["QMAYMEAN=10-4.764A0.941P3.499","OLS",49,"--","--","--","--","--",6.4000000000000001E-2,63.561056954656124,84.53,0.92459526507782397]
["QJUN0.2=10-5.968A1.027P4.419","OLS",49,"--","--","--","--","--",6.8000000000000005E-2,65.885859146084741,87.17,1.0062010977015965]
["QJUN0.5=10-6.964A1.032P4.948","OLS",49,"--","--","--","--","--",6.2E-2,62.385216362602037,89.25,1.0090822697772708]
["QJUN0.8=10-8.28A1.026P5.688","OLS",49,"--","--","--","--","--",8.2000000000000003E-2,73.79663140108066,87.81,0.99965324901568176]
["QJUNMEAN=10-6.2A1.006P4.511","OLS",49,"--","--","--","--","--",5.6000000000000001E-2,58.795779438743267,89.23,0.98502417490802929]
["QJUL0.2=10-7.302A0.978P5.168","OLS",49,"--","--","--","--","--",0.10199999999999999,84.698362659568161,83.25,0.95412328999029727]
["QJUL0.5=10-7.862A0.923P5.472","OLS",49,"--","--","--","--","--",0.13600000000000001,102.79238525470653,79.09,0.89774940635090728]
["QJUL0.8=10-9.264A0.881P6.324","OLS",49,"--","--","--","--","--",0.24,160.30177661589124,71.33,0.85184680204820939]
["QJULMEAN=10-7.403A0.952P5.176","OLS",49,"--","--","--","--","--",0.108,87.914306531696411,82.12,0.92746500427245604]
["QAUG0.2=10-6.273A0.871P4.352","OLS",49,"--","--","--","--","--",0.13700000000000001,103.32282298334357,73.56,0.85079362651860058]
["QAUG0.5=10-7.497A0.862P5.073","OLS",49,"--","--","--","--","--",0.249,165.65420787500557,64.17,0.83834307717190981]
["QAUG0.8=10-9.032A0.776P6.129","OLS",49,"--","--","--","--","--",0.315,207.67288690053843,62.67,0.74772212295250629]
["QAUGMEAN=10-6.788A0.854P4.644","OLS",49,"--","--","--","--","--",0.151,110.76416073180637,72.650000000000006,0.83203340437416806]
["QSEP0.2=10-5.342A0.861P3.637","OLS",49,"--","--","--","--","--",0.153,111.8306377111309,67.69,0.84425109927024777]
["QSEP0.5=10-6.445A0.838P4.323","OLS",49,"--","--","--","--","--",0.26,172.30753966423686,58.4,0.79520324421821886]
["QSEP0.8=10-7.739A0.791P5.16","OLS",49,"--","--","--","--","--",0.32500000000000001,214.52475252573274,56.63,0.76673414740638524]
["QSEPMEAN=10-5.849A0.851P3.924","OLS",49,"--","--","--","--","--",0.17499999999999999,123.65480682291472,65.88,0.832739759746013]
["QOCT0.2=10-4.311A0.886P2.867","OLS",49,"--","--","--","--","--",0.11799999999999999,93.243080562804792,70.44,0.8723993453525094]
["QOCT0.5=10-4.715A0.867P3.086","OLS",49,"--","--","--","--","--",0.157,113.96707867319596,64.63,0.85223278170823225]
["QOCT0.8=10-5.806A0.841P3.772","OLS",49,"--","--","--","--","--",0.248,165.05553397423455,56.47,0.82302953487943487]
["QOCTMEAN=10-4.711A0.875P3.09","OLS",49,"--","--","--","--","--",0.13900000000000001,104.38397882584174,67.61,0.86082907110129747]
["QNOV0.2=10-3.932A0.918P2.504","OLS",45,"--","--","--","--","--",0.104,85.772324018920813,72.099999999999994,0.88642448528123807]
["QNOV0.5=10-4.288A0.912P2.684","OLS",45,"--","--","--","--","--",0.128,98.550405149022083,68.19,0.87898121178458877]
["QNOV0.8=10-4.992A0.913P3.079","OLS",45,"--","--","--","--","--",0.16900000000000001,120.41028530016978,63.43,0.87423921726987652]
["QNOVMEAN=10-4.312A0.924P2.69","OLS",45,"--","--","--","--","--",0.11799999999999999,93.243080562804792,70.23,0.89001034604049512]
["QDEC0.2=10-4.202A0.954P2.567","OLS",41,"--","--","--","--","--",0.109,88.448703179386712,73.040000000000006,0.91663260502719002]
["QDEC0.5=10-4.601A0.957P2.759","OLS",41,"--","--","--","--","--",0.13700000000000001,103.32282298334357,69.03,0.91652179626360175]
["QDEC0.8=10-5.075A0.946P3.015","OLS",41,"--","--","--","--","--",0.16700000000000001,119.33242388197773,65.12,0.90167313853257824]
["QDECMEAN=10-4.394A0.956P2.632","OLS",41,"--","--","--","--","--",0.121,94.83669485987825,71.13,0.91722426172305149]
["Southwest hydrologic region"]
["QAL7Q10=10-5.309A1.725(SLP50 + 1)2.152","GLS",14,0.216,0.26400000000000001,146.44,174.5,73.14,"--","--","--",1.3341556217688353]
["QS214Q5=10-6.998A1.135P3.934","GLS",23,0.29299999999999998,0.33200000000000002,193.06,219.61,46.76,"--","--","--",0.84069337579333159]
["QA0.2=10-3.693A0.827P2.804","OLS",14,"--","--","--","--","--",2.7E-2,39.230913082500145,86.48,0.64758091971380038]
["QA0.5=10-2.413A0.753P1.759","OLS",14,"--","--","--","--","--",2.4E-2,36.837172815858779,85.97,0.64064272998961103]
["QA0.8=10-2.924A0.794P1.835","OLS",14,"--","--","--","--","--",2.9000000000000001E-2,40.768554789241762,84.68,0.6769225183039812]
["QAMEAN=10-4.335A0.962P2.946","OLS",14,"--","--","--","--","--",1.2E-2,25.630294240815154,94.98,0.77432092700037103]
["QJAN0.2=10-2.126A1.149(SLP50 + 1)0.975","OLS",14,"--","--","--","--","--",2.3E-2,36.012807865166288,93.4,0.95503186924260652]
["QJAN0.5=10-2.645A1.239(SLP50 + 1)1.168","OLS",14,"--","--","--","--","--",3.5999999999999997E-2,45.858813208494141,91.19,1.0066626673820982]
["QJAN0.8=10-3.331A1.351(SLP50 + 1)1.451","OLS",14,"--","--","--","--","--",5.8999999999999997E-2,60.602803839314724,88.22,1.0631646599621827]
["QJANMEAN=10-2.442A1.193(SLP50 + 1)1.093","OLS",14,"--","--","--","--","--",0.03,41.521936364144445,92.11,0.97581146284887599]
["QFEB0.2=10-2.276A1.214(SLP50 + 1)0.964","OLS",14,"--","--","--","--","--",3.1E-2,42.265788927328785,92.11,1.0219215530993424]
["QFEB0.5=10-2.631A1.256(SLP50 + 1)1.116","OLS",14,"--","--","--","--","--",4.1000000000000002E-2,49.276472527795462,90.51,1.0338039135186454]
["QFEB0.8=10-3.286A1.355(SLP50 + 1)1.395","OLS",14,"--","--","--","--","--",6.0999999999999999E-2,61.79365388156458,88.04,1.0777932082700763]
["QFEBMEAN=10-2.555A1.248(SLP50 + 1)1.086","OLS",14,"--","--","--","--","--",3.1E-2,42.265788927328785,92.59,1.0323563421479405]
["QMAR0.2=10-1.493A1.11(SLP50 + 1)0.555","OLS",17,"--","--","--","--","--",1.7999999999999999E-2,31.644549718377686,94.23,0.99399857069128217]
["QMAR0.5=10-2.138A1.206(SLP50 + 1)0.83","OLS",17,"--","--","--","--","--",2.9000000000000001E-2,40.768554789241762,91.81,1.0324435334342366]
["QMAR0.8=10-2.909A1.336(SLP50 + 1)1.162","OLS",17,"--","--","--","--","--",5.1999999999999998E-2,56.343194938570662,88.31,1.0929153130414699]
["QMARMEAN=10-1.739A1.143(SLP50 + 1)0.646","OLS",17,"--","--","--","--","--",1.7000000000000001E-2,30.711609287771889,94.56,1.008084419681005]
["QAPR0.2=10-3.434A1.096P2.189","OLS",23,"--","--","--","--","--",2.7E-2,39.230913082500145,90.93,0.92418033350927209]
["QAPR0.5=10-3.267A1.115P1.847","OLS",23,"--","--","--","--","--",1.2999999999999999E-2,26.712630504638501,95.66,0.97054354380221253]
["QAPR0.8=10-2.935A1.105P1.447","OLS",23,"--","--","--","--","--",1.6E-2,29.754596059843468,94.84,0.99191220414891845]
["QAPRMEAN=10-3.343A1.093P2.022","OLS",23,"--","--","--","--","--",1.7000000000000001E-2,30.711609287771889,94.09,0.93410019206152883]
["QMAY0.2=10-3.111A0.886P2.593","OLS",24,"--","--","--","--","--",5.3999999999999999E-2,57.576045789876552,77.87,0.70326619047410988]
["QMAY0.5=10-3.494A0.894P2.672","OLS",24,"--","--","--","--","--",4.8000000000000001E-2,53.833942282648891,80.12,0.70546011395539077]
["QMAY0.8=10-3.888A0.936P2.679","OLS",24,"--","--","--","--","--",3.9E-2,47.927857432976431,84.39,0.74733482090373038]
["QMAYMEAN=10-3.245A0.892P2.558","OLS",24,"--","--","--","--","--",4.8000000000000001E-2,53.833942282648891,80.05,0.71150423764575887]
["QJUN0.2=10-3.233A0.898P2.7","OLS",24,"--","--","--","--","--",3.7999999999999999E-2,47.244611829214058,83.72,0.70722349869697831]
["QJUN0.5=10-4.127A0.917P3.119","OLS",24,"--","--","--","--","--",3.7999999999999999E-2,47.244611829214058,84.59,0.69748193038880169]
["QJUN0.8=10-4.929A0.916P3.467","OLS",24,"--","--","--","--","--",6.8000000000000005E-2,65.885859146084741,75.61,0.671671897683215]
["QJUNMEAN=10-3.56A0.89P2.819","OLS",24,"--","--","--","--","--",3.5999999999999997E-2,45.858813208494141,84.28,0.69102903536336346]
["QJUL0.2=10-3.807A0.897P2.772","OLS",24,"--","--","--","--","--",3.6999999999999998E-2,46.555032272692976,84.26,0.70207362853122035]
["QJUL0.5=10-4.422A0.898P3.002","OLS",24,"--","--","--","--","--",7.0000000000000007E-2,67.036005309998643,73.930000000000007,0.68691072397250819]
["QJUL0.8=10-4.873A0.893P3.134","OLS",24,"--","--","--","--","--",0.125,96.959387105261143,61.28,0.67188949641681683]
["QJULMEAN=10-3.982A0.893P2.791","OLS",24,"--","--","--","--","--",4.2000000000000003E-2,49.94236163139955,82.16,0.6958023394420777]
["QAUG0.2=10-3.708A0.916P2.383","OLS",24,"--","--","--","--","--",0.09,78.199659280028229,69.400000000000006,0.74752195019968837]
["QAUG0.5=10-4.599A0.963P2.78","OLS",24,"--","--","--","--","--",0.151,110.76416073180637,59.89,0.767422258070657]
["QAUG0.8=10-5.612A0.98P3.304","OLS",24,"--","--","--","--","--",0.26200000000000001,173.53096698481326,47.49,0.74686900191242978]
["QAUGMEAN=10-4.015A0.924P2.49","OLS",24,"--","--","--","--","--",9.4E-2,80.377890602804456,68.86,0.74893318849944923]
["QSEP0.2=10-3.754A0.946P2.321","OLS",24,"--","--","--","--","--",5.8000000000000003E-2,60.003328820844445,78.97,0.78206751610458725]
["QSEP0.5=10-4.447A0.981P2.616","OLS",24,"--","--","--","--","--",0.111,89.516336146888392,67.8,0.79704779144695947]
["QSEP0.8=10-5.3A1.028P3.011","OLS",24,"--","--","--","--","--",0.188,130.74843278927904,57.79,0.81554721477489289]
["QSEPMEAN=10-3.949A0.95P2.363","OLS",24,"--","--","--","--","--",6.9000000000000006E-2,66.461895711315023,76.11,0.78304239564918021]
["QOCT0.2=10-3.207A0.986P1.907","OLS",23,"--","--","--","--","--",3.5999999999999997E-2,45.858813208494141,86.95,0.84351331438941124]
["QOCT0.5=10-3.854A1.045P2.162","OLS",23,"--","--","--","--","--",5.8000000000000003E-2,60.003328820844445,82.02,0.88353989637721742]
["QOCT0.8=10-4.555A1.115P2.427","OLS",23,"--","--","--","--","--",9.9000000000000005E-2,83.083143179119261,75.14,0.93356591086923635]
["QOCTMEAN=10-3.494A1.005P1.999","OLS",23,"--","--","--","--","--",3.7999999999999999E-2,47.244611829214058,86.51,0.85561712591153627]
["QNOV0.2=10-3.224A1.096P1.723","OLS",20,"--","--","--","--","--",3.4000000000000002E-2,44.445124250513942,88.73,0.97509157232683097]
["QNOV0.5=10-3.626A1.164P1.804","OLS",20,"--","--","--","--","--",5.6000000000000001E-2,58.795779438743267,84.38,1.0372360101602156]
["QNOV0.8=10-4.133A1.242P1.935","OLS",20,"--","--","--","--","--",8.1000000000000003E-2,73.241147225708787,81.069999999999993,1.1062682372147135]
["QNOVMEAN=10-3.43A1.122P1.75","OLS",20,"--","--","--","--","--",3.5999999999999997E-2,45.858813208494141,88.63,0.99942402855095469]
["QDEC0.2=10-1.957A1.118(SLP50 + 1)0.932","OLS",15,"--","--","--","--","--",2.5000000000000001E-2,37.647729371743736,92.53,0.95281551293381705]
["QDEC0.5=10-2.585A1.226(SLP50 + 1)1.182","OLS",15,"--","--","--","--","--",4.2000000000000003E-2,49.94236163139955,89.76,1.0164290050048717]
["QDEC0.8=10-3.107A1.332(SLP50 + 1)1.328","OLS",15,"--","--","--","--","--",6.9000000000000006E-2,66.461895711315023,86.22,1.0963704576349089]
["QDECMEAN=10-2.247A1.16(SLP50 + 1)1.03","OLS",15,"--","--","--","--","--",2.9000000000000001E-2,40.768554789241762,91.85,0.97711321171702115]
["1The number of streamflow-gaging stations used for each flow characteristic varies based on data availability. Some streamflow-gaging stations were operated on a seasonal basis only."]
["2Regression coefficients for OLS regressions relating streamflow characteristic to contributing drainage area for use with ungaged sites on gaged streams."]

{"sheet":"Table 1–4","index":11,"n_rows":166,"n_cols":18,"rows_kept":166,"cut":false,"hidden":false,"merged":[[3,10,3,12],[3,14,3,16],[7,0,9,0],[3,2,3,4],[3,6,3,8],[4,0,6,0],[2,0,3,0],[0,0,0,17],[1,0,1,17],[2,2,2,17],[4,17,6,17],[7,17,9,17],[25,0,27,0],[28,0,30,0],[31,0,33,0],[34,0,36,0],[37,0,39,0],[10,0,12,0],[13,0,15,0],[16,0,18,0],[19,0,21,0],[22,0,24,0],[55,0,57,0],[58,0,60,0],[61,0,63,0],[64,0,66,0],[67,0,69,0],[40,0,42,0],[43,0,45,0],[46,0,48,0],[49,0,51,0],[52,0,54,0],[85,0,87,0],[88,0,90,0],[91,0,93,0],[94,0,96,0],[97,0,99,0],[70,0,72,0],[73,0,75,0],[76,0,78,0],[79,0,81,0],[82,0,84,0],[115,0,117,0],[118,0,120,0],[121,0,123,0],[124,0,126,0],[127,0,129,0],[100,0,102,0],[103,0,105,0],[106,0,108,0],[109,0,111,0],[112,0,114,0],[160,0,162,0],[163,0,165,0],[145,0,147,0],[148,0,150,0],[151,0,153,0],[154,0,156,0],[157,0,159,0],[130,0,132,0],[133,0,135,0],[136,0,138,0],[139,0,141,0],[142,0,144,0],[25,17,27,17],[28,17,30,17],[31,17,33,17],[34,17,36,17],[37,17,39,17],[10,17,12,17],[13,17,15,17],[16,17,18,17],[19,17,21,17],[22,17,24,17],[55,17,57,17],[58,17,60,17],[61,17,63,17],[64,17,66,17],[67,17,69,17],[40,17,42,17],[43,17,45,17],[46,17,48,17],[49,17,51,17],[52,17,54,17],[85,17,87,17],[88,17,90,17],[91,17,93,17],[94,17,96,17],[97,17,99,17],[70,17,72,17],[73,17,75,17],[76,17,78,17],[79,17,81,17],[82,17,84,17],[115,17,117,17],[118,17,120,17],[121,17,123,17],[124,17,126,17],[127,17,129,17],[100,17,102,17],[103,17,105,17],[106,17,108,17],[109,17,111,17],[112,17,114,17],[160,17,162,17],[163,17,165,17],[145,17,147,17],[148,17,150,17],[151,17,153,17],[154,17,156,17],[157,17,159,17],[130,17,132,17],[133,17,135,17],[136,17,138,17],[139,17,141,17],[142,17,144,17]]}
["Table 1–4. Covariance matrices for the generalized least squares regressions, [XTL-1X]-1; and for the ordinary least squares regressions, [XTX]-1."]
["[Q, streamflow, in cubic feet per second, for indicated streamflow characteristic (definitions provided in table 1); GLS, generalized least squares; OLS, ordinary least squares]"]
["Streamflow characteristic",null,"[XTL-1X]-1 and [XTX]-1covariance matrices for indicated streamflow characteristic and hydrologic region"]
[null,null,"West",null,null,null,"Northwest",null,null,null,"Upper Yellowstone-Central Mountain",null,null,null,"Southwest",null,null,"Method of regression"]
["QAL7Q10",null,7.6723462000000006E-2,-1.386506E-2,-3.5101569999999999E-2,null,0.40651062999999998,-5.6420208999999999E-2,-0.1849431,null,2.4801380000000002,-0.10711785,-1.5465641999999999,null,1.3099615,-0.27842908,-0.65214978999999995,"GLS"]
[null,null,-1.386506E-2,4.0682840999999997E-3,3.9059913999999999E-3,null,-5.6420208999999999E-2,2.2222777999999999E-2,2.2081072E-3,null,-0.10711785,3.1401547000000002E-2,2.3047637999999999E-2,null,-0.27842908,8.2104453999999993E-2,8.9442031000000005E-2]
[null,null,-3.5101569999999999E-2,3.9059913999999999E-3,2.0954714999999999E-2,null,-0.1849431,2.2081072E-3,0.12511364,null,-1.5465641999999999,2.3047637999999999E-2,1.0401347999999999,null,-0.65214978999999995,8.9442031000000005E-2,0.44540448999999999]
["QS214Q5",null,6.9694748000000001E-2,-1.2491138000000001E-2,-3.2500437E-2,null,0.72768151000000003,-5.9371957000000003E-2,-0.36108774999999999,null,0.99685520000000005,-3.3936476E-2,-0.64679593999999996,null,5.7661088999999999,-0.37729878,-3.5577027000000001,"GLS"]
[null,null,-1.2491138000000001E-2,3.8506952E-3,3.3462511000000002E-3,null,-5.9371957000000003E-2,1.5572641999999999E-2,1.5245239000000001E-2,null,-3.3936476E-2,1.6764201999999999E-2,-2.5742415999999999E-3,null,-0.37729878,6.2370733999999997E-2,0.17205690000000001]
[null,null,-3.2500437E-2,3.3462511000000002E-3,2.0046284000000001E-2,null,-0.36108774999999999,1.5245239000000001E-2,0.19980725999999999,null,-0.64679593999999996,-2.5742415999999999E-3,0.46067798999999998,null,-3.5577027000000001,0.17205690000000001,2.3000389999999999]
["QA0.2",null,0.81235118141669105,-0.16680878763331899,-0.34637691651464497,null,11.018845722904601,-0.92887644230412603,-5.37245039779725,null,6.2116098924547902,-0.28959257124248799,-3.9084931412442301,null,38.880884708114301,-2.2635756516946102,-24.897674192192699,"OLS"]
[null,null,-0.16680878763331899,5.3709712938857297E-2,4.0267228619940698E-2,null,-0.92887644230413402,0.206798512128512,0.28600624816303999,null,-0.289592571242481,9.7210669603762997E-2,4.3590791451705302E-2,null,-2.2635756516946302,0.36132969999398801,1.0625471501597501]
[null,null,-0.34637691651464603,4.0267228619940802E-2,0.20876690943052301,null,-5.3724503977972402,0.28600624816303599,2.85615282459284,null,-3.9084931412442501,4.3590791451710097E-2,2.7014273600035801,null,-24.897674192192699,1.0625471501597401,16.634771441670502]
["QA0.5",null,0.81235118141669105,-0.16680878763331899,-0.34637691651464497,null,11.018845722904601,-0.92887644230412603,-5.37245039779725,null,6.2116098924547902,-0.28959257124248799,-3.9084931412442301,null,38.880884708114301,-2.2635756516946102,-24.897674192192699,"OLS"]
[null,null,-0.16680878763331899,5.3709712938857297E-2,4.0267228619940698E-2,null,-0.92887644230413402,0.206798512128512,0.28600624816303999,null,-0.289592571242481,9.7210669603762997E-2,4.3590791451705302E-2,null,-2.2635756516946302,0.36132969999398801,1.0625471501597501]
[null,null,-0.34637691651464603,4.0267228619940802E-2,0.20876690943052301,null,-5.3724503977972402,0.28600624816303599,2.85615282459284,null,-3.9084931412442501,4.3590791451710097E-2,2.7014273600035801,null,-24.897674192192699,1.0625471501597401,16.634771441670502]
["QA0.8",null,0.81235118141669105,-0.16680878763331899,-0.34637691651464497,null,11.018845722904601,-0.92887644230412603,-5.37245039779725,null,6.2116098924547902,-0.28959257124248799,-3.9084931412442301,null,38.880884708114301,-2.2635756516946102,-24.897674192192699,"OLS"]
[null,null,-0.16680878763331899,5.3709712938857297E-2,4.0267228619940698E-2,null,-0.92887644230413402,0.206798512128512,0.28600624816303999,null,-0.289592571242481,9.7210669603762997E-2,4.3590791451705302E-2,null,-2.2635756516946302,0.36132969999398801,1.0625471501597501]
[null,null,-0.34637691651464603,4.0267228619940802E-2,0.20876690943052301,null,-5.3724503977972402,0.28600624816303599,2.85615282459284,null,-3.9084931412442501,4.3590791451710097E-2,2.7014273600035801,null,-24.897674192192699,1.0625471501597401,16.634771441670502]
["QAMEAN",null,0.81235118141669105,-0.16680878763331899,-0.34637691651464497,null,11.018845722904601,-0.92887644230412603,-5.37245039779725,null,6.2116098924547902,-0.28959257124248799,-3.9084931412442301,null,38.880884708114301,-2.2635756516946102,-24.897674192192699,"OLS"]
[null,null,-0.16680878763331899,5.3709712938857297E-2,4.0267228619940698E-2,null,-0.92887644230413402,0.206798512128512,0.28600624816303999,null,-0.289592571242481,9.7210669603762997E-2,4.3590791451705302E-2,null,-2.2635756516946302,0.36132969999398801,1.0625471501597501]
[null,null,-0.34637691651464603,4.0267228619940802E-2,0.20876690943052301,null,-5.3724503977972402,0.28600624816303599,2.85615282459284,null,-3.9084931412442501,4.3590791451710097E-2,2.7014273600035801,null,-24.897674192192699,1.0625471501597401,16.634771441670502]
["QJAN0.2",null,0.80892001093931698,-0.16583672196639401,-0.34438321223169299,null,11.018845722904601,-0.92887644230412603,-5.37245039779725,null,6.2116098924547902,-0.28959257124248799,-3.9084931412442301,null,5.8745387827164199,-1.2545970914125799,-2.9251893959702202,"OLS"]
[null,null,-0.16583672196639301,5.3434322465825801E-2,3.9702403439659202E-2,null,-0.92887644230413402,0.206798512128512,0.28600624816303999,null,-0.289592571242481,9.7210669603762997E-2,4.3590791451705302E-2,null,-1.2545970914125799,0.372823612191855,0.39932992288534103]
[null,null,-0.34438321223169299,3.9702403439659299E-2,0.207608454380249,null,-5.3724503977972402,0.28600624816303599,2.85615282459284,null,-3.9084931412442501,4.3590791451710097E-2,2.7014273600035801,null,-2.92518939597023,0.39932992288534203,2.0092739674320401]
["QJAN0.5",null,0.80892001093931698,-0.16583672196639401,-0.34438321223169299,null,11.018845722904601,-0.92887644230412603,-5.37245039779725,null,6.2116098924547902,-0.28959257124248799,-3.9084931412442301,null,5.8745387827164199,-1.2545970914125799,-2.9251893959702202,"OLS"]
[null,null,-0.16583672196639301,5.3434322465825801E-2,3.9702403439659202E-2,null,-0.92887644230413402,0.206798512128512,0.28600624816303999,null,-0.289592571242481,9.7210669603762997E-2,4.3590791451705302E-2,null,-1.2545970914125799,0.372823612191855,0.39932992288534103]
[null,null,-0.34438321223169299,3.9702403439659299E-2,0.207608454380249,null,-5.3724503977972402,0.28600624816303599,2.85615282459284,null,-3.9084931412442501,4.3590791451710097E-2,2.7014273600035801,null,-2.92518939597023,0.39932992288534203,2.0092739674320401]
["QJAN0.8",null,0.80892001093931698,-0.16583672196639401,-0.34438321223169299,null,11.018845722904601,-0.92887644230412603,-5.37245039779725,null,6.2116098924547902,-0.28959257124248799,-3.9084931412442301,null,5.8745387827164199,-1.2545970914125799,-2.9251893959702202,"OLS"]
[null,null,-0.16583672196639301,5.3434322465825801E-2,3.9702403439659202E-2,null,-0.92887644230413402,0.206798512128512,0.28600624816303999,null,-0.289592571242481,9.7210669603762997E-2,4.3590791451705302E-2,null,-1.2545970914125799,0.372823612191855,0.39932992288534103]
[null,null,-0.34438321223169299,3.9702403439659299E-2,0.207608454380249,null,-5.3724503977972402,0.28600624816303599,2.85615282459284,null,-3.9084931412442501,4.3590791451710097E-2,2.7014273600035801,null,-2.92518939597023,0.39932992288534203,2.0092739674320401]
["QJANMEAN",null,0.80892001093931698,-0.16583672196639401,-0.34438321223169299,null,11.018845722904601,-0.92887644230412603,-5.37245039779725,null,6.2116098924547902,-0.28959257124248799,-3.9084931412442301,null,5.8745387827164199,-1.2545970914125799,-2.9251893959702202,"OLS"]
[null,null,-0.16583672196639301,5.3434322465825801E-2,3.9702403439659202E-2,null,-0.92887644230413402,0.206798512128512,0.28600624816303999,null,-0.289592571242481,9.7210669603762997E-2,4.3590791451705302E-2,null,-1.2545970914125799,0.372823612191855,0.39932992288534103]
[null,null,-0.34438321223169299,3.9702403439659299E-2,0.207608454380249,null,-5.3724503977972402,0.28600624816303599,2.85615282459284,null,-3.9084931412442501,4.3590791451710097E-2,2.7014273600035801,null,-2.92518939597023,0.39932992288534203,2.0092739674320401]
["QFEB0.2",null,0.80794714666667,-0.16614212862983199,-0.342581840223951,null,11.0179485039175,-0.93153999831905998,-5.3693382403065497,null,6.2116098924547902,-0.28959257124248799,-3.9084931412442301,null,5.8745387827164199,-1.2545970914125799,-2.9251893959702202,"OLS"]
[null,null,-0.16614212862983199,5.3338447601499701E-2,4.0267899604091197E-2,null,-0.93153999831906198,0.198891266810479,0.29524524768680199,null,-0.289592571242481,9.7210669603762997E-2,4.3590791451705302E-2,null,-1.2545970914125799,0.372823612191855,0.39932992288534103]
[null,null,-0.34258184022395,4.0267899604091002E-2,0.20427300338052101,null,-5.3693382403065497,0.29524524768680099,2.8453577741342801,null,-3.9084931412442501,4.3590791451710097E-2,2.7014273600035801,null,-2.92518939597023,0.39932992288534203,2.0092739674320401]
["QFEB0.5",null,0.80794714666667,-0.16614212862983199,-0.342581840223951,null,11.0179485039175,-0.93153999831905998,-5.3693382403065497,null,6.2116098924547902,-0.28959257124248799,-3.9084931412442301,null,5.8745387827164199,-1.2545970914125799,-2.9251893959702202,"OLS"]
[null,null,-0.16614212862983199,5.3338447601499701E-2,4.0267899604091197E-2,null,-0.93153999831906198,0.198891266810479,0.29524524768680199,null,-0.289592571242481,9.7210669603762997E-2,4.3590791451705302E-2,null,-1.2545970914125799,0.372823612191855,0.39932992288534103]
[null,null,-0.34258184022395,4.0267899604091002E-2,0.20427300338052101,null,-5.3693382403065497,0.29524524768680099,2.8453577741342801,null,-3.9084931412442501,4.3590791451710097E-2,2.7014273600035801,null,-2.92518939597023,0.39932992288534203,2.0092739674320401]
["QFEB0.8",null,0.80794714666667,-0.16614212862983199,-0.342581840223951,null,11.0179485039175,-0.93153999831905998,-5.3693382403065497,null,6.2116098924547902,-0.28959257124248799,-3.9084931412442301,null,5.8745387827164199,-1.2545970914125799,-2.9251893959702202,"OLS"]
[null,null,-0.16614212862983199,5.3338447601499701E-2,4.0267899604091197E-2,null,-0.93153999831906198,0.198891266810479,0.29524524768680199,null,-0.289592571242481,9.7210669603762997E-2,4.3590791451705302E-2,null,-1.2545970914125799,0.372823612191855,0.39932992288534103]
[null,null,-0.34258184022395,4.0267899604091002E-2,0.20427300338052101,null,-5.3693382403065497,0.29524524768680099,2.8453577741342801,null,-3.9084931412442501,4.3590791451710097E-2,2.7014273600035801,null,-2.92518939597023,0.39932992288534203,2.0092739674320401]
["QFEBMEAN",null,0.80794714666667,-0.16614212862983199,-0.342581840223951,null,11.0179485039175,-0.93153999831905998,-5.3693382403065497,null,6.2116098924547902,-0.28959257124248799,-3.9084931412442301,null,5.8745387827164199,-1.2545970914125799,-2.9251893959702202,"OLS"]
[null,null,-0.16614212862983199,5.3338447601499701E-2,4.0267899604091197E-2,null,-0.93153999831906198,0.198891266810479,0.29524524768680199,null,-0.289592571242481,9.7210669603762997E-2,4.3590791451705302E-2,null,-1.2545970914125799,0.372823612191855,0.39932992288534103]
[null,null,-0.34258184022395,4.0267899604091002E-2,0.20427300338052101,null,-5.3693382403065497,0.29524524768680099,2.8453577741342801,null,-3.9084931412442501,4.3590791451710097E-2,2.7014273600035801,null,-2.92518939597023,0.39932992288534203,2.0092739674320401]
["QMAR0.2",null,0.80794714666667,-0.16614212862983199,-0.342581840223951,null,7.5859069678823099,-0.62445765412580501,-3.7727658169564902,null,6.1129269833443702,-0.28040903441947401,-3.8592122947371901,null,5.1338834208115296,-1.1082550344389901,-2.5755591183537399,"OLS"]
[null,null,-0.16614212862983199,5.3338447601499701E-2,4.0267899604091197E-2,null,-0.624457654125812,0.171052130409416,0.15313483587141599,null,-0.28040903441946802,9.6356039867571894E-2,3.9004663289825998E-2,null,-1.1082550344389901,0.33170833790968302,0.364859230041365]
[null,null,-0.34258184022395,4.0267899604091002E-2,0.20427300338052101,null,-3.7727658169564799,0.153134835871412,2.1011168479068401,null,-3.8592122947371998,3.90046632898308E-2,2.6768172035505402,null,-2.5755591183537399,0.364859230041364,1.7422735670897]
["QMAR0.5",null,0.80794714666667,-0.16614212862983199,-0.342581840223951,null,7.5859069678823099,-0.62445765412580501,-3.7727658169564902,null,6.1129269833443702,-0.28040903441947401,-3.8592122947371901,null,5.1338834208115296,-1.1082550344389901,-2.5755591183537399,"OLS"]
[null,null,-0.16614212862983199,5.3338447601499701E-2,4.0267899604091197E-2,null,-0.624457654125812,0.171052130409416,0.15313483587141599,null,-0.28040903441946802,9.6356039867571894E-2,3.9004663289825998E-2,null,-1.1082550344389901,0.33170833790968302,0.364859230041365]
[null,null,-0.34258184022395,4.0267899604091002E-2,0.20427300338052101,null,-3.7727658169564799,0.153134835871412,2.1011168479068401,null,-3.8592122947371998,3.90046632898308E-2,2.6768172035505402,null,-2.5755591183537399,0.364859230041364,1.7422735670897]
["QMAR0.8",null,0.80794714666667,-0.16614212862983199,-0.342581840223951,null,7.5859069678823099,-0.62445765412580501,-3.7727658169564902,null,6.1129269833443702,-0.28040903441947401,-3.8592122947371901,null,5.1338834208115296,-1.1082550344389901,-2.5755591183537399,"OLS"]
[null,null,-0.16614212862983199,5.3338447601499701E-2,4.0267899604091197E-2,null,-0.624457654125812,0.171052130409416,0.15313483587141599,null,-0.28040903441946802,9.6356039867571894E-2,3.9004663289825998E-2,null,-1.1082550344389901,0.33170833790968302,0.364859230041365]
[null,null,-0.34258184022395,4.0267899604091002E-2,0.20427300338052101,null,-3.7727658169564799,0.153134835871412,2.1011168479068401,null,-3.8592122947371998,3.90046632898308E-2,2.6768172035505402,null,-2.5755591183537399,0.364859230041364,1.7422735670897]
["QMARMEAN",null,0.80794714666667,-0.16614212862983199,-0.342581840223951,null,7.5859069678823099,-0.62445765412580501,-3.7727658169564902,null,6.1129269833443702,-0.28040903441947401,-3.8592122947371901,null,5.1338834208115296,-1.1082550344389901,-2.5755591183537399,"OLS"]
[null,null,-0.16614212862983199,5.3338447601499701E-2,4.0267899604091197E-2,null,-0.624457654125812,0.171052130409416,0.15313483587141599,null,-0.28040903441946802,9.6356039867571894E-2,3.9004663289825998E-2,null,-1.1082550344389901,0.33170833790968302,0.364859230041365]
[null,null,-0.34258184022395,4.0267899604091002E-2,0.20427300338052101,null,-3.7727658169564799,0.153134835871412,2.1011168479068401,null,-3.8592122947371998,3.90046632898308E-2,2.6768172035505402,null,-2.5755591183537399,0.364859230041364,1.7422735670897]
["QAPR0.2",null,0.77664113877149998,-0.15725137276518,-0.33561120611719297,null,6.1695735884472303,-0.53751400867638999,-3.0392181915843199,null,5.0468434076880397,-0.18893386849065499,-3.28134627145517,null,19.680982678055202,-1.34868851711094,-12.051112646816399,"OLS"]
[null,null,-0.15725137276518,5.0813515642447897E-2,3.8288273001027301E-2,null,-0.53751400867638799,0.16115031953209799,0.11218789528441001,null,-0.18893386849066099,8.6598263374385295E-2,-6.6590657215318304E-3,null,-1.3486885171109499,0.22627713654937601,0.608372183479712]
[null,null,-0.33561120611719297,3.8288273001027197E-2,0.20272091344261001,null,-3.0392181915843199,0.112187895284412,1.71582389477771,null,-3.28134627145517,-6.6590657215359001E-3,2.3553830556474602,null,-12.051112646816399,0.60837218347970701,7.7553095230134197]
["QAPR0.5",null,0.77664113877149998,-0.15725137276518,-0.33561120611719297,null,6.1695735884472303,-0.53751400867638999,-3.0392181915843199,null,5.0468434076880397,-0.18893386849065499,-3.28134627145517,null,19.680982678055202,-1.34868851711094,-12.051112646816399,"OLS"]
[null,null,-0.15725137276518,5.0813515642447897E-2,3.8288273001027301E-2,null,-0.53751400867638799,0.16115031953209799,0.11218789528441001,null,-0.18893386849066099,8.6598263374385295E-2,-6.6590657215318304E-3,null,-1.3486885171109499,0.22627713654937601,0.608372183479712]
[null,null,-0.33561120611719297,3.8288273001027197E-2,0.20272091344261001,null,-3.0392181915843199,0.112187895284412,1.71582389477771,null,-3.28134627145517,-6.6590657215359001E-3,2.3553830556474602,null,-12.051112646816399,0.60837218347970701,7.7553095230134197]
["QAPR0.8",null,0.77664113877149998,-0.15725137276518,-0.33561120611719297,null,6.1695735884472303,-0.53751400867638999,-3.0392181915843199,null,5.0468434076880397,-0.18893386849065499,-3.28134627145517,null,19.680982678055202,-1.34868851711094,-12.051112646816399,"OLS"]
[null,null,-0.15725137276518,5.0813515642447897E-2,3.8288273001027301E-2,null,-0.53751400867638799,0.16115031953209799,0.11218789528441001,null,-0.18893386849066099,8.6598263374385295E-2,-6.6590657215318304E-3,null,-1.3486885171109499,0.22627713654937601,0.608372183479712]
[null,null,-0.33561120611719297,3.8288273001027197E-2,0.20272091344261001,null,-3.0392181915843199,0.112187895284412,1.71582389477771,null,-3.28134627145517,-6.6590657215359001E-3,2.3553830556474602,null,-12.051112646816399,0.60837218347970701,7.7553095230134197]
["QAPRMEAN",null,0.77664113877149998,-0.15725137276518,-0.33561120611719297,null,6.1695735884472303,-0.53751400867638999,-3.0392181915843199,null,5.0468434076880397,-0.18893386849065499,-3.28134627145517,null,19.680982678055202,-1.34868851711094,-12.051112646816399,"OLS"]
[null,null,-0.15725137276518,5.0813515642447897E-2,3.8288273001027301E-2,null,-0.53751400867638799,0.16115031953209799,0.11218789528441001,null,-0.18893386849066099,8.6598263374385295E-2,-6.6590657215318304E-3,null,-1.3486885171109499,0.22627713654937601,0.608372183479712]
[null,null,-0.33561120611719297,3.8288273001027197E-2,0.20272091344261001,null,-3.0392181915843199,0.112187895284412,1.71582389477771,null,-3.28134627145517,-6.6590657215359001E-3,2.3553830556474602,null,-12.051112646816399,0.60837218347970701,7.7553095230134197]
["QMAY0.2",null,0.77664113877149998,-0.15725137276518,-0.33561120611719297,null,6.1694595403371402,-0.53581502332116404,-3.0416739824149199,null,4.7038405850647402,-0.203574427148461,-3.0108992640237502,null,18.638901292423899,-1.1700384266686199,-11.6166451643471,"OLS"]
[null,null,-0.15725137276518,5.0813515642447897E-2,3.8288273001027301E-2,null,-0.53581502332116404,0.13584037624038001,0.14877204031191801,null,-0.20357442714846199,8.3578169118525197E-2,9.9474324303488008E-3,null,-1.1700384266686299,0.19565010947165201,0.53388888869308304]
[null,null,-0.33561120611719297,3.8288273001027197E-2,0.20272091344261001,null,-3.0416739824149199,0.14877204031191801,1.66294350496597,null,-3.0108992640237502,9.9474324303477999E-3,2.13134028340792,null,-11.6166451643471,0.53388888869307605,7.5741701264887897]
["QMAY0.5",null,0.77664113877149998,-0.15725137276518,-0.33561120611719297,null,6.1694595403371402,-0.53581502332116404,-3.0416739824149199,null,4.7038405850647402,-0.203574427148461,-3.0108992640237502,null,18.638901292423899,-1.1700384266686199,-11.6166451643471,"OLS"]
[null,null,-0.15725137276518,5.0813515642447897E-2,3.8288273001027301E-2,null,-0.53581502332116404,0.13584037624038001,0.14877204031191801,null,-0.20357442714846199,8.3578169118525197E-2,9.9474324303488008E-3,null,-1.1700384266686299,0.19565010947165201,0.53388888869308304]
[null,null,-0.33561120611719297,3.8288273001027197E-2,0.20272091344261001,null,-3.0416739824149199,0.14877204031191801,1.66294350496597,null,-3.0108992640237502,9.9474324303477999E-3,2.13134028340792,null,-11.6166451643471,0.53388888869307605,7.5741701264887897]
["QMAY0.8",null,0.77664113877149998,-0.15725137276518,-0.33561120611719297,null,6.1694595403371402,-0.53581502332116404,-3.0416739824149199,null,4.7038405850647402,-0.203574427148461,-3.0108992640237502,null,18.638901292423899,-1.1700384266686199,-11.6166451643471,"OLS"]
[null,null,-0.15725137276518,5.0813515642447897E-2,3.8288273001027301E-2,null,-0.53581502332116404,0.13584037624038001,0.14877204031191801,null,-0.20357442714846199,8.3578169118525197E-2,9.9474324303488008E-3,null,-1.1700384266686299,0.19565010947165201,0.53388888869308304]
[null,null,-0.33561120611719297,3.8288273001027197E-2,0.20272091344261001,null,-3.0416739824149199,0.14877204031191801,1.66294350496597,null,-3.0108992640237502,9.9474324303477999E-3,2.13134028340792,null,-11.6166451643471,0.53388888869307605,7.5741701264887897]
["QMAYMEAN",null,0.77664113877149998,-0.15725137276518,-0.33561120611719297,null,6.1694595403371402,-0.53581502332116404,-3.0416739824149199,null,4.7038405850647402,-0.203574427148461,-3.0108992640237502,null,18.638901292423899,-1.1700384266686199,-11.6166451643471,"OLS"]
[null,null,-0.15725137276518,5.0813515642447897E-2,3.8288273001027301E-2,null,-0.53581502332116404,0.13584037624038001,0.14877204031191801,null,-0.20357442714846199,8.3578169118525197E-2,9.9474324303488008E-3,null,-1.1700384266686299,0.19565010947165201,0.53388888869308304]
[null,null,-0.33561120611719297,3.8288273001027197E-2,0.20272091344261001,null,-3.0416739824149199,0.14877204031191801,1.66294350496597,null,-3.0108992640237502,9.9474324303477999E-3,2.13134028340792,null,-11.6166451643471,0.53388888869307605,7.5741701264887897]
["QJUN0.2",null,0.77664113877149998,-0.15725137276518,-0.33561120611719297,null,6.1694595403371402,-0.53581502332116404,-3.0416739824149199,null,4.7038405850647402,-0.203574427148461,-3.0108992640237502,null,18.638901292423899,-1.1700384266686199,-11.6166451643471,"OLS"]
[null,null,-0.15725137276518,5.0813515642447897E-2,3.8288273001027301E-2,null,-0.53581502332116404,0.13584037624038001,0.14877204031191801,null,-0.20357442714846199,8.3578169118525197E-2,9.9474324303488008E-3,null,-1.1700384266686299,0.19565010947165201,0.53388888869308304]
[null,null,-0.33561120611719297,3.8288273001027197E-2,0.20272091344261001,null,-3.0416739824149199,0.14877204031191801,1.66294350496597,null,-3.0108992640237502,9.9474324303477999E-3,2.13134028340792,null,-11.6166451643471,0.53388888869307605,7.5741701264887897]
["QJUN0.5",null,0.77664113877149998,-0.15725137276518,-0.33561120611719297,null,6.1694595403371402,-0.53581502332116404,-3.0416739824149199,null,4.7038405850647402,-0.203574427148461,-3.0108992640237502,null,18.638901292423899,-1.1700384266686199,-11.6166451643471,"OLS"]
[null,null,-0.15725137276518,5.0813515642447897E-2,3.8288273001027301E-2,null,-0.53581502332116404,0.13584037624038001,0.14877204031191801,null,-0.20357442714846199,8.3578169118525197E-2,9.9474324303488008E-3,null,-1.1700384266686299,0.19565010947165201,0.53388888869308304]
[null,null,-0.33561120611719297,3.8288273001027197E-2,0.20272091344261001,null,-3.0416739824149199,0.14877204031191801,1.66294350496597,null,-3.0108992640237502,9.9474324303477999E-3,2.13134028340792,null,-11.6166451643471,0.53388888869307605,7.5741701264887897]
["QJUN0.8",null,0.77664113877149998,-0.15725137276518,-0.33561120611719297,null,6.1694595403371402,-0.53581502332116404,-3.0416739824149199,null,4.7038405850647402,-0.203574427148461,-3.0108992640237502,null,18.638901292423899,-1.1700384266686199,-11.6166451643471,"OLS"]
[null,null,-0.15725137276518,5.0813515642447897E-2,3.8288273001027301E-2,null,-0.53581502332116404,0.13584037624038001,0.14877204031191801,null,-0.20357442714846199,8.3578169118525197E-2,9.9474324303488008E-3,null,-1.1700384266686299,0.19565010947165201,0.53388888869308304]
[null,null,-0.33561120611719297,3.8288273001027197E-2,0.20272091344261001,null,-3.0416739824149199,0.14877204031191801,1.66294350496597,null,-3.0108992640237502,9.9474324303477999E-3,2.13134028340792,null,-11.6166451643471,0.53388888869307605,7.5741701264887897]
["QJUNMEAN",null,0.77664113877149998,-0.15725137276518,-0.33561120611719297,null,6.1694595403371402,-0.53581502332116404,-3.0416739824149199,null,4.7038405850647402,-0.203574427148461,-3.0108992640237502,null,18.638901292423899,-1.1700384266686199,-11.6166451643471,"OLS"]
[null,null,-0.15725137276518,5.0813515642447897E-2,3.8288273001027301E-2,null,-0.53581502332116404,0.13584037624038001,0.14877204031191801,null,-0.20357442714846199,8.3578169118525197E-2,9.9474324303488008E-3,null,-1.1700384266686299,0.19565010947165201,0.53388888869308304]
[null,null,-0.33561120611719297,3.8288273001027197E-2,0.20272091344261001,null,-3.0416739824149199,0.14877204031191801,1.66294350496597,null,-3.0108992640237502,9.9474324303477999E-3,2.13134028340792,null,-11.6166451643471,0.53388888869307605,7.5741701264887897]
["QJUL0.2",null,0.77664113877149998,-0.15725137276518,-0.33561120611719297,null,6.1694595403371402,-0.53581502332116404,-3.0416739824149199,null,4.7038405850647402,-0.203574427148461,-3.0108992640237502,null,18.638901292423899,-1.1700384266686199,-11.6166451643471,"OLS"]
[null,null,-0.15725137276518,5.0813515642447897E-2,3.8288273001027301E-2,null,-0.53581502332116404,0.13584037624038001,0.14877204031191801,null,-0.20357442714846199,8.3578169118525197E-2,9.9474324303488008E-3,null,-1.1700384266686299,0.19565010947165201,0.53388888869308304]
[null,null,-0.33561120611719297,3.8288273001027197E-2,0.20272091344261001,null,-3.0416739824149199,0.14877204031191801,1.66294350496597,null,-3.0108992640237502,9.9474324303477999E-3,2.13134028340792,null,-11.6166451643471,0.53388888869307605,7.5741701264887897]
["QJUL0.5",null,0.77664113877149998,-0.15725137276518,-0.33561120611719297,null,6.1694595403371402,-0.53581502332116404,-3.0416739824149199,null,4.7038405850647402,-0.203574427148461,-3.0108992640237502,null,18.638901292423899,-1.1700384266686199,-11.6166451643471,"OLS"]
[null,null,-0.15725137276518,5.0813515642447897E-2,3.8288273001027301E-2,null,-0.53581502332116404,0.13584037624038001,0.14877204031191801,null,-0.20357442714846199,8.3578169118525197E-2,9.9474324303488008E-3,null,-1.1700384266686299,0.19565010947165201,0.53388888869308304]
[null,null,-0.33561120611719297,3.8288273001027197E-2,0.20272091344261001,null,-3.0416739824149199,0.14877204031191801,1.66294350496597,null,-3.0108992640237502,9.9474324303477999E-3,2.13134028340792,null,-11.6166451643471,0.53388888869307605,7.5741701264887897]
["QJUL0.8",null,0.77664113877149998,-0.15725137276518,-0.33561120611719297,null,6.1694595403371402,-0.53581502332116404,-3.0416739824149199,null,4.7038405850647402,-0.203574427148461,-3.0108992640237502,null,18.638901292423899,-1.1700384266686199,-11.6166451643471,"OLS"]
[null,null,-0.15725137276518,5.0813515642447897E-2,3.8288273001027301E-2,null,-0.53581502332116404,0.13584037624038001,0.14877204031191801,null,-0.20357442714846199,8.3578169118525197E-2,9.9474324303488008E-3,null,-1.1700384266686299,0.19565010947165201,0.53388888869308304]
[null,null,-0.33561120611719297,3.8288273001027197E-2,0.20272091344261001,null,-3.0416739824149199,0.14877204031191801,1.66294350496597,null,-3.0108992640237502,9.9474324303477999E-3,2.13134028340792,null,-11.6166451643471,0.53388888869307605,7.5741701264887897]
["QJULMEAN",null,0.77664113877149998,-0.15725137276518,-0.33561120611719297,null,6.1694595403371402,-0.53581502332116404,-3.0416739824149199,null,4.7038405850647402,-0.203574427148461,-3.0108992640237502,null,18.638901292423899,-1.1700384266686199,-11.6166451643471,"OLS"]
[null,null,-0.15725137276518,5.0813515642447897E-2,3.8288273001027301E-2,null,-0.53581502332116404,0.13584037624038001,0.14877204031191801,null,-0.20357442714846199,8.3578169118525197E-2,9.9474324303488008E-3,null,-1.1700384266686299,0.19565010947165201,0.53388888869308304]
[null,null,-0.33561120611719297,3.8288273001027197E-2,0.20272091344261001,null,-3.0416739824149199,0.14877204031191801,1.66294350496597,null,-3.0108992640237502,9.9474324303477999E-3,2.13134028340792,null,-11.6166451643471,0.53388888869307605,7.5741701264887897]
["QAUG0.2",null,0.77664113877149998,-0.15725137276518,-0.33561120611719297,null,6.1694595403371402,-0.53581502332116404,-3.0416739824149199,null,4.7038405850647402,-0.203574427148461,-3.0108992640237502,null,18.638901292423899,-1.1700384266686199,-11.6166451643471,"OLS"]
[null,null,-0.15725137276518,5.0813515642447897E-2,3.8288273001027301E-2,null,-0.53581502332116404,0.13584037624038001,0.14877204031191801,null,-0.20357442714846199,8.3578169118525197E-2,9.9474324303488008E-3,null,-1.1700384266686299,0.19565010947165201,0.53388888869308304]
[null,null,-0.33561120611719297,3.8288273001027197E-2,0.20272091344261001,null,-3.0416739824149199,0.14877204031191801,1.66294350496597,null,-3.0108992640237502,9.9474324303477999E-3,2.13134028340792,null,-11.6166451643471,0.53388888869307605,7.5741701264887897]
["QAUG0.5",null,0.77664113877149998,-0.15725137276518,-0.33561120611719297,null,6.1694595403371402,-0.53581502332116404,-3.0416739824149199,null,4.7038405850647402,-0.203574427148461,-3.0108992640237502,null,18.638901292423899,-1.1700384266686199,-11.6166451643471,"OLS"]
[null,null,-0.15725137276518,5.0813515642447897E-2,3.8288273001027301E-2,null,-0.53581502332116404,0.13584037624038001,0.14877204031191801,null,-0.20357442714846199,8.3578169118525197E-2,9.9474324303488008E-3,null,-1.1700384266686299,0.19565010947165201,0.53388888869308304]
[null,null,-0.33561120611719297,3.8288273001027197E-2,0.20272091344261001,null,-3.0416739824149199,0.14877204031191801,1.66294350496597,null,-3.0108992640237502,9.9474324303477999E-3,2.13134028340792,null,-11.6166451643471,0.53388888869307605,7.5741701264887897]
["QAUG0.8",null,0.77664113877149998,-0.15725137276518,-0.33561120611719297,null,6.1694595403371402,-0.53581502332116404,-3.0416739824149199,null,4.7038405850647402,-0.203574427148461,-3.0108992640237502,null,18.638901292423899,-1.1700384266686199,-11.6166451643471,"OLS"]
[null,null,-0.15725137276518,5.0813515642447897E-2,3.8288273001027301E-2,null,-0.53581502332116404,0.13584037624038001,0.14877204031191801,null,-0.20357442714846199,8.3578169118525197E-2,9.9474324303488008E-3,null,-1.1700384266686299,0.19565010947165201,0.53388888869308304]
[null,null,-0.33561120611719297,3.8288273001027197E-2,0.20272091344261001,null,-3.0416739824149199,0.14877204031191801,1.66294350496597,null,-3.0108992640237502,9.9474324303477999E-3,2.13134028340792,null,-11.6166451643471,0.53388888869307605,7.5741701264887897]
["QAUGMEAN",null,0.77664113877149998,-0.15725137276518,-0.33561120611719297,null,6.1694595403371402,-0.53581502332116404,-3.0416739824149199,null,4.7038405850647402,-0.203574427148461,-3.0108992640237502,null,18.638901292423899,-1.1700384266686199,-11.6166451643471,"OLS"]
[null,null,-0.15725137276518,5.0813515642447897E-2,3.8288273001027301E-2,null,-0.53581502332116404,0.13584037624038001,0.14877204031191801,null,-0.20357442714846199,8.3578169118525197E-2,9.9474324303488008E-3,null,-1.1700384266686299,0.19565010947165201,0.53388888869308304]
[null,null,-0.33561120611719297,3.8288273001027197E-2,0.20272091344261001,null,-3.0416739824149199,0.14877204031191801,1.66294350496597,null,-3.0108992640237502,9.9474324303477999E-3,2.13134028340792,null,-11.6166451643471,0.53388888869307605,7.5741701264887897]
["QSEP0.2",null,0.77664113877149998,-0.15725137276518,-0.33561120611719297,null,6.1694595403371402,-0.53581502332116404,-3.0416739824149199,null,4.7038405850647402,-0.203574427148461,-3.0108992640237502,null,18.638901292423899,-1.1700384266686199,-11.6166451643471,"OLS"]
[null,null,-0.15725137276518,5.0813515642447897E-2,3.8288273001027301E-2,null,-0.53581502332116404,0.13584037624038001,0.14877204031191801,null,-0.20357442714846199,8.3578169118525197E-2,9.9474324303488008E-3,null,-1.1700384266686299,0.19565010947165201,0.53388888869308304]
[null,null,-0.33561120611719297,3.8288273001027197E-2,0.20272091344261001,null,-3.0416739824149199,0.14877204031191801,1.66294350496597,null,-3.0108992640237502,9.9474324303477999E-3,2.13134028340792,null,-11.6166451643471,0.53388888869307605,7.5741701264887897]
["QSEP0.5",null,0.77664113877149998,-0.15725137276518,-0.33561120611719297,null,6.1694595403371402,-0.53581502332116404,-3.0416739824149199,null,4.7038405850647402,-0.203574427148461,-3.0108992640237502,null,18.638901292423899,-1.1700384266686199,-11.6166451643471,"OLS"]
[null,null,-0.15725137276518,5.0813515642447897E-2,3.8288273001027301E-2,null,-0.53581502332116404,0.13584037624038001,0.14877204031191801,null,-0.20357442714846199,8.3578169118525197E-2,9.9474324303488008E-3,null,-1.1700384266686299,0.19565010947165201,0.53388888869308304]
[null,null,-0.33561120611719297,3.8288273001027197E-2,0.20272091344261001,null,-3.0416739824149199,0.14877204031191801,1.66294350496597,null,-3.0108992640237502,9.9474324303477999E-3,2.13134028340792,null,-11.6166451643471,0.53388888869307605,7.5741701264887897]
["QSEP0.8",null,0.77664113877149998,-0.15725137276518,-0.33561120611719297,null,6.1694595403371402,-0.53581502332116404,-3.0416739824149199,null,4.7038405850647402,-0.203574427148461,-3.0108992640237502,null,18.638901292423899,-1.1700384266686199,-11.6166451643471,"OLS"]
[null,null,-0.15725137276518,5.0813515642447897E-2,3.8288273001027301E-2,null,-0.53581502332116404,0.13584037624038001,0.14877204031191801,null,-0.20357442714846199,8.3578169118525197E-2,9.9474324303488008E-3,null,-1.1700384266686299,0.19565010947165201,0.53388888869308304]
[null,null,-0.33561120611719297,3.8288273001027197E-2,0.20272091344261001,null,-3.0416739824149199,0.14877204031191801,1.66294350496597,null,-3.0108992640237502,9.9474324303477999E-3,2.13134028340792,null,-11.6166451643471,0.53388888869307605,7.5741701264887897]
["QSEPMEAN",null,0.77664113877149998,-0.15725137276518,-0.33561120611719297,null,6.1694595403371402,-0.53581502332116404,-3.0416739824149199,null,4.7038405850647402,-0.203574427148461,-3.0108992640237502,null,18.638901292423899,-1.1700384266686199,-11.6166451643471,"OLS"]
[null,null,-0.15725137276518,5.0813515642447897E-2,3.8288273001027301E-2,null,-0.53581502332116404,0.13584037624038001,0.14877204031191801,null,-0.20357442714846199,8.3578169118525197E-2,9.9474324303488008E-3,null,-1.1700384266686299,0.19565010947165201,0.53388888869308304]
[null,null,-0.33561120611719297,3.8288273001027197E-2,0.20272091344261001,null,-3.0416739824149199,0.14877204031191801,1.66294350496597,null,-3.0108992640237502,9.9474324303477999E-3,2.13134028340792,null,-11.6166451643471,0.53388888869307605,7.5741701264887897]
["QOCT0.2",null,0.78004002821763496,-0.15824071602679901,-0.33751954342822599,null,6.1694595403371402,-0.53581502332116404,-3.0416739824149199,null,4.7038405850647402,-0.203574427148461,-3.0108992640237502,null,19.218353018649601,-1.2606149809194001,-11.8668809822657,"OLS"]
[null,null,-0.15824071602679901,5.11014920844075E-2,3.88437487496468E-2,null,-0.53581502332116404,0.13584037624038001,0.14877204031191801,null,-0.20357442714846199,8.3578169118525197E-2,9.9474324303488008E-3,null,-1.26061498091943,0.20980851440665499,0.57300430954848602]
[null,null,-0.33751954342822599,3.88437487496468E-2,0.20379236673651599,null,-3.0416739824149199,0.14877204031191801,1.66294350496597,null,-3.0108992640237502,9.9474324303477999E-3,2.13134028340792,null,-11.8668809822657,0.57300430954846604,7.6822342873780096]
["QOCT0.5",null,0.78004002821763496,-0.15824071602679901,-0.33751954342822599,null,6.1694595403371402,-0.53581502332116404,-3.0416739824149199,null,4.7038405850647402,-0.203574427148461,-3.0108992640237502,null,19.218353018649601,-1.2606149809194001,-11.8668809822657,"OLS"]
[null,null,-0.15824071602679901,5.11014920844075E-2,3.88437487496468E-2,null,-0.53581502332116404,0.13584037624038001,0.14877204031191801,null,-0.20357442714846199,8.3578169118525197E-2,9.9474324303488008E-3,null,-1.26061498091943,0.20980851440665499,0.57300430954848602]
[null,null,-0.33751954342822599,3.88437487496468E-2,0.20379236673651599,null,-3.0416739824149199,0.14877204031191801,1.66294350496597,null,-3.0108992640237502,9.9474324303477999E-3,2.13134028340792,null,-11.8668809822657,0.57300430954846604,7.6822342873780096]
["QOCT0.8",null,0.78004002821763496,-0.15824071602679901,-0.33751954342822599,null,6.1694595403371402,-0.53581502332116404,-3.0416739824149199,null,4.7038405850647402,-0.203574427148461,-3.0108992640237502,null,19.218353018649601,-1.2606149809194001,-11.8668809822657,"OLS"]
[null,null,-0.15824071602679901,5.11014920844075E-2,3.88437487496468E-2,null,-0.53581502332116404,0.13584037624038001,0.14877204031191801,null,-0.20357442714846199,8.3578169118525197E-2,9.9474324303488008E-3,null,-1.26061498091943,0.20980851440665499,0.57300430954848602]
[null,null,-0.33751954342822599,3.88437487496468E-2,0.20379236673651599,null,-3.0416739824149199,0.14877204031191801,1.66294350496597,null,-3.0108992640237502,9.9474324303477999E-3,2.13134028340792,null,-11.8668809822657,0.57300430954846604,7.6822342873780096]
["QOCTMEAN",null,0.78004002821763496,-0.15824071602679901,-0.33751954342822599,null,6.1694595403371402,-0.53581502332116404,-3.0416739824149199,null,4.7038405850647402,-0.203574427148461,-3.0108992640237502,null,19.218353018649601,-1.2606149809194001,-11.8668809822657,"OLS"]
[null,null,-0.15824071602679901,5.11014920844075E-2,3.88437487496468E-2,null,-0.53581502332116404,0.13584037624038001,0.14877204031191801,null,-0.20357442714846199,8.3578169118525197E-2,9.9474324303488008E-3,null,-1.26061498091943,0.20980851440665499,0.57300430954848602]
[null,null,-0.33751954342822599,3.88437487496468E-2,0.20379236673651599,null,-3.0416739824149199,0.14877204031191801,1.66294350496597,null,-3.0108992640237502,9.9474324303477999E-3,2.13134028340792,null,-11.8668809822657,0.57300430954846604,7.6822342873780096]
["QNOV0.2",null,0.80794714666667,-0.16614212862983199,-0.342581840223951,null,10.6933844252454,-0.88361991435290399,-5.2141139710118303,null,5.6932023411735297,-0.25127111959218901,-3.6164493127588,null,23.6552148355646,-1.5283899234262099,-14.781516218635099,"OLS"]
[null,null,-0.16614212862983199,5.3338447601499701E-2,4.0267899604091197E-2,null,-0.88361991435290199,0.19041917374148301,0.27440836456470202,null,-0.25127111959218901,8.9901820849990294E-2,3.1366301192849402E-2,null,-1.5283899234262099,0.27007038271449202,0.68038897501643902]
[null,null,-0.34258184022395,4.0267899604091002E-2,0.20427300338052101,null,-5.2141139710118303,0.27440836456470302,2.7680207061126798,null,-3.6164493127588,3.1366301192849402E-2,2.51709773507823,null,-14.781516218635099,0.68038897501643503,9.7035390773399399]
["QNOV0.5",null,0.80794714666667,-0.16614212862983199,-0.342581840223951,null,10.6933844252454,-0.88361991435290399,-5.2141139710118303,null,5.6932023411735297,-0.25127111959218901,-3.6164493127588,null,23.6552148355646,-1.5283899234262099,-14.781516218635099,"OLS"]
[null,null,-0.16614212862983199,5.3338447601499701E-2,4.0267899604091197E-2,null,-0.88361991435290199,0.19041917374148301,0.27440836456470202,null,-0.25127111959218901,8.9901820849990294E-2,3.1366301192849402E-2,null,-1.5283899234262099,0.27007038271449202,0.68038897501643902]
[null,null,-0.34258184022395,4.0267899604091002E-2,0.20427300338052101,null,-5.2141139710118303,0.27440836456470302,2.7680207061126798,null,-3.6164493127588,3.1366301192849402E-2,2.51709773507823,null,-14.781516218635099,0.68038897501643503,9.7035390773399399]
["QNOV0.8",null,0.80794714666667,-0.16614212862983199,-0.342581840223951,null,10.6933844252454,-0.88361991435290399,-5.2141139710118303,null,5.6932023411735297,-0.25127111959218901,-3.6164493127588,null,23.6552148355646,-1.5283899234262099,-14.781516218635099,"OLS"]
[null,null,-0.16614212862983199,5.3338447601499701E-2,4.0267899604091197E-2,null,-0.88361991435290199,0.19041917374148301,0.27440836456470202,null,-0.25127111959218901,8.9901820849990294E-2,3.1366301192849402E-2,null,-1.5283899234262099,0.27007038271449202,0.68038897501643902]
[null,null,-0.34258184022395,4.0267899604091002E-2,0.20427300338052101,null,-5.2141139710118303,0.27440836456470302,2.7680207061126798,null,-3.6164493127588,3.1366301192849402E-2,2.51709773507823,null,-14.781516218635099,0.68038897501643503,9.7035390773399399]
["QNOVMEAN",null,0.80794714666667,-0.16614212862983199,-0.342581840223951,null,10.6933844252454,-0.88361991435290399,-5.2141139710118303,null,5.6932023411735297,-0.25127111959218901,-3.6164493127588,null,23.6552148355646,-1.5283899234262099,-14.781516218635099,"OLS"]
[null,null,-0.16614212862983199,5.3338447601499701E-2,4.0267899604091197E-2,null,-0.88361991435290199,0.19041917374148301,0.27440836456470202,null,-0.25127111959218901,8.9901820849990294E-2,3.1366301192849402E-2,null,-1.5283899234262099,0.27007038271449202,0.68038897501643902]
[null,null,-0.34258184022395,4.0267899604091002E-2,0.20427300338052101,null,-5.2141139710118303,0.27440836456470302,2.7680207061126798,null,-3.6164493127588,3.1366301192849402E-2,2.51709773507823,null,-14.781516218635099,0.68038897501643503,9.7035390773399399]
["QDEC0.2",null,0.80794714666667,-0.16614212862983199,-0.342581840223951,null,11.0179485039175,-0.93153999831905998,-5.3693382403065497,null,6.1129269833443702,-0.28040903441947401,-3.8592122947371901,null,5.1504682081172204,-1.10031052546315,-2.6105092296395198,"OLS"]
[null,null,-0.16614212862983199,5.3338447601499701E-2,4.0267899604091197E-2,null,-0.93153999831906198,0.198891266810479,0.29524524768680199,null,-0.28040903441946802,9.6356039867571894E-2,3.9004663289825998E-2,null,-1.10031052546315,0.339947888101503,0.33227717424624598]
[null,null,-0.34258184022395,4.0267899604091002E-2,0.20427300338052101,null,-5.3693382403065497,0.29524524768680099,2.8453577741342801,null,-3.8592122947371998,3.90046632898308E-2,2.6768172035505402,null,-2.6105092296395198,0.33227717424624598,1.8725143606261601]
["QDEC0.5",null,0.80794714666667,-0.16614212862983199,-0.342581840223951,null,11.0179485039175,-0.93153999831905998,-5.3693382403065497,null,6.1129269833443702,-0.28040903441947401,-3.8592122947371901,null,5.1504682081172204,-1.10031052546315,-2.6105092296395198,"OLS"]
[null,null,-0.16614212862983199,5.3338447601499701E-2,4.0267899604091197E-2,null,-0.93153999831906198,0.198891266810479,0.29524524768680199,null,-0.28040903441946802,9.6356039867571894E-2,3.9004663289825998E-2,null,-1.10031052546315,0.339947888101503,0.33227717424624598]
[null,null,-0.34258184022395,4.0267899604091002E-2,0.20427300338052101,null,-5.3693382403065497,0.29524524768680099,2.8453577741342801,null,-3.8592122947371998,3.90046632898308E-2,2.6768172035505402,null,-2.6105092296395198,0.33227717424624598,1.8725143606261601]
["QDEC0.8",null,0.80794714666667,-0.16614212862983199,-0.342581840223951,null,11.0179485039175,-0.93153999831905998,-5.3693382403065497,null,6.1129269833443702,-0.28040903441947401,-3.8592122947371901,null,5.1504682081172204,-1.10031052546315,-2.6105092296395198,"OLS"]
[null,null,-0.16614212862983199,5.3338447601499701E-2,4.0267899604091197E-2,null,-0.93153999831906198,0.198891266810479,0.29524524768680199,null,-0.28040903441946802,9.6356039867571894E-2,3.9004663289825998E-2,null,-1.10031052546315,0.339947888101503,0.33227717424624598]
[null,null,-0.34258184022395,4.0267899604091002E-2,0.20427300338052101,null,-5.3693382403065497,0.29524524768680099,2.8453577741342801,null,-3.8592122947371998,3.90046632898308E-2,2.6768172035505402,null,-2.6105092296395198,0.33227717424624598,1.8725143606261601]
["QDECMEAN",null,0.80794714666667,-0.16614212862983199,-0.342581840223951,null,11.0179485039175,-0.93153999831905998,-5.3693382403065497,null,6.1129269833443702,-0.28040903441947401,-3.8592122947371901,null,5.1504682081172204,-1.10031052546315,-2.6105092296395198,"OLS"]
[null,null,-0.16614212862983199,5.3338447601499701E-2,4.0267899604091197E-2,null,-0.93153999831906198,0.198891266810479,0.29524524768680199,null,-0.28040903441946802,9.6356039867571894E-2,3.9004663289825998E-2,null,-1.10031052546315,0.339947888101503,0.33227717424624598]
[null,null,-0.34258184022395,4.0267899604091002E-2,0.20427300338052101,null,-5.3693382403065497,0.29524524768680099,2.8453577741342801,null,-3.8592122947371998,3.90046632898308E-2,2.6768172035505402,null,-2.6105092296395198,0.33227717424624598,1.8725143606261601]

{"sheet":"Table 2–1","index":12,"n_rows":220,"n_cols":72,"rows_kept":220,"cut":false,"hidden":false,"merged":[[64,4,64,9],[7,1,7,2],[6,1,6,2],[8,7,8,8],[8,9,9,9],[8,6,9,6],[8,5,9,5],[8,4,9,4],[6,7,6,9],[7,4,7,9],[6,66,6,67],[6,68,6,69],[6,70,6,71],[0,0,0,9],[2,0,2,2],[3,1,3,2],[4,1,4,2],[5,1,5,2],[1,0,1,9],[3,8,3,9],[4,8,4,9],[5,8,5,9],[2,4,2,7],[2,8,2,9],[0,42,0,51],[0,32,0,41],[0,22,0,31],[0,12,0,21],[0,52,0,60],[64,11,66,11],[57,13,57,15],[67,11,69,11],[58,11,60,11],[85,11,87,11],[88,11,90,11],[70,11,72,11],[73,11,75,11],[76,11,78,11],[79,11,81,11],[82,11,84,11],[61,11,63,11],[91,11,93,11],[94,11,96,11],[97,11,99,11],[100,11,102,11],[103,11,105,11],[106,11,108,11],[109,11,111,11],[112,11,114,11],[115,11,117,11],[118,11,120,11],[121,11,123,11],[124,11,126,11],[127,11,129,11],[130,11,132,11],[133,11,135,11],[136,11,138,11],[139,11,141,11],[142,11,144,11],[145,11,147,11],[148,11,150,11],[151,11,153,11],[154,11,156,11],[157,11,159,11],[160,11,162,11],[163,11,165,11],[166,11,168,11],[169,11,171,11],[172,11,174,11],[175,11,177,11],[178,11,180,11],[181,11,183,11],[184,11,186,11],[187,11,189,11],[190,11,192,11],[193,11,195,11],[211,11,213,11],[214,11,216,11],[217,11,219,11],[196,11,198,11],[199,11,201,11],[202,11,204,11],[205,11,207,11],[208,11,210,11]]}
["Table 2–1. Estimates of streamflow characteristics at an ungaged site based on regional regression equations and user-determined basin characteristics.",null,null,null,null,null,null,null,null,null,null,null,"West",null,null,null,null,null,null,null,null,null,"Northwest",null,null,null,null,null,null,null,null,null,"Upper Yellowstone-Central Mountain",null,null,null,null,null,null,null,null,null,"Southwest",null,null,null,null,null,null,null,null,null,"Variables for selected region"]
["[A, contributing drainage area; P, mean annual precipitation; SLP50, percent of contributing basin with slopes greater than 50 percent; Au, contributing drainage area of ungaged basin; CL, confidence level in percent; Qu, estimated streamflow in cubic feet per second for indicated streamflow characteristic at ungaged site; ft3/s, cubic foot per second;  PIL, lower prediction interval, in cubic foot per second; PIU, upper predictioni interval; h0, leverage for indicated streamflow estimate and basin characteristics; p, number of explanatory variables; n, number of streamflow-gaging stations used for equation development; NA, not applicable]",null,null,null,null,null,null,null,null,null,null,"Flow","V1","V2","Contant exp","V1 exp","V2 exp","Daexp","n","MEV or MSE","xiT[XTL-1X]-1xi\nxiT [XTX]-1xi","SEPi","V1","V2","Contant exp","V1 exp","V2 exp","Daexp","n","MEV or MSE","xiT[XTL-1X]-1xi\nxiT [XTX]-1xi","SEPi","V1","V2","Contant exp","V1 exp","V2 exp","Daexp","n","MEV or MSE","xiT[XTL-1X]-1xi\nxiT [XTX]-1xi","SEPi","V1","V2","Contant exp","V1 exp","V2 exp","Daexp","n","MEV or MSE","xiT[XTL-1X]-1xi\nxiT [XTX]-1xi","SEPi","V2","k","V1exp","v2exp","Daexp","n","MEV or MSE","xiT[XTL-1X]-1xi\nxiT [XTX]-1xi","SEPi","t stat","CI, in log units","3p/n","Joint distributiontest","Selected","Drop down","West "]
["Instructions for estimating streamflow characteristics at ungaged sites using regional \nregression equations and basin characteristics for an ungaged site  ",null,null,null,"User determined basin characteristics for ungaged site, \nand confidence level for prediction interval",null,null,null,"Range of values for which \nequations are applicable",null,null,"QAL7Q10","A","SLP50",-1.6779999999999999,0.96399999999999997,0.67600000000000005,0.82264394829699328,43,6.7000000000000004E-2,{"$f":"INDIRECT(ADDRESS((ROW(U3)-2)*3+56,COLUMN(U3)-4))","v":3.4115966369523019E-3},{"$f":"(T3+U3)^0.5","v":0.26535183556356323},"A","SLP50",-3.28,1.046,1.587,1.0840747697837747,14,7.1999999999999995E-2,{"$f":"INDIRECT(ADDRESS((ROW(AE3)-2)*3+56,COLUMN(AE3)-4))","v":2.8363058141296436E-2},{"$f":"(AD3+AE3)^0.5","v":0.3168012912557277},"A","P",-9.1129999999999995,1.0169999999999999,5.4109999999999996,0.74880464677609426,36,0.255,{"$f":"INDIRECT(ADDRESS((ROW(AO3)-2)*3+56,COLUMN(AO3)-4))","v":1.5896628552648631E-2},{"$f":"(AN3+AO3)^0.5","v":0.52047730839360196},"A","SLP50",-5.3090000000000002,1.7250000000000001,2.1520000000000001,1.3341556217688353,14,0.216,{"$f":"INDIRECT(ADDRESS((ROW(AY3)-2)*3+56,COLUMN(AY3)-4))","v":4.1983841879790929E-2},{"$f":"(AX3+AY3)^0.5","v":0.50792109808492003},{"$f":"INDIRECT(ADDRESS(ROW(BA3),$BO$3*$BA$58+BA$57))","v":"SLP50"},-1.6779999999999999,0.96399999999999997,0.67600000000000005,0.82264394829699328,43,6.7000000000000004E-2,3.4115966369523019E-3,0.26535183556356323,{"$f":"TINV((1-$G$7/100)/1,BF3-3)","v":1.6838510133356521},{"$f":"BJ3*BI3","v":0.44681295720418129},{"$f":"3*2/BF3","v":0.13953488372093023},{"$f":"IF(BH3>BL3,\"True.\",\"False.\")","v":"False."},"Region",1,"Northwest"]
["Step","Instructions",null,null,"Contributing drainage area of \nunaged site, Au","=",650,"square miles",{"$f":"IF(INDIRECT(ADDRESS(8+$BO$3,COLUMN(BO8)))=\"--\",\"NA\",INDIRECT(ADDRESS(8+$BO$3,COLUMN(BO8))) & \"–\" & INDIRECT(ADDRESS(8+$BO$3,COLUMN(BO8)+1)))","v":"6.4–2516"},null,null,"QS214Q5","A","SLP50",-1.4019999999999999,0.91300000000000003,0.71099999999999997,0.77473055852160466,46,7.1999999999999995E-2,3.5437234892395668E-3,{"$f":"(T4+U4)^0.5","v":0.27485218479982937},"A","P",-4.375,1.0880000000000001,2.2120000000000002,0.92095547306449543,24,0.104,1.7693202685180737E-2,{"$f":"(AD4+AE4)^0.5","v":0.34884552840072458},"A","P",-6.9489999999999998,0.80700000000000005,4.5229999999999997,0.63618450205258303,49,0.182,1.0245398993526566E-2,{"$f":"(AN4+AO4)^0.5","v":0.43845797859490088},"A","P",-6.9980000000000002,1.135,3.9340000000000002,0.84069337579333159,23,0.29299999999999998,3.806160338613962E-2,{"$f":"(AX4+AY4)^0.5","v":0.57537952986367147},"SLP50",-1.4019999999999999,0.91300000000000003,0.71099999999999997,0.77473055852160466,46,7.1999999999999995E-2,3.5437234892395668E-3,0.27485218479982937,{"$f":"TINV((1-$G$7/100)/1,BF4-3)","v":1.6810707032025196},0.46204595557819805,{"$f":"3*2/BF4","v":0.13043478260869565},{"$f":"IF(BH4>BL4,\"True.\",\"False.\")","v":"False."},"Variable",3,"Upper Yellowstone-Central Mountain"]
[1,"Pick the hydrologic region for the ungaged site in the list box below. See figure 1, table 4, and table 1-1 to determine the region for the ungaged site.",null,null,"Mean annual precipitation\n for ungaged basin, P","=",25,"inches",{"$f":"IF(INDIRECT(ADDRESS(8+$BO$3,COLUMN(BO9)+2))=\"--\",\"NA\",INDIRECT(ADDRESS(8+$BO$3,COLUMN(BO9)+2)) & \"–\" & INDIRECT(ADDRESS(8+$BO$3,COLUMN(BO9)+1+2)))","v":"NA"},null,null,"QA0.2","A","SLP50",-0.91300000000000003,0.95599999999999996,0.88200000000000001,0.78628827750882424,50,4.7E-2,3.9783035844329469E-2,{"$f":"(T5*(1+U5))^0.5","v":0.22106515484056613},"A","P",-2.8439999999999999,1.0169999999999999,1.984,0.8179146378344343,18,1.7000000000000001E-2,0.23962361458946502,{"$f":"(AD5*(1+AE5))^0.5","v":0.14516749446078109},"A","P",-4.5369999999999999,0.94699999999999995,3.1840000000000002,0.8960276413512942,40,3.4000000000000002E-2,4.5962103621895789E-2,{"$f":"(AN5*(1+AO5))^0.5","v":0.18858078248629806},"A","P",-3.6930000000000001,0.82699999999999996,2.8039999999999998,0.64758091971380038,14,2.7E-2,0.25925340627797522,{"$f":"(AX5*(1+AY5))^0.5","v":0.18439046062501535},"SLP50",-0.91300000000000003,0.95599999999999996,0.88200000000000001,0.78628827750882424,50,4.7E-2,3.9783035844329469E-2,0.22106515484056613,1.6779267216418625,0.37093113053088184,0.12,"False.",null,null,"Southwest"]
[2,"Determine the contributing drainage area (A), mean annual precipitation (P), and percentage of contributing basin with slopes greater than 50 percent (SLP50) for the ungaged basin and enter values in the appropriate cells shaded green.",null,null,"Percentage of contributing basin with slopes greater than 50 percent, SLP50","=",10,"percent",{"$f":"IF(INDIRECT(ADDRESS(8+$BO$3,COLUMN(BO10)+4))=\"--\",\"NA\",INDIRECT(ADDRESS(8+$BO$3,COLUMN(BO10)+4)) & \"–\" & INDIRECT(ADDRESS(8+$BO$3,COLUMN(BO10)+1+4)))","v":"1.869–67.474"},null,null,"QA0.5","A","SLP50",-1.075,0.93700000000000006,0.71599999999999997,0.79939535767183023,50,0.03,3.9783035844329469E-2,{"$f":"(T6*(1+U6))^0.5","v":0.17661679160071356},"A","P",-2.4209999999999998,1.056,1.4510000000000001,0.91098857325756999,18,4.2999999999999997E-2,0.23962361458946502,{"$f":"(AD6*(1+AE6))^0.5","v":0.23087619068961396},"A","P",-3.4409999999999998,0.90200000000000002,2.2530000000000001,0.86588042972203116,40,4.2999999999999997E-2,4.5962103621895789E-2,{"$f":"(AN6*(1+AO6))^0.5","v":0.21207633167268222},"A","P",-2.4129999999999998,0.753,1.7589999999999999,0.64064272998961103,14,2.4E-2,0.25925340627797522,{"$f":"(AX6*(1+AY6))^0.5","v":0.17384499345874591},"SLP50",-1.075,0.93700000000000006,0.71599999999999997,0.79939535767183023,50,0.03,3.9783035844329469E-2,0.17661679160071356,1.6779267216418625,0.29635003411748934,0.12,"False."]
[3,"Input a desired confidence level, in percent, for computing the prediction interval. The value of 90 percent is commonly used.",null,null,"Confidence level, CL","=",90,"percent, where 90 is commonly used.",null,null,null,"QA0.8","A","SLP50",-1.405,0.94199999999999995,0.73199999999999998,0.80054195022499708,50,3.5999999999999997E-2,3.9783035844329469E-2,{"$f":"(T7*(1+U7))^0.5","v":0.19347400158779954},"A","P",-2.839,1.0740000000000001,1.466,0.92678887055903758,18,3.7999999999999999E-2,0.23962361458946502,{"$f":"(AD7*(1+AE7))^0.5","v":0.21703846975686056},"A","P",-4.34,0.879,2.6840000000000002,0.83610116501233678,40,7.1999999999999995E-2,4.5962103621895789E-2,{"$f":"(AN7*(1+AO7))^0.5","v":0.2744253477009303},"A","P",-2.9239999999999999,0.79400000000000004,1.835,0.6769225183039812,14,2.9000000000000001E-2,0.25925340627797522,{"$f":"(AX7*(1+AY7))^0.5","v":0.19109774666924068},"SLP50",-1.405,0.94199999999999995,0.73199999999999998,0.80054195022499708,50,3.5999999999999997E-2,3.9783035844329469E-2,0.19347400158779954,1.6779267216418625,0.32463519720714901,0.12,"False.",null,"A",null,"P",null,"SLP50"]
[4,"Ensure the input variables are within the applicable ranges and check for high leverage. If the high leverage test is True, the estimates may be unreliable.",null,null,{"$f":"\"Estimates of streamflow characteristics for \"& INDEX(BP2:BP5,BO3) & \" hydrologic region,\" & CHAR(10) & \"using regional regression equations (table 1–3)\"","v":"Estimates of streamflow characteristics for West  hydrologic region,\nusing regional regression equations (table 1–3)"},null,null,null,null,null,null,"QAMEAN","A","SLP50",-0.97299999999999998,0.95,0.82699999999999996,0.78998391349710251,50,3.5000000000000003E-2,3.9783035844329469E-2,0.19076793822482732,"A","P",-2.7629999999999999,0.99299999999999999,1.845,0.80822550898463885,18,6.0000000000000001E-3,0.23962361458946502,8.6242342776253422E-2,"A","P",-5.1159999999999997,0.94699999999999995,3.492,0.89060684240746968,40,3.7999999999999999E-2,4.5962103621895789E-2,0.1993653930290612,"A","P",-4.335,0.96199999999999997,2.9460000000000002,0.77432092700037103,14,1.2E-2,0.25925340627797522,0.12292697375001023,"SLP50",-0.97299999999999998,0.95,0.82699999999999996,0.78998391349710251,50,3.5000000000000003E-2,3.9783035844329469E-2,0.19076793822482732,1.6779267216418625,0.32009462117996185,0.12,"False.",null,"Min","Max","Min","Max","Min","Max"]
[null,null,null,null,"Streamflow \ncharacteristic\n(table 1)","Qu,\n in ft3/s\n(equation 2)","Basin characteristics used for regression equation\n(table 1–3)",{"$f":"\"Prediction intervals for the \" & G7 & \"-percent confidence level\" & CHAR(10) & \"(equation 6)\"","v":"Prediction intervals for the 90-percent confidence level\n(equation 6)"},null," High leverage test1",null,"QJAN0.2","A","SLP50",-1.355,1.0049999999999999,0.76300000000000001,0.85898139504362925,51,3.9E-2,3.9228493074799795E-2,0.20132041930692771,"A","P",-2.5649999999999999,0.97,1.446,0.82560411580611459,18,1.7000000000000001E-2,0.23962361458946502,0.14516749446078109,"A","P",-3.5960000000000001,0.92300000000000004,2.169,0.88786823432033235,40,0.121,4.5962103621895789E-2,0.35575471119614061,"A","SLP50",-2.1259999999999999,1.149,0.97499999999999998,0.95503186924260652,14,2.3E-2,0.19241841854570341,0.16560683448019645,"SLP50",-1.355,1.0049999999999999,0.76300000000000001,0.85898139504362925,51,3.9E-2,3.9228493074799795E-2,0.20132041930692771,1.6772241961243386,0.33765947843547661,0.11764705882352941,"False.","West",6.4,2516,"--","--",1.869,67.474000000000004]
[null,null,null,null,null,null,null,"PIL, \nin ft3/s","PIU,\n in ft3/s",null,null,"QJAN0.5","A","SLP50",-1.5389999999999999,1,0.79200000000000004,0.84883079288166385,51,4.2000000000000003E-2,3.9228493074799795E-2,0.20892007253766112,"A","P",-2.6890000000000001,0.99199999999999999,1.383,0.85340717435425373,18,0.02,0.23962361458946502,0.15745625516882236,"A","P",-4.1630000000000003,0.91900000000000004,2.488,0.87920002663889407,40,0.14699999999999999,4.5962103621895789E-2,0.39211787670599596,"A","SLP50",-2.645,1.2390000000000001,1.1679999999999999,1.0066626673820982,14,3.5999999999999997E-2,0.19241841854570341,{"$f":"(AX10*(1+AY10))^0.5","v":0.20718847233291074},"SLP50",-1.5389999999999999,1,0.79200000000000004,0.84883079288166385,51,4.2000000000000003E-2,3.9228493074799795E-2,0.20892007253766112,1.6772241961243386,0.35040580071621719,0.11764705882352941,"False.","Northwest",7.74,1556,20.742000000000001,83.156000000000006,5.7000000000000002E-2,65.94]
[null,null,null,null,"QAL7Q10",{"$f":"IF(BA3=\"SLP50\",10^BB3*$G$4^BC3*($G$6+1)^BD3,10^BB3*$G$4^BC3*($G$5+0)^BD3)","v":54.655004068930722},{"$f":"\"A\" & \", \" & BA3","v":"A, SLP50"},{"$f":"10^(LOG(F11,10)-BK3)","v":19.535160052304981},{"$f":"10^(LOG(F11,10)+BK3)","v":152.91246459085832},{"$f":"BM3","v":"False."},null,"QJAN0.8","A","SLP50",-1.8320000000000001,1.0109999999999999,0.88,0.84268426113567185,51,6.6000000000000003E-2,3.9228493074799795E-2,0.26189517090419362,"A","P",-2.7050000000000001,0.98099999999999998,1.304,0.85000379932052994,18,2.7E-2,0.23962361458946502,0.18294763620751037,"A","P",-4.9050000000000002,0.91800000000000004,2.9140000000000001,0.87124372104511127,40,0.18099999999999999,4.5962103621895789E-2,0.43510819430983272,"A","SLP50",-3.331,1.351,1.4510000000000001,1.0631646599621827,14,5.8999999999999997E-2,0.19241841854570341,0.26524080887788837,"SLP50",-1.8320000000000001,1.0109999999999999,0.88,0.84268426113567185,51,6.6000000000000003E-2,3.9228493074799795E-2,0.26189517090419362,1.6772241961243386,0.43925691748863244,0.11764705882352941,"False.","Upper Yellowstone-Central Mountain",28.1,2616,16.454000000000001,38.847000000000001,"--","--"]
[null,null,null,null,"QS214Q5",80.6529196900361,"A, SLP50",27.8339048443469,233.70394814899879,"False.",null,"QJANMEAN","A","SLP50",-1.3839999999999999,0.996,0.72499999999999998,0.85683297794902247,51,3.9E-2,3.9228493074799795E-2,0.20132041930692771,"A","P",-2.681,0.98599999999999999,1.4279999999999999,0.84273104340086147,18,1.6E-2,0.23962361458946502,0.14083315601601579,"A","P",-3.879,0.92,2.3039999999999998,0.88325264307789242,40,0.13700000000000001,4.5962103621895789E-2,0.37854564876141389,"A","SLP50",-2.4420000000000002,1.1930000000000001,1.093,0.97581146284887599,14,0.03,0.19241841854570341,0.18913633325295037,"SLP50",-1.3839999999999999,0.996,0.72499999999999998,0.85683297794902247,51,3.9E-2,3.9228493074799795E-2,0.20132041930692771,1.6772241961243386,0.33765947843547661,0.11764705882352941,"False.","Southwest",24.4,2472,16.738,37.018000000000001,0.96199999999999997,22.553000000000001]
[null,null,null,null,"QA0.2",495.0550753076318,"A, SLP50",210.72806861154106,1163.013210355133,"False.",null,"QFEB0.2","A","SLP50",-1.2210000000000001,1.0069999999999999,0.66200000000000003,0.8761907286664038,52,3.7999999999999999E-2,3.9226504080731278E-2,0.19872243747264121,"A","P",-2.0049999999999999,0.96799999999999997,1.1060000000000001,0.85328231718445502,19,1.4999999999999999E-2,0.22144164039926639,0.13535739583040521,"A","P",-2.6840000000000002,0.93300000000000005,1.518,0.90847213945438388,40,0.121,4.5962103621895789E-2,0.35575471119614061,"A","SLP50",-2.2759999999999998,1.214,0.96399999999999997,1.0219215530993424,14,3.1E-2,0.19241841854570341,0.19226276544072907,{"$f":"INDIRECT(ADDRESS(ROW(BA13),$BO$3*$BA$58+BA$57))","v":"SLP50"},-1.2210000000000001,1.0069999999999999,0.66200000000000003,0.8761907286664038,52,3.7999999999999999E-2,3.9226504080731278E-2,0.19872243747264121,1.6765508926168529,0.33316827992775333,0.11538461538461539,"False."]
[null,null,null,null,"QA0.5",202.45894887334271,"A, SLP50",102.32622290740042,400.57792435075157,"False.",null,"QFEB0.5","A","SLP50",-1.5129999999999999,1.0189999999999999,0.74,0.87268807300759788,52,4.2999999999999997E-2,3.9226504080731278E-2,0.21139238320117271,"A","P",-1.982,0.97,0.99,0.86718230575559163,19,1.7000000000000001E-2,0.22144164039926639,0.14409895171994672,"A","P",-3.5659999999999998,0.93200000000000005,2.0550000000000002,0.89911736055283542,40,0.14199999999999999,4.5962103621895789E-2,0.38539151354733953,"A","SLP50",-2.6309999999999998,1.256,1.1160000000000001,1.0338039135186454,14,4.1000000000000002E-2,0.19241841854570341,0.22110892148525768,"SLP50",-1.5129999999999999,1.0189999999999999,0.74,0.87268807300759788,52,4.2999999999999997E-2,3.9226504080731278E-2,0.21139238320117271,1.6765508926168529,0.35441008874832991,0.11538461538461539,"False."]
[null,null,null,null,"QA0.8",101.63980601230601,"A, SLP50",48.131415081713882,214.63424976557593,"False.",null,"QFEB0.8","A","SLP50",-1.9379999999999999,1.0369999999999999,0.91400000000000003,0.85641545934237129,52,8.8999999999999996E-2,3.9226504080731278E-2,0.30412359142819728,"A","P",-2.3180000000000001,0.99399999999999999,1.0529999999999999,0.88507311248866904,19,2.3E-2,0.22144164039926639,0.16761013611707118,"A","P",-4.5910000000000002,0.92800000000000005,2.6789999999999998,0.88448278431546801,40,0.187,4.5962103621895789E-2,0.44226113708678327,"A","SLP50",-3.286,1.355,1.395,1.0777932082700763,14,6.0999999999999999E-2,0.19241841854570341,0.26969894981495179,"SLP50",-1.9379999999999999,1.0369999999999999,0.91400000000000003,0.85641545934237129,52,8.8999999999999996E-2,3.9226504080731278E-2,0.30412359142819728,1.6765508926168529,0.5098786786747872,0.11538461538461539,"False."]
[null,null,null,null,"QAMEAN",363.49583536534288,"A, SLP50",173.94214375901677,759.61592442486653,"False.",null,"QFEBMEAN","A","SLP50",-1.3560000000000001,1.0149999999999999,0.68300000000000005,0.88003340770378635,52,4.2999999999999997E-2,3.9226504080731278E-2,0.21139238320117271,"A","P",-2.1,0.96799999999999997,1.111,0.8532355058499953,19,1.6E-2,0.22144164039926639,0.13979651728991058,"A","P",-2.794,0.92300000000000004,1.56,0.89765523456304697,40,0.13100000000000001,4.5962103621895789E-2,0.37016352545120967,"A","SLP50",-2.5550000000000002,1.248,1.0860000000000001,1.0323563421479405,14,3.1E-2,0.19241841854570341,0.19226276544072907,"SLP50",-1.3560000000000001,1.0149999999999999,0.68300000000000005,0.88003340770378635,52,4.2999999999999997E-2,3.9226504080731278E-2,0.21139238320117271,1.6765508926168529,0.35441008874832991,0.11538461538461539,"False."]
[null,null,null,null,"QJAN0.2",184.73983108821082,"A, SLP50",84.898704603252796,401.99441616913685,"False.",null,"QMAR0.2","A","SLP50",-0.94399999999999995,1.014,0.52,0.91199575217762652,52,5.6000000000000001E-2,3.9226504080731278E-2,0.24123988938092505,"A","P",-1.784,0.99299999999999999,0.97399999999999998,0.92180287158358687,21,2.1000000000000001E-2,0.1884807989905829,0.15798131781575389,"A","P",-1.196,0.97199999999999998,0.46899999999999997,0.96549378876307324,41,0.112,4.5803295053923998E-2,0.34224255878841175,"A","SLP50",-1.4930000000000001,1.1100000000000001,0.55500000000000005,0.99399857069128217,17,1.7999999999999999E-2,0.18642422587548313,0.1461356769093663,"SLP50",-0.94399999999999995,1.014,0.52,0.91199575217762652,52,5.6000000000000001E-2,3.9226504080731278E-2,0.24123988938092505,1.6765508926168529,0.40445095187638075,0.11538461538461539,"False."]
[null,null,null,null,"QJAN0.5",125.51521180500174,"A, SLP50",56.013222985342615,281.25623834530882,"False.",null,"QMAR0.5","A","SLP50",-1.2350000000000001,1.0189999999999999,0.60399999999999998,0.90024346736141492,52,3.9E-2,3.9226504080731278E-2,0.20132022665184074,"A","P",-1.944,0.98099999999999998,0.97499999999999998,0.90983622575354417,21,1.9E-2,0.1884807989905829,0.15027020722958051,"A","P",-2.4319999999999999,0.97699999999999998,1.2170000000000001,0.95913495027364504,41,0.13100000000000001,4.5803295053923998E-2,0.37013542339536221,"A","SLP50",-2.1379999999999999,1.206,0.83,1.0324435334342366,17,2.9000000000000001E-2,0.18642422587548313,0.18548935966892821,"SLP50",-1.2350000000000001,1.0189999999999999,0.60399999999999998,0.90024346736141492,52,3.9E-2,3.9226504080731278E-2,0.20132022665184074,1.6765508926168529,0.3375236056949707,0.11538461538461539,"False."]
[null,null,null,null,"QJAN0.8",84.777570465056527,"A, SLP50",30.833586862224621,233.09764400984989,"False.",null,"QMAR0.8","A","SLP50",-1.57,1.032,0.71599999999999997,0.89052285190212499,52,4.2999999999999997E-2,3.9226504080731278E-2,0.21139238320117271,"A","P",-2.5790000000000002,1.038,1.1619999999999999,0.95311047461946297,21,3.2000000000000001E-2,0.1884807989905829,0.19501637256317392,"A","P",-3.589,0.99,1.8919999999999999,0.96212816060735928,41,0.184,4.5803295053923998E-2,0.43866593928628878,"A","SLP50",-2.9089999999999998,1.3360000000000001,1.1619999999999999,1.0929153130414699,17,5.1999999999999998E-2,0.18642422587548313,0.24838288939764977,"SLP50",-1.57,1.032,0.71599999999999997,0.89052285190212499,52,4.2999999999999997E-2,3.9226504080731278E-2,0.21139238320117271,1.6765508926168529,0.35441008874832991,0.11538461538461539,"False."]
[null,null,null,null,"QJANMEAN",148.82346093031094,"A, SLP50",68.393042112955101,323.8402889974742,"False.",null,"QMARMEAN","A","SLP50",-1.0449999999999999,1.014,0.52900000000000003,0.90971201451774641,52,4.5999999999999999E-2,3.9226504080731278E-2,0.21864221730423802,"A","P",-1.863,0.99099999999999999,0.96599999999999997,0.92016125835888907,21,2.1000000000000001E-2,0.1884807989905829,0.15798131781575389,"A","P",-1.508,0.97399999999999998,0.629,0.96434441066035725,41,0.124,4.5803295053923998E-2,0.36011055050732205,"A","SLP50",-1.7390000000000001,1.143,0.64600000000000002,1.008084419681005,17,1.7000000000000001E-2,0.18642422587548313,0.14201835036319502,"SLP50",-1.0449999999999999,1.014,0.52900000000000003,0.90971201451774641,52,4.5999999999999999E-2,3.9226504080731278E-2,0.21864221730423802,1.6765508926168529,0.36656480458514817,0.11538461538461539,"False."]
[null,null,null,null,"QFEB0.2",199.98881529848828,"A, SLP50",92.861870596699191,430.69912319766007,"False.",null,"QAPR0.2","A","SLP50",-0.52400000000000002,0.997,0.57399999999999995,0.88871472896694992,53,9.1999999999999998E-2,3.9196937605378089E-2,0.3092023904495157,"A","P",-2.7770000000000001,1.077,1.798,0.9591601218383401,25,3.2000000000000001E-2,0.15885708293096856,0.1925705757736394,"A","P",-2.2559999999999998,0.88700000000000001,1.573,0.89109361584788116,46,8.4000000000000005E-2,4.549520952967552E-2,0.29634708974527274,"A","P",-3.4340000000000002,1.0960000000000001,2.1890000000000001,0.92418033350927209,23,2.7E-2,0.13073511636543278,0.17472792605037893,"SLP50",-0.52400000000000002,0.997,0.57399999999999995,0.88871472896694992,53,9.1999999999999998E-2,3.9196937605378089E-2,0.3092023904495157,1.6759050251630967,0.51819383994678525,0.11320754716981132,"False."]
[null,null,null,null,"QFEB0.5",133.04216312435327,"A, SLP50",58.827339645212319,300.88420240583775,"False.",null,"QAPR0.5","A","SLP50",-0.95399999999999996,1.0269999999999999,0.64900000000000002,0.90397308665703224,53,7.6999999999999999E-2,3.9196937605378089E-2,0.28287482071689257,"A","P",-2.6989999999999998,1.073,1.5640000000000001,0.97094200079266268,25,3.4000000000000002E-2,0.15885708293096856,0.19849720607518115,"A","P",-2.601,0.89400000000000002,1.6359999999999999,0.89899321123219,46,9.5000000000000001E-2,4.549520952967552E-2,0.31515400188688569,"A","P",-3.2669999999999999,1.115,1.847,0.97054354380221253,23,1.2999999999999999E-2,0.13073511636543278,0.12124172760543553,"SLP50",-0.95399999999999996,1.0269999999999999,0.64900000000000002,0.90397308665703224,53,7.6999999999999999E-2,3.9196937605378089E-2,0.28287482071689257,1.6759050251630967,0.47407133353155029,0.11320754716981132,"False."]
[null,null,null,null,"QFEB0.8",85.275458876851587,"A, SLP50",26.359998814998846,275.8689003627685,"False.",null,"QAPR0.8","A","SLP50",-1.1639999999999999,1.0209999999999999,0.63300000000000001,0.90189914436237162,53,5.8000000000000003E-2,3.9196937605378089E-2,0.24550646097630899,"A","P",-2.7519999999999998,1.079,1.4059999999999999,0.98683891710417537,25,2.7E-2,0.15885708293096856,0.17688736879476769,"A","P",-3.2570000000000001,0.93400000000000005,1.875,0.9391342706395952,46,0.13100000000000001,4.549520952967552E-2,0.37008089986972775,"A","P",-2.9350000000000001,1.105,1.4470000000000001,0.99191220414891845,23,1.6E-2,0.13073511636543278,0.13450562018684173,{"$f":"INDIRECT(ADDRESS(ROW(BA23),$BO$3*$BA$58+BA$57))","v":"SLP50"},-1.1639999999999999,1.0209999999999999,0.63300000000000001,0.90189914436237162,53,5.8000000000000003E-2,3.9196937605378089E-2,0.24550646097630899,1.6759050251630967,0.41144551166020393,0.11320754716981132,"False."]
[null,null,null,null,"QFEBMEAN",162.32232736682286,"A, SLP50",71.774168878207988,367.10335171546558,"False.",null,"QAPRMEAN","A","SLP50",-0.71399999999999997,0.998,0.60099999999999998,0.8848974282060047,53,7.9000000000000001E-2,3.9196937605378089E-2,0.28652496936711269,"A","P",-2.8170000000000002,1.0640000000000001,1.74,0.95041177988543357,25,2.7E-2,0.15885708293096856,0.17688736879476769,"A","P",-2.4750000000000001,0.89600000000000002,1.629,0.9001523929097931,46,0.08,4.549520952967552E-2,0.28920514650049717,"A","P",-3.343,1.093,2.0219999999999998,0.93410019206152883,23,1.7000000000000001E-2,0.13073511636543278,0.13864521981738989,"SLP50",-0.71399999999999997,0.998,0.60099999999999998,0.8848974282060047,53,7.9000000000000001E-2,3.9196937605378089E-2,0.28652496936711269,1.6759050251630967,0.48018863599704653,0.11320754716981132,"False."]
[null,null,null,null,"QMAR0.2",281.72042826028047,"A, SLP50",111.01135100619848,714.93949924746153,"False.",null,"QMAY0.2","A","SLP50",-0.38700000000000001,0.96099999999999997,0.81899999999999995,0.80635262508315164,53,6.8000000000000005E-2,3.9196937605378089E-2,0.2658296291935226,"A","P",-3.18,1.1220000000000001,2.2879999999999998,0.91749111191386723,26,2.9000000000000001E-2,0.14554840573274391,0.18226602471730594,"A","P",-4.6980000000000004,0.95799999999999996,3.544,0.94142688985471945,49,7.0000000000000007E-2,4.5138511611173597E-2,0.27048049063247087,"A","P",-3.1110000000000002,0.88600000000000001,2.593,0.70326619047410988,24,5.3999999999999999E-2,0.12632321441441907,0.24662005915654678,"SLP50",-0.38700000000000001,0.96099999999999997,0.81899999999999995,0.80635262508315164,53,6.8000000000000005E-2,3.9196937605378089E-2,0.2658296291935226,1.6759050251630967,0.44550521140266713,0.11320754716981132,"False."]
[null,null,null,null,"QMAR0.5",182.12094379209864,"A, SLP50",83.721362313180904,396.17174459788873,"False.",null,"QMAY0.5","A","SLP50",-0.76900000000000002,0.995,0.88600000000000001,0.82790983831650489,53,7.5999999999999998E-2,3.9196937605378089E-2,0.28103196839151362,"A","P",-3.6459999999999999,1.1459999999999999,2.4079999999999999,0.93099015552531394,26,0.03,0.14554840573274391,0.18538190896628051,"A","P",-5.1070000000000002,0.95399999999999996,3.6440000000000001,0.93711965318434909,49,6.6000000000000003E-2,4.5138511611173597E-2,0.26263880476109669,"A","P",-3.4940000000000002,0.89400000000000002,2.6720000000000002,0.70546011395539077,24,4.8000000000000001E-2,0.12632321441441907,0.23251562160829564,"SLP50",-0.76900000000000002,0.995,0.88600000000000001,0.82790983831650489,53,7.5999999999999998E-2,3.9196937605378089E-2,0.28103196839151362,1.6759050251630967,0.47098288805881422,0.11320754716981132,"False."]
[null,null,null,null,"QMAR0.8",119.82949984628658,"A, SLP50",52.985087745337914,271.00283578703016,"False.",null,"QMAY0.8","A","SLP50",-1.0489999999999999,1.0109999999999999,0.89900000000000002,0.84090751771551375,53,8.7999999999999995E-2,3.9196937605378089E-2,0.30240590356220437,"A","P",-4.4980000000000002,1.208,2.68,0.96780300868425539,26,3.5999999999999997E-2,0.14554840573274391,0.2030757065884021,"A","P",-5.5439999999999996,0.93899999999999995,3.7429999999999999,0.92187215961275004,49,9.5000000000000001E-2,4.5138511611173597E-2,0.31510023580292906,"A","P",-3.8879999999999999,0.93600000000000005,2.6789999999999998,0.74733482090373038,24,3.9E-2,0.12632321441441907,0.20958674901377317,"SLP50",-1.0489999999999999,1.0109999999999999,0.89900000000000002,0.84090751771551375,53,8.7999999999999995E-2,3.9196937605378089E-2,0.30240590356220437,1.6759050251630967,0.50680357341888516,0.11320754716981132,"False."]
[null,null,null,null,"QMARMEAN",228.13445113277564,"A, SLP50",98.090301516512611,530.58586821543599,"False.",null,"QMAYMEAN","A","SLP50",-0.56699999999999995,0.97099999999999997,0.82299999999999995,0.81572064598145599,53,6.9000000000000006E-2,3.9196937605378089E-2,0.26777712504015555,"A","P",-3.2629999999999999,1.129,2.234,0.92864065870554713,26,2.8000000000000001E-2,0.14554840573274391,0.17909593898387766,"A","P",-4.7640000000000002,0.94099999999999995,3.4990000000000001,0.92459526507782397,49,6.4000000000000001E-2,4.5138511611173597E-2,0.25862881653658609,"A","P",-3.2450000000000001,0.89200000000000002,2.5579999999999998,0.71150423764575887,24,4.8000000000000001E-2,0.12632321441441907,0.23251562160829564,"SLP50",-0.56699999999999995,0.97099999999999997,0.82299999999999995,0.81572064598145599,53,6.9000000000000006E-2,3.9196937605378089E-2,0.26777712504015555,1.6759050251630967,0.4487690294785236,0.11320754716981132,"False."]
[null,null,null,null,"QAPR0.2",755.49921575031101,"A, SLP50",229.10795977243387,2491.3104964413833,"False.",null,"QJUN0.2","A","SLP50",-0.55900000000000005,0.95499999999999996,0.96699999999999997,0.77228030760280342,53,4.9000000000000002E-2,3.9196937605378089E-2,0.22565604344369666,"A","P",-2.9849999999999999,1.1299999999999999,2.2040000000000002,0.93272227069816915,26,2.5000000000000001E-2,0.14554840573274391,0.16922975549033509,"A","P",-5.968,1.0269999999999999,4.4189999999999996,1.0062010977015965,49,6.8000000000000005E-2,4.5138511611173597E-2,0.26658848210220898,"A","P",-3.2330000000000001,0.89800000000000002,2.7,0.70722349869697831,24,3.7999999999999999E-2,0.12632321441441907,0.20688229056095625,"SLP50",-0.55900000000000005,0.95499999999999996,0.96699999999999997,0.77228030760280342,53,4.9000000000000002E-2,3.9196937605378089E-2,0.22565604344369666,1.6759050251630967,0.37817809716571332,0.11320754716981132,"False."]
[null,null,null,null,"QAPR0.5",408.06173328012216,"A, SLP50",136.97917190939313,1215.6182275486447,"False.",null,"QJUN0.5","A","SLP50",-0.98699999999999999,0.97499999999999998,1.107,0.76560918517266285,53,5.8000000000000003E-2,3.9196937605378089E-2,0.24550646097630899,"A","P",-3.6480000000000001,1.1339999999999999,2.4750000000000001,0.91240174656750805,26,0.02,0.14554840573274391,0.15136369483682299,"A","P",-6.9640000000000004,1.032,4.9480000000000004,1.0090822697772708,49,6.2E-2,4.5138511611173597E-2,0.25455566723192935,"A","P",-4.1269999999999998,0.91700000000000004,3.1190000000000002,0.69748193038880169,24,3.7999999999999999E-2,0.12632321441441907,0.20688229056095625,"SLP50",-0.98699999999999999,0.97499999999999998,1.107,0.76560918517266285,53,5.8000000000000003E-2,3.9196937605378089E-2,0.24550646097630899,1.6759050251630967,0.41144551166020393,0.11320754716981132,"False."]
[null,null,null,null,"QAPR0.8",232.90891210213843,"A, SLP50",90.310988354062275,600.66402024003048,"False.",null,"QJUN0.8","A","SLP50",-1.27,0.95799999999999996,1.167,0.73775334503020162,53,6.8000000000000005E-2,3.9196937605378089E-2,0.2658296291935226,"A","P",-4.72,1.163,2.9390000000000001,0.89973732059197531,26,2.4E-2,0.14554840573274391,0.1658106200989124,"A","P",-8.2799999999999994,1.026,5.6879999999999997,0.99965324901568176,49,8.2000000000000003E-2,4.5138511611173597E-2,0.29274794269493382,"A","P",-4.9290000000000003,0.91600000000000004,3.4670000000000001,0.671671897683215,24,6.8000000000000005E-2,0.12632321441441907,0.2767489450389658,"SLP50",-1.27,0.95799999999999996,1.167,0.73775334503020162,53,6.8000000000000005E-2,3.9196937605378089E-2,0.2658296291935226,1.6759050251630967,0.44550521140266713,0.11320754716981132,"False."]
[null,null,null,null,"QAPRMEAN",523.79884169319826,"A, SLP50",173.37077785194955,1582.5344383782565,"False.",null,"QJUNMEAN","A","SLP50",-0.77600000000000002,0.95599999999999996,1.0169999999999999,0.76375539656915459,53,0.05,3.9196937605378089E-2,0.22794702647823442,"A","P",-3.2080000000000002,1.127,2.2530000000000001,0.92538563221297643,26,2.7E-2,0.14554840573274391,0.17586872079703111,"A","P",-6.2,1.006,4.5110000000000001,0.98502417490802929,49,5.6000000000000001E-2,4.5138511611173597E-2,0.24192510545667997,"A","P",-3.56,0.89,2.819,0.69102903536336346,24,3.5999999999999997E-2,0.12632321441441907,0.20136443508951396,"SLP50",-0.77600000000000002,0.95599999999999996,1.0169999999999999,0.76375539656915459,53,0.05,3.9196937605378089E-2,0.22794702647823442,1.6759050251630967,0.38201756714585855,0.11320754716981132,"False."]
[null,null,null,null,"QMAY0.2",1476.0815261738189,"A, SLP50",529.18208545566597,4117.3288586205754,"False.",null,"QJUL0.2","A","SLP50",-0.98599999999999999,0.92300000000000004,1.0209999999999999,0.73040929996381587,53,5.6000000000000001E-2,3.9196937605378089E-2,0.24123645766322546,"A","P",-3.5310000000000001,1.0840000000000001,2.3479999999999999,0.87428808832163996,26,2.3E-2,0.14554840573274391,0.16231947921261056,"A","P",-7.3019999999999996,0.97799999999999998,5.1680000000000001,0.95412328999029727,49,0.10199999999999999,4.5138511611173597E-2,0.32650287622674884,"A","P",-3.8069999999999999,0.89700000000000002,2.7719999999999998,0.70207362853122035,24,3.6999999999999998E-2,0.12632321441441907,0.2041420067828606,{"$f":"INDIRECT(ADDRESS(ROW(BA33),$BO$3*$BA$58+BA$57))","v":"SLP50"},-0.98599999999999999,0.92300000000000004,1.0209999999999999,0.73040929996381587,53,5.6000000000000001E-2,3.9196937605378089E-2,0.24123645766322546,1.6759050251630967,0.40428939165034417,0.11320754716981132,"False."]
[null,null,null,null,"QMAY0.5",896.44305901239761,"A, SLP50",303.06781706517859,2651.5852650850038,"False.",null,"QJUL0.5","A","SLP50",-1.1539999999999999,0.89700000000000002,1.0189999999999999,0.70463663447006641,53,5.8999999999999997E-2,3.9196937605378089E-2,0.24761385122548638,"A","P",-4.133,1.1020000000000001,2.5350000000000001,0.87503885919506597,26,2.7E-2,0.14554840573274391,0.17586872079703111,"A","P",-7.8620000000000001,0.92300000000000004,5.4720000000000004,0.89774940635090728,49,0.13600000000000001,4.5138511611173597E-2,0.37701304696140109,"A","P",-4.4219999999999997,0.89800000000000002,3.0019999999999998,0.68691072397250819,24,7.0000000000000007E-2,0.12632321441441907,0.28078928934168651,"SLP50",-1.1539999999999999,0.89700000000000002,1.0189999999999999,0.70463663447006641,53,5.8999999999999997E-2,3.9196937605378089E-2,0.24761385122548638,1.6759050251630967,0.41497729756878005,0.11320754716981132,"False."]
[null,null,null,null,"QMAY0.8",538.35335948391355,"A, SLP50",167.59607909381396,1729.3026259008338,"False.",null,"QJUL0.8","A","SLP50",-1.3120000000000001,0.878,1.006,0.68815821355589857,53,6.4000000000000001E-2,{"$f":"INDIRECT(ADDRESS((ROW(U35)-2)*3+56,COLUMN(U35)-4))","v":3.9196937605378089E-2},0.25789262107851046,"A","P",-5.12,1.1459999999999999,2.9260000000000002,0.88461255029574126,26,4.5999999999999999E-2,{"$f":"INDIRECT(ADDRESS((ROW(AE35)-2)*3+56,COLUMN(AE35)-4))","v":0.14554840573274391},0.22955440893981152,"A","P",-9.2639999999999993,0.88100000000000001,6.3239999999999998,0.85184680204820939,49,0.24,{"$f":"INDIRECT(ADDRESS((ROW(AO35)-2)*3+56,COLUMN(AO35)-4))","v":4.5138511611173597E-2},0.50083254964776558,"A","P",-4.8730000000000002,0.89300000000000002,3.1339999999999999,0.67188949641681683,24,0.125,{"$f":"INDIRECT(ADDRESS((ROW(AY35)-2)*3+56,COLUMN(AY35)-4))","v":0.12632321441441907},0.375220470925831,"SLP50",-1.3120000000000001,0.878,1.006,0.68815821355589857,53,6.4000000000000001E-2,3.9196937605378089E-2,0.25789262107851046,1.6759050251630967,{"$f":"BJ35*BI35","v":0.43220353961795804},0.11320754716981132,"False."]
[null,null,null,null,"QMAYMEAN",1050.5217517377012,"A, SLP50",373.79717918695701,2952.3923997352508,"False.",null,"QJULMEAN","A","SLP50",-1.077,0.90800000000000003,1.0089999999999999,0.71701399525610066,53,5.0999999999999997E-2,3.9196937605378089E-2,0.23021521196018799,"A","P",-3.7610000000000001,1.091,2.387,0.87799148195497678,26,2.4E-2,0.14554840573274391,0.1658106200989124,"A","P",-7.4029999999999996,0.95199999999999996,5.1760000000000002,0.92746500427245604,49,0.108,4.5138511611173597E-2,0.33596868790708273,"A","P",-3.9820000000000002,0.89300000000000002,2.7909999999999999,0.6958023394420777,24,4.2000000000000003E-2,0.12632321441441907,0.2174984482827535,"SLP50",-1.077,0.90800000000000003,1.0089999999999999,0.71701399525610066,53,5.0999999999999997E-2,3.9196937605378089E-2,0.23021521196018799,1.6759050251630967,0.38581883059306649,0.11320754716981132,"False."]
[null,null,null,null,"QJUN0.2",1362.5705000735284,"A, SLP50",570.40179690046068,3254.8957204540766,"False.",null,"QAUG0.2","A","SLP50",-1.0249999999999999,0.88600000000000001,0.80700000000000005,0.73369722513829472,53,5.5E-2,3.9196937605378089E-2,0.23907285828444808,"A","P",-3.0339999999999998,1.0229999999999999,1.855,0.85729103163015563,26,3.9E-2,0.14554840573274391,0.21136789686131857,"A","P",-6.2729999999999997,0.871,4.3520000000000003,0.85079362651860058,49,0.13700000000000001,4.5138511611173597E-2,0.3783965857281627,"A","P",-3.7080000000000002,0.91600000000000004,2.383,0.74752195019968837,24,0.09,0.12632321441441907,0.31838512731799784,"SLP50",-1.0249999999999999,0.88600000000000001,0.80700000000000005,0.73369722513829472,53,5.5E-2,3.9196937605378089E-2,0.23907285828444808,1.6759050251630967,0.4006634045790114,0.11320754716981132,"False."]
[null,null,null,null,"QJUN0.5",809.86424432400918,"A, SLP50",314.02679990812419,2088.6118459519771,"False.",null,"QAUG0.5","A","SLP50",-1.224,0.88,0.85699999999999998,0.71804703436605888,53,6.2E-2,3.9196937605378089E-2,0.253831066127717,"A","P",-3.76,1.056,2.1480000000000001,0.8633982108744539,26,0.05,0.14554840573274391,0.23932701537151463,"A","P",-7.4969999999999999,0.86199999999999999,5.0730000000000004,0.83834307717190981,49,0.249,4.5138511611173597E-2,0.51013673597495623,"A","P",-4.5990000000000002,0.96299999999999997,2.78,0.767422258070657,24,0.151,0.12632321441441907,0.41240126742843219,"SLP50",-1.224,0.88,0.85699999999999998,0.71804703436605888,53,6.2E-2,3.9196937605378089E-2,0.253831066127717,1.6759050251630967,0.42539675926594722,0.11320754716981132,"False."]
[null,null,null,null,"QJUN0.8",436.59248826807124,"A, SLP50",156.52043558518866,1217.8154251836456,"False.",null,"QAUG0.8","A","SLP50",-1.5629999999999999,0.89100000000000001,0.97099999999999997,0.70721970359429465,53,8.6999999999999994E-2,3.9196937605378089E-2,0.30068277897423373,"A","P",-5.133,1.1299999999999999,2.7589999999999999,0.88280636506275467,26,8.5000000000000006E-2,0.14554840573274391,0.31204425084798987,"A","P",-9.032,0.77600000000000002,6.1289999999999996,0.74772212295250629,49,0.315,4.5138511611173597E-2,0.57377576731465374,"A","P",-5.6120000000000001,0.98,3.3039999999999998,0.74686900191242978,24,0.26200000000000001,0.12632321441441907,0.54322802042657725,"SLP50",-1.5629999999999999,0.89100000000000001,0.97099999999999997,0.70721970359429465,53,8.6999999999999994E-2,3.9196937605378089E-2,0.30068277897423373,1.6759050251630967,0.50391578026292305,0.11320754716981132,"False."]
[null,null,null,null,"QJUNMEAN",938.08357031975709,"A, SLP50",389.24582458010661,2260.7841352008127,"False.",null,"QAUGMEAN","A","SLP50",-1.1599999999999999,0.88100000000000001,0.83099999999999996,0.72420123571895234,53,5.8000000000000003E-2,3.9196937605378089E-2,0.24550646097630899,"A","P",-3.4350000000000001,1.038,2.004,0.85839774077192732,26,4.3999999999999997E-2,0.14554840573274391,0.22450864093001127,"A","P",-6.7880000000000003,0.85399999999999998,4.6440000000000001,0.83203340437416806,49,0.151,4.5138511611173597E-2,0.397260513080884,"A","P",-4.0149999999999997,0.92400000000000004,2.4900000000000002,0.74893318849944923,24,9.4E-2,0.12632321441441907,0.3253834386611516,"SLP50",-1.1599999999999999,0.88100000000000001,0.83099999999999996,0.72420123571895234,53,5.8000000000000003E-2,3.9196937605378089E-2,0.24550646097630899,1.6759050251630967,0.41144551166020393,0.11320754716981132,"False."]
[null,null,null,null,"QJUL0.2",471.6077786906568,"A, SLP50",185.90521300375508,1196.3833252865425,"False.",null,"QSEP0.2","A","SLP50",-1.1739999999999999,0.92300000000000004,0.77600000000000002,0.7760151952237625,53,4.4999999999999998E-2,3.9196937605378089E-2,0.21624953686017923,"A","P",-2.8119999999999998,0.97799999999999998,1.704,0.8255402081065244,26,3.7999999999999999E-2,0.14554840573274391,0.20864045489272753,"A","P",-5.3419999999999996,0.86099999999999999,3.637,0.84425109927024777,49,0.153,4.5138511611173597E-2,0.39988272315331347,"A","P",-3.754,0.94599999999999995,2.3210000000000002,0.78206751610458725,24,5.8000000000000003E-2,0.12632321441441907,0.25559097487203319,"SLP50",-1.1739999999999999,0.92300000000000004,0.77600000000000002,0.7760151952237625,53,4.4999999999999998E-2,3.9196937605378089E-2,0.21624953686017923,1.6759050251630967,0.36241368551316666,0.11320754716981132,"False."]
[null,null,null,null,"QJUL0.5",269.37818788893298,"A, SLP50",103.60605311459764,700.38965802569828,"False.",null,"QSEP0.5","A","SLP50",-1.3580000000000001,0.93,0.8,0.77931258167834894,53,6.0999999999999999E-2,3.9196937605378089E-2,0.25177572002464427,"A","P",-3.38,1.038,1.851,0.87275990234037992,26,4.5999999999999999E-2,0.14554840573274391,0.22955440893981152,"A","P",-6.4450000000000003,0.83799999999999997,4.3230000000000004,0.79520324421821886,49,0.26,4.5138511611173597E-2,0.52128304501384382,"A","P",-4.4470000000000001,0.98099999999999998,2.6160000000000001,0.79704779144695947,24,0.111,0.12632321441441907,0.35358432770698495,"SLP50",-1.3580000000000001,0.93,0.8,0.77931258167834894,53,6.0999999999999999E-2,3.9196937605378089E-2,0.25177572002464427,1.6759050251630967,0.42195219440335824,0.11320754716981132,"False."]
[null,null,null,null,"QJUL0.8",{"$f":"IF(BA35=\"SLP50\",10^BB35*$G$4^BC35*($G$6+1)^BD35,10^BB35*$G$4^BC35*($G$5+0)^BD35)","v":160.46450043957819},{"$f":"\"A\" & \", \" & BA35","v":"A, SLP50"},{"$f":"10^(LOG(F43,10)-BK35)","v":59.316487903849861},{"$f":"10^(LOG(F43,10)+BK35)","v":434.09272550090049},{"$f":"BM35","v":"False."},null,"QSEP0.8","A","SLP50",-1.708,0.95,0.92100000000000004,0.77563199442972663,53,0.113,3.9196937605378089E-2,0.34267952076161151,"A","P",-4.5439999999999996,1.125,2.331,0.91669932886744476,26,7.1999999999999995E-2,0.14554840573274391,0.28719241844581755,"A","P",-7.7389999999999999,0.79100000000000004,5.16,0.76673414740638524,49,0.32500000000000001,4.5138511611173597E-2,0.5828121620845188,"A","P",-5.3,1.028,3.0110000000000001,0.81554721477489289,24,0.188,0.12632321441441907,0.46016167192619467,{"$f":"INDIRECT(ADDRESS(ROW(BA43),$BO$3*$BA$58+BA$57))","v":"SLP50"},-1.708,0.95,0.92100000000000004,0.77563199442972663,53,0.113,3.9196937605378089E-2,0.34267952076161151,1.6759050251630967,0.57429833086486648,0.11320754716981132,"False."]
[null,null,null,null,"QJULMEAN",337.20231470894845,"A, SLP50",138.69848476098969,819.80276310165982,"False.",null,"QSEPMEAN","A","SLP50",-1.319,0.92300000000000004,0.81299999999999994,0.76902786828532133,53,0.05,3.9196937605378089E-2,0.22794702647823442,"A","P",-3.3069999999999999,1.014,1.8859999999999999,0.8454946586828026,26,3.5000000000000003E-2,0.14554840573274391,0.20023534703105253,"A","P",-5.8490000000000002,0.85099999999999998,3.9239999999999999,0.832739759746013,49,0.17499999999999999,4.5138511611173597E-2,0.42766720651922258,"A","P",-3.9489999999999998,0.95,2.363,0.78304239564918021,24,6.9000000000000006E-2,0.12632321441441907,0.27877643694292908,"SLP50",-1.319,0.92300000000000004,0.81299999999999994,0.76902786828532133,53,0.05,3.9196937605378089E-2,0.22794702647823442,1.6759050251630967,0.38201756714585855,0.11320754716981132,"False."]
[null,null,null,null,"QAUG0.2",203.0697017230876,"A, SLP50",80.720106519184796,510.86780650001879,"False.",null,"QOCT0.2","A","SLP50",-1.232,0.92,0.84299999999999997,0.75954115946724543,52,3.6999999999999998E-2,3.9750257156711238E-2,0.19613964289454164,"A","P",-3.0270000000000001,0.93200000000000005,1.9470000000000001,0.75766259238950906,26,2.3E-2,0.14554840573274391,0.16231947921261056,"A","P",-4.3109999999999999,0.88600000000000001,2.867,0.8723993453525094,49,0.11799999999999999,4.5138511611173597E-2,0.35117850784197835,"A","P",-3.2069999999999999,0.98599999999999999,1.907,0.84351331438941124,23,3.5999999999999997E-2,0.12741453623806553,0.20146196490794571,"SLP50",-1.232,0.92,0.84299999999999997,0.75954115946724543,52,3.6999999999999998E-2,3.9750257156711238E-2,0.19613964289454164,1.6765508926168529,0.32883809337239456,0.11538461538461539,"False."]
[null,null,null,null,"QAUG0.5",139.26349335195036,"A, SLP50",52.292634939230453,370.8805380170067,"False.",null,"QOCT0.5","A","SLP50",-1.403,0.94699999999999995,0.82399999999999995,0.79002806463471287,52,0.04,3.9750257156711238E-2,0.20393628977273381,"A","P",-2.9180000000000001,0.96599999999999997,1.698,0.81379831001976155,26,2.5999999999999999E-2,0.14554840573274391,0.17258116510515087,"A","P",-4.7149999999999999,0.86699999999999999,3.0859999999999999,0.85223278170823225,49,0.157,4.5138511611173597E-2,0.40507622285559325,"A","P",-3.8540000000000001,1.0449999999999999,2.1619999999999999,0.88353989637721742,23,5.8000000000000003E-2,0.12741453623806553,0.25571476903340523,"SLP50",-1.403,0.94699999999999995,0.82399999999999995,0.79002806463471287,52,0.04,3.9750257156711238E-2,0.20393628977273381,1.6765508926168529,0.34190956865544603,0.11538461538461539,"False."]
[null,null,null,null,"QAUG0.8",90.052981897556407,"A, SLP50",28.221644559660795,287.35177113785778,"False.",null,"QOCT0.8","A","SLP50",-1.6779999999999999,0.97899999999999998,0.872,0.81307445939314316,52,8.1000000000000003E-2,3.9750257156711238E-2,0.29020642796067353,"A","P",-3.16,1.0369999999999999,1.6180000000000001,0.89221585675063642,26,4.3999999999999997E-2,0.14554840573274391,0.22450864093001127,"A","P",-5.806,0.84099999999999997,3.7719999999999998,0.82302953487943487,49,0.248,4.5138511611173597E-2,0.5091113344638587,"A","P",-4.5549999999999997,1.115,2.427,0.93356591086923635,23,9.9000000000000005E-2,0.12741453623806553,0.3340868735637012,"SLP50",-1.6779999999999999,0.97899999999999998,0.872,0.81307445939314316,52,8.1000000000000003E-2,3.9750257156711238E-2,0.29020642796067353,1.6765508926168529,0.48654584584061561,0.11538461538461539,"False."]
[null,null,null,null,"QAUGMEAN",152.60683612615009,"A, SLP50",59.173666115855291,393.56774661953,"False.",null,"QOCTMEAN","A","SLP50",-1.389,0.94299999999999995,0.85699999999999998,0.77918122497840547,52,3.5999999999999997E-2,3.9750257156711238E-2,0.19347095197378236,"A","P",-3.1869999999999998,0.94499999999999995,1.9470000000000001,0.7704340241324501,26,0.02,0.14554840573274391,0.15136369483682299,"A","P",-4.7110000000000003,0.875,3.09,0.86082907110129747,49,0.13900000000000001,4.5138511611173597E-2,0.38114859715595589,"A","P",-3.4940000000000002,1.0049999999999999,1.9990000000000001,0.85561712591153627,23,3.7999999999999999E-2,0.12741453623806553,0.20698249292403087,"SLP50",-1.389,0.94299999999999995,0.85699999999999998,0.77918122497840547,52,3.5999999999999997E-2,3.9750257156711238E-2,0.19347095197378236,1.6765508926168529,0.32436389722707709,0.11538461538461539,"False."]
[null,null,null,null,"QSEP0.2",169.99641072817639,"A, SLP50",73.794852046362124,391.60969714129885,"False.",null,"QNOV0.2","A","SLP50",-1.3140000000000001,0.96499999999999997,0.85699999999999998,0.79561602566080469,52,0.04,3.9226504080731278E-2,0.20388491892052549,"A","P",-3.331,0.97499999999999998,2.0510000000000002,0.77176046809423915,21,1.4E-2,0.21841281032958415,0.13060543382499129,"A","P",-3.9319999999999999,0.91800000000000004,2.504,0.88642448528123807,45,0.104,4.5468795886572655E-2,0.32974043545219556,"A","P",-3.2240000000000002,1.0960000000000001,1.7230000000000001,0.97509157232683097,20,3.4000000000000002E-2,0.18031259339599193,0.20032630425249634,"SLP50",-1.3140000000000001,0.96499999999999997,0.85699999999999998,0.79561602566080469,52,0.04,3.9226504080731278E-2,0.20388491892052549,1.6765508926168529,0.34182344280732169,0.11538461538461539,"False."]
[null,null,null,null,"QSEP0.5",123.34557384534921,"A, SLP50",46.684356345036889,325.89354932502891,"False.",null,"QNOV0.5","A","SLP50",-1.4379999999999999,0.97199999999999998,0.81799999999999995,0.81036596787255089,52,3.5999999999999997E-2,3.9226504080731278E-2,0.19342221730428572,"A","P",-3.052,0.95,1.7969999999999999,0.77148606277352094,21,1.6E-2,0.21841281032958415,0.13962308177831251,"A","P",-4.2880000000000003,0.91200000000000003,2.6840000000000002,0.87898121178458877,45,0.128,4.5468795886572655E-2,0.3658141684974508,"A","P",-3.6259999999999999,1.1639999999999999,1.804,1.0372360101602156,20,5.6000000000000001E-2,0.18031259339599193,0.25709435083287135,"SLP50",-1.4379999999999999,0.97199999999999998,0.81799999999999995,0.81036596787255089,52,3.5999999999999997E-2,3.9226504080731278E-2,0.19342221730428572,1.6765508926168529,0.32428219107343109,0.11538461538461539,"False."]
[null,null,null,null,"QSEP0.8",83.828240720911793,"A, SLP50",22.340455359449088,314.54927078695084,"False.",null,"QNOV0.8","A","SLP50",-1.6220000000000001,0.98299999999999998,0.82399999999999995,0.82019830296110563,52,5.8999999999999997E-2,3.9226504080731278E-2,0.24761737366502204,"A","P",-2.6419999999999999,0.95699999999999996,1.4,0.8178547614944589,21,2.5000000000000001E-2,0.21841281032958415,0.17452885222289066,"A","P",-4.992,0.91300000000000003,3.0790000000000002,0.87423921726987652,45,0.16900000000000001,4.5468795886572655E-2,0.42033822869783183,"A","P",-4.133,1.242,1.9350000000000001,1.1062682372147135,20,8.1000000000000003E-2,0.18031259339599193,0.30920109971517784,"SLP50",-1.6220000000000001,0.98299999999999998,0.82399999999999995,0.82019830296110563,52,5.8999999999999997E-2,3.9226504080731278E-2,0.24761737366502204,1.6765508926168529,0.4151431288455335,0.11538461538461539,"False."]
[null,null,null,null,"QSEPMEAN",133.03664413339496,"A, SLP50",55.201860349629904,320.61869962674581,"False.",null,"QNOVMEAN","A","SLP50",-1.37,0.96199999999999997,0.83,0.79785572735165511,52,4.1000000000000002E-2,3.9226504080731278E-2,0.20641774794651255,"A","P",-3.2650000000000001,0.97499999999999998,1.9330000000000001,0.78366634079045494,21,1.2E-2,0.21841281032958415,0.12091713577469079,"A","P",-4.3120000000000003,0.92400000000000004,2.69,0.89001034604049512,45,0.11799999999999999,4.5468795886572655E-2,0.35123399310803555,"A","P",-3.43,1.1220000000000001,1.75,0.99942402855095469,20,3.5999999999999997E-2,0.18031259339599193,0.2061340664767852,"SLP50",-1.37,0.96199999999999997,0.83,0.79785572735165511,52,4.1000000000000002E-2,3.9226504080731278E-2,0.20641774794651255,1.6765508926168529,0.34606985957168618,0.11538461538461539,"False."]
[null,null,null,null,"QOCT0.2",171.30668921210523,"A, SLP50",80.340814131111713,365.26866308476548,"False.",null,"QDEC0.2","A","SLP50",-1.3420000000000001,0.97199999999999998,0.83699999999999997,0.80713755633155493,52,4.2999999999999997E-2,3.9226504080731278E-2,0.21139238320117271,"A","P",-2.8879999999999999,0.97099999999999997,1.7,0.79432063181860157,19,1.7999999999999999E-2,0.22144164039926639,0.1482765980429373,"A","P",-4.202,0.95399999999999996,2.5670000000000002,0.91663260502719002,41,0.109,4.5803295053923998E-2,0.33762784121111478,"A","SLP50",-1.9570000000000001,1.1180000000000001,0.93200000000000005,0.95281551293381705,15,2.5000000000000001E-2,0.1904628064655885,0.17251542006916284,"SLP50",-1.3420000000000001,0.97199999999999998,0.83699999999999997,0.80713755633155493,52,4.2999999999999997E-2,3.9226504080731278E-2,0.21139238320117271,1.6765508926168529,0.35441008874832991,0.11538461538461539,"False."]
[null,null,null,null,"QOCT0.5",131.50326062946462,"A, SLP50",59.844873410505215,288.96556330830612,"False.",null,"QDEC0.5","A","SLP50",-1.5229999999999999,0.97599999999999998,0.84099999999999997,0.80980753370769931,52,4.2999999999999997E-2,3.9226504080731278E-2,0.21139238320117271,"A","P",-2.851,0.96499999999999997,1.573,0.80165775392819494,19,2.1000000000000001E-2,0.22144164039926639,0.1601570305930545,"A","P",-4.601,0.95699999999999996,2.7589999999999999,0.91652179626360175,41,0.13700000000000001,4.5803295053923998E-2,0.37851691035195195,"A","SLP50",-2.585,1.226,1.1819999999999999,1.0164290050048717,15,4.2000000000000003E-2,0.1904628064655885,0.22360554078903036,"SLP50",-1.5229999999999999,0.97599999999999998,0.84099999999999997,0.80980753370769931,52,4.2999999999999997E-2,3.9226504080731278E-2,0.21139238320117271,1.6765508926168529,0.35441008874832991,0.11538461538461539,"False."]
[null,null,null,null,"QOCT0.8",96.368832507840906,"A, SLP50",31.433356042135895,295.44894495119456,"False.",null,"QDEC0.8","A","SLP50",-1.8049999999999999,1.0009999999999999,0.89400000000000002,0.82431149117590652,52,7.6999999999999999E-2,3.9226504080731278E-2,0.2828788447625879,"A","P",-2.8980000000000001,0.98299999999999998,1.452,0.83191815435624261,19,2.8000000000000001E-2,0.22144164039926639,0.1849334094510223,"A","P",-5.0750000000000002,0.94599999999999995,3.0150000000000001,0.90167313853257824,41,0.16700000000000001,4.5803295053923998E-2,0.417910457244139,"A","SLP50",-3.1070000000000002,1.3320000000000001,1.3280000000000001,1.0963704576349089,15,6.9000000000000006E-2,0.1904628064655885,0.28660414101356879,"SLP50",-1.8049999999999999,1.0009999999999999,0.89400000000000002,0.82431149117590652,52,7.6999999999999999E-2,3.9226504080731278E-2,0.2828788447625879,1.6765508926168529,0.47426077968914088,0.11538461538461539,"False."]
[null,null,null,null,"QOCTMEAN",143.23555213677747,"A, SLP50",67.871419016921251,302.28369604019133,"False.",null,"QDECMEAN","A","SLP50",-1.41,0.97099999999999997,0.81599999999999995,0.8104159081780048,52,4.7E-2,3.9226504080731278E-2,0.22100598564698282,"A","P",-2.93,0.96399999999999997,1.667,0.79143245317513611,19,1.7999999999999999E-2,0.22144164039926639,0.1482765980429373,"A","P",-4.3940000000000001,0.95599999999999996,2.6320000000000001,0.91722426172305149,41,0.121,4.5803295053923998E-2,0.35572770302792667,"A","SLP50",-2.2469999999999999,1.1599999999999999,1.03,0.97711321171702115,15,2.9000000000000001E-2,0.1904628064655885,0.18580479376889625,"SLP50",-1.41,0.97099999999999997,0.81599999999999995,0.8104159081780048,52,4.7E-2,3.9226504080731278E-2,0.22100598564698282,1.6765508926168529,0.37052778251011642,0.11538461538461539,"False."]
[null,null,null,null,"QNOV0.2",196.30660864892161,"A, SLP50",89.353481262928696,431.27905096215886,"False.",null,null,null,null,null,null,null,null,null,null,null,null,null,null,null,null,null,null,null,null,null,null,null,null,null,null,null,null,null,null,null,null,null,null,null,null,null,null,null,null,null,null,4,{"$f":"BA57+1","v":5},{"$f":"BB57+1","v":6},7,8,9,10,11,12,1.9431802805153033,2.9431802805153033,0.66666666666666663]
[null,null,null,null,"QNOV0.5",140.60831347045445,"A, SLP50",66.639051666547857,296.68336092078937,"False.",null,"Streamflow, in cubic feet per second",null,"West",null,null,null,null,null,null,null,null,"Northwest",null,null,null,null,null,null,null,null,null,"Upper Yellowstone-Central Mountain",null,null,null,null,null,null,null,null,null,"Southwest",null,null,null,null,null,null,null,null,null,10]
[null,null,null,null,"QNOV0.8",100.27701605054071,"A, SLP50",38.553008433019627,260.82218630150135,"False.",null,"QAL7Q10",7.6723462000000006E-2,-1.386506E-2,-3.5101569999999999E-2,1,{"$f":"MMULT(MMULT(TRANSPOSE(P59:P61),M59:O61),P59:P61)","v":3.4115966369523019E-3},null,null,null,null,null,0.40651062999999998,-5.6420208999999999E-2,-0.1849431,1,{"$f":"MMULT(MMULT(TRANSPOSE(Z59:Z61),W59:Y61),Z59:Z61)","v":2.8363058141296436E-2},null,null,null,null,null,2.4801380000000002,-0.10711785,-1.5465641999999999,1,{"$f":"MMULT(MMULT(TRANSPOSE(AJ59:AJ61),AG59:AI61),AJ59:AJ61)","v":1.5896628552648631E-2},null,null,null,null,null,1.3099615,-0.27842908,-0.65214978999999995,1,{"$f":"MMULT(MMULT(TRANSPOSE(AT59:AT61),AQ59:AS61),AT59:AT61)","v":4.1983841879790929E-2}]
[null,null,null,null,"QNOVMEAN",158.62753581318069,"A, SLP50",71.500440629860947,351.92363706431661,"False.",null,null,-1.386506E-2,4.0682840999999997E-3,3.9059913999999999E-3,{"$f":"LOG($G$4,10)","v":2.8129133566428552},null,null,null,null,null,null,-5.6420208999999999E-2,2.2222777999999999E-2,2.2081072E-3,{"$f":"LOG($G$4,10)","v":2.8129133566428552},null,null,null,null,null,null,-0.10711785,3.1401547000000002E-2,2.3047637999999999E-2,{"$f":"LOG($G$4,10)","v":2.8129133566428552},null,null,null,null,null,null,-0.27842908,8.2104453999999993E-2,8.9442031000000005E-2,{"$f":"LOG($G$4,10)","v":2.8129133566428552}]
[null,null,null,null,"QDEC0.2",183.56820453271959,"A, SLP50",81.168472178361512,415.15239613379919,"False.",null,null,-3.5101569999999999E-2,3.9059913999999999E-3,2.0954714999999999E-2,{"$f":"IF(VLOOKUP($L59,$L$3:$AR$56,COLUMN(P61)-13,FALSE)=\"SLP50\",LOG($G$6+1,10),LOG($G$5,10))","v":1.0413926851582249},null,null,null,null,null,null,-0.1849431,2.2081072E-3,0.12511364,{"$f":"IF(VLOOKUP($L59,$L$3:$AR$56,COLUMN(Z61)-13,FALSE)=\"SLP50\",LOG($G$6+1,10),LOG($G$5,10))","v":1.0413926851582249},null,null,null,null,null,null,-1.5465641999999999,2.3047637999999999E-2,1.0401347999999999,{"$f":"IF(VLOOKUP($L59,$L$3:$AR$56,COLUMN(AJ61)-13,FALSE)=\"SLP50\",LOG($G$6+1,10),LOG($G$5,10))","v":1.3979400086720375},null,null,null,null,null,null,-0.65214978999999995,8.9442031000000005E-2,0.44540448999999999,{"$f":"IF(VLOOKUP($L59,$L$3:$AR$56,COLUMN(AT61)-13,FALSE)=\"SLP50\",LOG($G$6+1,10),LOG($G$5,10))","v":1.0413926851582249}]
[null,null,null,null,"QDEC0.5",125.37607919399518,"A, SLP50",55.437622336584724,283.54681480784723,"False.",null,"QS214Q5",6.9694748000000001E-2,-1.2491138000000001E-2,-3.2500437E-2,1,{"$f":"MMULT(MMULT(TRANSPOSE(P62:P64),M62:O64),P62:P64)","v":3.5437234892395668E-3},null,null,null,null,null,0.72768151000000003,-5.9371957000000003E-2,-0.36108774999999999,1,{"$f":"MMULT(MMULT(TRANSPOSE(Z62:Z64),W62:Y64),Z62:Z64)","v":1.7693202685180737E-2},null,null,null,null,null,0.99685520000000005,-3.3936476E-2,-0.64679593999999996,1,{"$f":"MMULT(MMULT(TRANSPOSE(AJ62:AJ64),AG62:AI64),AJ62:AJ64)","v":1.0245398993526566E-2},null,null,null,null,null,5.7661088999999999,-0.37729878,-3.5577027000000001,1,{"$f":"MMULT(MMULT(TRANSPOSE(AT62:AT64),AQ62:AS64),AT62:AT64)","v":3.806160338613962E-2}]
[null,null,null,null,"QDEC0.8",87.444264763686533,"A, SLP50",29.340705402557518,260.61062047251249,"False.",null,null,-1.2491138000000001E-2,3.8506952E-3,3.3462511000000002E-3,{"$f":"LOG($G$4,10)","v":2.8129133566428552},null,null,null,null,null,null,-5.9371957000000003E-2,1.5572641999999999E-2,1.5245239000000001E-2,{"$f":"LOG($G$4,10)","v":2.8129133566428552},null,null,null,null,null,null,-3.3936476E-2,1.6764201999999999E-2,-2.5742415999999999E-3,{"$f":"LOG($G$4,10)","v":2.8129133566428552},null,null,null,null,null,null,-0.37729878,6.2370733999999997E-2,0.17205690000000001,{"$f":"LOG($G$4,10)","v":2.8129133566428552}]
[null,null,null,null,"QDECMEAN",148.29117295789248,"A, SLP50",63.181148744519831,348.05115788805477,"False.",null,null,-3.2500437E-2,3.3462511000000002E-3,2.0046284000000001E-2,{"$f":"IF(VLOOKUP($L62,$L$3:$AR$56,COLUMN(P64)-13,FALSE)=\"SLP50\",LOG($G$6+1,10),LOG($G$5,10))","v":1.0413926851582249},null,null,null,null,null,null,-0.36108774999999999,1.5245239000000001E-2,0.19980725999999999,{"$f":"IF(VLOOKUP($L62,$L$3:$AR$56,COLUMN(Z64)-13,FALSE)=\"SLP50\",LOG($G$6+1,10),LOG($G$5,10))","v":1.3979400086720375},null,null,null,null,null,null,-0.64679593999999996,-2.5742415999999999E-3,0.46067798999999998,{"$f":"IF(VLOOKUP($L62,$L$3:$AR$56,COLUMN(AJ64)-13,FALSE)=\"SLP50\",LOG($G$6+1,10),LOG($G$5,10))","v":1.3979400086720375},null,null,null,null,null,null,-3.5577027000000001,0.17205690000000001,2.3000389999999999,{"$f":"IF(VLOOKUP($L62,$L$3:$AR$56,COLUMN(AT64)-13,FALSE)=\"SLP50\",LOG($G$6+1,10),LOG($G$5,10))","v":1.3979400086720375}]
[null,null,null,null,"1Leverage (h0) is computed for the at-site estimate using equations 8 and 9. If h0 greater than 3p/n is true, then the explanatory variables used for the site are considered to be far from the center of the joint distribution and may result in a potentially unreliable estimate.",null,null,null,null,null,null,"QA0.2",0.81235118141669105,-0.16680878763331899,-0.34637691651464497,1,{"$f":"MMULT(MMULT(TRANSPOSE(P65:P67),M65:O67),P65:P67)","v":3.9783035844329469E-2},null,null,null,null,null,11.018845722904601,-0.92887644230412603,-5.37245039779725,1,{"$f":"MMULT(MMULT(TRANSPOSE(Z65:Z67),W65:Y67),Z65:Z67)","v":0.23962361458946502},null,null,null,null,null,6.2116098924547902,-0.28959257124248799,-3.9084931412442301,1,{"$f":"MMULT(MMULT(TRANSPOSE(AJ65:AJ67),AG65:AI67),AJ65:AJ67)","v":4.5962103621895789E-2},null,null,null,null,null,38.880884708114301,-2.2635756516946102,-24.897674192192699,1,{"$f":"MMULT(MMULT(TRANSPOSE(AT65:AT67),AQ65:AS67),AT65:AT67)","v":0.25925340627797522}]
[null,null,null,null,null,null,null,null,null,null,null,null,-0.16680878763331899,5.3709712938857297E-2,4.0267228619940698E-2,{"$f":"LOG($G$4,10)","v":2.8129133566428552},null,null,null,null,null,null,-0.92887644230413402,0.206798512128512,0.28600624816303999,{"$f":"LOG($G$4,10)","v":2.8129133566428552},null,null,null,null,null,null,-0.289592571242481,9.7210669603762997E-2,4.3590791451705302E-2,{"$f":"LOG($G$4,10)","v":2.8129133566428552},null,null,null,null,null,null,-2.2635756516946302,0.36132969999398801,1.0625471501597501,{"$f":"LOG($G$4,10)","v":2.8129133566428552}]
[null,null,null,null,null,null,null,null,null,null,null,null,-0.34637691651464603,4.0267228619940802E-2,0.20876690943052301,{"$f":"IF(VLOOKUP($L65,$L$3:$AR$56,COLUMN(P67)-13,FALSE)=\"SLP50\",LOG($G$6+1,10),LOG($G$5,10))","v":1.0413926851582249},null,null,null,null,null,null,-5.3724503977972402,0.28600624816303599,2.85615282459284,{"$f":"IF(VLOOKUP($L65,$L$3:$AR$56,COLUMN(Z67)-13,FALSE)=\"SLP50\",LOG($G$6+1,10),LOG($G$5,10))","v":1.3979400086720375},null,null,null,null,null,null,-3.9084931412442501,4.3590791451710097E-2,2.7014273600035801,{"$f":"IF(VLOOKUP($L65,$L$3:$AR$56,COLUMN(AJ67)-13,FALSE)=\"SLP50\",LOG($G$6+1,10),LOG($G$5,10))","v":1.3979400086720375},null,null,null,null,null,null,-24.897674192192699,1.0625471501597401,16.634771441670502,{"$f":"IF(VLOOKUP($L65,$L$3:$AR$56,COLUMN(AT67)-13,FALSE)=\"SLP50\",LOG($G$6+1,10),LOG($G$5,10))","v":1.3979400086720375}]
[null,null,null,null,null,null,null,null,null,null,null,"QA0.5",0.81235118141669105,-0.16680878763331899,-0.34637691651464497,1,{"$f":"MMULT(MMULT(TRANSPOSE(P68:P70),M68:O70),P68:P70)","v":3.9783035844329469E-2},null,null,null,null,null,11.018845722904601,-0.92887644230412603,-5.37245039779725,1,{"$f":"MMULT(MMULT(TRANSPOSE(Z68:Z70),W68:Y70),Z68:Z70)","v":0.23962361458946502},null,null,null,null,null,6.2116098924547902,-0.28959257124248799,-3.9084931412442301,1,{"$f":"MMULT(MMULT(TRANSPOSE(AJ68:AJ70),AG68:AI70),AJ68:AJ70)","v":4.5962103621895789E-2},null,null,null,null,null,38.880884708114301,-2.2635756516946102,-24.897674192192699,1,{"$f":"MMULT(MMULT(TRANSPOSE(AT68:AT70),AQ68:AS70),AT68:AT70)","v":0.25925340627797522}]
[null,null,null,null,null,null,null,null,null,null,null,null,-0.16680878763331899,5.3709712938857297E-2,4.0267228619940698E-2,{"$f":"LOG($G$4,10)","v":2.8129133566428552},null,null,null,null,null,null,-0.92887644230413402,0.206798512128512,0.28600624816303999,{"$f":"LOG($G$4,10)","v":2.8129133566428552},null,null,null,null,null,null,-0.289592571242481,9.7210669603762997E-2,4.3590791451705302E-2,{"$f":"LOG($G$4,10)","v":2.8129133566428552},null,null,null,null,null,null,-2.2635756516946302,0.36132969999398801,1.0625471501597501,{"$f":"LOG($G$4,10)","v":2.8129133566428552}]
[null,null,null,null,null,null,null,null,null,null,null,null,-0.34637691651464603,4.0267228619940802E-2,0.20876690943052301,{"$f":"IF(VLOOKUP($L68,$L$3:$AR$56,COLUMN(P70)-13,FALSE)=\"SLP50\",LOG($G$6+1,10),LOG($G$5,10))","v":1.0413926851582249},null,null,null,null,null,null,-5.3724503977972402,0.28600624816303599,2.85615282459284,{"$f":"IF(VLOOKUP($L68,$L$3:$AR$56,COLUMN(Z70)-13,FALSE)=\"SLP50\",LOG($G$6+1,10),LOG($G$5,10))","v":1.3979400086720375},null,null,null,null,null,null,-3.9084931412442501,4.3590791451710097E-2,2.7014273600035801,{"$f":"IF(VLOOKUP($L68,$L$3:$AR$56,COLUMN(AJ70)-13,FALSE)=\"SLP50\",LOG($G$6+1,10),LOG($G$5,10))","v":1.3979400086720375},null,null,null,null,null,null,-24.897674192192699,1.0625471501597401,16.634771441670502,{"$f":"IF(VLOOKUP($L68,$L$3:$AR$56,COLUMN(AT70)-13,FALSE)=\"SLP50\",LOG($G$6+1,10),LOG($G$5,10))","v":1.3979400086720375}]
[null,null,null,null,null,null,null,null,null,null,null,"QA0.8",0.81235118141669105,-0.16680878763331899,-0.34637691651464497,1,{"$f":"MMULT(MMULT(TRANSPOSE(P71:P73),M71:O73),P71:P73)","v":3.9783035844329469E-2},null,null,null,null,null,11.018845722904601,-0.92887644230412603,-5.37245039779725,1,{"$f":"MMULT(MMULT(TRANSPOSE(Z71:Z73),W71:Y73),Z71:Z73)","v":0.23962361458946502},null,null,null,null,null,6.2116098924547902,-0.28959257124248799,-3.9084931412442301,1,{"$f":"MMULT(MMULT(TRANSPOSE(AJ71:AJ73),AG71:AI73),AJ71:AJ73)","v":4.5962103621895789E-2},null,null,null,null,null,38.880884708114301,-2.2635756516946102,-24.897674192192699,1,{"$f":"MMULT(MMULT(TRANSPOSE(AT71:AT73),AQ71:AS73),AT71:AT73)","v":0.25925340627797522}]
[null,null,null,null,null,null,null,null,null,null,null,null,-0.16680878763331899,5.3709712938857297E-2,4.0267228619940698E-2,{"$f":"LOG($G$4,10)","v":2.8129133566428552},null,null,null,null,null,null,-0.92887644230413402,0.206798512128512,0.28600624816303999,{"$f":"LOG($G$4,10)","v":2.8129133566428552},null,null,null,null,null,null,-0.289592571242481,9.7210669603762997E-2,4.3590791451705302E-2,{"$f":"LOG($G$4,10)","v":2.8129133566428552},null,null,null,null,null,null,-2.2635756516946302,0.36132969999398801,1.0625471501597501,{"$f":"LOG($G$4,10)","v":2.8129133566428552}]
[null,null,null,null,null,null,null,null,null,null,null,null,-0.34637691651464603,4.0267228619940802E-2,0.20876690943052301,{"$f":"IF(VLOOKUP($L71,$L$3:$AR$56,COLUMN(P73)-13,FALSE)=\"SLP50\",LOG($G$6+1,10),LOG($G$5,10))","v":1.0413926851582249},null,null,null,null,null,null,-5.3724503977972402,0.28600624816303599,2.85615282459284,{"$f":"IF(VLOOKUP($L71,$L$3:$AR$56,COLUMN(Z73)-13,FALSE)=\"SLP50\",LOG($G$6+1,10),LOG($G$5,10))","v":1.3979400086720375},null,null,null,null,null,null,-3.9084931412442501,4.3590791451710097E-2,2.7014273600035801,{"$f":"IF(VLOOKUP($L71,$L$3:$AR$56,COLUMN(AJ73)-13,FALSE)=\"SLP50\",LOG($G$6+1,10),LOG($G$5,10))","v":1.3979400086720375},null,null,null,null,null,null,-24.897674192192699,1.0625471501597401,16.634771441670502,{"$f":"IF(VLOOKUP($L71,$L$3:$AR$56,COLUMN(AT73)-13,FALSE)=\"SLP50\",LOG($G$6+1,10),LOG($G$5,10))","v":1.3979400086720375}]
[null,null,null,null,null,null,null,null,null,null,null,"QAMEAN",0.81235118141669105,-0.16680878763331899,-0.34637691651464497,1,{"$f":"MMULT(MMULT(TRANSPOSE(P74:P76),M74:O76),P74:P76)","v":3.9783035844329469E-2},null,null,null,null,null,11.018845722904601,-0.92887644230412603,-5.37245039779725,1,{"$f":"MMULT(MMULT(TRANSPOSE(Z74:Z76),W74:Y76),Z74:Z76)","v":0.23962361458946502},null,null,null,null,null,6.2116098924547902,-0.28959257124248799,-3.9084931412442301,1,{"$f":"MMULT(MMULT(TRANSPOSE(AJ74:AJ76),AG74:AI76),AJ74:AJ76)","v":4.5962103621895789E-2},null,null,null,null,null,38.880884708114301,-2.2635756516946102,-24.897674192192699,1,{"$f":"MMULT(MMULT(TRANSPOSE(AT74:AT76),AQ74:AS76),AT74:AT76)","v":0.25925340627797522}]
[null,null,null,null,null,null,null,null,null,null,null,null,-0.16680878763331899,5.3709712938857297E-2,4.0267228619940698E-2,{"$f":"LOG($G$4,10)","v":2.8129133566428552},null,null,null,null,null,null,-0.92887644230413402,0.206798512128512,0.28600624816303999,{"$f":"LOG($G$4,10)","v":2.8129133566428552},null,null,null,null,null,null,-0.289592571242481,9.7210669603762997E-2,4.3590791451705302E-2,{"$f":"LOG($G$4,10)","v":2.8129133566428552},null,null,null,null,null,null,-2.2635756516946302,0.36132969999398801,1.0625471501597501,{"$f":"LOG($G$4,10)","v":2.8129133566428552}]
[null,null,null,null,null,null,null,null,null,null,null,null,-0.34637691651464603,4.0267228619940802E-2,0.20876690943052301,{"$f":"IF(VLOOKUP($L74,$L$3:$AR$56,COLUMN(P76)-13,FALSE)=\"SLP50\",LOG($G$6+1,10),LOG($G$5,10))","v":1.0413926851582249},null,null,null,null,null,null,-5.3724503977972402,0.28600624816303599,2.85615282459284,{"$f":"IF(VLOOKUP($L74,$L$3:$AR$56,COLUMN(Z76)-13,FALSE)=\"SLP50\",LOG($G$6+1,10),LOG($G$5,10))","v":1.3979400086720375},null,null,null,null,null,null,-3.9084931412442501,4.3590791451710097E-2,2.7014273600035801,{"$f":"IF(VLOOKUP($L74,$L$3:$AR$56,COLUMN(AJ76)-13,FALSE)=\"SLP50\",LOG($G$6+1,10),LOG($G$5,10))","v":1.3979400086720375},null,null,null,null,null,null,-24.897674192192699,1.0625471501597401,16.634771441670502,{"$f":"IF(VLOOKUP($L74,$L$3:$AR$56,COLUMN(AT76)-13,FALSE)=\"SLP50\",LOG($G$6+1,10),LOG($G$5,10))","v":1.3979400086720375}]
[null,null,null,null,null,null,null,null,null,null,null,"QJAN0.2",0.80892001093931698,-0.16583672196639401,-0.34438321223169299,1,{"$f":"MMULT(MMULT(TRANSPOSE(P77:P79),M77:O79),P77:P79)","v":3.9228493074799795E-2},null,null,null,null,null,11.018845722904601,-0.92887644230412603,-5.37245039779725,1,{"$f":"MMULT(MMULT(TRANSPOSE(Z77:Z79),W77:Y79),Z77:Z79)","v":0.23962361458946502},null,null,null,null,null,6.2116098924547902,-0.28959257124248799,-3.9084931412442301,1,{"$f":"MMULT(MMULT(TRANSPOSE(AJ77:AJ79),AG77:AI79),AJ77:AJ79)","v":4.5962103621895789E-2},null,null,null,null,null,5.8745387827164199,-1.2545970914125799,-2.9251893959702202,1,{"$f":"MMULT(MMULT(TRANSPOSE(AT77:AT79),AQ77:AS79),AT77:AT79)","v":0.19241841854570341}]
[null,null,null,null,null,null,null,null,null,null,null,null,-0.16583672196639301,5.3434322465825801E-2,3.9702403439659202E-2,{"$f":"LOG($G$4,10)","v":2.8129133566428552},null,null,null,null,null,null,-0.92887644230413402,0.206798512128512,0.28600624816303999,{"$f":"LOG($G$4,10)","v":2.8129133566428552},null,null,null,null,null,null,-0.289592571242481,9.7210669603762997E-2,4.3590791451705302E-2,{"$f":"LOG($G$4,10)","v":2.8129133566428552},null,null,null,null,null,null,-1.2545970914125799,0.372823612191855,0.39932992288534103,{"$f":"LOG($G$4,10)","v":2.8129133566428552}]
[null,null,null,null,null,null,null,null,null,null,null,null,-0.34438321223169299,3.9702403439659299E-2,0.207608454380249,{"$f":"IF(VLOOKUP($L77,$L$3:$AR$56,COLUMN(P79)-13,FALSE)=\"SLP50\",LOG($G$6+1,10),LOG($G$5,10))","v":1.0413926851582249},null,null,null,null,null,null,-5.3724503977972402,0.28600624816303599,2.85615282459284,{"$f":"IF(VLOOKUP($L77,$L$3:$AR$56,COLUMN(Z79)-13,FALSE)=\"SLP50\",LOG($G$6+1,10),LOG($G$5,10))","v":1.3979400086720375},null,null,null,null,null,null,-3.9084931412442501,4.3590791451710097E-2,2.7014273600035801,{"$f":"IF(VLOOKUP($L77,$L$3:$AR$56,COLUMN(AJ79)-13,FALSE)=\"SLP50\",LOG($G$6+1,10),LOG($G$5,10))","v":1.3979400086720375},null,null,null,null,null,null,-2.92518939597023,0.39932992288534203,2.0092739674320401,{"$f":"IF(VLOOKUP($L77,$L$3:$AR$56,COLUMN(AT79)-13,FALSE)=\"SLP50\",LOG($G$6+1,10),LOG($G$5,10))","v":1.0413926851582249}]
[null,null,null,null,null,null,null,null,null,null,null,"QJAN0.5",0.80892001093931698,-0.16583672196639401,-0.34438321223169299,1,{"$f":"MMULT(MMULT(TRANSPOSE(P80:P82),M80:O82),P80:P82)","v":3.9228493074799795E-2},null,null,null,null,null,11.018845722904601,-0.92887644230412603,-5.37245039779725,1,{"$f":"MMULT(MMULT(TRANSPOSE(Z80:Z82),W80:Y82),Z80:Z82)","v":0.23962361458946502},null,null,null,null,null,6.2116098924547902,-0.28959257124248799,-3.9084931412442301,1,{"$f":"MMULT(MMULT(TRANSPOSE(AJ80:AJ82),AG80:AI82),AJ80:AJ82)","v":4.5962103621895789E-2},null,null,null,null,null,5.8745387827164199,-1.2545970914125799,-2.9251893959702202,1,{"$f":"MMULT(MMULT(TRANSPOSE(AT80:AT82),AQ80:AS82),AT80:AT82)","v":0.19241841854570341}]
[null,null,null,null,null,null,null,null,null,null,null,null,-0.16583672196639301,5.3434322465825801E-2,3.9702403439659202E-2,{"$f":"LOG($G$4,10)","v":2.8129133566428552},null,null,null,null,null,null,-0.92887644230413402,0.206798512128512,0.28600624816303999,{"$f":"LOG($G$4,10)","v":2.8129133566428552},null,null,null,null,null,null,-0.289592571242481,9.7210669603762997E-2,4.3590791451705302E-2,{"$f":"LOG($G$4,10)","v":2.8129133566428552},null,null,null,null,null,null,-1.2545970914125799,0.372823612191855,0.39932992288534103,{"$f":"LOG($G$4,10)","v":2.8129133566428552}]
[null,null,null,null,null,null,null,null,null,null,null,null,-0.34438321223169299,3.9702403439659299E-2,0.207608454380249,{"$f":"IF(VLOOKUP($L80,$L$3:$AR$56,COLUMN(P82)-13,FALSE)=\"SLP50\",LOG($G$6+1,10),LOG($G$5,10))","v":1.0413926851582249},null,null,null,null,null,null,-5.3724503977972402,0.28600624816303599,2.85615282459284,{"$f":"IF(VLOOKUP($L80,$L$3:$AR$56,COLUMN(Z82)-13,FALSE)=\"SLP50\",LOG($G$6+1,10),LOG($G$5,10))","v":1.3979400086720375},null,null,null,null,null,null,-3.9084931412442501,4.3590791451710097E-2,2.7014273600035801,{"$f":"IF(VLOOKUP($L80,$L$3:$AR$56,COLUMN(AJ82)-13,FALSE)=\"SLP50\",LOG($G$6+1,10),LOG($G$5,10))","v":1.3979400086720375},null,null,null,null,null,null,-2.92518939597023,0.39932992288534203,2.0092739674320401,{"$f":"IF(VLOOKUP($L80,$L$3:$AR$56,COLUMN(AT82)-13,FALSE)=\"SLP50\",LOG($G$6+1,10),LOG($G$5,10))","v":1.0413926851582249}]
[null,null,null,null,null,null,null,null,null,null,null,"QJAN0.8",0.80892001093931698,-0.16583672196639401,-0.34438321223169299,1,{"$f":"MMULT(MMULT(TRANSPOSE(P83:P85),M83:O85),P83:P85)","v":3.9228493074799795E-2},null,null,null,null,null,11.018845722904601,-0.92887644230412603,-5.37245039779725,1,{"$f":"MMULT(MMULT(TRANSPOSE(Z83:Z85),W83:Y85),Z83:Z85)","v":0.23962361458946502},null,null,null,null,null,6.2116098924547902,-0.28959257124248799,-3.9084931412442301,1,{"$f":"MMULT(MMULT(TRANSPOSE(AJ83:AJ85),AG83:AI85),AJ83:AJ85)","v":4.5962103621895789E-2},null,null,null,null,null,5.8745387827164199,-1.2545970914125799,-2.9251893959702202,1,{"$f":"MMULT(MMULT(TRANSPOSE(AT83:AT85),AQ83:AS85),AT83:AT85)","v":0.19241841854570341}]
[null,null,null,null,null,null,null,null,null,null,null,null,-0.16583672196639301,5.3434322465825801E-2,3.9702403439659202E-2,{"$f":"LOG($G$4,10)","v":2.8129133566428552},null,null,null,null,null,null,-0.92887644230413402,0.206798512128512,0.28600624816303999,{"$f":"LOG($G$4,10)","v":2.8129133566428552},null,null,null,null,null,null,-0.289592571242481,9.7210669603762997E-2,4.3590791451705302E-2,{"$f":"LOG($G$4,10)","v":2.8129133566428552},null,null,null,null,null,null,-1.2545970914125799,0.372823612191855,0.39932992288534103,{"$f":"LOG($G$4,10)","v":2.8129133566428552}]
[null,null,null,null,null,null,null,null,null,null,null,null,-0.34438321223169299,3.9702403439659299E-2,0.207608454380249,{"$f":"IF(VLOOKUP($L83,$L$3:$AR$56,COLUMN(P85)-13,FALSE)=\"SLP50\",LOG($G$6+1,10),LOG($G$5,10))","v":1.0413926851582249},null,null,null,null,null,null,-5.3724503977972402,0.28600624816303599,2.85615282459284,{"$f":"IF(VLOOKUP($L83,$L$3:$AR$56,COLUMN(Z85)-13,FALSE)=\"SLP50\",LOG($G$6+1,10),LOG($G$5,10))","v":1.3979400086720375},null,null,null,null,null,null,-3.9084931412442501,4.3590791451710097E-2,2.7014273600035801,{"$f":"IF(VLOOKUP($L83,$L$3:$AR$56,COLUMN(AJ85)-13,FALSE)=\"SLP50\",LOG($G$6+1,10),LOG($G$5,10))","v":1.3979400086720375},null,null,null,null,null,null,-2.92518939597023,0.39932992288534203,2.0092739674320401,{"$f":"IF(VLOOKUP($L83,$L$3:$AR$56,COLUMN(AT85)-13,FALSE)=\"SLP50\",LOG($G$6+1,10),LOG($G$5,10))","v":1.0413926851582249}]
[null,null,null,null,null,null,null,null,null,null,null,"QJANMEAN",0.80892001093931698,-0.16583672196639401,-0.34438321223169299,1,{"$f":"MMULT(MMULT(TRANSPOSE(P86:P88),M86:O88),P86:P88)","v":3.9228493074799795E-2},null,null,null,null,null,11.018845722904601,-0.92887644230412603,-5.37245039779725,1,{"$f":"MMULT(MMULT(TRANSPOSE(Z86:Z88),W86:Y88),Z86:Z88)","v":0.23962361458946502},null,null,null,null,null,6.2116098924547902,-0.28959257124248799,-3.9084931412442301,1,{"$f":"MMULT(MMULT(TRANSPOSE(AJ86:AJ88),AG86:AI88),AJ86:AJ88)","v":4.5962103621895789E-2},null,null,null,null,null,5.8745387827164199,-1.2545970914125799,-2.9251893959702202,1,{"$f":"MMULT(MMULT(TRANSPOSE(AT86:AT88),AQ86:AS88),AT86:AT88)","v":0.19241841854570341}]
[null,null,null,null,null,null,null,null,null,null,null,null,-0.16583672196639301,5.3434322465825801E-2,3.9702403439659202E-2,{"$f":"LOG($G$4,10)","v":2.8129133566428552},null,null,null,null,null,null,-0.92887644230413402,0.206798512128512,0.28600624816303999,{"$f":"LOG($G$4,10)","v":2.8129133566428552},null,null,null,null,null,null,-0.289592571242481,9.7210669603762997E-2,4.3590791451705302E-2,{"$f":"LOG($G$4,10)","v":2.8129133566428552},null,null,null,null,null,null,-1.2545970914125799,0.372823612191855,0.39932992288534103,{"$f":"LOG($G$4,10)","v":2.8129133566428552}]
[null,null,null,null,null,null,null,null,null,null,null,null,-0.34438321223169299,3.9702403439659299E-2,0.207608454380249,{"$f":"IF(VLOOKUP($L86,$L$3:$AR$56,COLUMN(P88)-13,FALSE)=\"SLP50\",LOG($G$6+1,10),LOG($G$5,10))","v":1.0413926851582249},null,null,null,null,null,null,-5.3724503977972402,0.28600624816303599,2.85615282459284,{"$f":"IF(VLOOKUP($L86,$L$3:$AR$56,COLUMN(Z88)-13,FALSE)=\"SLP50\",LOG($G$6+1,10),LOG($G$5,10))","v":1.3979400086720375},null,null,null,null,null,null,-3.9084931412442501,4.3590791451710097E-2,2.7014273600035801,{"$f":"IF(VLOOKUP($L86,$L$3:$AR$56,COLUMN(AJ88)-13,FALSE)=\"SLP50\",LOG($G$6+1,10),LOG($G$5,10))","v":1.3979400086720375},null,null,null,null,null,null,-2.92518939597023,0.39932992288534203,2.0092739674320401,{"$f":"IF(VLOOKUP($L86,$L$3:$AR$56,COLUMN(AT88)-13,FALSE)=\"SLP50\",LOG($G$6+1,10),LOG($G$5,10))","v":1.0413926851582249}]
[null,null,null,null,null,null,null,null,null,null,null,"QFEB0.2",0.80794714666667,-0.16614212862983199,-0.342581840223951,1,{"$f":"MMULT(MMULT(TRANSPOSE(P89:P91),M89:O91),P89:P91)","v":3.9226504080731278E-2},null,null,null,null,null,11.0179485039175,-0.93153999831905998,-5.3693382403065497,1,{"$f":"MMULT(MMULT(TRANSPOSE(Z89:Z91),W89:Y91),Z89:Z91)","v":0.22144164039926639},null,null,null,null,null,6.2116098924547902,-0.28959257124248799,-3.9084931412442301,1,{"$f":"MMULT(MMULT(TRANSPOSE(AJ89:AJ91),AG89:AI91),AJ89:AJ91)","v":4.5962103621895789E-2},null,null,null,null,null,5.8745387827164199,-1.2545970914125799,-2.9251893959702202,1,{"$f":"MMULT(MMULT(TRANSPOSE(AT89:AT91),AQ89:AS91),AT89:AT91)","v":0.19241841854570341}]
[null,null,null,null,null,null,null,null,null,null,null,null,-0.16614212862983199,5.3338447601499701E-2,4.0267899604091197E-2,{"$f":"LOG($G$4,10)","v":2.8129133566428552},null,null,null,null,null,null,-0.93153999831906198,0.198891266810479,0.29524524768680199,{"$f":"LOG($G$4,10)","v":2.8129133566428552},null,null,null,null,null,null,-0.289592571242481,9.7210669603762997E-2,4.3590791451705302E-2,{"$f":"LOG($G$4,10)","v":2.8129133566428552},null,null,null,null,null,null,-1.2545970914125799,0.372823612191855,0.39932992288534103,{"$f":"LOG($G$4,10)","v":2.8129133566428552}]
[null,null,null,null,null,null,null,null,null,null,null,null,-0.34258184022395,4.0267899604091002E-2,0.20427300338052101,{"$f":"IF(VLOOKUP($L89,$L$3:$AR$56,COLUMN(P91)-13,FALSE)=\"SLP50\",LOG($G$6+1,10),LOG($G$5,10))","v":1.0413926851582249},null,null,null,null,null,null,-5.3693382403065497,0.29524524768680099,2.8453577741342801,{"$f":"IF(VLOOKUP($L89,$L$3:$AR$56,COLUMN(Z91)-13,FALSE)=\"SLP50\",LOG($G$6+1,10),LOG($G$5,10))","v":1.3979400086720375},null,null,null,null,null,null,-3.9084931412442501,4.3590791451710097E-2,2.7014273600035801,{"$f":"IF(VLOOKUP($L89,$L$3:$AR$56,COLUMN(AJ91)-13,FALSE)=\"SLP50\",LOG($G$6+1,10),LOG($G$5,10))","v":1.3979400086720375},null,null,null,null,null,null,-2.92518939597023,0.39932992288534203,2.0092739674320401,{"$f":"IF(VLOOKUP($L89,$L$3:$AR$56,COLUMN(AT91)-13,FALSE)=\"SLP50\",LOG($G$6+1,10),LOG($G$5,10))","v":1.0413926851582249}]
[null,null,null,null,null,null,null,null,null,null,null,"QFEB0.5",0.80794714666667,-0.16614212862983199,-0.342581840223951,1,{"$f":"MMULT(MMULT(TRANSPOSE(P92:P94),M92:O94),P92:P94)","v":3.9226504080731278E-2},null,null,null,null,null,11.0179485039175,-0.93153999831905998,-5.3693382403065497,1,{"$f":"MMULT(MMULT(TRANSPOSE(Z92:Z94),W92:Y94),Z92:Z94)","v":0.22144164039926639},null,null,null,null,null,6.2116098924547902,-0.28959257124248799,-3.9084931412442301,1,{"$f":"MMULT(MMULT(TRANSPOSE(AJ92:AJ94),AG92:AI94),AJ92:AJ94)","v":4.5962103621895789E-2},null,null,null,null,null,5.8745387827164199,-1.2545970914125799,-2.9251893959702202,1,{"$f":"MMULT(MMULT(TRANSPOSE(AT92:AT94),AQ92:AS94),AT92:AT94)","v":0.19241841854570341}]
[null,null,null,null,null,null,null,null,null,null,null,null,-0.16614212862983199,5.3338447601499701E-2,4.0267899604091197E-2,{"$f":"LOG($G$4,10)","v":2.8129133566428552},null,null,null,null,null,null,-0.93153999831906198,0.198891266810479,0.29524524768680199,{"$f":"LOG($G$4,10)","v":2.8129133566428552},null,null,null,null,null,null,-0.289592571242481,9.7210669603762997E-2,4.3590791451705302E-2,{"$f":"LOG($G$4,10)","v":2.8129133566428552},null,null,null,null,null,null,-1.2545970914125799,0.372823612191855,0.39932992288534103,{"$f":"LOG($G$4,10)","v":2.8129133566428552}]
[null,null,null,null,null,null,null,null,null,null,null,null,-0.34258184022395,4.0267899604091002E-2,0.20427300338052101,{"$f":"IF(VLOOKUP($L92,$L$3:$AR$56,COLUMN(P94)-13,FALSE)=\"SLP50\",LOG($G$6+1,10),LOG($G$5,10))","v":1.0413926851582249},null,null,null,null,null,null,-5.3693382403065497,0.29524524768680099,2.8453577741342801,{"$f":"IF(VLOOKUP($L92,$L$3:$AR$56,COLUMN(Z94)-13,FALSE)=\"SLP50\",LOG($G$6+1,10),LOG($G$5,10))","v":1.3979400086720375},null,null,null,null,null,null,-3.9084931412442501,4.3590791451710097E-2,2.7014273600035801,{"$f":"IF(VLOOKUP($L92,$L$3:$AR$56,COLUMN(AJ94)-13,FALSE)=\"SLP50\",LOG($G$6+1,10),LOG($G$5,10))","v":1.3979400086720375},null,null,null,null,null,null,-2.92518939597023,0.39932992288534203,2.0092739674320401,{"$f":"IF(VLOOKUP($L92,$L$3:$AR$56,COLUMN(AT94)-13,FALSE)=\"SLP50\",LOG($G$6+1,10),LOG($G$5,10))","v":1.0413926851582249}]
[null,null,null,null,null,null,null,null,null,null,null,"QFEB0.8",0.80794714666667,-0.16614212862983199,-0.342581840223951,1,{"$f":"MMULT(MMULT(TRANSPOSE(P95:P97),M95:O97),P95:P97)","v":3.9226504080731278E-2},null,null,null,null,null,11.0179485039175,-0.93153999831905998,-5.3693382403065497,1,{"$f":"MMULT(MMULT(TRANSPOSE(Z95:Z97),W95:Y97),Z95:Z97)","v":0.22144164039926639},null,null,null,null,null,6.2116098924547902,-0.28959257124248799,-3.9084931412442301,1,{"$f":"MMULT(MMULT(TRANSPOSE(AJ95:AJ97),AG95:AI97),AJ95:AJ97)","v":4.5962103621895789E-2},null,null,null,null,null,5.8745387827164199,-1.2545970914125799,-2.9251893959702202,1,{"$f":"MMULT(MMULT(TRANSPOSE(AT95:AT97),AQ95:AS97),AT95:AT97)","v":0.19241841854570341}]
[null,null,null,null,null,null,null,null,null,null,null,null,-0.16614212862983199,5.3338447601499701E-2,4.0267899604091197E-2,{"$f":"LOG($G$4,10)","v":2.8129133566428552},null,null,null,null,null,null,-0.93153999831906198,0.198891266810479,0.29524524768680199,{"$f":"LOG($G$4,10)","v":2.8129133566428552},null,null,null,null,null,null,-0.289592571242481,9.7210669603762997E-2,4.3590791451705302E-2,{"$f":"LOG($G$4,10)","v":2.8129133566428552},null,null,null,null,null,null,-1.2545970914125799,0.372823612191855,0.39932992288534103,{"$f":"LOG($G$4,10)","v":2.8129133566428552}]
[null,null,null,null,null,null,null,null,null,null,null,null,-0.34258184022395,4.0267899604091002E-2,0.20427300338052101,{"$f":"IF(VLOOKUP($L95,$L$3:$AR$56,COLUMN(P97)-13,FALSE)=\"SLP50\",LOG($G$6+1,10),LOG($G$5,10))","v":1.0413926851582249},null,null,null,null,null,null,-5.3693382403065497,0.29524524768680099,2.8453577741342801,{"$f":"IF(VLOOKUP($L95,$L$3:$AR$56,COLUMN(Z97)-13,FALSE)=\"SLP50\",LOG($G$6+1,10),LOG($G$5,10))","v":1.3979400086720375},null,null,null,null,null,null,-3.9084931412442501,4.3590791451710097E-2,2.7014273600035801,{"$f":"IF(VLOOKUP($L95,$L$3:$AR$56,COLUMN(AJ97)-13,FALSE)=\"SLP50\",LOG($G$6+1,10),LOG($G$5,10))","v":1.3979400086720375},null,null,null,null,null,null,-2.92518939597023,0.39932992288534203,2.0092739674320401,{"$f":"IF(VLOOKUP($L95,$L$3:$AR$56,COLUMN(AT97)-13,FALSE)=\"SLP50\",LOG($G$6+1,10),LOG($G$5,10))","v":1.0413926851582249}]
[null,null,null,null,null,null,null,null,null,null,null,"QFEBMEAN",0.80794714666667,-0.16614212862983199,-0.342581840223951,1,{"$f":"MMULT(MMULT(TRANSPOSE(P98:P100),M98:O100),P98:P100)","v":3.9226504080731278E-2},null,null,null,null,null,11.0179485039175,-0.93153999831905998,-5.3693382403065497,1,{"$f":"MMULT(MMULT(TRANSPOSE(Z98:Z100),W98:Y100),Z98:Z100)","v":0.22144164039926639},null,null,null,null,null,6.2116098924547902,-0.28959257124248799,-3.9084931412442301,1,{"$f":"MMULT(MMULT(TRANSPOSE(AJ98:AJ100),AG98:AI100),AJ98:AJ100)","v":4.5962103621895789E-2},null,null,null,null,null,5.8745387827164199,-1.2545970914125799,-2.9251893959702202,1,{"$f":"MMULT(MMULT(TRANSPOSE(AT98:AT100),AQ98:AS100),AT98:AT100)","v":0.19241841854570341}]
[null,null,null,null,null,null,null,null,null,null,null,null,-0.16614212862983199,5.3338447601499701E-2,4.0267899604091197E-2,{"$f":"LOG($G$4,10)","v":2.8129133566428552},null,null,null,null,null,null,-0.93153999831906198,0.198891266810479,0.29524524768680199,{"$f":"LOG($G$4,10)","v":2.8129133566428552},null,null,null,null,null,null,-0.289592571242481,9.7210669603762997E-2,4.3590791451705302E-2,{"$f":"LOG($G$4,10)","v":2.8129133566428552},null,null,null,null,null,null,-1.2545970914125799,0.372823612191855,0.39932992288534103,{"$f":"LOG($G$4,10)","v":2.8129133566428552}]
[null,null,null,null,null,null,null,null,null,null,null,null,-0.34258184022395,4.0267899604091002E-2,0.20427300338052101,{"$f":"IF(VLOOKUP($L98,$L$3:$AR$56,COLUMN(P100)-13,FALSE)=\"SLP50\",LOG($G$6+1,10),LOG($G$5,10))","v":1.0413926851582249},null,null,null,null,null,null,-5.3693382403065497,0.29524524768680099,2.8453577741342801,{"$f":"IF(VLOOKUP($L98,$L$3:$AR$56,COLUMN(Z100)-13,FALSE)=\"SLP50\",LOG($G$6+1,10),LOG($G$5,10))","v":1.3979400086720375},null,null,null,null,null,null,-3.9084931412442501,4.3590791451710097E-2,2.7014273600035801,{"$f":"IF(VLOOKUP($L98,$L$3:$AR$56,COLUMN(AJ100)-13,FALSE)=\"SLP50\",LOG($G$6+1,10),LOG($G$5,10))","v":1.3979400086720375},null,null,null,null,null,null,-2.92518939597023,0.39932992288534203,2.0092739674320401,{"$f":"IF(VLOOKUP($L98,$L$3:$AR$56,COLUMN(AT100)-13,FALSE)=\"SLP50\",LOG($G$6+1,10),LOG($G$5,10))","v":1.0413926851582249}]
[null,null,null,null,null,null,null,null,null,null,null,"QMAR0.2",0.80794714666667,-0.16614212862983199,-0.342581840223951,1,{"$f":"MMULT(MMULT(TRANSPOSE(P101:P103),M101:O103),P101:P103)","v":3.9226504080731278E-2},null,null,null,null,null,7.5859069678823099,-0.62445765412580501,-3.7727658169564902,1,{"$f":"MMULT(MMULT(TRANSPOSE(Z101:Z103),W101:Y103),Z101:Z103)","v":0.1884807989905829},null,null,null,null,null,6.1129269833443702,-0.28040903441947401,-3.8592122947371901,1,{"$f":"MMULT(MMULT(TRANSPOSE(AJ101:AJ103),AG101:AI103),AJ101:AJ103)","v":4.5803295053923998E-2},null,null,null,null,null,5.1338834208115296,-1.1082550344389901,-2.5755591183537399,1,{"$f":"MMULT(MMULT(TRANSPOSE(AT101:AT103),AQ101:AS103),AT101:AT103)","v":0.18642422587548313}]
[null,null,null,null,null,null,null,null,null,null,null,null,-0.16614212862983199,5.3338447601499701E-2,4.0267899604091197E-2,{"$f":"LOG($G$4,10)","v":2.8129133566428552},null,null,null,null,null,null,-0.624457654125812,0.171052130409416,0.15313483587141599,{"$f":"LOG($G$4,10)","v":2.8129133566428552},null,null,null,null,null,null,-0.28040903441946802,9.6356039867571894E-2,3.9004663289825998E-2,{"$f":"LOG($G$4,10)","v":2.8129133566428552},null,null,null,null,null,null,-1.1082550344389901,0.33170833790968302,0.364859230041365,{"$f":"LOG($G$4,10)","v":2.8129133566428552}]
[null,null,null,null,null,null,null,null,null,null,null,null,-0.34258184022395,4.0267899604091002E-2,0.20427300338052101,{"$f":"IF(VLOOKUP($L101,$L$3:$AR$56,COLUMN(P103)-13,FALSE)=\"SLP50\",LOG($G$6+1,10),LOG($G$5,10))","v":1.0413926851582249},null,null,null,null,null,null,-3.7727658169564799,0.153134835871412,2.1011168479068401,{"$f":"IF(VLOOKUP($L101,$L$3:$AR$56,COLUMN(Z103)-13,FALSE)=\"SLP50\",LOG($G$6+1,10),LOG($G$5,10))","v":1.3979400086720375},null,null,null,null,null,null,-3.8592122947371998,3.90046632898308E-2,2.6768172035505402,{"$f":"IF(VLOOKUP($L101,$L$3:$AR$56,COLUMN(AJ103)-13,FALSE)=\"SLP50\",LOG($G$6+1,10),LOG($G$5,10))","v":1.3979400086720375},null,null,null,null,null,null,-2.5755591183537399,0.364859230041364,1.7422735670897,{"$f":"IF(VLOOKUP($L101,$L$3:$AR$56,COLUMN(AT103)-13,FALSE)=\"SLP50\",LOG($G$6+1,10),LOG($G$5,10))","v":1.0413926851582249}]
[null,null,null,null,null,null,null,null,null,null,null,"QMAR0.5",0.80794714666667,-0.16614212862983199,-0.342581840223951,1,{"$f":"MMULT(MMULT(TRANSPOSE(P104:P106),M104:O106),P104:P106)","v":3.9226504080731278E-2},null,null,null,null,null,7.5859069678823099,-0.62445765412580501,-3.7727658169564902,1,{"$f":"MMULT(MMULT(TRANSPOSE(Z104:Z106),W104:Y106),Z104:Z106)","v":0.1884807989905829},null,null,null,null,null,6.1129269833443702,-0.28040903441947401,-3.8592122947371901,1,{"$f":"MMULT(MMULT(TRANSPOSE(AJ104:AJ106),AG104:AI106),AJ104:AJ106)","v":4.5803295053923998E-2},null,null,null,null,null,5.1338834208115296,-1.1082550344389901,-2.5755591183537399,1,{"$f":"MMULT(MMULT(TRANSPOSE(AT104:AT106),AQ104:AS106),AT104:AT106)","v":0.18642422587548313}]
[null,null,null,null,null,null,null,null,null,null,null,null,-0.16614212862983199,5.3338447601499701E-2,4.0267899604091197E-2,{"$f":"LOG($G$4,10)","v":2.8129133566428552},null,null,null,null,null,null,-0.624457654125812,0.171052130409416,0.15313483587141599,{"$f":"LOG($G$4,10)","v":2.8129133566428552},null,null,null,null,null,null,-0.28040903441946802,9.6356039867571894E-2,3.9004663289825998E-2,{"$f":"LOG($G$4,10)","v":2.8129133566428552},null,null,null,null,null,null,-1.1082550344389901,0.33170833790968302,0.364859230041365,{"$f":"LOG($G$4,10)","v":2.8129133566428552}]
[null,null,null,null,null,null,null,null,null,null,null,null,-0.34258184022395,4.0267899604091002E-2,0.20427300338052101,{"$f":"IF(VLOOKUP($L104,$L$3:$AR$56,COLUMN(P106)-13,FALSE)=\"SLP50\",LOG($G$6+1,10),LOG($G$5,10))","v":1.0413926851582249},null,null,null,null,null,null,-3.7727658169564799,0.153134835871412,2.1011168479068401,{"$f":"IF(VLOOKUP($L104,$L$3:$AR$56,COLUMN(Z106)-13,FALSE)=\"SLP50\",LOG($G$6+1,10),LOG($G$5,10))","v":1.3979400086720375},null,null,null,null,null,null,-3.8592122947371998,3.90046632898308E-2,2.6768172035505402,{"$f":"IF(VLOOKUP($L104,$L$3:$AR$56,COLUMN(AJ106)-13,FALSE)=\"SLP50\",LOG($G$6+1,10),LOG($G$5,10))","v":1.3979400086720375},null,null,null,null,null,null,-2.5755591183537399,0.364859230041364,1.7422735670897,{"$f":"IF(VLOOKUP($L104,$L$3:$AR$56,COLUMN(AT106)-13,FALSE)=\"SLP50\",LOG($G$6+1,10),LOG($G$5,10))","v":1.0413926851582249}]
[null,null,null,null,null,null,null,null,null,null,null,"QMAR0.8",0.80794714666667,-0.16614212862983199,-0.342581840223951,1,{"$f":"MMULT(MMULT(TRANSPOSE(P107:P109),M107:O109),P107:P109)","v":3.9226504080731278E-2},null,null,null,null,null,7.5859069678823099,-0.62445765412580501,-3.7727658169564902,1,{"$f":"MMULT(MMULT(TRANSPOSE(Z107:Z109),W107:Y109),Z107:Z109)","v":0.1884807989905829},null,null,null,null,null,6.1129269833443702,-0.28040903441947401,-3.8592122947371901,1,{"$f":"MMULT(MMULT(TRANSPOSE(AJ107:AJ109),AG107:AI109),AJ107:AJ109)","v":4.5803295053923998E-2},null,null,null,null,null,5.1338834208115296,-1.1082550344389901,-2.5755591183537399,1,{"$f":"MMULT(MMULT(TRANSPOSE(AT107:AT109),AQ107:AS109),AT107:AT109)","v":0.18642422587548313}]
[null,null,null,null,null,null,null,null,null,null,null,null,-0.16614212862983199,5.3338447601499701E-2,4.0267899604091197E-2,{"$f":"LOG($G$4,10)","v":2.8129133566428552},null,null,null,null,null,null,-0.624457654125812,0.171052130409416,0.15313483587141599,{"$f":"LOG($G$4,10)","v":2.8129133566428552},null,null,null,null,null,null,-0.28040903441946802,9.6356039867571894E-2,3.9004663289825998E-2,{"$f":"LOG($G$4,10)","v":2.8129133566428552},null,null,null,null,null,null,-1.1082550344389901,0.33170833790968302,0.364859230041365,{"$f":"LOG($G$4,10)","v":2.8129133566428552}]
[null,null,null,null,null,null,null,null,null,null,null,null,-0.34258184022395,4.0267899604091002E-2,0.20427300338052101,{"$f":"IF(VLOOKUP($L107,$L$3:$AR$56,COLUMN(P109)-13,FALSE)=\"SLP50\",LOG($G$6+1,10),LOG($G$5,10))","v":1.0413926851582249},null,null,null,null,null,null,-3.7727658169564799,0.153134835871412,2.1011168479068401,{"$f":"IF(VLOOKUP($L107,$L$3:$AR$56,COLUMN(Z109)-13,FALSE)=\"SLP50\",LOG($G$6+1,10),LOG($G$5,10))","v":1.3979400086720375},null,null,null,null,null,null,-3.8592122947371998,3.90046632898308E-2,2.6768172035505402,{"$f":"IF(VLOOKUP($L107,$L$3:$AR$56,COLUMN(AJ109)-13,FALSE)=\"SLP50\",LOG($G$6+1,10),LOG($G$5,10))","v":1.3979400086720375},null,null,null,null,null,null,-2.5755591183537399,0.364859230041364,1.7422735670897,{"$f":"IF(VLOOKUP($L107,$L$3:$AR$56,COLUMN(AT109)-13,FALSE)=\"SLP50\",LOG($G$6+1,10),LOG($G$5,10))","v":1.0413926851582249}]
[null,null,null,null,null,null,null,null,null,null,null,"QMARMEAN",0.80794714666667,-0.16614212862983199,-0.342581840223951,1,{"$f":"MMULT(MMULT(TRANSPOSE(P110:P112),M110:O112),P110:P112)","v":3.9226504080731278E-2},null,null,null,null,null,7.5859069678823099,-0.62445765412580501,-3.7727658169564902,1,{"$f":"MMULT(MMULT(TRANSPOSE(Z110:Z112),W110:Y112),Z110:Z112)","v":0.1884807989905829},null,null,null,null,null,6.1129269833443702,-0.28040903441947401,-3.8592122947371901,1,{"$f":"MMULT(MMULT(TRANSPOSE(AJ110:AJ112),AG110:AI112),AJ110:AJ112)","v":4.5803295053923998E-2},null,null,null,null,null,5.1338834208115296,-1.1082550344389901,-2.5755591183537399,1,{"$f":"MMULT(MMULT(TRANSPOSE(AT110:AT112),AQ110:AS112),AT110:AT112)","v":0.18642422587548313}]
[null,null,null,null,null,null,null,null,null,null,null,null,-0.16614212862983199,5.3338447601499701E-2,4.0267899604091197E-2,{"$f":"LOG($G$4,10)","v":2.8129133566428552},null,null,null,null,null,null,-0.624457654125812,0.171052130409416,0.15313483587141599,{"$f":"LOG($G$4,10)","v":2.8129133566428552},null,null,null,null,null,null,-0.28040903441946802,9.6356039867571894E-2,3.9004663289825998E-2,{"$f":"LOG($G$4,10)","v":2.8129133566428552},null,null,null,null,null,null,-1.1082550344389901,0.33170833790968302,0.364859230041365,{"$f":"LOG($G$4,10)","v":2.8129133566428552}]
[null,null,null,null,null,null,null,null,null,null,null,null,-0.34258184022395,4.0267899604091002E-2,0.20427300338052101,{"$f":"IF(VLOOKUP($L110,$L$3:$AR$56,COLUMN(P112)-13,FALSE)=\"SLP50\",LOG($G$6+1,10),LOG($G$5,10))","v":1.0413926851582249},null,null,null,null,null,null,-3.7727658169564799,0.153134835871412,2.1011168479068401,{"$f":"IF(VLOOKUP($L110,$L$3:$AR$56,COLUMN(Z112)-13,FALSE)=\"SLP50\",LOG($G$6+1,10),LOG($G$5,10))","v":1.3979400086720375},null,null,null,null,null,null,-3.8592122947371998,3.90046632898308E-2,2.6768172035505402,{"$f":"IF(VLOOKUP($L110,$L$3:$AR$56,COLUMN(AJ112)-13,FALSE)=\"SLP50\",LOG($G$6+1,10),LOG($G$5,10))","v":1.3979400086720375},null,null,null,null,null,null,-2.5755591183537399,0.364859230041364,1.7422735670897,{"$f":"IF(VLOOKUP($L110,$L$3:$AR$56,COLUMN(AT112)-13,FALSE)=\"SLP50\",LOG($G$6+1,10),LOG($G$5,10))","v":1.0413926851582249}]
[null,null,null,null,null,null,null,null,null,null,null,"QAPR0.2",0.77664113877149998,-0.15725137276518,-0.33561120611719297,1,{"$f":"MMULT(MMULT(TRANSPOSE(P113:P115),M113:O115),P113:P115)","v":3.9196937605378089E-2},null,null,null,null,null,6.1695735884472303,-0.53751400867638999,-3.0392181915843199,1,{"$f":"MMULT(MMULT(TRANSPOSE(Z113:Z115),W113:Y115),Z113:Z115)","v":0.15885708293096856},null,null,null,null,null,5.0468434076880397,-0.18893386849065499,-3.28134627145517,1,{"$f":"MMULT(MMULT(TRANSPOSE(AJ113:AJ115),AG113:AI115),AJ113:AJ115)","v":4.549520952967552E-2},null,null,null,null,null,19.680982678055202,-1.34868851711094,-12.051112646816399,1,{"$f":"MMULT(MMULT(TRANSPOSE(AT113:AT115),AQ113:AS115),AT113:AT115)","v":0.13073511636543278}]
[null,null,null,null,null,null,null,null,null,null,null,null,-0.15725137276518,5.0813515642447897E-2,3.8288273001027301E-2,{"$f":"LOG($G$4,10)","v":2.8129133566428552},null,null,null,null,null,null,-0.53751400867638799,0.16115031953209799,0.11218789528441001,{"$f":"LOG($G$4,10)","v":2.8129133566428552},null,null,null,null,null,null,-0.18893386849066099,8.6598263374385295E-2,-6.6590657215318304E-3,{"$f":"LOG($G$4,10)","v":2.8129133566428552},null,null,null,null,null,null,-1.3486885171109499,0.22627713654937601,0.608372183479712,{"$f":"LOG($G$4,10)","v":2.8129133566428552}]
[null,null,null,null,null,null,null,null,null,null,null,null,-0.33561120611719297,3.8288273001027197E-2,0.20272091344261001,{"$f":"IF(VLOOKUP($L113,$L$3:$AR$56,COLUMN(P115)-13,FALSE)=\"SLP50\",LOG($G$6+1,10),LOG($G$5,10))","v":1.0413926851582249},null,null,null,null,null,null,-3.0392181915843199,0.112187895284412,1.71582389477771,{"$f":"IF(VLOOKUP($L113,$L$3:$AR$56,COLUMN(Z115)-13,FALSE)=\"SLP50\",LOG($G$6+1,10),LOG($G$5,10))","v":1.3979400086720375},null,null,null,null,null,null,-3.28134627145517,-6.6590657215359001E-3,2.3553830556474602,{"$f":"IF(VLOOKUP($L113,$L$3:$AR$56,COLUMN(AJ115)-13,FALSE)=\"SLP50\",LOG($G$6+1,10),LOG($G$5,10))","v":1.3979400086720375},null,null,null,null,null,null,-12.051112646816399,0.60837218347970701,7.7553095230134197,{"$f":"IF(VLOOKUP($L113,$L$3:$AR$56,COLUMN(AT115)-13,FALSE)=\"SLP50\",LOG($G$6+1,10),LOG($G$5,10))","v":1.3979400086720375}]
[null,null,null,null,null,null,null,null,null,null,null,"QAPR0.5",0.77664113877149998,-0.15725137276518,-0.33561120611719297,1,{"$f":"MMULT(MMULT(TRANSPOSE(P116:P118),M116:O118),P116:P118)","v":3.9196937605378089E-2},null,null,null,null,null,6.1695735884472303,-0.53751400867638999,-3.0392181915843199,1,{"$f":"MMULT(MMULT(TRANSPOSE(Z116:Z118),W116:Y118),Z116:Z118)","v":0.15885708293096856},null,null,null,null,null,5.0468434076880397,-0.18893386849065499,-3.28134627145517,1,{"$f":"MMULT(MMULT(TRANSPOSE(AJ116:AJ118),AG116:AI118),AJ116:AJ118)","v":4.549520952967552E-2},null,null,null,null,null,19.680982678055202,-1.34868851711094,-12.051112646816399,1,{"$f":"MMULT(MMULT(TRANSPOSE(AT116:AT118),AQ116:AS118),AT116:AT118)","v":0.13073511636543278}]
[null,null,null,null,null,null,null,null,null,null,null,null,-0.15725137276518,5.0813515642447897E-2,3.8288273001027301E-2,{"$f":"LOG($G$4,10)","v":2.8129133566428552},null,null,null,null,null,null,-0.53751400867638799,0.16115031953209799,0.11218789528441001,{"$f":"LOG($G$4,10)","v":2.8129133566428552},null,null,null,null,null,null,-0.18893386849066099,8.6598263374385295E-2,-6.6590657215318304E-3,{"$f":"LOG($G$4,10)","v":2.8129133566428552},null,null,null,null,null,null,-1.3486885171109499,0.22627713654937601,0.608372183479712,{"$f":"LOG($G$4,10)","v":2.8129133566428552}]
[null,null,null,null,null,null,null,null,null,null,null,null,-0.33561120611719297,3.8288273001027197E-2,0.20272091344261001,{"$f":"IF(VLOOKUP($L116,$L$3:$AR$56,COLUMN(P118)-13,FALSE)=\"SLP50\",LOG($G$6+1,10),LOG($G$5,10))","v":1.0413926851582249},null,null,null,null,null,null,-3.0392181915843199,0.112187895284412,1.71582389477771,{"$f":"IF(VLOOKUP($L116,$L$3:$AR$56,COLUMN(Z118)-13,FALSE)=\"SLP50\",LOG($G$6+1,10),LOG($G$5,10))","v":1.3979400086720375},null,null,null,null,null,null,-3.28134627145517,-6.6590657215359001E-3,2.3553830556474602,{"$f":"IF(VLOOKUP($L116,$L$3:$AR$56,COLUMN(AJ118)-13,FALSE)=\"SLP50\",LOG($G$6+1,10),LOG($G$5,10))","v":1.3979400086720375},null,null,null,null,null,null,-12.051112646816399,0.60837218347970701,7.7553095230134197,{"$f":"IF(VLOOKUP($L116,$L$3:$AR$56,COLUMN(AT118)-13,FALSE)=\"SLP50\",LOG($G$6+1,10),LOG($G$5,10))","v":1.3979400086720375}]
[null,null,null,null,null,null,null,null,null,null,null,"QAPR0.8",0.77664113877149998,-0.15725137276518,-0.33561120611719297,1,{"$f":"MMULT(MMULT(TRANSPOSE(P119:P121),M119:O121),P119:P121)","v":3.9196937605378089E-2},null,null,null,null,null,6.1695735884472303,-0.53751400867638999,-3.0392181915843199,1,{"$f":"MMULT(MMULT(TRANSPOSE(Z119:Z121),W119:Y121),Z119:Z121)","v":0.15885708293096856},null,null,null,null,null,5.0468434076880397,-0.18893386849065499,-3.28134627145517,1,{"$f":"MMULT(MMULT(TRANSPOSE(AJ119:AJ121),AG119:AI121),AJ119:AJ121)","v":4.549520952967552E-2},null,null,null,null,null,19.680982678055202,-1.34868851711094,-12.051112646816399,1,{"$f":"MMULT(MMULT(TRANSPOSE(AT119:AT121),AQ119:AS121),AT119:AT121)","v":0.13073511636543278}]
[null,null,null,null,null,null,null,null,null,null,null,null,-0.15725137276518,5.0813515642447897E-2,3.8288273001027301E-2,{"$f":"LOG($G$4,10)","v":2.8129133566428552},null,null,null,null,null,null,-0.53751400867638799,0.16115031953209799,0.11218789528441001,{"$f":"LOG($G$4,10)","v":2.8129133566428552},null,null,null,null,null,null,-0.18893386849066099,8.6598263374385295E-2,-6.6590657215318304E-3,{"$f":"LOG($G$4,10)","v":2.8129133566428552},null,null,null,null,null,null,-1.3486885171109499,0.22627713654937601,0.608372183479712,{"$f":"LOG($G$4,10)","v":2.8129133566428552}]
[null,null,null,null,null,null,null,null,null,null,null,null,-0.33561120611719297,3.8288273001027197E-2,0.20272091344261001,{"$f":"IF(VLOOKUP($L119,$L$3:$AR$56,COLUMN(P121)-13,FALSE)=\"SLP50\",LOG($G$6+1,10),LOG($G$5,10))","v":1.0413926851582249},null,null,null,null,null,null,-3.0392181915843199,0.112187895284412,1.71582389477771,{"$f":"IF(VLOOKUP($L119,$L$3:$AR$56,COLUMN(Z121)-13,FALSE)=\"SLP50\",LOG($G$6+1,10),LOG($G$5,10))","v":1.3979400086720375},null,null,null,null,null,null,-3.28134627145517,-6.6590657215359001E-3,2.3553830556474602,{"$f":"IF(VLOOKUP($L119,$L$3:$AR$56,COLUMN(AJ121)-13,FALSE)=\"SLP50\",LOG($G$6+1,10),LOG($G$5,10))","v":1.3979400086720375},null,null,null,null,null,null,-12.051112646816399,0.60837218347970701,7.7553095230134197,{"$f":"IF(VLOOKUP($L119,$L$3:$AR$56,COLUMN(AT121)-13,FALSE)=\"SLP50\",LOG($G$6+1,10),LOG($G$5,10))","v":1.3979400086720375}]
[null,null,null,null,null,null,null,null,null,null,null,"QAPRMEAN",0.77664113877149998,-0.15725137276518,-0.33561120611719297,1,{"$f":"MMULT(MMULT(TRANSPOSE(P122:P124),M122:O124),P122:P124)","v":3.9196937605378089E-2},null,null,null,null,null,6.1695735884472303,-0.53751400867638999,-3.0392181915843199,1,{"$f":"MMULT(MMULT(TRANSPOSE(Z122:Z124),W122:Y124),Z122:Z124)","v":0.15885708293096856},null,null,null,null,null,5.0468434076880397,-0.18893386849065499,-3.28134627145517,1,{"$f":"MMULT(MMULT(TRANSPOSE(AJ122:AJ124),AG122:AI124),AJ122:AJ124)","v":4.549520952967552E-2},null,null,null,null,null,19.680982678055202,-1.34868851711094,-12.051112646816399,1,{"$f":"MMULT(MMULT(TRANSPOSE(AT122:AT124),AQ122:AS124),AT122:AT124)","v":0.13073511636543278}]
[null,null,null,null,null,null,null,null,null,null,null,null,-0.15725137276518,5.0813515642447897E-2,3.8288273001027301E-2,{"$f":"LOG($G$4,10)","v":2.8129133566428552},null,null,null,null,null,null,-0.53751400867638799,0.16115031953209799,0.11218789528441001,{"$f":"LOG($G$4,10)","v":2.8129133566428552},null,null,null,null,null,null,-0.18893386849066099,8.6598263374385295E-2,-6.6590657215318304E-3,{"$f":"LOG($G$4,10)","v":2.8129133566428552},null,null,null,null,null,null,-1.3486885171109499,0.22627713654937601,0.608372183479712,{"$f":"LOG($G$4,10)","v":2.8129133566428552}]
[null,null,null,null,null,null,null,null,null,null,null,null,-0.33561120611719297,3.8288273001027197E-2,0.20272091344261001,{"$f":"IF(VLOOKUP($L122,$L$3:$AR$56,COLUMN(P124)-13,FALSE)=\"SLP50\",LOG($G$6+1,10),LOG($G$5,10))","v":1.0413926851582249},null,null,null,null,null,null,-3.0392181915843199,0.112187895284412,1.71582389477771,{"$f":"IF(VLOOKUP($L122,$L$3:$AR$56,COLUMN(Z124)-13,FALSE)=\"SLP50\",LOG($G$6+1,10),LOG($G$5,10))","v":1.3979400086720375},null,null,null,null,null,null,-3.28134627145517,-6.6590657215359001E-3,2.3553830556474602,{"$f":"IF(VLOOKUP($L122,$L$3:$AR$56,COLUMN(AJ124)-13,FALSE)=\"SLP50\",LOG($G$6+1,10),LOG($G$5,10))","v":1.3979400086720375},null,null,null,null,null,null,-12.051112646816399,0.60837218347970701,7.7553095230134197,{"$f":"IF(VLOOKUP($L122,$L$3:$AR$56,COLUMN(AT124)-13,FALSE)=\"SLP50\",LOG($G$6+1,10),LOG($G$5,10))","v":1.3979400086720375}]
[null,null,null,null,null,null,null,null,null,null,null,"QMAY0.2",0.77664113877149998,-0.15725137276518,-0.33561120611719297,1,{"$f":"MMULT(MMULT(TRANSPOSE(P125:P127),M125:O127),P125:P127)","v":3.9196937605378089E-2},null,null,null,null,null,6.1694595403371402,-0.53581502332116404,-3.0416739824149199,1,{"$f":"MMULT(MMULT(TRANSPOSE(Z125:Z127),W125:Y127),Z125:Z127)","v":0.14554840573274391},null,null,null,null,null,4.7038405850647402,-0.203574427148461,-3.0108992640237502,1,{"$f":"MMULT(MMULT(TRANSPOSE(AJ125:AJ127),AG125:AI127),AJ125:AJ127)","v":4.5138511611173597E-2},null,null,null,null,null,18.638901292423899,-1.1700384266686199,-11.6166451643471,1,{"$f":"MMULT(MMULT(TRANSPOSE(AT125:AT127),AQ125:AS127),AT125:AT127)","v":0.12632321441441907}]
[null,null,null,null,null,null,null,null,null,null,null,null,-0.15725137276518,5.0813515642447897E-2,3.8288273001027301E-2,{"$f":"LOG($G$4,10)","v":2.8129133566428552},null,null,null,null,null,null,-0.53581502332116404,0.13584037624038001,0.14877204031191801,{"$f":"LOG($G$4,10)","v":2.8129133566428552},null,null,null,null,null,null,-0.20357442714846199,8.3578169118525197E-2,9.9474324303488008E-3,{"$f":"LOG($G$4,10)","v":2.8129133566428552},null,null,null,null,null,null,-1.1700384266686299,0.19565010947165201,0.53388888869308304,{"$f":"LOG($G$4,10)","v":2.8129133566428552}]
[null,null,null,null,null,null,null,null,null,null,null,null,-0.33561120611719297,3.8288273001027197E-2,0.20272091344261001,{"$f":"IF(VLOOKUP($L125,$L$3:$AR$56,COLUMN(P127)-13,FALSE)=\"SLP50\",LOG($G$6+1,10),LOG($G$5,10))","v":1.0413926851582249},null,null,null,null,null,null,-3.0416739824149199,0.14877204031191801,1.66294350496597,{"$f":"IF(VLOOKUP($L125,$L$3:$AR$56,COLUMN(Z127)-13,FALSE)=\"SLP50\",LOG($G$6+1,10),LOG($G$5,10))","v":1.3979400086720375},null,null,null,null,null,null,-3.0108992640237502,9.9474324303477999E-3,2.13134028340792,{"$f":"IF(VLOOKUP($L125,$L$3:$AR$56,COLUMN(AJ127)-13,FALSE)=\"SLP50\",LOG($G$6+1,10),LOG($G$5,10))","v":1.3979400086720375},null,null,null,null,null,null,-11.6166451643471,0.53388888869307605,7.5741701264887897,{"$f":"IF(VLOOKUP($L125,$L$3:$AR$56,COLUMN(AT127)-13,FALSE)=\"SLP50\",LOG($G$6+1,10),LOG($G$5,10))","v":1.3979400086720375}]
[null,null,null,null,null,null,null,null,null,null,null,"QMAY0.5",0.77664113877149998,-0.15725137276518,-0.33561120611719297,1,{"$f":"MMULT(MMULT(TRANSPOSE(P128:P130),M128:O130),P128:P130)","v":3.9196937605378089E-2},null,null,null,null,null,6.1694595403371402,-0.53581502332116404,-3.0416739824149199,1,{"$f":"MMULT(MMULT(TRANSPOSE(Z128:Z130),W128:Y130),Z128:Z130)","v":0.14554840573274391},null,null,null,null,null,4.7038405850647402,-0.203574427148461,-3.0108992640237502,1,{"$f":"MMULT(MMULT(TRANSPOSE(AJ128:AJ130),AG128:AI130),AJ128:AJ130)","v":4.5138511611173597E-2},null,null,null,null,null,18.638901292423899,-1.1700384266686199,-11.6166451643471,1,{"$f":"MMULT(MMULT(TRANSPOSE(AT128:AT130),AQ128:AS130),AT128:AT130)","v":0.12632321441441907}]
[null,null,null,null,null,null,null,null,null,null,null,null,-0.15725137276518,5.0813515642447897E-2,3.8288273001027301E-2,{"$f":"LOG($G$4,10)","v":2.8129133566428552},null,null,null,null,null,null,-0.53581502332116404,0.13584037624038001,0.14877204031191801,{"$f":"LOG($G$4,10)","v":2.8129133566428552},null,null,null,null,null,null,-0.20357442714846199,8.3578169118525197E-2,9.9474324303488008E-3,{"$f":"LOG($G$4,10)","v":2.8129133566428552},null,null,null,null,null,null,-1.1700384266686299,0.19565010947165201,0.53388888869308304,{"$f":"LOG($G$4,10)","v":2.8129133566428552}]
[null,null,null,null,null,null,null,null,null,null,null,null,-0.33561120611719297,3.8288273001027197E-2,0.20272091344261001,{"$f":"IF(VLOOKUP($L128,$L$3:$AR$56,COLUMN(P130)-13,FALSE)=\"SLP50\",LOG($G$6+1,10),LOG($G$5,10))","v":1.0413926851582249},null,null,null,null,null,null,-3.0416739824149199,0.14877204031191801,1.66294350496597,{"$f":"IF(VLOOKUP($L128,$L$3:$AR$56,COLUMN(Z130)-13,FALSE)=\"SLP50\",LOG($G$6+1,10),LOG($G$5,10))","v":1.3979400086720375},null,null,null,null,null,null,-3.0108992640237502,9.9474324303477999E-3,2.13134028340792,{"$f":"IF(VLOOKUP($L128,$L$3:$AR$56,COLUMN(AJ130)-13,FALSE)=\"SLP50\",LOG($G$6+1,10),LOG($G$5,10))","v":1.3979400086720375},null,null,null,null,null,null,-11.6166451643471,0.53388888869307605,7.5741701264887897,{"$f":"IF(VLOOKUP($L128,$L$3:$AR$56,COLUMN(AT130)-13,FALSE)=\"SLP50\",LOG($G$6+1,10),LOG($G$5,10))","v":1.3979400086720375}]
[null,null,null,null,null,null,null,null,null,null,null,"QMAY0.8",0.77664113877149998,-0.15725137276518,-0.33561120611719297,1,{"$f":"MMULT(MMULT(TRANSPOSE(P131:P133),M131:O133),P131:P133)","v":3.9196937605378089E-2},null,null,null,null,null,6.1694595403371402,-0.53581502332116404,-3.0416739824149199,1,{"$f":"MMULT(MMULT(TRANSPOSE(Z131:Z133),W131:Y133),Z131:Z133)","v":0.14554840573274391},null,null,null,null,null,4.7038405850647402,-0.203574427148461,-3.0108992640237502,1,{"$f":"MMULT(MMULT(TRANSPOSE(AJ131:AJ133),AG131:AI133),AJ131:AJ133)","v":4.5138511611173597E-2},null,null,null,null,null,18.638901292423899,-1.1700384266686199,-11.6166451643471,1,{"$f":"MMULT(MMULT(TRANSPOSE(AT131:AT133),AQ131:AS133),AT131:AT133)","v":0.12632321441441907}]
[null,null,null,null,null,null,null,null,null,null,null,null,-0.15725137276518,5.0813515642447897E-2,3.8288273001027301E-2,{"$f":"LOG($G$4,10)","v":2.8129133566428552},null,null,null,null,null,null,-0.53581502332116404,0.13584037624038001,0.14877204031191801,{"$f":"LOG($G$4,10)","v":2.8129133566428552},null,null,null,null,null,null,-0.20357442714846199,8.3578169118525197E-2,9.9474324303488008E-3,{"$f":"LOG($G$4,10)","v":2.8129133566428552},null,null,null,null,null,null,-1.1700384266686299,0.19565010947165201,0.53388888869308304,{"$f":"LOG($G$4,10)","v":2.8129133566428552}]
[null,null,null,null,null,null,null,null,null,null,null,null,-0.33561120611719297,3.8288273001027197E-2,0.20272091344261001,{"$f":"IF(VLOOKUP($L131,$L$3:$AR$56,COLUMN(P133)-13,FALSE)=\"SLP50\",LOG($G$6+1,10),LOG($G$5,10))","v":1.0413926851582249},null,null,null,null,null,null,-3.0416739824149199,0.14877204031191801,1.66294350496597,{"$f":"IF(VLOOKUP($L131,$L$3:$AR$56,COLUMN(Z133)-13,FALSE)=\"SLP50\",LOG($G$6+1,10),LOG($G$5,10))","v":1.3979400086720375},null,null,null,null,null,null,-3.0108992640237502,9.9474324303477999E-3,2.13134028340792,{"$f":"IF(VLOOKUP($L131,$L$3:$AR$56,COLUMN(AJ133)-13,FALSE)=\"SLP50\",LOG($G$6+1,10),LOG($G$5,10))","v":1.3979400086720375},null,null,null,null,null,null,-11.6166451643471,0.53388888869307605,7.5741701264887897,{"$f":"IF(VLOOKUP($L131,$L$3:$AR$56,COLUMN(AT133)-13,FALSE)=\"SLP50\",LOG($G$6+1,10),LOG($G$5,10))","v":1.3979400086720375}]
[null,null,null,null,null,null,null,null,null,null,null,"QMAYMEAN",0.77664113877149998,-0.15725137276518,-0.33561120611719297,1,{"$f":"MMULT(MMULT(TRANSPOSE(P134:P136),M134:O136),P134:P136)","v":3.9196937605378089E-2},null,null,null,null,null,6.1694595403371402,-0.53581502332116404,-3.0416739824149199,1,{"$f":"MMULT(MMULT(TRANSPOSE(Z134:Z136),W134:Y136),Z134:Z136)","v":0.14554840573274391},null,null,null,null,null,4.7038405850647402,-0.203574427148461,-3.0108992640237502,1,{"$f":"MMULT(MMULT(TRANSPOSE(AJ134:AJ136),AG134:AI136),AJ134:AJ136)","v":4.5138511611173597E-2},null,null,null,null,null,18.638901292423899,-1.1700384266686199,-11.6166451643471,1,{"$f":"MMULT(MMULT(TRANSPOSE(AT134:AT136),AQ134:AS136),AT134:AT136)","v":0.12632321441441907}]
[null,null,null,null,null,null,null,null,null,null,null,null,-0.15725137276518,5.0813515642447897E-2,3.8288273001027301E-2,{"$f":"LOG($G$4,10)","v":2.8129133566428552},null,null,null,null,null,null,-0.53581502332116404,0.13584037624038001,0.14877204031191801,{"$f":"LOG($G$4,10)","v":2.8129133566428552},null,null,null,null,null,null,-0.20357442714846199,8.3578169118525197E-2,9.9474324303488008E-3,{"$f":"LOG($G$4,10)","v":2.8129133566428552},null,null,null,null,null,null,-1.1700384266686299,0.19565010947165201,0.53388888869308304,{"$f":"LOG($G$4,10)","v":2.8129133566428552}]
[null,null,null,null,null,null,null,null,null,null,null,null,-0.33561120611719297,3.8288273001027197E-2,0.20272091344261001,{"$f":"IF(VLOOKUP($L134,$L$3:$AR$56,COLUMN(P136)-13,FALSE)=\"SLP50\",LOG($G$6+1,10),LOG($G$5,10))","v":1.0413926851582249},null,null,null,null,null,null,-3.0416739824149199,0.14877204031191801,1.66294350496597,{"$f":"IF(VLOOKUP($L134,$L$3:$AR$56,COLUMN(Z136)-13,FALSE)=\"SLP50\",LOG($G$6+1,10),LOG($G$5,10))","v":1.3979400086720375},null,null,null,null,null,null,-3.0108992640237502,9.9474324303477999E-3,2.13134028340792,{"$f":"IF(VLOOKUP($L134,$L$3:$AR$56,COLUMN(AJ136)-13,FALSE)=\"SLP50\",LOG($G$6+1,10),LOG($G$5,10))","v":1.3979400086720375},null,null,null,null,null,null,-11.6166451643471,0.53388888869307605,7.5741701264887897,{"$f":"IF(VLOOKUP($L134,$L$3:$AR$56,COLUMN(AT136)-13,FALSE)=\"SLP50\",LOG($G$6+1,10),LOG($G$5,10))","v":1.3979400086720375}]
[null,null,null,null,null,null,null,null,null,null,null,"QJUN0.2",0.77664113877149998,-0.15725137276518,-0.33561120611719297,1,{"$f":"MMULT(MMULT(TRANSPOSE(P137:P139),M137:O139),P137:P139)","v":3.9196937605378089E-2},null,null,null,null,null,6.1694595403371402,-0.53581502332116404,-3.0416739824149199,1,{"$f":"MMULT(MMULT(TRANSPOSE(Z137:Z139),W137:Y139),Z137:Z139)","v":0.14554840573274391},null,null,null,null,null,4.7038405850647402,-0.203574427148461,-3.0108992640237502,1,{"$f":"MMULT(MMULT(TRANSPOSE(AJ137:AJ139),AG137:AI139),AJ137:AJ139)","v":4.5138511611173597E-2},null,null,null,null,null,18.638901292423899,-1.1700384266686199,-11.6166451643471,1,{"$f":"MMULT(MMULT(TRANSPOSE(AT137:AT139),AQ137:AS139),AT137:AT139)","v":0.12632321441441907}]
[null,null,null,null,null,null,null,null,null,null,null,null,-0.15725137276518,5.0813515642447897E-2,3.8288273001027301E-2,{"$f":"LOG($G$4,10)","v":2.8129133566428552},null,null,null,null,null,null,-0.53581502332116404,0.13584037624038001,0.14877204031191801,{"$f":"LOG($G$4,10)","v":2.8129133566428552},null,null,null,null,null,null,-0.20357442714846199,8.3578169118525197E-2,9.9474324303488008E-3,{"$f":"LOG($G$4,10)","v":2.8129133566428552},null,null,null,null,null,null,-1.1700384266686299,0.19565010947165201,0.53388888869308304,{"$f":"LOG($G$4,10)","v":2.8129133566428552}]
[null,null,null,null,null,null,null,null,null,null,null,null,-0.33561120611719297,3.8288273001027197E-2,0.20272091344261001,{"$f":"IF(VLOOKUP($L137,$L$3:$AR$56,COLUMN(P139)-13,FALSE)=\"SLP50\",LOG($G$6+1,10),LOG($G$5,10))","v":1.0413926851582249},null,null,null,null,null,null,-3.0416739824149199,0.14877204031191801,1.66294350496597,{"$f":"IF(VLOOKUP($L137,$L$3:$AR$56,COLUMN(Z139)-13,FALSE)=\"SLP50\",LOG($G$6+1,10),LOG($G$5,10))","v":1.3979400086720375},null,null,null,null,null,null,-3.0108992640237502,9.9474324303477999E-3,2.13134028340792,{"$f":"IF(VLOOKUP($L137,$L$3:$AR$56,COLUMN(AJ139)-13,FALSE)=\"SLP50\",LOG($G$6+1,10),LOG($G$5,10))","v":1.3979400086720375},null,null,null,null,null,null,-11.6166451643471,0.53388888869307605,7.5741701264887897,{"$f":"IF(VLOOKUP($L137,$L$3:$AR$56,COLUMN(AT139)-13,FALSE)=\"SLP50\",LOG($G$6+1,10),LOG($G$5,10))","v":1.3979400086720375}]
[null,null,null,null,null,null,null,null,null,null,null,"QJUN0.5",0.77664113877149998,-0.15725137276518,-0.33561120611719297,1,{"$f":"MMULT(MMULT(TRANSPOSE(P140:P142),M140:O142),P140:P142)","v":3.9196937605378089E-2},null,null,null,null,null,6.1694595403371402,-0.53581502332116404,-3.0416739824149199,1,{"$f":"MMULT(MMULT(TRANSPOSE(Z140:Z142),W140:Y142),Z140:Z142)","v":0.14554840573274391},null,null,null,null,null,4.7038405850647402,-0.203574427148461,-3.0108992640237502,1,{"$f":"MMULT(MMULT(TRANSPOSE(AJ140:AJ142),AG140:AI142),AJ140:AJ142)","v":4.5138511611173597E-2},null,null,null,null,null,18.638901292423899,-1.1700384266686199,-11.6166451643471,1,{"$f":"MMULT(MMULT(TRANSPOSE(AT140:AT142),AQ140:AS142),AT140:AT142)","v":0.12632321441441907}]
[null,null,null,null,null,null,null,null,null,null,null,null,-0.15725137276518,5.0813515642447897E-2,3.8288273001027301E-2,{"$f":"LOG($G$4,10)","v":2.8129133566428552},null,null,null,null,null,null,-0.53581502332116404,0.13584037624038001,0.14877204031191801,{"$f":"LOG($G$4,10)","v":2.8129133566428552},null,null,null,null,null,null,-0.20357442714846199,8.3578169118525197E-2,9.9474324303488008E-3,{"$f":"LOG($G$4,10)","v":2.8129133566428552},null,null,null,null,null,null,-1.1700384266686299,0.19565010947165201,0.53388888869308304,{"$f":"LOG($G$4,10)","v":2.8129133566428552}]
[null,null,null,null,null,null,null,null,null,null,null,null,-0.33561120611719297,3.8288273001027197E-2,0.20272091344261001,{"$f":"IF(VLOOKUP($L140,$L$3:$AR$56,COLUMN(P142)-13,FALSE)=\"SLP50\",LOG($G$6+1,10),LOG($G$5,10))","v":1.0413926851582249},null,null,null,null,null,null,-3.0416739824149199,0.14877204031191801,1.66294350496597,{"$f":"IF(VLOOKUP($L140,$L$3:$AR$56,COLUMN(Z142)-13,FALSE)=\"SLP50\",LOG($G$6+1,10),LOG($G$5,10))","v":1.3979400086720375},null,null,null,null,null,null,-3.0108992640237502,9.9474324303477999E-3,2.13134028340792,{"$f":"IF(VLOOKUP($L140,$L$3:$AR$56,COLUMN(AJ142)-13,FALSE)=\"SLP50\",LOG($G$6+1,10),LOG($G$5,10))","v":1.3979400086720375},null,null,null,null,null,null,-11.6166451643471,0.53388888869307605,7.5741701264887897,{"$f":"IF(VLOOKUP($L140,$L$3:$AR$56,COLUMN(AT142)-13,FALSE)=\"SLP50\",LOG($G$6+1,10),LOG($G$5,10))","v":1.3979400086720375}]
[null,null,null,null,null,null,null,null,null,null,null,"QJUN0.8",0.77664113877149998,-0.15725137276518,-0.33561120611719297,1,{"$f":"MMULT(MMULT(TRANSPOSE(P143:P145),M143:O145),P143:P145)","v":3.9196937605378089E-2},null,null,null,null,null,6.1694595403371402,-0.53581502332116404,-3.0416739824149199,1,{"$f":"MMULT(MMULT(TRANSPOSE(Z143:Z145),W143:Y145),Z143:Z145)","v":0.14554840573274391},null,null,null,null,null,4.7038405850647402,-0.203574427148461,-3.0108992640237502,1,{"$f":"MMULT(MMULT(TRANSPOSE(AJ143:AJ145),AG143:AI145),AJ143:AJ145)","v":4.5138511611173597E-2},null,null,null,null,null,18.638901292423899,-1.1700384266686199,-11.6166451643471,1,{"$f":"MMULT(MMULT(TRANSPOSE(AT143:AT145),AQ143:AS145),AT143:AT145)","v":0.12632321441441907}]
[null,null,null,null,null,null,null,null,null,null,null,null,-0.15725137276518,5.0813515642447897E-2,3.8288273001027301E-2,{"$f":"LOG($G$4,10)","v":2.8129133566428552},null,null,null,null,null,null,-0.53581502332116404,0.13584037624038001,0.14877204031191801,{"$f":"LOG($G$4,10)","v":2.8129133566428552},null,null,null,null,null,null,-0.20357442714846199,8.3578169118525197E-2,9.9474324303488008E-3,{"$f":"LOG($G$4,10)","v":2.8129133566428552},null,null,null,null,null,null,-1.1700384266686299,0.19565010947165201,0.53388888869308304,{"$f":"LOG($G$4,10)","v":2.8129133566428552}]
[null,null,null,null,null,null,null,null,null,null,null,null,-0.33561120611719297,3.8288273001027197E-2,0.20272091344261001,{"$f":"IF(VLOOKUP($L143,$L$3:$AR$56,COLUMN(P145)-13,FALSE)=\"SLP50\",LOG($G$6+1,10),LOG($G$5,10))","v":1.0413926851582249},null,null,null,null,null,null,-3.0416739824149199,0.14877204031191801,1.66294350496597,{"$f":"IF(VLOOKUP($L143,$L$3:$AR$56,COLUMN(Z145)-13,FALSE)=\"SLP50\",LOG($G$6+1,10),LOG($G$5,10))","v":1.3979400086720375},null,null,null,null,null,null,-3.0108992640237502,9.9474324303477999E-3,2.13134028340792,{"$f":"IF(VLOOKUP($L143,$L$3:$AR$56,COLUMN(AJ145)-13,FALSE)=\"SLP50\",LOG($G$6+1,10),LOG($G$5,10))","v":1.3979400086720375},null,null,null,null,null,null,-11.6166451643471,0.53388888869307605,7.5741701264887897,{"$f":"IF(VLOOKUP($L143,$L$3:$AR$56,COLUMN(AT145)-13,FALSE)=\"SLP50\",LOG($G$6+1,10),LOG($G$5,10))","v":1.3979400086720375}]
[null,null,null,null,null,null,null,null,null,null,null,"QJUNMEAN",0.77664113877149998,-0.15725137276518,-0.33561120611719297,1,{"$f":"MMULT(MMULT(TRANSPOSE(P146:P148),M146:O148),P146:P148)","v":3.9196937605378089E-2},null,null,null,null,null,6.1694595403371402,-0.53581502332116404,-3.0416739824149199,1,{"$f":"MMULT(MMULT(TRANSPOSE(Z146:Z148),W146:Y148),Z146:Z148)","v":0.14554840573274391},null,null,null,null,null,4.7038405850647402,-0.203574427148461,-3.0108992640237502,1,{"$f":"MMULT(MMULT(TRANSPOSE(AJ146:AJ148),AG146:AI148),AJ146:AJ148)","v":4.5138511611173597E-2},null,null,null,null,null,18.638901292423899,-1.1700384266686199,-11.6166451643471,1,{"$f":"MMULT(MMULT(TRANSPOSE(AT146:AT148),AQ146:AS148),AT146:AT148)","v":0.12632321441441907}]
[null,null,null,null,null,null,null,null,null,null,null,null,-0.15725137276518,5.0813515642447897E-2,3.8288273001027301E-2,{"$f":"LOG($G$4,10)","v":2.8129133566428552},null,null,null,null,null,null,-0.53581502332116404,0.13584037624038001,0.14877204031191801,{"$f":"LOG($G$4,10)","v":2.8129133566428552},null,null,null,null,null,null,-0.20357442714846199,8.3578169118525197E-2,9.9474324303488008E-3,{"$f":"LOG($G$4,10)","v":2.8129133566428552},null,null,null,null,null,null,-1.1700384266686299,0.19565010947165201,0.53388888869308304,{"$f":"LOG($G$4,10)","v":2.8129133566428552}]
[null,null,null,null,null,null,null,null,null,null,null,null,-0.33561120611719297,3.8288273001027197E-2,0.20272091344261001,{"$f":"IF(VLOOKUP($L146,$L$3:$AR$56,COLUMN(P148)-13,FALSE)=\"SLP50\",LOG($G$6+1,10),LOG($G$5,10))","v":1.0413926851582249},null,null,null,null,null,null,-3.0416739824149199,0.14877204031191801,1.66294350496597,{"$f":"IF(VLOOKUP($L146,$L$3:$AR$56,COLUMN(Z148)-13,FALSE)=\"SLP50\",LOG($G$6+1,10),LOG($G$5,10))","v":1.3979400086720375},null,null,null,null,null,null,-3.0108992640237502,9.9474324303477999E-3,2.13134028340792,{"$f":"IF(VLOOKUP($L146,$L$3:$AR$56,COLUMN(AJ148)-13,FALSE)=\"SLP50\",LOG($G$6+1,10),LOG($G$5,10))","v":1.3979400086720375},null,null,null,null,null,null,-11.6166451643471,0.53388888869307605,7.5741701264887897,{"$f":"IF(VLOOKUP($L146,$L$3:$AR$56,COLUMN(AT148)-13,FALSE)=\"SLP50\",LOG($G$6+1,10),LOG($G$5,10))","v":1.3979400086720375}]
[null,null,null,null,null,null,null,null,null,null,null,"QJUL0.2",0.77664113877149998,-0.15725137276518,-0.33561120611719297,1,{"$f":"MMULT(MMULT(TRANSPOSE(P149:P151),M149:O151),P149:P151)","v":3.9196937605378089E-2},null,null,null,null,null,6.1694595403371402,-0.53581502332116404,-3.0416739824149199,1,{"$f":"MMULT(MMULT(TRANSPOSE(Z149:Z151),W149:Y151),Z149:Z151)","v":0.14554840573274391},null,null,null,null,null,4.7038405850647402,-0.203574427148461,-3.0108992640237502,1,{"$f":"MMULT(MMULT(TRANSPOSE(AJ149:AJ151),AG149:AI151),AJ149:AJ151)","v":4.5138511611173597E-2},null,null,null,null,null,18.638901292423899,-1.1700384266686199,-11.6166451643471,1,{"$f":"MMULT(MMULT(TRANSPOSE(AT149:AT151),AQ149:AS151),AT149:AT151)","v":0.12632321441441907}]
[null,null,null,null,null,null,null,null,null,null,null,null,-0.15725137276518,5.0813515642447897E-2,3.8288273001027301E-2,{"$f":"LOG($G$4,10)","v":2.8129133566428552},null,null,null,null,null,null,-0.53581502332116404,0.13584037624038001,0.14877204031191801,{"$f":"LOG($G$4,10)","v":2.8129133566428552},null,null,null,null,null,null,-0.20357442714846199,8.3578169118525197E-2,9.9474324303488008E-3,{"$f":"LOG($G$4,10)","v":2.8129133566428552},null,null,null,null,null,null,-1.1700384266686299,0.19565010947165201,0.53388888869308304,{"$f":"LOG($G$4,10)","v":2.8129133566428552}]
[null,null,null,null,null,null,null,null,null,null,null,null,-0.33561120611719297,3.8288273001027197E-2,0.20272091344261001,{"$f":"IF(VLOOKUP($L149,$L$3:$AR$56,COLUMN(P151)-13,FALSE)=\"SLP50\",LOG($G$6+1,10),LOG($G$5,10))","v":1.0413926851582249},null,null,null,null,null,null,-3.0416739824149199,0.14877204031191801,1.66294350496597,{"$f":"IF(VLOOKUP($L149,$L$3:$AR$56,COLUMN(Z151)-13,FALSE)=\"SLP50\",LOG($G$6+1,10),LOG($G$5,10))","v":1.3979400086720375},null,null,null,null,null,null,-3.0108992640237502,9.9474324303477999E-3,2.13134028340792,{"$f":"IF(VLOOKUP($L149,$L$3:$AR$56,COLUMN(AJ151)-13,FALSE)=\"SLP50\",LOG($G$6+1,10),LOG($G$5,10))","v":1.3979400086720375},null,null,null,null,null,null,-11.6166451643471,0.53388888869307605,7.5741701264887897,{"$f":"IF(VLOOKUP($L149,$L$3:$AR$56,COLUMN(AT151)-13,FALSE)=\"SLP50\",LOG($G$6+1,10),LOG($G$5,10))","v":1.3979400086720375}]
[null,null,null,null,null,null,null,null,null,null,null,"QJUL0.5",0.77664113877149998,-0.15725137276518,-0.33561120611719297,1,{"$f":"MMULT(MMULT(TRANSPOSE(P152:P154),M152:O154),P152:P154)","v":3.9196937605378089E-2},null,null,null,null,null,6.1694595403371402,-0.53581502332116404,-3.0416739824149199,1,{"$f":"MMULT(MMULT(TRANSPOSE(Z152:Z154),W152:Y154),Z152:Z154)","v":0.14554840573274391},null,null,null,null,null,4.7038405850647402,-0.203574427148461,-3.0108992640237502,1,{"$f":"MMULT(MMULT(TRANSPOSE(AJ152:AJ154),AG152:AI154),AJ152:AJ154)","v":4.5138511611173597E-2},null,null,null,null,null,18.638901292423899,-1.1700384266686199,-11.6166451643471,1,{"$f":"MMULT(MMULT(TRANSPOSE(AT152:AT154),AQ152:AS154),AT152:AT154)","v":0.12632321441441907}]
[null,null,null,null,null,null,null,null,null,null,null,null,-0.15725137276518,5.0813515642447897E-2,3.8288273001027301E-2,{"$f":"LOG($G$4,10)","v":2.8129133566428552},null,null,null,null,null,null,-0.53581502332116404,0.13584037624038001,0.14877204031191801,{"$f":"LOG($G$4,10)","v":2.8129133566428552},null,null,null,null,null,null,-0.20357442714846199,8.3578169118525197E-2,9.9474324303488008E-3,{"$f":"LOG($G$4,10)","v":2.8129133566428552},null,null,null,null,null,null,-1.1700384266686299,0.19565010947165201,0.53388888869308304,{"$f":"LOG($G$4,10)","v":2.8129133566428552}]
[null,null,null,null,null,null,null,null,null,null,null,null,-0.33561120611719297,3.8288273001027197E-2,0.20272091344261001,{"$f":"IF(VLOOKUP($L152,$L$3:$AR$56,COLUMN(P154)-13,FALSE)=\"SLP50\",LOG($G$6+1,10),LOG($G$5,10))","v":1.0413926851582249},null,null,null,null,null,null,-3.0416739824149199,0.14877204031191801,1.66294350496597,{"$f":"IF(VLOOKUP($L152,$L$3:$AR$56,COLUMN(Z154)-13,FALSE)=\"SLP50\",LOG($G$6+1,10),LOG($G$5,10))","v":1.3979400086720375},null,null,null,null,null,null,-3.0108992640237502,9.9474324303477999E-3,2.13134028340792,{"$f":"IF(VLOOKUP($L152,$L$3:$AR$56,COLUMN(AJ154)-13,FALSE)=\"SLP50\",LOG($G$6+1,10),LOG($G$5,10))","v":1.3979400086720375},null,null,null,null,null,null,-11.6166451643471,0.53388888869307605,7.5741701264887897,{"$f":"IF(VLOOKUP($L152,$L$3:$AR$56,COLUMN(AT154)-13,FALSE)=\"SLP50\",LOG($G$6+1,10),LOG($G$5,10))","v":1.3979400086720375}]
[null,null,null,null,null,null,null,null,null,null,null,"QJUL0.8",0.77664113877149998,-0.15725137276518,-0.33561120611719297,1,{"$f":"MMULT(MMULT(TRANSPOSE(P155:P157),M155:O157),P155:P157)","v":3.9196937605378089E-2},null,null,null,null,null,6.1694595403371402,-0.53581502332116404,-3.0416739824149199,1,{"$f":"MMULT(MMULT(TRANSPOSE(Z155:Z157),W155:Y157),Z155:Z157)","v":0.14554840573274391},null,null,null,null,null,4.7038405850647402,-0.203574427148461,-3.0108992640237502,1,{"$f":"MMULT(MMULT(TRANSPOSE(AJ155:AJ157),AG155:AI157),AJ155:AJ157)","v":4.5138511611173597E-2},null,null,null,null,null,18.638901292423899,-1.1700384266686199,-11.6166451643471,1,{"$f":"MMULT(MMULT(TRANSPOSE(AT155:AT157),AQ155:AS157),AT155:AT157)","v":0.12632321441441907}]
[null,null,null,null,null,null,null,null,null,null,null,null,-0.15725137276518,5.0813515642447897E-2,3.8288273001027301E-2,{"$f":"LOG($G$4,10)","v":2.8129133566428552},null,null,null,null,null,null,-0.53581502332116404,0.13584037624038001,0.14877204031191801,{"$f":"LOG($G$4,10)","v":2.8129133566428552},null,null,null,null,null,null,-0.20357442714846199,8.3578169118525197E-2,9.9474324303488008E-3,{"$f":"LOG($G$4,10)","v":2.8129133566428552},null,null,null,null,null,null,-1.1700384266686299,0.19565010947165201,0.53388888869308304,{"$f":"LOG($G$4,10)","v":2.8129133566428552}]
[null,null,null,null,null,null,null,null,null,null,null,null,-0.33561120611719297,3.8288273001027197E-2,0.20272091344261001,{"$f":"IF(VLOOKUP($L155,$L$3:$AR$56,COLUMN(P157)-13,FALSE)=\"SLP50\",LOG($G$6+1,10),LOG($G$5,10))","v":1.0413926851582249},null,null,null,null,null,null,-3.0416739824149199,0.14877204031191801,1.66294350496597,{"$f":"IF(VLOOKUP($L155,$L$3:$AR$56,COLUMN(Z157)-13,FALSE)=\"SLP50\",LOG($G$6+1,10),LOG($G$5,10))","v":1.3979400086720375},null,null,null,null,null,null,-3.0108992640237502,9.9474324303477999E-3,2.13134028340792,{"$f":"IF(VLOOKUP($L155,$L$3:$AR$56,COLUMN(AJ157)-13,FALSE)=\"SLP50\",LOG($G$6+1,10),LOG($G$5,10))","v":1.3979400086720375},null,null,null,null,null,null,-11.6166451643471,0.53388888869307605,7.5741701264887897,{"$f":"IF(VLOOKUP($L155,$L$3:$AR$56,COLUMN(AT157)-13,FALSE)=\"SLP50\",LOG($G$6+1,10),LOG($G$5,10))","v":1.3979400086720375}]
[null,null,null,null,null,null,null,null,null,null,null,"QJULMEAN",0.77664113877149998,-0.15725137276518,-0.33561120611719297,1,{"$f":"MMULT(MMULT(TRANSPOSE(P158:P160),M158:O160),P158:P160)","v":3.9196937605378089E-2},null,null,null,null,null,6.1694595403371402,-0.53581502332116404,-3.0416739824149199,1,{"$f":"MMULT(MMULT(TRANSPOSE(Z158:Z160),W158:Y160),Z158:Z160)","v":0.14554840573274391},null,null,null,null,null,4.7038405850647402,-0.203574427148461,-3.0108992640237502,1,{"$f":"MMULT(MMULT(TRANSPOSE(AJ158:AJ160),AG158:AI160),AJ158:AJ160)","v":4.5138511611173597E-2},null,null,null,null,null,18.638901292423899,-1.1700384266686199,-11.6166451643471,1,{"$f":"MMULT(MMULT(TRANSPOSE(AT158:AT160),AQ158:AS160),AT158:AT160)","v":0.12632321441441907}]
[null,null,null,null,null,null,null,null,null,null,null,null,-0.15725137276518,5.0813515642447897E-2,3.8288273001027301E-2,{"$f":"LOG($G$4,10)","v":2.8129133566428552},null,null,null,null,null,null,-0.53581502332116404,0.13584037624038001,0.14877204031191801,{"$f":"LOG($G$4,10)","v":2.8129133566428552},null,null,null,null,null,null,-0.20357442714846199,8.3578169118525197E-2,9.9474324303488008E-3,{"$f":"LOG($G$4,10)","v":2.8129133566428552},null,null,null,null,null,null,-1.1700384266686299,0.19565010947165201,0.53388888869308304,{"$f":"LOG($G$4,10)","v":2.8129133566428552}]
[null,null,null,null,null,null,null,null,null,null,null,null,-0.33561120611719297,3.8288273001027197E-2,0.20272091344261001,{"$f":"IF(VLOOKUP($L158,$L$3:$AR$56,COLUMN(P160)-13,FALSE)=\"SLP50\",LOG($G$6+1,10),LOG($G$5,10))","v":1.0413926851582249},null,null,null,null,null,null,-3.0416739824149199,0.14877204031191801,1.66294350496597,{"$f":"IF(VLOOKUP($L158,$L$3:$AR$56,COLUMN(Z160)-13,FALSE)=\"SLP50\",LOG($G$6+1,10),LOG($G$5,10))","v":1.3979400086720375},null,null,null,null,null,null,-3.0108992640237502,9.9474324303477999E-3,2.13134028340792,{"$f":"IF(VLOOKUP($L158,$L$3:$AR$56,COLUMN(AJ160)-13,FALSE)=\"SLP50\",LOG($G$6+1,10),LOG($G$5,10))","v":1.3979400086720375},null,null,null,null,null,null,-11.6166451643471,0.53388888869307605,7.5741701264887897,{"$f":"IF(VLOOKUP($L158,$L$3:$AR$56,COLUMN(AT160)-13,FALSE)=\"SLP50\",LOG($G$6+1,10),LOG($G$5,10))","v":1.3979400086720375}]
[null,null,null,null,null,null,null,null,null,null,null,"QAUG0.2",0.77664113877149998,-0.15725137276518,-0.33561120611719297,1,{"$f":"MMULT(MMULT(TRANSPOSE(P161:P163),M161:O163),P161:P163)","v":3.9196937605378089E-2},null,null,null,null,null,6.1694595403371402,-0.53581502332116404,-3.0416739824149199,1,{"$f":"MMULT(MMULT(TRANSPOSE(Z161:Z163),W161:Y163),Z161:Z163)","v":0.14554840573274391},null,null,null,null,null,4.7038405850647402,-0.203574427148461,-3.0108992640237502,1,{"$f":"MMULT(MMULT(TRANSPOSE(AJ161:AJ163),AG161:AI163),AJ161:AJ163)","v":4.5138511611173597E-2},null,null,null,null,null,18.638901292423899,-1.1700384266686199,-11.6166451643471,1,{"$f":"MMULT(MMULT(TRANSPOSE(AT161:AT163),AQ161:AS163),AT161:AT163)","v":0.12632321441441907}]
[null,null,null,null,null,null,null,null,null,null,null,null,-0.15725137276518,5.0813515642447897E-2,3.8288273001027301E-2,{"$f":"LOG($G$4,10)","v":2.8129133566428552},null,null,null,null,null,null,-0.53581502332116404,0.13584037624038001,0.14877204031191801,{"$f":"LOG($G$4,10)","v":2.8129133566428552},null,null,null,null,null,null,-0.20357442714846199,8.3578169118525197E-2,9.9474324303488008E-3,{"$f":"LOG($G$4,10)","v":2.8129133566428552},null,null,null,null,null,null,-1.1700384266686299,0.19565010947165201,0.53388888869308304,{"$f":"LOG($G$4,10)","v":2.8129133566428552}]
[null,null,null,null,null,null,null,null,null,null,null,null,-0.33561120611719297,3.8288273001027197E-2,0.20272091344261001,{"$f":"IF(VLOOKUP($L161,$L$3:$AR$56,COLUMN(P163)-13,FALSE)=\"SLP50\",LOG($G$6+1,10),LOG($G$5,10))","v":1.0413926851582249},null,null,null,null,null,null,-3.0416739824149199,0.14877204031191801,1.66294350496597,{"$f":"IF(VLOOKUP($L161,$L$3:$AR$56,COLUMN(Z163)-13,FALSE)=\"SLP50\",LOG($G$6+1,10),LOG($G$5,10))","v":1.3979400086720375},null,null,null,null,null,null,-3.0108992640237502,9.9474324303477999E-3,2.13134028340792,{"$f":"IF(VLOOKUP($L161,$L$3:$AR$56,COLUMN(AJ163)-13,FALSE)=\"SLP50\",LOG($G$6+1,10),LOG($G$5,10))","v":1.3979400086720375},null,null,null,null,null,null,-11.6166451643471,0.53388888869307605,7.5741701264887897,{"$f":"IF(VLOOKUP($L161,$L$3:$AR$56,COLUMN(AT163)-13,FALSE)=\"SLP50\",LOG($G$6+1,10),LOG($G$5,10))","v":1.3979400086720375}]
[null,null,null,null,null,null,null,null,null,null,null,"QAUG0.5",0.77664113877149998,-0.15725137276518,-0.33561120611719297,1,{"$f":"MMULT(MMULT(TRANSPOSE(P164:P166),M164:O166),P164:P166)","v":3.9196937605378089E-2},null,null,null,null,null,6.1694595403371402,-0.53581502332116404,-3.0416739824149199,1,{"$f":"MMULT(MMULT(TRANSPOSE(Z164:Z166),W164:Y166),Z164:Z166)","v":0.14554840573274391},null,null,null,null,null,4.7038405850647402,-0.203574427148461,-3.0108992640237502,1,{"$f":"MMULT(MMULT(TRANSPOSE(AJ164:AJ166),AG164:AI166),AJ164:AJ166)","v":4.5138511611173597E-2},null,null,null,null,null,18.638901292423899,-1.1700384266686199,-11.6166451643471,1,{"$f":"MMULT(MMULT(TRANSPOSE(AT164:AT166),AQ164:AS166),AT164:AT166)","v":0.12632321441441907}]
[null,null,null,null,null,null,null,null,null,null,null,null,-0.15725137276518,5.0813515642447897E-2,3.8288273001027301E-2,{"$f":"LOG($G$4,10)","v":2.8129133566428552},null,null,null,null,null,null,-0.53581502332116404,0.13584037624038001,0.14877204031191801,{"$f":"LOG($G$4,10)","v":2.8129133566428552},null,null,null,null,null,null,-0.20357442714846199,8.3578169118525197E-2,9.9474324303488008E-3,{"$f":"LOG($G$4,10)","v":2.8129133566428552},null,null,null,null,null,null,-1.1700384266686299,0.19565010947165201,0.53388888869308304,{"$f":"LOG($G$4,10)","v":2.8129133566428552}]
[null,null,null,null,null,null,null,null,null,null,null,null,-0.33561120611719297,3.8288273001027197E-2,0.20272091344261001,{"$f":"IF(VLOOKUP($L164,$L$3:$AR$56,COLUMN(P166)-13,FALSE)=\"SLP50\",LOG($G$6+1,10),LOG($G$5,10))","v":1.0413926851582249},null,null,null,null,null,null,-3.0416739824149199,0.14877204031191801,1.66294350496597,{"$f":"IF(VLOOKUP($L164,$L$3:$AR$56,COLUMN(Z166)-13,FALSE)=\"SLP50\",LOG($G$6+1,10),LOG($G$5,10))","v":1.3979400086720375},null,null,null,null,null,null,-3.0108992640237502,9.9474324303477999E-3,2.13134028340792,{"$f":"IF(VLOOKUP($L164,$L$3:$AR$56,COLUMN(AJ166)-13,FALSE)=\"SLP50\",LOG($G$6+1,10),LOG($G$5,10))","v":1.3979400086720375},null,null,null,null,null,null,-11.6166451643471,0.53388888869307605,7.5741701264887897,{"$f":"IF(VLOOKUP($L164,$L$3:$AR$56,COLUMN(AT166)-13,FALSE)=\"SLP50\",LOG($G$6+1,10),LOG($G$5,10))","v":1.3979400086720375}]
[null,null,null,null,null,null,null,null,null,null,null,"QAUG0.8",0.77664113877149998,-0.15725137276518,-0.33561120611719297,1,{"$f":"MMULT(MMULT(TRANSPOSE(P167:P169),M167:O169),P167:P169)","v":3.9196937605378089E-2},null,null,null,null,null,6.1694595403371402,-0.53581502332116404,-3.0416739824149199,1,{"$f":"MMULT(MMULT(TRANSPOSE(Z167:Z169),W167:Y169),Z167:Z169)","v":0.14554840573274391},null,null,null,null,null,4.7038405850647402,-0.203574427148461,-3.0108992640237502,1,{"$f":"MMULT(MMULT(TRANSPOSE(AJ167:AJ169),AG167:AI169),AJ167:AJ169)","v":4.5138511611173597E-2},null,null,null,null,null,18.638901292423899,-1.1700384266686199,-11.6166451643471,1,{"$f":"MMULT(MMULT(TRANSPOSE(AT167:AT169),AQ167:AS169),AT167:AT169)","v":0.12632321441441907}]
[null,null,null,null,null,null,null,null,null,null,null,null,-0.15725137276518,5.0813515642447897E-2,3.8288273001027301E-2,{"$f":"LOG($G$4,10)","v":2.8129133566428552},null,null,null,null,null,null,-0.53581502332116404,0.13584037624038001,0.14877204031191801,{"$f":"LOG($G$4,10)","v":2.8129133566428552},null,null,null,null,null,null,-0.20357442714846199,8.3578169118525197E-2,9.9474324303488008E-3,{"$f":"LOG($G$4,10)","v":2.8129133566428552},null,null,null,null,null,null,-1.1700384266686299,0.19565010947165201,0.53388888869308304,{"$f":"LOG($G$4,10)","v":2.8129133566428552}]
[null,null,null,null,null,null,null,null,null,null,null,null,-0.33561120611719297,3.8288273001027197E-2,0.20272091344261001,{"$f":"IF(VLOOKUP($L167,$L$3:$AR$56,COLUMN(P169)-13,FALSE)=\"SLP50\",LOG($G$6+1,10),LOG($G$5,10))","v":1.0413926851582249},null,null,null,null,null,null,-3.0416739824149199,0.14877204031191801,1.66294350496597,{"$f":"IF(VLOOKUP($L167,$L$3:$AR$56,COLUMN(Z169)-13,FALSE)=\"SLP50\",LOG($G$6+1,10),LOG($G$5,10))","v":1.3979400086720375},null,null,null,null,null,null,-3.0108992640237502,9.9474324303477999E-3,2.13134028340792,{"$f":"IF(VLOOKUP($L167,$L$3:$AR$56,COLUMN(AJ169)-13,FALSE)=\"SLP50\",LOG($G$6+1,10),LOG($G$5,10))","v":1.3979400086720375},null,null,null,null,null,null,-11.6166451643471,0.53388888869307605,7.5741701264887897,{"$f":"IF(VLOOKUP($L167,$L$3:$AR$56,COLUMN(AT169)-13,FALSE)=\"SLP50\",LOG($G$6+1,10),LOG($G$5,10))","v":1.3979400086720375}]
[null,null,null,null,null,null,null,null,null,null,null,"QAUGMEAN",0.77664113877149998,-0.15725137276518,-0.33561120611719297,1,{"$f":"MMULT(MMULT(TRANSPOSE(P170:P172),M170:O172),P170:P172)","v":3.9196937605378089E-2},null,null,null,null,null,6.1694595403371402,-0.53581502332116404,-3.0416739824149199,1,{"$f":"MMULT(MMULT(TRANSPOSE(Z170:Z172),W170:Y172),Z170:Z172)","v":0.14554840573274391},null,null,null,null,null,4.7038405850647402,-0.203574427148461,-3.0108992640237502,1,{"$f":"MMULT(MMULT(TRANSPOSE(AJ170:AJ172),AG170:AI172),AJ170:AJ172)","v":4.5138511611173597E-2},null,null,null,null,null,18.638901292423899,-1.1700384266686199,-11.6166451643471,1,{"$f":"MMULT(MMULT(TRANSPOSE(AT170:AT172),AQ170:AS172),AT170:AT172)","v":0.12632321441441907}]
[null,null,null,null,null,null,null,null,null,null,null,null,-0.15725137276518,5.0813515642447897E-2,3.8288273001027301E-2,{"$f":"LOG($G$4,10)","v":2.8129133566428552},null,null,null,null,null,null,-0.53581502332116404,0.13584037624038001,0.14877204031191801,{"$f":"LOG($G$4,10)","v":2.8129133566428552},null,null,null,null,null,null,-0.20357442714846199,8.3578169118525197E-2,9.9474324303488008E-3,{"$f":"LOG($G$4,10)","v":2.8129133566428552},null,null,null,null,null,null,-1.1700384266686299,0.19565010947165201,0.53388888869308304,{"$f":"LOG($G$4,10)","v":2.8129133566428552}]
[null,null,null,null,null,null,null,null,null,null,null,null,-0.33561120611719297,3.8288273001027197E-2,0.20272091344261001,{"$f":"IF(VLOOKUP($L170,$L$3:$AR$56,COLUMN(P172)-13,FALSE)=\"SLP50\",LOG($G$6+1,10),LOG($G$5,10))","v":1.0413926851582249},null,null,null,null,null,null,-3.0416739824149199,0.14877204031191801,1.66294350496597,{"$f":"IF(VLOOKUP($L170,$L$3:$AR$56,COLUMN(Z172)-13,FALSE)=\"SLP50\",LOG($G$6+1,10),LOG($G$5,10))","v":1.3979400086720375},null,null,null,null,null,null,-3.0108992640237502,9.9474324303477999E-3,2.13134028340792,{"$f":"IF(VLOOKUP($L170,$L$3:$AR$56,COLUMN(AJ172)-13,FALSE)=\"SLP50\",LOG($G$6+1,10),LOG($G$5,10))","v":1.3979400086720375},null,null,null,null,null,null,-11.6166451643471,0.53388888869307605,7.5741701264887897,{"$f":"IF(VLOOKUP($L170,$L$3:$AR$56,COLUMN(AT172)-13,FALSE)=\"SLP50\",LOG($G$6+1,10),LOG($G$5,10))","v":1.3979400086720375}]
[null,null,null,null,null,null,null,null,null,null,null,"QSEP0.2",0.77664113877149998,-0.15725137276518,-0.33561120611719297,1,{"$f":"MMULT(MMULT(TRANSPOSE(P173:P175),M173:O175),P173:P175)","v":3.9196937605378089E-2},null,null,null,null,null,6.1694595403371402,-0.53581502332116404,-3.0416739824149199,1,{"$f":"MMULT(MMULT(TRANSPOSE(Z173:Z175),W173:Y175),Z173:Z175)","v":0.14554840573274391},null,null,null,null,null,4.7038405850647402,-0.203574427148461,-3.0108992640237502,1,{"$f":"MMULT(MMULT(TRANSPOSE(AJ173:AJ175),AG173:AI175),AJ173:AJ175)","v":4.5138511611173597E-2},null,null,null,null,null,18.638901292423899,-1.1700384266686199,-11.6166451643471,1,{"$f":"MMULT(MMULT(TRANSPOSE(AT173:AT175),AQ173:AS175),AT173:AT175)","v":0.12632321441441907}]
[null,null,null,null,null,null,null,null,null,null,null,null,-0.15725137276518,5.0813515642447897E-2,3.8288273001027301E-2,{"$f":"LOG($G$4,10)","v":2.8129133566428552},null,null,null,null,null,null,-0.53581502332116404,0.13584037624038001,0.14877204031191801,{"$f":"LOG($G$4,10)","v":2.8129133566428552},null,null,null,null,null,null,-0.20357442714846199,8.3578169118525197E-2,9.9474324303488008E-3,{"$f":"LOG($G$4,10)","v":2.8129133566428552},null,null,null,null,null,null,-1.1700384266686299,0.19565010947165201,0.53388888869308304,{"$f":"LOG($G$4,10)","v":2.8129133566428552}]
[null,null,null,null,null,null,null,null,null,null,null,null,-0.33561120611719297,3.8288273001027197E-2,0.20272091344261001,{"$f":"IF(VLOOKUP($L173,$L$3:$AR$56,COLUMN(P175)-13,FALSE)=\"SLP50\",LOG($G$6+1,10),LOG($G$5,10))","v":1.0413926851582249},null,null,null,null,null,null,-3.0416739824149199,0.14877204031191801,1.66294350496597,{"$f":"IF(VLOOKUP($L173,$L$3:$AR$56,COLUMN(Z175)-13,FALSE)=\"SLP50\",LOG($G$6+1,10),LOG($G$5,10))","v":1.3979400086720375},null,null,null,null,null,null,-3.0108992640237502,9.9474324303477999E-3,2.13134028340792,{"$f":"IF(VLOOKUP($L173,$L$3:$AR$56,COLUMN(AJ175)-13,FALSE)=\"SLP50\",LOG($G$6+1,10),LOG($G$5,10))","v":1.3979400086720375},null,null,null,null,null,null,-11.6166451643471,0.53388888869307605,7.5741701264887897,{"$f":"IF(VLOOKUP($L173,$L$3:$AR$56,COLUMN(AT175)-13,FALSE)=\"SLP50\",LOG($G$6+1,10),LOG($G$5,10))","v":1.3979400086720375}]
[null,null,null,null,null,null,null,null,null,null,null,"QSEP0.5",0.77664113877149998,-0.15725137276518,-0.33561120611719297,1,{"$f":"MMULT(MMULT(TRANSPOSE(P176:P178),M176:O178),P176:P178)","v":3.9196937605378089E-2},null,null,null,null,null,6.1694595403371402,-0.53581502332116404,-3.0416739824149199,1,{"$f":"MMULT(MMULT(TRANSPOSE(Z176:Z178),W176:Y178),Z176:Z178)","v":0.14554840573274391},null,null,null,null,null,4.7038405850647402,-0.203574427148461,-3.0108992640237502,1,{"$f":"MMULT(MMULT(TRANSPOSE(AJ176:AJ178),AG176:AI178),AJ176:AJ178)","v":4.5138511611173597E-2},null,null,null,null,null,18.638901292423899,-1.1700384266686199,-11.6166451643471,1,{"$f":"MMULT(MMULT(TRANSPOSE(AT176:AT178),AQ176:AS178),AT176:AT178)","v":0.12632321441441907}]
[null,null,null,null,null,null,null,null,null,null,null,null,-0.15725137276518,5.0813515642447897E-2,3.8288273001027301E-2,{"$f":"LOG($G$4,10)","v":2.8129133566428552},null,null,null,null,null,null,-0.53581502332116404,0.13584037624038001,0.14877204031191801,{"$f":"LOG($G$4,10)","v":2.8129133566428552},null,null,null,null,null,null,-0.20357442714846199,8.3578169118525197E-2,9.9474324303488008E-3,{"$f":"LOG($G$4,10)","v":2.8129133566428552},null,null,null,null,null,null,-1.1700384266686299,0.19565010947165201,0.53388888869308304,{"$f":"LOG($G$4,10)","v":2.8129133566428552}]
[null,null,null,null,null,null,null,null,null,null,null,null,-0.33561120611719297,3.8288273001027197E-2,0.20272091344261001,{"$f":"IF(VLOOKUP($L176,$L$3:$AR$56,COLUMN(P178)-13,FALSE)=\"SLP50\",LOG($G$6+1,10),LOG($G$5,10))","v":1.0413926851582249},null,null,null,null,null,null,-3.0416739824149199,0.14877204031191801,1.66294350496597,{"$f":"IF(VLOOKUP($L176,$L$3:$AR$56,COLUMN(Z178)-13,FALSE)=\"SLP50\",LOG($G$6+1,10),LOG($G$5,10))","v":1.3979400086720375},null,null,null,null,null,null,-3.0108992640237502,9.9474324303477999E-3,2.13134028340792,{"$f":"IF(VLOOKUP($L176,$L$3:$AR$56,COLUMN(AJ178)-13,FALSE)=\"SLP50\",LOG($G$6+1,10),LOG($G$5,10))","v":1.3979400086720375},null,null,null,null,null,null,-11.6166451643471,0.53388888869307605,7.5741701264887897,{"$f":"IF(VLOOKUP($L176,$L$3:$AR$56,COLUMN(AT178)-13,FALSE)=\"SLP50\",LOG($G$6+1,10),LOG($G$5,10))","v":1.3979400086720375}]
[null,null,null,null,null,null,null,null,null,null,null,"QSEP0.8",0.77664113877149998,-0.15725137276518,-0.33561120611719297,1,{"$f":"MMULT(MMULT(TRANSPOSE(P179:P181),M179:O181),P179:P181)","v":3.9196937605378089E-2},null,null,null,null,null,6.1694595403371402,-0.53581502332116404,-3.0416739824149199,1,{"$f":"MMULT(MMULT(TRANSPOSE(Z179:Z181),W179:Y181),Z179:Z181)","v":0.14554840573274391},null,null,null,null,null,4.7038405850647402,-0.203574427148461,-3.0108992640237502,1,{"$f":"MMULT(MMULT(TRANSPOSE(AJ179:AJ181),AG179:AI181),AJ179:AJ181)","v":4.5138511611173597E-2},null,null,null,null,null,18.638901292423899,-1.1700384266686199,-11.6166451643471,1,{"$f":"MMULT(MMULT(TRANSPOSE(AT179:AT181),AQ179:AS181),AT179:AT181)","v":0.12632321441441907}]
[null,null,null,null,null,null,null,null,null,null,null,null,-0.15725137276518,5.0813515642447897E-2,3.8288273001027301E-2,{"$f":"LOG($G$4,10)","v":2.8129133566428552},null,null,null,null,null,null,-0.53581502332116404,0.13584037624038001,0.14877204031191801,{"$f":"LOG($G$4,10)","v":2.8129133566428552},null,null,null,null,null,null,-0.20357442714846199,8.3578169118525197E-2,9.9474324303488008E-3,{"$f":"LOG($G$4,10)","v":2.8129133566428552},null,null,null,null,null,null,-1.1700384266686299,0.19565010947165201,0.53388888869308304,{"$f":"LOG($G$4,10)","v":2.8129133566428552}]
[null,null,null,null,null,null,null,null,null,null,null,null,-0.33561120611719297,3.8288273001027197E-2,0.20272091344261001,{"$f":"IF(VLOOKUP($L179,$L$3:$AR$56,COLUMN(P181)-13,FALSE)=\"SLP50\",LOG($G$6+1,10),LOG($G$5,10))","v":1.0413926851582249},null,null,null,null,null,null,-3.0416739824149199,0.14877204031191801,1.66294350496597,{"$f":"IF(VLOOKUP($L179,$L$3:$AR$56,COLUMN(Z181)-13,FALSE)=\"SLP50\",LOG($G$6+1,10),LOG($G$5,10))","v":1.3979400086720375},null,null,null,null,null,null,-3.0108992640237502,9.9474324303477999E-3,2.13134028340792,{"$f":"IF(VLOOKUP($L179,$L$3:$AR$56,COLUMN(AJ181)-13,FALSE)=\"SLP50\",LOG($G$6+1,10),LOG($G$5,10))","v":1.3979400086720375},null,null,null,null,null,null,-11.6166451643471,0.53388888869307605,7.5741701264887897,{"$f":"IF(VLOOKUP($L179,$L$3:$AR$56,COLUMN(AT181)-13,FALSE)=\"SLP50\",LOG($G$6+1,10),LOG($G$5,10))","v":1.3979400086720375}]
[null,null,null,null,null,null,null,null,null,null,null,"QSEPMEAN",0.77664113877149998,-0.15725137276518,-0.33561120611719297,1,{"$f":"MMULT(MMULT(TRANSPOSE(P182:P184),M182:O184),P182:P184)","v":3.9196937605378089E-2},null,null,null,null,null,6.1694595403371402,-0.53581502332116404,-3.0416739824149199,1,{"$f":"MMULT(MMULT(TRANSPOSE(Z182:Z184),W182:Y184),Z182:Z184)","v":0.14554840573274391},null,null,null,null,null,4.7038405850647402,-0.203574427148461,-3.0108992640237502,1,{"$f":"MMULT(MMULT(TRANSPOSE(AJ182:AJ184),AG182:AI184),AJ182:AJ184)","v":4.5138511611173597E-2},null,null,null,null,null,18.638901292423899,-1.1700384266686199,-11.6166451643471,1,{"$f":"MMULT(MMULT(TRANSPOSE(AT182:AT184),AQ182:AS184),AT182:AT184)","v":0.12632321441441907}]
[null,null,null,null,null,null,null,null,null,null,null,null,-0.15725137276518,5.0813515642447897E-2,3.8288273001027301E-2,{"$f":"LOG($G$4,10)","v":2.8129133566428552},null,null,null,null,null,null,-0.53581502332116404,0.13584037624038001,0.14877204031191801,{"$f":"LOG($G$4,10)","v":2.8129133566428552},null,null,null,null,null,null,-0.20357442714846199,8.3578169118525197E-2,9.9474324303488008E-3,{"$f":"LOG($G$4,10)","v":2.8129133566428552},null,null,null,null,null,null,-1.1700384266686299,0.19565010947165201,0.53388888869308304,{"$f":"LOG($G$4,10)","v":2.8129133566428552}]
[null,null,null,null,null,null,null,null,null,null,null,null,-0.33561120611719297,3.8288273001027197E-2,0.20272091344261001,{"$f":"IF(VLOOKUP($L182,$L$3:$AR$56,COLUMN(P184)-13,FALSE)=\"SLP50\",LOG($G$6+1,10),LOG($G$5,10))","v":1.0413926851582249},null,null,null,null,null,null,-3.0416739824149199,0.14877204031191801,1.66294350496597,{"$f":"IF(VLOOKUP($L182,$L$3:$AR$56,COLUMN(Z184)-13,FALSE)=\"SLP50\",LOG($G$6+1,10),LOG($G$5,10))","v":1.3979400086720375},null,null,null,null,null,null,-3.0108992640237502,9.9474324303477999E-3,2.13134028340792,{"$f":"IF(VLOOKUP($L182,$L$3:$AR$56,COLUMN(AJ184)-13,FALSE)=\"SLP50\",LOG($G$6+1,10),LOG($G$5,10))","v":1.3979400086720375},null,null,null,null,null,null,-11.6166451643471,0.53388888869307605,7.5741701264887897,{"$f":"IF(VLOOKUP($L182,$L$3:$AR$56,COLUMN(AT184)-13,FALSE)=\"SLP50\",LOG($G$6+1,10),LOG($G$5,10))","v":1.3979400086720375}]
[null,null,null,null,null,null,null,null,null,null,null,"QOCT0.2",0.78004002821763496,-0.15824071602679901,-0.33751954342822599,1,{"$f":"MMULT(MMULT(TRANSPOSE(P185:P187),M185:O187),P185:P187)","v":3.9750257156711238E-2},null,null,null,null,null,6.1694595403371402,-0.53581502332116404,-3.0416739824149199,1,{"$f":"MMULT(MMULT(TRANSPOSE(Z185:Z187),W185:Y187),Z185:Z187)","v":0.14554840573274391},null,null,null,null,null,4.7038405850647402,-0.203574427148461,-3.0108992640237502,1,{"$f":"MMULT(MMULT(TRANSPOSE(AJ185:AJ187),AG185:AI187),AJ185:AJ187)","v":4.5138511611173597E-2},null,null,null,null,null,19.218353018649601,-1.2606149809194001,-11.8668809822657,1,{"$f":"MMULT(MMULT(TRANSPOSE(AT185:AT187),AQ185:AS187),AT185:AT187)","v":0.12741453623806553}]
[null,null,null,null,null,null,null,null,null,null,null,null,-0.15824071602679901,5.11014920844075E-2,3.88437487496468E-2,{"$f":"LOG($G$4,10)","v":2.8129133566428552},null,null,null,null,null,null,-0.53581502332116404,0.13584037624038001,0.14877204031191801,{"$f":"LOG($G$4,10)","v":2.8129133566428552},null,null,null,null,null,null,-0.20357442714846199,8.3578169118525197E-2,9.9474324303488008E-3,{"$f":"LOG($G$4,10)","v":2.8129133566428552},null,null,null,null,null,null,-1.26061498091943,0.20980851440665499,0.57300430954848602,{"$f":"LOG($G$4,10)","v":2.8129133566428552}]
[null,null,null,null,null,null,null,null,null,null,null,null,-0.33751954342822599,3.88437487496468E-2,0.20379236673651599,{"$f":"IF(VLOOKUP($L185,$L$3:$AR$56,COLUMN(P187)-13,FALSE)=\"SLP50\",LOG($G$6+1,10),LOG($G$5,10))","v":1.0413926851582249},null,null,null,null,null,null,-3.0416739824149199,0.14877204031191801,1.66294350496597,{"$f":"IF(VLOOKUP($L185,$L$3:$AR$56,COLUMN(Z187)-13,FALSE)=\"SLP50\",LOG($G$6+1,10),LOG($G$5,10))","v":1.3979400086720375},null,null,null,null,null,null,-3.0108992640237502,9.9474324303477999E-3,2.13134028340792,{"$f":"IF(VLOOKUP($L185,$L$3:$AR$56,COLUMN(AJ187)-13,FALSE)=\"SLP50\",LOG($G$6+1,10),LOG($G$5,10))","v":1.3979400086720375},null,null,null,null,null,null,-11.8668809822657,0.57300430954846604,7.6822342873780096,{"$f":"IF(VLOOKUP($L185,$L$3:$AR$56,COLUMN(AT187)-13,FALSE)=\"SLP50\",LOG($G$6+1,10),LOG($G$5,10))","v":1.3979400086720375}]
[null,null,null,null,null,null,null,null,null,null,null,"QOCT0.5",0.78004002821763496,-0.15824071602679901,-0.33751954342822599,1,{"$f":"MMULT(MMULT(TRANSPOSE(P188:P190),M188:O190),P188:P190)","v":3.9750257156711238E-2},null,null,null,null,null,6.1694595403371402,-0.53581502332116404,-3.0416739824149199,1,{"$f":"MMULT(MMULT(TRANSPOSE(Z188:Z190),W188:Y190),Z188:Z190)","v":0.14554840573274391},null,null,null,null,null,4.7038405850647402,-0.203574427148461,-3.0108992640237502,1,{"$f":"MMULT(MMULT(TRANSPOSE(AJ188:AJ190),AG188:AI190),AJ188:AJ190)","v":4.5138511611173597E-2},null,null,null,null,null,19.218353018649601,-1.2606149809194001,-11.8668809822657,1,{"$f":"MMULT(MMULT(TRANSPOSE(AT188:AT190),AQ188:AS190),AT188:AT190)","v":0.12741453623806553}]
[null,null,null,null,null,null,null,null,null,null,null,null,-0.15824071602679901,5.11014920844075E-2,3.88437487496468E-2,{"$f":"LOG($G$4,10)","v":2.8129133566428552},null,null,null,null,null,null,-0.53581502332116404,0.13584037624038001,0.14877204031191801,{"$f":"LOG($G$4,10)","v":2.8129133566428552},null,null,null,null,null,null,-0.20357442714846199,8.3578169118525197E-2,9.9474324303488008E-3,{"$f":"LOG($G$4,10)","v":2.8129133566428552},null,null,null,null,null,null,-1.26061498091943,0.20980851440665499,0.57300430954848602,{"$f":"LOG($G$4,10)","v":2.8129133566428552}]
[null,null,null,null,null,null,null,null,null,null,null,null,-0.33751954342822599,3.88437487496468E-2,0.20379236673651599,{"$f":"IF(VLOOKUP($L188,$L$3:$AR$56,COLUMN(P190)-13,FALSE)=\"SLP50\",LOG($G$6+1,10),LOG($G$5,10))","v":1.0413926851582249},null,null,null,null,null,null,-3.0416739824149199,0.14877204031191801,1.66294350496597,{"$f":"IF(VLOOKUP($L188,$L$3:$AR$56,COLUMN(Z190)-13,FALSE)=\"SLP50\",LOG($G$6+1,10),LOG($G$5,10))","v":1.3979400086720375},null,null,null,null,null,null,-3.0108992640237502,9.9474324303477999E-3,2.13134028340792,{"$f":"IF(VLOOKUP($L188,$L$3:$AR$56,COLUMN(AJ190)-13,FALSE)=\"SLP50\",LOG($G$6+1,10),LOG($G$5,10))","v":1.3979400086720375},null,null,null,null,null,null,-11.8668809822657,0.57300430954846604,7.6822342873780096,{"$f":"IF(VLOOKUP($L188,$L$3:$AR$56,COLUMN(AT190)-13,FALSE)=\"SLP50\",LOG($G$6+1,10),LOG($G$5,10))","v":1.3979400086720375}]
[null,null,null,null,null,null,null,null,null,null,null,"QOCT0.8",0.78004002821763496,-0.15824071602679901,-0.33751954342822599,1,{"$f":"MMULT(MMULT(TRANSPOSE(P191:P193),M191:O193),P191:P193)","v":3.9750257156711238E-2},null,null,null,null,null,6.1694595403371402,-0.53581502332116404,-3.0416739824149199,1,{"$f":"MMULT(MMULT(TRANSPOSE(Z191:Z193),W191:Y193),Z191:Z193)","v":0.14554840573274391},null,null,null,null,null,4.7038405850647402,-0.203574427148461,-3.0108992640237502,1,{"$f":"MMULT(MMULT(TRANSPOSE(AJ191:AJ193),AG191:AI193),AJ191:AJ193)","v":4.5138511611173597E-2},null,null,null,null,null,19.218353018649601,-1.2606149809194001,-11.8668809822657,1,{"$f":"MMULT(MMULT(TRANSPOSE(AT191:AT193),AQ191:AS193),AT191:AT193)","v":0.12741453623806553}]
[null,null,null,null,null,null,null,null,null,null,null,null,-0.15824071602679901,5.11014920844075E-2,3.88437487496468E-2,{"$f":"LOG($G$4,10)","v":2.8129133566428552},null,null,null,null,null,null,-0.53581502332116404,0.13584037624038001,0.14877204031191801,{"$f":"LOG($G$4,10)","v":2.8129133566428552},null,null,null,null,null,null,-0.20357442714846199,8.3578169118525197E-2,9.9474324303488008E-3,{"$f":"LOG($G$4,10)","v":2.8129133566428552},null,null,null,null,null,null,-1.26061498091943,0.20980851440665499,0.57300430954848602,{"$f":"LOG($G$4,10)","v":2.8129133566428552}]
[null,null,null,null,null,null,null,null,null,null,null,null,-0.33751954342822599,3.88437487496468E-2,0.20379236673651599,{"$f":"IF(VLOOKUP($L191,$L$3:$AR$56,COLUMN(P193)-13,FALSE)=\"SLP50\",LOG($G$6+1,10),LOG($G$5,10))","v":1.0413926851582249},null,null,null,null,null,null,-3.0416739824149199,0.14877204031191801,1.66294350496597,{"$f":"IF(VLOOKUP($L191,$L$3:$AR$56,COLUMN(Z193)-13,FALSE)=\"SLP50\",LOG($G$6+1,10),LOG($G$5,10))","v":1.3979400086720375},null,null,null,null,null,null,-3.0108992640237502,9.9474324303477999E-3,2.13134028340792,{"$f":"IF(VLOOKUP($L191,$L$3:$AR$56,COLUMN(AJ193)-13,FALSE)=\"SLP50\",LOG($G$6+1,10),LOG($G$5,10))","v":1.3979400086720375},null,null,null,null,null,null,-11.8668809822657,0.57300430954846604,7.6822342873780096,{"$f":"IF(VLOOKUP($L191,$L$3:$AR$56,COLUMN(AT193)-13,FALSE)=\"SLP50\",LOG($G$6+1,10),LOG($G$5,10))","v":1.3979400086720375}]
[null,null,null,null,null,null,null,null,null,null,null,"QOCTMEAN",0.78004002821763496,-0.15824071602679901,-0.33751954342822599,1,{"$f":"MMULT(MMULT(TRANSPOSE(P194:P196),M194:O196),P194:P196)","v":3.9750257156711238E-2},null,null,null,null,null,6.1694595403371402,-0.53581502332116404,-3.0416739824149199,1,{"$f":"MMULT(MMULT(TRANSPOSE(Z194:Z196),W194:Y196),Z194:Z196)","v":0.14554840573274391},null,null,null,null,null,4.7038405850647402,-0.203574427148461,-3.0108992640237502,1,{"$f":"MMULT(MMULT(TRANSPOSE(AJ194:AJ196),AG194:AI196),AJ194:AJ196)","v":4.5138511611173597E-2},null,null,null,null,null,19.218353018649601,-1.2606149809194001,-11.8668809822657,1,{"$f":"MMULT(MMULT(TRANSPOSE(AT194:AT196),AQ194:AS196),AT194:AT196)","v":0.12741453623806553}]
[null,null,null,null,null,null,null,null,null,null,null,null,-0.15824071602679901,5.11014920844075E-2,3.88437487496468E-2,{"$f":"LOG($G$4,10)","v":2.8129133566428552},null,null,null,null,null,null,-0.53581502332116404,0.13584037624038001,0.14877204031191801,{"$f":"LOG($G$4,10)","v":2.8129133566428552},null,null,null,null,null,null,-0.20357442714846199,8.3578169118525197E-2,9.9474324303488008E-3,{"$f":"LOG($G$4,10)","v":2.8129133566428552},null,null,null,null,null,null,-1.26061498091943,0.20980851440665499,0.57300430954848602,{"$f":"LOG($G$4,10)","v":2.8129133566428552}]
[null,null,null,null,null,null,null,null,null,null,null,null,-0.33751954342822599,3.88437487496468E-2,0.20379236673651599,{"$f":"IF(VLOOKUP($L194,$L$3:$AR$56,COLUMN(P196)-13,FALSE)=\"SLP50\",LOG($G$6+1,10),LOG($G$5,10))","v":1.0413926851582249},null,null,null,null,null,null,-3.0416739824149199,0.14877204031191801,1.66294350496597,{"$f":"IF(VLOOKUP($L194,$L$3:$AR$56,COLUMN(Z196)-13,FALSE)=\"SLP50\",LOG($G$6+1,10),LOG($G$5,10))","v":1.3979400086720375},null,null,null,null,null,null,-3.0108992640237502,9.9474324303477999E-3,2.13134028340792,{"$f":"IF(VLOOKUP($L194,$L$3:$AR$56,COLUMN(AJ196)-13,FALSE)=\"SLP50\",LOG($G$6+1,10),LOG($G$5,10))","v":1.3979400086720375},null,null,null,null,null,null,-11.8668809822657,0.57300430954846604,7.6822342873780096,{"$f":"IF(VLOOKUP($L194,$L$3:$AR$56,COLUMN(AT196)-13,FALSE)=\"SLP50\",LOG($G$6+1,10),LOG($G$5,10))","v":1.3979400086720375}]
[null,null,null,null,null,null,null,null,null,null,null,"QNOV0.2",0.80794714666667,-0.16614212862983199,-0.342581840223951,1,{"$f":"MMULT(MMULT(TRANSPOSE(P197:P199),M197:O199),P197:P199)","v":3.9226504080731278E-2},null,null,null,null,null,10.6933844252454,-0.88361991435290399,-5.2141139710118303,1,{"$f":"MMULT(MMULT(TRANSPOSE(Z197:Z199),W197:Y199),Z197:Z199)","v":0.21841281032958415},null,null,null,null,null,5.6932023411735297,-0.25127111959218901,-3.6164493127588,1,{"$f":"MMULT(MMULT(TRANSPOSE(AJ197:AJ199),AG197:AI199),AJ197:AJ199)","v":4.5468795886572655E-2},null,null,null,null,null,23.6552148355646,-1.5283899234262099,-14.781516218635099,1,{"$f":"MMULT(MMULT(TRANSPOSE(AT197:AT199),AQ197:AS199),AT197:AT199)","v":0.18031259339599193}]
[null,null,null,null,null,null,null,null,null,null,null,null,-0.16614212862983199,5.3338447601499701E-2,4.0267899604091197E-2,{"$f":"LOG($G$4,10)","v":2.8129133566428552},null,null,null,null,null,null,-0.88361991435290199,0.19041917374148301,0.27440836456470202,{"$f":"LOG($G$4,10)","v":2.8129133566428552},null,null,null,null,null,null,-0.25127111959218901,8.9901820849990294E-2,3.1366301192849402E-2,{"$f":"LOG($G$4,10)","v":2.8129133566428552},null,null,null,null,null,null,-1.5283899234262099,0.27007038271449202,0.68038897501643902,{"$f":"LOG($G$4,10)","v":2.8129133566428552}]
[null,null,null,null,null,null,null,null,null,null,null,null,-0.34258184022395,4.0267899604091002E-2,0.20427300338052101,{"$f":"IF(VLOOKUP($L197,$L$3:$AR$56,COLUMN(P199)-13,FALSE)=\"SLP50\",LOG($G$6+1,10),LOG($G$5,10))","v":1.0413926851582249},null,null,null,null,null,null,-5.2141139710118303,0.27440836456470302,2.7680207061126798,{"$f":"IF(VLOOKUP($L197,$L$3:$AR$56,COLUMN(Z199)-13,FALSE)=\"SLP50\",LOG($G$6+1,10),LOG($G$5,10))","v":1.3979400086720375},null,null,null,null,null,null,-3.6164493127588,3.1366301192849402E-2,2.51709773507823,{"$f":"IF(VLOOKUP($L197,$L$3:$AR$56,COLUMN(AJ199)-13,FALSE)=\"SLP50\",LOG($G$6+1,10),LOG($G$5,10))","v":1.3979400086720375},null,null,null,null,null,null,-14.781516218635099,0.68038897501643503,9.7035390773399399,{"$f":"IF(VLOOKUP($L197,$L$3:$AR$56,COLUMN(AT199)-13,FALSE)=\"SLP50\",LOG($G$6+1,10),LOG($G$5,10))","v":1.3979400086720375}]
[null,null,null,null,null,null,null,null,null,null,null,"QNOV0.5",0.80794714666667,-0.16614212862983199,-0.342581840223951,1,{"$f":"MMULT(MMULT(TRANSPOSE(P200:P202),M200:O202),P200:P202)","v":3.9226504080731278E-2},null,null,null,null,null,10.6933844252454,-0.88361991435290399,-5.2141139710118303,1,{"$f":"MMULT(MMULT(TRANSPOSE(Z200:Z202),W200:Y202),Z200:Z202)","v":0.21841281032958415},null,null,null,null,null,5.6932023411735297,-0.25127111959218901,-3.6164493127588,1,{"$f":"MMULT(MMULT(TRANSPOSE(AJ200:AJ202),AG200:AI202),AJ200:AJ202)","v":4.5468795886572655E-2},null,null,null,null,null,23.6552148355646,-1.5283899234262099,-14.781516218635099,1,{"$f":"MMULT(MMULT(TRANSPOSE(AT200:AT202),AQ200:AS202),AT200:AT202)","v":0.18031259339599193}]
[null,null,null,null,null,null,null,null,null,null,null,null,-0.16614212862983199,5.3338447601499701E-2,4.0267899604091197E-2,{"$f":"LOG($G$4,10)","v":2.8129133566428552},null,null,null,null,null,null,-0.88361991435290199,0.19041917374148301,0.27440836456470202,{"$f":"LOG($G$4,10)","v":2.8129133566428552},null,null,null,null,null,null,-0.25127111959218901,8.9901820849990294E-2,3.1366301192849402E-2,{"$f":"LOG($G$4,10)","v":2.8129133566428552},null,null,null,null,null,null,-1.5283899234262099,0.27007038271449202,0.68038897501643902,{"$f":"LOG($G$4,10)","v":2.8129133566428552}]
[null,null,null,null,null,null,null,null,null,null,null,null,-0.34258184022395,4.0267899604091002E-2,0.20427300338052101,{"$f":"IF(VLOOKUP($L200,$L$3:$AR$56,COLUMN(P202)-13,FALSE)=\"SLP50\",LOG($G$6+1,10),LOG($G$5,10))","v":1.0413926851582249},null,null,null,null,null,null,-5.2141139710118303,0.27440836456470302,2.7680207061126798,{"$f":"IF(VLOOKUP($L200,$L$3:$AR$56,COLUMN(Z202)-13,FALSE)=\"SLP50\",LOG($G$6+1,10),LOG($G$5,10))","v":1.3979400086720375},null,null,null,null,null,null,-3.6164493127588,3.1366301192849402E-2,2.51709773507823,{"$f":"IF(VLOOKUP($L200,$L$3:$AR$56,COLUMN(AJ202)-13,FALSE)=\"SLP50\",LOG($G$6+1,10),LOG($G$5,10))","v":1.3979400086720375},null,null,null,null,null,null,-14.781516218635099,0.68038897501643503,9.7035390773399399,{"$f":"IF(VLOOKUP($L200,$L$3:$AR$56,COLUMN(AT202)-13,FALSE)=\"SLP50\",LOG($G$6+1,10),LOG($G$5,10))","v":1.3979400086720375}]
[null,null,null,null,null,null,null,null,null,null,null,"QNOV0.8",0.80794714666667,-0.16614212862983199,-0.342581840223951,1,{"$f":"MMULT(MMULT(TRANSPOSE(P203:P205),M203:O205),P203:P205)","v":3.9226504080731278E-2},null,null,null,null,null,10.6933844252454,-0.88361991435290399,-5.2141139710118303,1,{"$f":"MMULT(MMULT(TRANSPOSE(Z203:Z205),W203:Y205),Z203:Z205)","v":0.21841281032958415},null,null,null,null,null,5.6932023411735297,-0.25127111959218901,-3.6164493127588,1,{"$f":"MMULT(MMULT(TRANSPOSE(AJ203:AJ205),AG203:AI205),AJ203:AJ205)","v":4.5468795886572655E-2},null,null,null,null,null,23.6552148355646,-1.5283899234262099,-14.781516218635099,1,{"$f":"MMULT(MMULT(TRANSPOSE(AT203:AT205),AQ203:AS205),AT203:AT205)","v":0.18031259339599193}]
[null,null,null,null,null,null,null,null,null,null,null,null,-0.16614212862983199,5.3338447601499701E-2,4.0267899604091197E-2,{"$f":"LOG($G$4,10)","v":2.8129133566428552},null,null,null,null,null,null,-0.88361991435290199,0.19041917374148301,0.27440836456470202,{"$f":"LOG($G$4,10)","v":2.8129133566428552},null,null,null,null,null,null,-0.25127111959218901,8.9901820849990294E-2,3.1366301192849402E-2,{"$f":"LOG($G$4,10)","v":2.8129133566428552},null,null,null,null,null,null,-1.5283899234262099,0.27007038271449202,0.68038897501643902,{"$f":"LOG($G$4,10)","v":2.8129133566428552}]
[null,null,null,null,null,null,null,null,null,null,null,null,-0.34258184022395,4.0267899604091002E-2,0.20427300338052101,{"$f":"IF(VLOOKUP($L203,$L$3:$AR$56,COLUMN(P205)-13,FALSE)=\"SLP50\",LOG($G$6+1,10),LOG($G$5,10))","v":1.0413926851582249},null,null,null,null,null,null,-5.2141139710118303,0.27440836456470302,2.7680207061126798,{"$f":"IF(VLOOKUP($L203,$L$3:$AR$56,COLUMN(Z205)-13,FALSE)=\"SLP50\",LOG($G$6+1,10),LOG($G$5,10))","v":1.3979400086720375},null,null,null,null,null,null,-3.6164493127588,3.1366301192849402E-2,2.51709773507823,{"$f":"IF(VLOOKUP($L203,$L$3:$AR$56,COLUMN(AJ205)-13,FALSE)=\"SLP50\",LOG($G$6+1,10),LOG($G$5,10))","v":1.3979400086720375},null,null,null,null,null,null,-14.781516218635099,0.68038897501643503,9.7035390773399399,{"$f":"IF(VLOOKUP($L203,$L$3:$AR$56,COLUMN(AT205)-13,FALSE)=\"SLP50\",LOG($G$6+1,10),LOG($G$5,10))","v":1.3979400086720375}]
[null,null,null,null,null,null,null,null,null,null,null,"QNOVMEAN",0.80794714666667,-0.16614212862983199,-0.342581840223951,1,{"$f":"MMULT(MMULT(TRANSPOSE(P206:P208),M206:O208),P206:P208)","v":3.9226504080731278E-2},null,null,null,null,null,10.6933844252454,-0.88361991435290399,-5.2141139710118303,1,{"$f":"MMULT(MMULT(TRANSPOSE(Z206:Z208),W206:Y208),Z206:Z208)","v":0.21841281032958415},null,null,null,null,null,5.6932023411735297,-0.25127111959218901,-3.6164493127588,1,{"$f":"MMULT(MMULT(TRANSPOSE(AJ206:AJ208),AG206:AI208),AJ206:AJ208)","v":4.5468795886572655E-2},null,null,null,null,null,23.6552148355646,-1.5283899234262099,-14.781516218635099,1,{"$f":"MMULT(MMULT(TRANSPOSE(AT206:AT208),AQ206:AS208),AT206:AT208)","v":0.18031259339599193}]
[null,null,null,null,null,null,null,null,null,null,null,null,-0.16614212862983199,5.3338447601499701E-2,4.0267899604091197E-2,{"$f":"LOG($G$4,10)","v":2.8129133566428552},null,null,null,null,null,null,-0.88361991435290199,0.19041917374148301,0.27440836456470202,{"$f":"LOG($G$4,10)","v":2.8129133566428552},null,null,null,null,null,null,-0.25127111959218901,8.9901820849990294E-2,3.1366301192849402E-2,{"$f":"LOG($G$4,10)","v":2.8129133566428552},null,null,null,null,null,null,-1.5283899234262099,0.27007038271449202,0.68038897501643902,{"$f":"LOG($G$4,10)","v":2.8129133566428552}]
[null,null,null,null,null,null,null,null,null,null,null,null,-0.34258184022395,4.0267899604091002E-2,0.20427300338052101,{"$f":"IF(VLOOKUP($L206,$L$3:$AR$56,COLUMN(P208)-13,FALSE)=\"SLP50\",LOG($G$6+1,10),LOG($G$5,10))","v":1.0413926851582249},null,null,null,null,null,null,-5.2141139710118303,0.27440836456470302,2.7680207061126798,{"$f":"IF(VLOOKUP($L206,$L$3:$AR$56,COLUMN(Z208)-13,FALSE)=\"SLP50\",LOG($G$6+1,10),LOG($G$5,10))","v":1.3979400086720375},null,null,null,null,null,null,-3.6164493127588,3.1366301192849402E-2,2.51709773507823,{"$f":"IF(VLOOKUP($L206,$L$3:$AR$56,COLUMN(AJ208)-13,FALSE)=\"SLP50\",LOG($G$6+1,10),LOG($G$5,10))","v":1.3979400086720375},null,null,null,null,null,null,-14.781516218635099,0.68038897501643503,9.7035390773399399,{"$f":"IF(VLOOKUP($L206,$L$3:$AR$56,COLUMN(AT208)-13,FALSE)=\"SLP50\",LOG($G$6+1,10),LOG($G$5,10))","v":1.3979400086720375}]
[null,null,null,null,null,null,null,null,null,null,null,"QDEC0.2",0.80794714666667,-0.16614212862983199,-0.342581840223951,1,{"$f":"MMULT(MMULT(TRANSPOSE(P209:P211),M209:O211),P209:P211)","v":3.9226504080731278E-2},null,null,null,null,null,11.0179485039175,-0.93153999831905998,-5.3693382403065497,1,{"$f":"MMULT(MMULT(TRANSPOSE(Z209:Z211),W209:Y211),Z209:Z211)","v":0.22144164039926639},null,null,null,null,null,6.1129269833443702,-0.28040903441947401,-3.8592122947371901,1,{"$f":"MMULT(MMULT(TRANSPOSE(AJ209:AJ211),AG209:AI211),AJ209:AJ211)","v":4.5803295053923998E-2},null,null,null,null,null,5.1504682081172204,-1.10031052546315,-2.6105092296395198,1,{"$f":"MMULT(MMULT(TRANSPOSE(AT209:AT211),AQ209:AS211),AT209:AT211)","v":0.1904628064655885}]
[null,null,null,null,null,null,null,null,null,null,null,null,-0.16614212862983199,5.3338447601499701E-2,4.0267899604091197E-2,{"$f":"LOG($G$4,10)","v":2.8129133566428552},null,null,null,null,null,null,-0.93153999831906198,0.198891266810479,0.29524524768680199,{"$f":"LOG($G$4,10)","v":2.8129133566428552},null,null,null,null,null,null,-0.28040903441946802,9.6356039867571894E-2,3.9004663289825998E-2,{"$f":"LOG($G$4,10)","v":2.8129133566428552},null,null,null,null,null,null,-1.10031052546315,0.339947888101503,0.33227717424624598,{"$f":"LOG($G$4,10)","v":2.8129133566428552}]
[null,null,null,null,null,null,null,null,null,null,null,null,-0.34258184022395,4.0267899604091002E-2,0.20427300338052101,{"$f":"IF(VLOOKUP($L209,$L$3:$AR$56,COLUMN(P211)-13,FALSE)=\"SLP50\",LOG($G$6+1,10),LOG($G$5,10))","v":1.0413926851582249},null,null,null,null,null,null,-5.3693382403065497,0.29524524768680099,2.8453577741342801,{"$f":"IF(VLOOKUP($L209,$L$3:$AR$56,COLUMN(Z211)-13,FALSE)=\"SLP50\",LOG($G$6+1,10),LOG($G$5,10))","v":1.3979400086720375},null,null,null,null,null,null,-3.8592122947371998,3.90046632898308E-2,2.6768172035505402,{"$f":"IF(VLOOKUP($L209,$L$3:$AR$56,COLUMN(AJ211)-13,FALSE)=\"SLP50\",LOG($G$6+1,10),LOG($G$5,10))","v":1.3979400086720375},null,null,null,null,null,null,-2.6105092296395198,0.33227717424624598,1.8725143606261601,{"$f":"IF(VLOOKUP($L209,$L$3:$AR$56,COLUMN(AT211)-13,FALSE)=\"SLP50\",LOG($G$6+1,10),LOG($G$5,10))","v":1.0413926851582249}]
[null,null,null,null,null,null,null,null,null,null,null,"QDEC0.5",0.80794714666667,-0.16614212862983199,-0.342581840223951,1,{"$f":"MMULT(MMULT(TRANSPOSE(P212:P214),M212:O214),P212:P214)","v":3.9226504080731278E-2},null,null,null,null,null,11.0179485039175,-0.93153999831905998,-5.3693382403065497,1,{"$f":"MMULT(MMULT(TRANSPOSE(Z212:Z214),W212:Y214),Z212:Z214)","v":0.22144164039926639},null,null,null,null,null,6.1129269833443702,-0.28040903441947401,-3.8592122947371901,1,{"$f":"MMULT(MMULT(TRANSPOSE(AJ212:AJ214),AG212:AI214),AJ212:AJ214)","v":4.5803295053923998E-2},null,null,null,null,null,5.1504682081172204,-1.10031052546315,-2.6105092296395198,1,{"$f":"MMULT(MMULT(TRANSPOSE(AT212:AT214),AQ212:AS214),AT212:AT214)","v":0.1904628064655885}]
[null,null,null,null,null,null,null,null,null,null,null,null,-0.16614212862983199,5.3338447601499701E-2,4.0267899604091197E-2,{"$f":"LOG($G$4,10)","v":2.8129133566428552},null,null,null,null,null,null,-0.93153999831906198,0.198891266810479,0.29524524768680199,{"$f":"LOG($G$4,10)","v":2.8129133566428552},null,null,null,null,null,null,-0.28040903441946802,9.6356039867571894E-2,3.9004663289825998E-2,{"$f":"LOG($G$4,10)","v":2.8129133566428552},null,null,null,null,null,null,-1.10031052546315,0.339947888101503,0.33227717424624598,{"$f":"LOG($G$4,10)","v":2.8129133566428552}]
[null,null,null,null,null,null,null,null,null,null,null,null,-0.34258184022395,4.0267899604091002E-2,0.20427300338052101,{"$f":"IF(VLOOKUP($L212,$L$3:$AR$56,COLUMN(P214)-13,FALSE)=\"SLP50\",LOG($G$6+1,10),LOG($G$5,10))","v":1.0413926851582249},null,null,null,null,null,null,-5.3693382403065497,0.29524524768680099,2.8453577741342801,{"$f":"IF(VLOOKUP($L212,$L$3:$AR$56,COLUMN(Z214)-13,FALSE)=\"SLP50\",LOG($G$6+1,10),LOG($G$5,10))","v":1.3979400086720375},null,null,null,null,null,null,-3.8592122947371998,3.90046632898308E-2,2.6768172035505402,{"$f":"IF(VLOOKUP($L212,$L$3:$AR$56,COLUMN(AJ214)-13,FALSE)=\"SLP50\",LOG($G$6+1,10),LOG($G$5,10))","v":1.3979400086720375},null,null,null,null,null,null,-2.6105092296395198,0.33227717424624598,1.8725143606261601,{"$f":"IF(VLOOKUP($L212,$L$3:$AR$56,COLUMN(AT214)-13,FALSE)=\"SLP50\",LOG($G$6+1,10),LOG($G$5,10))","v":1.0413926851582249}]
[null,null,null,null,null,null,null,null,null,null,null,"QDEC0.8",0.80794714666667,-0.16614212862983199,-0.342581840223951,1,{"$f":"MMULT(MMULT(TRANSPOSE(P215:P217),M215:O217),P215:P217)","v":3.9226504080731278E-2},null,null,null,null,null,11.0179485039175,-0.93153999831905998,-5.3693382403065497,1,{"$f":"MMULT(MMULT(TRANSPOSE(Z215:Z217),W215:Y217),Z215:Z217)","v":0.22144164039926639},null,null,null,null,null,6.1129269833443702,-0.28040903441947401,-3.8592122947371901,1,{"$f":"MMULT(MMULT(TRANSPOSE(AJ215:AJ217),AG215:AI217),AJ215:AJ217)","v":4.5803295053923998E-2},null,null,null,null,null,5.1504682081172204,-1.10031052546315,-2.6105092296395198,1,{"$f":"MMULT(MMULT(TRANSPOSE(AT215:AT217),AQ215:AS217),AT215:AT217)","v":0.1904628064655885}]
[null,null,null,null,null,null,null,null,null,null,null,null,-0.16614212862983199,5.3338447601499701E-2,4.0267899604091197E-2,{"$f":"LOG($G$4,10)","v":2.8129133566428552},null,null,null,null,null,null,-0.93153999831906198,0.198891266810479,0.29524524768680199,{"$f":"LOG($G$4,10)","v":2.8129133566428552},null,null,null,null,null,null,-0.28040903441946802,9.6356039867571894E-2,3.9004663289825998E-2,{"$f":"LOG($G$4,10)","v":2.8129133566428552},null,null,null,null,null,null,-1.10031052546315,0.339947888101503,0.33227717424624598,{"$f":"LOG($G$4,10)","v":2.8129133566428552}]
[null,null,null,null,null,null,null,null,null,null,null,null,-0.34258184022395,4.0267899604091002E-2,0.20427300338052101,{"$f":"IF(VLOOKUP($L215,$L$3:$AR$56,COLUMN(P217)-13,FALSE)=\"SLP50\",LOG($G$6+1,10),LOG($G$5,10))","v":1.0413926851582249},null,null,null,null,null,null,-5.3693382403065497,0.29524524768680099,2.8453577741342801,{"$f":"IF(VLOOKUP($L215,$L$3:$AR$56,COLUMN(Z217)-13,FALSE)=\"SLP50\",LOG($G$6+1,10),LOG($G$5,10))","v":1.3979400086720375},null,null,null,null,null,null,-3.8592122947371998,3.90046632898308E-2,2.6768172035505402,{"$f":"IF(VLOOKUP($L215,$L$3:$AR$56,COLUMN(AJ217)-13,FALSE)=\"SLP50\",LOG($G$6+1,10),LOG($G$5,10))","v":1.3979400086720375},null,null,null,null,null,null,-2.6105092296395198,0.33227717424624598,1.8725143606261601,{"$f":"IF(VLOOKUP($L215,$L$3:$AR$56,COLUMN(AT217)-13,FALSE)=\"SLP50\",LOG($G$6+1,10),LOG($G$5,10))","v":1.0413926851582249}]
[null,null,null,null,null,null,null,null,null,null,null,"QDECMEAN",0.80794714666667,-0.16614212862983199,-0.342581840223951,1,{"$f":"MMULT(MMULT(TRANSPOSE(P218:P220),M218:O220),P218:P220)","v":3.9226504080731278E-2},null,null,null,null,null,11.0179485039175,-0.93153999831905998,-5.3693382403065497,1,{"$f":"MMULT(MMULT(TRANSPOSE(Z218:Z220),W218:Y220),Z218:Z220)","v":0.22144164039926639},null,null,null,null,null,6.1129269833443702,-0.28040903441947401,-3.8592122947371901,1,{"$f":"MMULT(MMULT(TRANSPOSE(AJ218:AJ220),AG218:AI220),AJ218:AJ220)","v":4.5803295053923998E-2},null,null,null,null,null,5.1504682081172204,-1.10031052546315,-2.6105092296395198,1,{"$f":"MMULT(MMULT(TRANSPOSE(AT218:AT220),AQ218:AS220),AT218:AT220)","v":0.1904628064655885}]
[null,null,null,null,null,null,null,null,null,null,null,null,-0.16614212862983199,5.3338447601499701E-2,4.0267899604091197E-2,{"$f":"LOG($G$4,10)","v":2.8129133566428552},null,null,null,null,null,null,-0.93153999831906198,0.198891266810479,0.29524524768680199,{"$f":"LOG($G$4,10)","v":2.8129133566428552},null,null,null,null,null,null,-0.28040903441946802,9.6356039867571894E-2,3.9004663289825998E-2,{"$f":"LOG($G$4,10)","v":2.8129133566428552},null,null,null,null,null,null,-1.10031052546315,0.339947888101503,0.33227717424624598,{"$f":"LOG($G$4,10)","v":2.8129133566428552}]
[null,null,null,null,null,null,null,null,null,null,null,null,-0.34258184022395,4.0267899604091002E-2,0.20427300338052101,{"$f":"IF(VLOOKUP($L218,$L$3:$AR$56,COLUMN(P220)-13,FALSE)=\"SLP50\",LOG($G$6+1,10),LOG($G$5,10))","v":1.0413926851582249},null,null,null,null,null,null,-5.3693382403065497,0.29524524768680099,2.8453577741342801,{"$f":"IF(VLOOKUP($L218,$L$3:$AR$56,COLUMN(Z220)-13,FALSE)=\"SLP50\",LOG($G$6+1,10),LOG($G$5,10))","v":1.3979400086720375},null,null,null,null,null,null,-3.8592122947371998,3.90046632898308E-2,2.6768172035505402,{"$f":"IF(VLOOKUP($L218,$L$3:$AR$56,COLUMN(AJ220)-13,FALSE)=\"SLP50\",LOG($G$6+1,10),LOG($G$5,10))","v":1.3979400086720375},null,null,null,null,null,null,-2.6105092296395198,0.33227717424624598,1.8725143606261601,{"$f":"IF(VLOOKUP($L218,$L$3:$AR$56,COLUMN(AT220)-13,FALSE)=\"SLP50\",LOG($G$6+1,10),LOG($G$5,10))","v":1.0413926851582249}]

{"sheet":"Table 2–2","index":13,"n_rows":153,"n_cols":77,"rows_kept":153,"cut":false,"hidden":false,"merged":[[64,3,64,4],[59,3,59,4],[60,3,60,4],[61,3,61,4],[62,3,62,4],[63,3,63,4],[54,3,54,4],[55,3,55,4],[56,3,56,4],[57,3,57,4],[58,3,58,4],[49,3,49,4],[50,3,50,4],[51,3,51,4],[52,3,52,4],[53,3,53,4],[44,3,44,4],[45,3,45,4],[46,3,46,4],[47,3,47,4],[48,3,48,4],[39,3,39,4],[40,3,40,4],[41,3,41,4],[42,3,42,4],[43,3,43,4],[34,3,34,4],[35,3,35,4],[36,3,36,4],[37,3,37,4],[38,3,38,4],[29,3,29,4],[30,3,30,4],[31,3,31,4],[32,3,32,4],[33,3,33,4],[24,3,24,4],[25,3,25,4],[26,3,26,4],[27,3,27,4],[28,3,28,4],[19,3,19,4],[20,3,20,4],[21,3,21,4],[22,3,22,4],[23,3,23,4],[14,3,14,4],[15,3,15,4],[16,3,16,4],[17,3,17,4],[18,3,18,4],[0,0,0,7],[10,3,10,4],[11,3,11,4],[12,3,12,4],[13,3,13,4],[6,3,9,7],[1,0,1,7],[2,0,2,1],[2,3,2,7],[3,3,3,6]]}
["Table 2–2. Estimates of streamflow characteristics at an ungaged site using the Drainage-Area Ratio Method",null,null,null,null,null,null,null,null,26,"DA","Region","Map number","Station number","Station name","Combined station number and name","Period of record","QAL7Q10","QS214Q5","QA0.2","QA0.5","QA0.8","QAMEAN","QJAN0.2","QJAN0.5","QJAN0.8","QJANMEAN","QFEB0.2","QFEB0.5","QFEB0.8","QFEBMEAN","QMAR0.2","QMAR0.5","QMAR0.8","QMARMEAN","QAPR0.2","QAPR0.5","QAPR0.8","QAPRMEAN","QMAY0.2","QMAY0.5","QMAY0.8","QMAYMEAN","QJUN0.2","QJUN0.5","QJUN0.8","QJUNMEAN","QJUL0.2","QJUL0.5","QJUL0.8","QJULMEAN","QAUG0.2","QAUG0.5","QAUG0.8","QAUGMEAN","QSEP0.2","QSEP0.5","QSEP0.8","QSEPMEAN","QOCT0.2","QOCT0.5","QOCT0.8","QOCTMEAN","QNOV0.2","QNOV0.5","QNOV0.8","QNOVMEAN","QDEC0.2","QDEC0.5","QDEC0.8","QDECMEAN",null,null,"West ","Northwest","Upper Yellowstone-Central Mountain","Southwest"]
["[Au, contributing drainage area of ungaged site; Ag, contributing drainage area of the selected streamflow-gaging station; Qg, streamflow in cubic foot per second for the selected streamflow-gaging station and indicated streamflow characteristic; --, not reported; expQ,R, drainage area adjustment exponent for the region and streamflow characteristic of the selected streamflow-gaging station; Qu, estimated streamflow in cubic foot per second for the ungaged site and indicated streamflow characteristic; ft3/s, cubic foot per second]",null,null,null,null,null,null,null,null,null,123,"Northwest",2,5011000,"Belly River near Mountain View, Alberta","05011000 Belly River near Mountain View, Alberta","1912–78",22.178000000000001,67.141999999999996,515,283,117,314,85,61,45,68,82,62,36,68,82,59,41,69,299,143,79,207,1150,710,405,786,1490,1010,669,1120,822,535,346,603,340,246,159,260,232,149,98,177,245,142,85,178,173,117,73,128,108,80,53,86,null,null,"Daexp","Daexp","Daexp","Daexp"]
["Instructions for estimating streamflow characteristics at an \nungaged site using the drainage-area ratio method",null,null,"Estimates of streamflow characteristics based on \ndrainage-area ratio method ",null,null,null,null,null,null,61.8,"Northwest",3,5011500,"Waterton River near international boundary","05011500 Waterton River near international boundary","1947–63","--",36.795000000000002,417,91,41,274,44,31,23,36,40,25,18,32,35,24,17,27,192,58,27,129,1250,786,337,820,1500,1050,720,1140,796,402,219,520,173,116,81,130,121,73,52,99,239,110,43,161,130,77,43,94,82,46,31,59,null,"West",0.82264394829699328,1.0840747697837747,0.74880464677609426,1.3341556217688353]
["Step","Instructions",null,"Contributing drainage areas of the streamflow-gaging station (Ag) and ungaged site (Au), located on the same stream",null,null,null,"Range of drainage areas for which drainage area adjustment is valid",null,null,20.399999999999999,"Northwest",4,5012500,"Boundary Creek at international boundary","05012500 Boundary Creek at international boundary","1948–63","--",12.949,123,30,14,78,21,13,8.8000000000000007,15,16,11,7.3,13,14,12,6.8,11,60,24,11,41,325,201,100,212,368,279,188,284,192,108,73,137,61,43,31,47,42,26,19,35,73,34,16,50,44,28,17,32,26,18,12,21,null,"Northwest",0.77473055852160466,0.92095547306449543,0.63618450205258303,0.84069337579333159]
[1,"Select a streamflow-gaging station from the list box below as an index site, which is on the same stream as the ungaged site.",null,"Drainage area of selected streamflow-gaging station, Ag","=",{"$f":"INDEX(K2:K153,$J$1)","v":819},"square miles","--",null,null,174,"Northwest",6,5013700,"St. Mary River above Swiftcurrent Creek, near Babb, Montana","05013700 St. Mary River above Swiftcurrent Creek, near Babb, Montana","1902–15","--",179.80799999999999,"--","--","--","--","--","--","--","--","--","--","--","--","--","--","--","--",326,161,97,237,1440,900,512,1000,2530,1770,1240,1980,1680,1140,834,1300,760,627,463,633,578,345,270,406,505,282,210,345,414,216,134,269,"--","--","--","--",null,"Upper Yellowstone-Central Mountain",0.78628827750882424,0.8179146378344343,0.8960276413512942,0.64758091971380038]
[2,"Determine contributing drainage area for ungaged site (Au, in square miles) \nand enter value in the green cell, where 0.5Ag≤Au≤1.5Ag",null,"Drainage area of \nungaged location, Au","=",500,"square miles",{"$f":"0.5*F5 & \"–\" & 1.5*F5","v":"409.5–1228.5"},null,null,31.2,"Northwest",9,5014500,"Swiftcurrent Creek at Many Glacier, Montana","05014500 Swiftcurrent Creek at Many Glacier, Montana","1913, 1915–34, 1936–2009",8.0579999999999998,29.81,236,104,42,140,42,24,14,33,35,22,14,27,42,23,12,32,154,70,31,104,559,337,172,375,657,452,302,485,348,224,151,257,150,105,75,115,106,70,48,84,110,62,32,84,95,59,24,74,49,31,17,37,null,"Southwest",0.79939535767183023,0.91098857325756999,0.86588042972203116,0.64064272998961103]
[null,null,null,{"$f":"\"Estimates of streamflow characteristics using\" & CHAR(10) & INDEX(P2:P153,J1) & CHAR(10) & \"Period of record \" & INDEX(Q2:Q153,J1) & CHAR(10) & INDEX(L2:L153,J1) & \" Hydrologic Region\"","v":"Estimates of streamflow characteristics using\n06043500 Gallatin River near Gallatin Gateway, Montana\nPeriod of record 1930–69, 1972–81, 1985–2009\nUpper Yellowstone-Central Mountain Hydrologic Region"},null,null,null,null,null,null,7.74,"Northwest",10,5015000,"Canyon Creek near Many Glacier, Montana","05015000 Canyon Creek near Many Glacier, Montana","1918, 1921–23, 1925, 1928–34, 1936","--",5.476,"--","--","--","--","--","--","--","--","--","--","--","--","--","--","--","--","--","--","--","--",91,52,27,60,98,67,44,74,51,34,23,38,24,18,13,19,19,12,7.6,13,17,11,7.1,16,"--","--","--","--","--","--","--","--",null,null,0.80054195022499708,0.92678887055903758,0.83610116501233678,0.6769225183039812]
[null,null,null,null,null,null,null,null,null,null,462,"Northwest",14,5020500,"St. Mary River at international boundary","05020500 St. Mary River at international boundary","1903–10, 1912–16","--",305.69299999999998,"--","--","--","--","--","--","--","--","--","--","--","--","--","--","--","--",939,581,279,647,2650,1760,1200,1910,4900,3090,2210,3680,2780,1900,1390,2140,1300,985,716,1030,873,598,436,678,838,581,402,630,664,416,282,476,"--","--","--","--",null,null,0.78998391349710251,0.80822550898463885,0.89060684240746968,0.77432092700037103]
[null,null,null,null,null,null,null,null,null,null,37.299999999999997,"Southwest",15,6006000,"Red Rock Creek above Lakes, near Lakeview, Montana","06006000 Red Rock Creek above Lakes, near Lakeview, Montana","1997–98, 2000–8","--",17.32,"--","--","--","--","--","--","--","--","--","--","--","--","--","--","--","--",35,23,17,27,88,46,31,60,131,90,44,95,78,45,28,55,47,32,21,34,38,26,19,28,30,23,17,24,"--","--","--","--","--","--","--","--",null,null,0.85898139504362925,0.82560411580611459,0.88786823432033235,0.95503186924260652]
[null,null,null,null,null,null,null,null,null,null,321,"Southwest",16,6011000,"Red Rock River at Kennedy Ranch, near Lakeview, Montana","06011000 Red Rock River at Kennedy Ranch, near Lakeview, Montana","1936–66","--",14.7,"--","--","--","--","--","--","--","--","--","--","--","--","--","--","--","--",569,266,66,329,535,335,208,380,337,228,145,243,151,82,41,101,66,41,21,45,62,40,23,43,86,61,40,64,88,60,39,59,"--","--","--","--",null,null,0.84883079288166385,0.85340717435425373,0.87920002663889407,1.0066626673820982]
[null,null,null,"Streamflow characteristic\n(table 1)",null,"Qg, in ft3/s\n(table 1–1)","expQ,R\n(table 1–3)","Qu, in ft3/s\n(equation 10)",null,null,279,"Southwest",20,6013500,"Big Sheep Creek below Muddy Creek, near Dell, Montana","06013500 Big Sheep Creek below Muddy Creek, near Dell, Montana","1946–53, 1961–79",30.300999999999998,40.259,81,54,41,65,49,42,37,43,47,40,36,42,53,43,36,49,115,70,49,89,117,74,45,86,146,92,49,102,95,65,45,71,84,66,52,67,67,53,42,55,74,63,49,62,66,57,46,57,55,48,40,48,null,null,0.84268426113567185,0.85000379932052994,0.87124372104511127,1.0631646599621827]
[null,null,null,"QAL7Q10",null,{"$f":"INDIRECT(ADDRESS($J$1+1,ROW(F12)+6))","v":203.845},{"$f":"ROUND(INDIRECT(ADDRESS(ROW(G12)-9,COLUMN($BU$1)+MATCH(INDEX($L$2:$L$153,$J$1),$BU$3:$BU$6,0))),3)","v":0.749},{"$f":"IF(F12=\"--\",\"--\",IF(OR($F$6<0.5*$F$5,$F$6>1.5*$F$5),\"Check ungaged drainage area\",F12*($F$6/$F$5)^G12))","v":140.8571685622079},null,null,348,"Southwest",25,6015500,"Grasshopper Creek near Dillon, Montana","06015500 Grasshopper Creek near Dillon, Montana","1921–33, 1946–53, 1955–58, 1960–61",5.1660000000000004,4.3760000000000003,72,37,16,55,33,24,18,25,34,26,18,27,59,34,21,49,95,69,47,73,166,87,51,113,235,105,42,137,61,29,14,40,40,20,9.1,25,29,15,8.3000000000000007,19,47,36,22,35,48,39,31,39,38,25,20,29,null,null,0.85683297794902247,0.84273104340086147,0.88325264307789242,0.97581146284887599]
[null,null,null,"QS214Q5",null,{"$f":"INDIRECT(ADDRESS($J$1+1,ROW(F13)+6))","v":340.61900000000003},{"$f":"ROUND(INDIRECT(ADDRESS(ROW(G13)-9,COLUMN($BU$1)+MATCH(INDEX($L$2:$L$153,$J$1),$BU$3:$BU$6,0))),3)","v":0.63600000000000001},{"$f":"IF(F13=\"--\",\"--\",IF(OR($F$6<0.5*$F$5,$F$6>1.5*$F$5),\"Check ungaged drainage area\",F13*($F$6/$F$5)^G13))","v":248.86580709190679},null,null,316,"Southwest",29,6017500,"Blacktail Deer Creek near Dillon, Montana","06017500 Blacktail Deer Creek near Dillon, Montana","1946–53, 1955–66",13.518000000000001,30.167999999999999,67,46,30,54,37,30,20,30,43,33,20,33,54,41,29,43,67,53,44,56,105,72,53,80,168,117,77,128,93,67,44,70,58,46,34,47,55,44,35,45,55,44,36,46,51,42,32,42,40,33,25,33,null,null,0.8761907286664038,0.85328231718445502,0.90847213945438388,1.0219215530993424]
[null,null,null,"QA0.2",null,1010,0.89600000000000002,649.07685276014649,null,null,534,"Southwest",33,6019500,"Ruby River above reservoir, near Alder, Montana","06019500 Ruby River above reservoir, near Alder, Montana","1938–2009",60.728999999999999,75.897000000000006,221,113,64,180,114,102,89,103,113,100,91,102,123,105,90,110,198,138,109,163,594,351,218,417,691,405,229,468,259,161,108,193,147,113,86,120,141,110,92,115,142,120,103,122,137,119,106,122,122,108,97,110,null,null,0.87268807300759788,0.86718230575559163,0.89911736055283542,1.0338039135186454]
[null,null,null,"QA0.5",null,424,0.86599999999999999,276.54768125083945,null,null,586,"Southwest",39,6024450,"Big Hole River below Big Lake Creek, at Wisdom, Montana","06024450 Big Hole River below Big Lake Creek, at Wisdom, Montana","1988–2008","--",8.6790000000000003,"--","--","--","--","--","--","--","--","--","--","--","--","--","--","--","--",486,299,170,369,769,327,111,482,901,323,90,539,321,94,32,187,75,32,12,56,55,30,16,38,88,58,39,67,"--","--","--","--","--","--","--","--",null,null,0.85641545934237129,0.88507311248866904,0.88448278431546801,1.0777932082700763]
[null,null,null,"QA0.8",null,252,0.83599999999999997,166.81462462535137,null,null,72.599999999999994,"Southwest",40,6024500,"Trail Creek near Wisdom, Montana","06024500 Trail Creek near Wisdom, Montana","1948–53, 1967–72","--",14.682,"--","--","--","--","--","--","--","--","--","--","--","--","--","--","--","--",135,45,20,81,612,438,163,409,545,276,144,340,82,56,38,62,32,24,19,26,26,19,15,21,25,21,17,22,24,19,15,21,"--","--","--","--",null,null,0.88003340770378635,0.8532355058499953,0.89765523456304697,1.0323563421479405]
[null,null,null,"QAMEAN",null,805,0.89100000000000001,518.61156558059554,null,null,1275,"Southwest",41,6024540,"Big Hole River below Mudd Creek, near Wisdom, Montana","06024540 Big Hole River below Mudd Creek, near Wisdom, Montana","1998–99, 2001–8","--",54.96,"--","--","--","--","--","--","--","--","--","--","--","--","--","--","--","--",1120,627,345,800,2180,1190,671,1470,2220,1160,559,1410,469,231,137,333,173,107,60,124,151,104,73,116,230,162,124,176,"--","--","--","--","--","--","--","--",null,null,0.91199575217762652,0.92180287158358687,0.96549378876307324,0.99399857069128217]
[null,null,null,"QJAN0.2",null,343,0.88800000000000001,221.30100139501553,null,null,221,"Southwest",42,6024590,"Wise River near Wise River, Montana","06024590 Wise River near Wise River, Montana","1973–85",23.225999999999999,45.66,190,78,39,183,49,39,35,42,42,38,34,39,43,38,34,39,126,61,36,88,787,376,174,508,1230,831,461,858,410,200,106,279,129,88,63,99,102,73,51,79,86,63,46,68,69,50,38,54,55,44,36,46,null,null,0.90024346736141492,0.90983622575354417,0.95913495027364504,1.0324435334342366]
[null,null,null,"QJAN0.5",null,292,0.879,189.23476953765035,null,null,2472,"Southwest",45,6025500,"Big Hole River near Melrose, Montana","06025500 Big Hole River near Melrose, Montana","1924–2009",125.952,168.89500000000001,1460,478,220,1120,415,332,256,339,425,333,272,354,555,404,324,478,2190,1090,589,1470,4700,2650,1540,3240,5820,3460,1630,3860,1850,975,500,1270,656,384,223,451,504,308,214,364,635,441,311,484,598,461,345,487,471,360,283,386,null,null,0.89052285190212499,0.95311047461946297,0.96212816060735928,1.0929153130414699]
[null,null,null,"QJAN0.8",null,250,0.871,162.65694231569464,null,null,35.700000000000003,"Southwest",46,6026000,"Birch Creek near Glen, Montana","06026000 Birch Creek near Glen, Montana","1946–53, 1955–76",2.3540000000000001,7.6319999999999997,44,13,5.9,29,9.9,7.8,6.2,8,8.5,7.4,5.6,7.3,9.8000000000000007,7.5,5.8,8,16,9.8000000000000007,7.2,12,82,38,18,53,155,109,73,115,84,60,42,67,45,24,14,29,16,12,9.4,13,23,16,12,17,15,11,7.1,11,11,7.9,5,8,null,null,0.90971201451774641,0.92016125835888907,0.96434441066035725,1.008084419681005]
[null,null,null,"QJANMEAN",null,298,0.88300000000000001,192.74232464090454,null,null,24.4,"Southwest",54,6030500,"Boulder River above Rock Creek, near Basin, Montana","06030500 Boulder River above Rock Creek, near Basin, Montana","1946–53, 1955–57","--",1.3080000000000001,"--","--","--","--","--","--","--","--","--","--","--","--","--","--","--","--","--","--","--","--",73,44,18,50,47,26,14,35,12,5.5,3.1,7.8,3.3,2.1,1.5,2.5,2.8,2,1.6,2.2000000000000002,2.9,2.2000000000000002,1.7,2.4,2.7,2.2000000000000002,1.6,2.2000000000000002,"--","--","--","--",null,null,0.88871472896694992,0.9591601218383401,0.89109361584788116,0.92418033350927209]
[null,null,null,"QFEB0.2",null,340,0.90800000000000003,217.21104159468615,null,null,381,"Southwest",56,6033000,"Boulder River near Boulder, Montana","06033000 Boulder River near Boulder, Montana","1929–32, 1934–72, 1985–2009",6.3479999999999999,8.7590000000000003,149,59,24,116,34,26,18,26,37,29,20,30,58,36,27,48,248,114,58,165,678,370,217,459,645,325,146,407,141,64,24,94,43,22,9,31,35,21,12,28,51,31,19,36,46,32,23,35,37,27,20,28,null,null,0.90397308665703224,0.97094200079266268,0.89899321123219,0.97054354380221253]
[null,null,null,"QFEB0.5",null,288,0.89900000000000002,184.8095008170219,null,null,85.9,"Southwest",60,6035000,"Willow Creek near Harrison, Montana","06035000 Willow Creek near Harrison, Montana","1938–2002, 2004–9",2.6240000000000001,2.8719999999999999,54,31,14,41,32,25,18,26,35,26,20,29,38,30,24,31,54,39,27,41,92,52,22,62,175,90,33,110,101,35,9.9,59,18,7.3,3.1,12,34,11,4.5,19,48,28,8.6999999999999993,29,45,36,21,34,39,31,24,32,null,null,0.90189914436237162,0.98683891710417537,0.9391342706395952,0.99191220414891845]
[null,null,null,"QFEB0.8",null,251,0.88400000000000001,162.26327460923682,null,null,167,"Southwest",62,6036500,"Willow Creek near Willow Creek, Montana","06036500 Willow Creek near Willow Creek, Montana","1920–32","--",11.536,"--","--","--","--","--","--","--","--","--","--","--","--",53,41,32,45,69,53,34,53,125,86,47,91,204,85,51,118,78,44,29,57,35,24,14,26,36,24,12,28,50,35,24,38,60,39,24,40,"--","--","--","--",null,null,0.8848974282060047,0.95041177988543357,0.9001523929097931,0.93410019206152883]
[null,null,null,"QFEBMEAN",null,294,0.89800000000000002,188.75282075630898,null,null,51.3,"Southwest",74,6040300,"Jack Creek near Ennis, Montana","06040300 Jack Creek near Ennis, Montana","1974–86, 1991",9.2609999999999992,19.164000000000001,64,24,13,47,17,15,13,15,15,14,12,13,15,13,12,14,47,26,15,33,172,88,54,111,216,154,99,163,105,68,44,77,50,36,28,39,35,27,23,29,29,23,20,24,25,19,16,20,19,17,14,17,null,null,0.80635262508315164,0.91749111191386723,0.94142688985471945,0.70326619047410988]
[null,null,null,"QMAR0.2",null,351,0.96499999999999997,218.01893079435698,null,null,98,"Upper Yellowstone-Central Mountain",77,6043000,"Taylor Creek near Grayling, Montana","06043000 Taylor Creek near Grayling, Montana","1946–53, 1955–56, 1967","--",23.573,"--","--","--","--","--","--","--","--","--","--","--","--","--","--","--","--","--","--","--","--",398,195,75,243,550,404,280,422,275,162,109,191,85,59,44,68,49,38,32,40,38,30,24,33,29,24,20,24,"--","--","--","--",null,null,0.82790983831650489,0.93099015552531394,0.93711965318434909,0.70546011395539077]
[null,null,null,"QMAR0.5",null,293,0.95899999999999996,182.5326642116554,null,null,819,"Upper Yellowstone-Central Mountain",80,6043500,"Gallatin River near Gallatin Gateway, Montana","06043500 Gallatin River near Gallatin Gateway, Montana","1930–69, 1972–81, 1985–2009",203.845,340.61900000000003,1010,424,252,805,343,292,250,298,340,288,251,294,351,293,257,305,621,414,314,500,2640,1570,860,1800,3900,2720,1770,2890,1700,1040,686,1260,726,556,449,595,568,460,382,477,529,425,360,442,442,364,298,371,362,303,255,309,null,null,0.84090751771551375,0.96780300868425539,0.92187215961275004,0.74733482090373038]
[null,null,null,"QMAR0.8",null,257,0.96199999999999997,159.86859345936242,null,null,151,"Upper Yellowstone-Central Mountain",84,6048000,"East Gallatin River at Bozeman, Montana","06048000 East Gallatin River at Bozeman, Montana","1940–61",18.763999999999999,27.696999999999999,107,49,26,85,46,38,30,39,47,40,31,42,69,49,35,60,209,128,70,158,324,210,124,236,257,152,82,178,81,55,38,63,54,39,28,42,58,46,37,49,60,51,43,52,58,50,42,50,52,45,36,46,null,null,0.81572064598145599,0.92864065870554713,0.92459526507782397,0.71150423764575887]
[null,null,null,"QMARMEAN",null,305,0.96399999999999997,189.54015970836608,null,null,62.3,"Upper Yellowstone-Central Mountain",85,6048500,"Bridger Creek near Bozeman, Montana","06048500 Bridger Creek near Bozeman, Montana","1946–69, 1971–72, 1987",2.282,5.2859999999999996,51,19,8.3000000000000007,37,10,6.2,4.3,7.2,10,7.4,4.2,8.9,19,10,5,15,89,48,23,64,216,131,77,154,146,83,46,101,43,26,16,31,18,12,7.5,13,13,9.4,6.6,11,14,9.4,7.4,11,14,9.3000000000000007,7,10,13,7.4,5.2,8.8000000000000007,null,null,0.77228030760280342,0.93272227069816915,1.0062010977015965,0.70722349869697831]
[null,null,null,"QAPR0.2",null,621,0.89100000000000001,400.0717791621737,null,null,48.5,"Upper Yellowstone-Central Mountain",87,6050000,"Hyalite Creek at Hyalite Ranger Station, near Bozeman, Montana","06050000 Hyalite Creek at Hyalite Ranger Station, near Bozeman, Montana","1935–50",10.712,22.675000000000001,91,35,19,62,25,20,16,21,22,20,16,19,21,17,14,17,63,30,17,47,187,131,79,143,252,188,135,196,138,85,51,97,57,41,32,44,45,33,25,35,41,30,22,32,33,26,19,26,26,20,15,21,null,null,0.76560918517266285,0.91240174656750805,1.0090822697772708,0.69748193038880169]
[null,null,null,"QAPR0.5",null,414,0.89900000000000002,265.66365742446897,null,null,1789,"Upper Yellowstone-Central Mountain",88,6052500,"Gallatin River at Logan, Montana","06052500 Gallatin River at Logan, Montana","1903–05, 1929–2009",223.35300000000001,268.5,1230,766,514,1060,790,680,569,681,815,680,549,695,922,748,618,790,1320,952,712,1040,3020,1780,1090,2100,4270,2710,1380,2890,1550,613,301,990,606,424,303,478,823,580,404,629,987,758,561,774,984,839,665,832,878,746,610,748,null,null,0.73775334503020162,0.89973732059197531,0.99965324901568176,0.671671897683215]
[null,null,null,"QAPR0.8",null,314,0.93899999999999995,197.55539688907808,null,null,77.900000000000006,"Southwest",91,6055500,"Crow Creek near Radersburg, Montana","06055500 Crow Creek near Radersburg, Montana","1919–28, 1966–72","--",9.891,"--","--","--","--","--","--","--","--","--","--","--","--",14,10,7.4,11,44,22,12,33,245,143,73,167,248,133,75,168,76,44,25,54,30,20,15,23,22,17,12,17,22,17,12,17,19,14,9.9,14,13,9.5,7.7,10,null,null,0.76375539656915459,0.92538563221297643,0.98502417490802929,0.69102903536336346]
[null,null,null,"QAPRMEAN",null,500,0.9,320.69153518239398,null,null,192,"Southwest",97,6061500,"Prickly Pear Creek near Clancy, Montana","06061500 Prickly Pear Creek near Clancy, Montana","1910–11, 1913–15, 1923–33, 1946–53, 1955–69, 1979–2002, 2006–9",7.7519999999999998,11.750999999999999,69,45,20,44,25,19,13,20,28,21,12,22,39,26,17,29,68,44,30,51,146,96,47,107,179,103,57,124,80,43,25,55,42,24,15,29,38,23,16,28,38,26,18,29,34,25,18,27,27,21,15,22,null,null,0.73040929996381587,0.87428808832163996,0.95412328999029727,0.70207362853122035]
[null,null,null,"QMAY0.2",null,2640,0.94099999999999995,1659.3368172574578,null,null,33,"Southwest",101,6062500,"Tenmile Creek near Rimini, Montana","06062500 Tenmile Creek near Rimini, Montana","1917, 1921, 1923, 1926–29, 1934–94, 1997–2009",7.5999999999999998E-2,0.219,59,37,15,16,1.9,0.99,0.47,1.3,1.4,0.9,0.48,1.1000000000000001,2.7,1.3,0.52,2.2000000000000002,27,9.6999999999999993,3.3,18,128,63,26,80,116,49,17,70,19,6.5,2.6,12,3.7,1.2,0.49,2.4,3,1.2,0.47,2.1,4.2,1.5,0.57999999999999996,2.8,3.1,1.1000000000000001,0.46,2.1,2.1,1,0.47,1.6,null,null,0.70463663447006641,0.87503885919506597,0.89774940635090728,0.68691072397250819]
[null,null,null,"QMAY0.5",null,1570,0.93700000000000006,988.75235412930294,null,null,98.7,"Southwest",103,6063000,"Tenmile Creek near Helena, Montana","06063000 Tenmile Creek near Helena, Montana","1909–28, 1930–54, 1997–98",8.8999999999999996E-2,0.186,32,19,7.1,29,8.8000000000000007,5.0999999999999996,2.4,6,7.6,4.8,2.5,5.7,14,6.8,3.2,10,55,24,9.1,36,175,80,39,115,182,64,19,105,31,9.3000000000000007,3.3,19,4.3,1.5,0.33,3.3,5.8,1.4,0.4,3.4,14,5.6,1.9,8.6999999999999993,13,7.2,3.5,8.8000000000000007,9.9,4.5999999999999996,2.2999999999999998,6.2,null,null,0.68815821355589857,0.88461255029574126,0.85184680204820939,0.67188949641681683]
[null,null,null,"QMAY0.8",null,860,0.92200000000000004,545.6335140460784,null,null,44.6,"Southwest",106,6068500,"Little Prickly Pear Creek near Marysville, Montana","06068500 Little Prickly Pear Creek near Marysville, Montana","1914, 1916–25, 1927–32","--","--","--","--","--","--","--","--","--","--","--","--","--","--",12,7.3,5.0999999999999996,9.6,48,20,11,30,127,71,38,87,115,56,30,78,41,29,17,32,25,19,12,19,18,15,9.1999999999999993,14,"--","--","--","--","--","--","--","--","--","--","--","--",null,null,0.71701399525610066,0.87799148195497678,0.92746500427245604,0.6958023394420777]
[null,null,null,"QMAYMEAN",null,1800,0.92500000000000004,1140.3342011857144,null,null,182,"Southwest",107,6071000,"Little Prickly Pear Creek near Canyon Creek, Montana","06071000 Little Prickly Pear Creek near Canyon Creek, Montana","1909–11, 1913–16, 1918–24","--",0.89900000000000002,"--","--","--","--","--","--","--","--","--","--","--","--","--","--","--","--",119,66,40,83,289,167,67,189,221,92,17,111,47,13,4.3,32,23,6.8,2.1,13,30,18,7.7,20,34,20,13,22,37,27,20,28,"--","--","--","--",null,null,0.73369722513829472,0.85729103163015563,0.85079362651860058,0.74752195019968837]
[null,null,null,"QJUN0.2",null,3900,1.006,2373.9131502341493,null,null,391,"Southwest",109,6071300,"Little Prickly Pear Creek at Wolf Creek, Montana","06071300 Little Prickly Pear Creek at Wolf Creek, Montana","1962–67, 1992–2009",15.048,20.274000000000001,98,65,31,85,56,43,30,44,60,43,26,56,81,58,42,65,181,91,65,128,373,161,75,227,281,143,63,194,106,61,37,75,55,39,24,43,54,36,26,45,52,42,33,48,62,49,38,52,59,47,34,48,null,null,0.71804703436605888,0.8633982108744539,0.83834307717190981,0.767422258070657]
[null,null,null,"QJUN0.5",null,2720,1.0089999999999999,1653.2029879182007,null,null,115,"Northwest",112,6073000,"Dearborn River near Clemons, Montana","06073000 Dearborn River near Clemons, Montana","1921–23, 1929–32, 1934–53",10.509,11.587,161,79,36,131,46,29,23,33,43,31,23,33,43,32,24,37,197,68,31,129,554,322,156,375,683,346,144,451,187,82,31,123,68,35,18,47,52,27,14,35,60,41,22,44,60,37,28,46,55,33,25,41,null,null,0.70721970359429465,0.88280636506275467,0.74772212295250629,0.74686900191242978]
[null,null,null,"QJUN0.8",null,1770,1,1080.5860805860807,null,null,43.1,"Upper Yellowstone-Central Mountain",122,6077000,"Sheep Creek near White Sulphur Springs, Montana","06077000 Sheep Creek near White Sulphur Springs, Montana","1942–72",4.875,11.670999999999999,42,16,8.1999999999999993,32,12,9.1,7,9.1999999999999993,11,8.8000000000000007,7.2,9.1,11,8.6999999999999993,7,9.3000000000000007,28,14,9.6999999999999993,21,140,79,41,95,156,98,62,115,57,39,29,43,29,22,17,23,22,17,14,18,18,15,12,16,15,13,10,13,12,10,8,10,null,null,0.72420123571895234,0.85839774077192732,0.83203340437416806,0.74893318849944923]
[null,null,null,"QJUNMEAN",null,2890,0.98499999999999999,1777.4551609589212,null,null,1588,"Upper Yellowstone-Central Mountain",125,6077500,"Smith River near Eden, Montana","06077500 Smith River near Eden, Montana","1951–69, 2006–8",14.282999999999999,49.012,450,249,101,338,150,82,47,99,181,120,72,137,252,148,91,184,532,296,183,388,1360,790,419,938,1690,852,490,1140,524,278,158,355,224,128,74,149,177,113,72,145,185,136,95,163,185,128,90,150,142,96,55,110,null,null,0.7760151952237625,0.8255402081065244,0.84425109927024777,0.78206751610458725]
[null,null,null,"QJUL0.2",null,1700,0.95399999999999996,1061.6795772542439,null,null,259,"Northwest",129,6078500,"North Fork Sun River near Augusta, Montana","06078500 North Fork Sun River near Augusta, Montana","1946–68, 1989–92, 2008",36.170999999999999,80.328999999999994,712,455,198,363,80,64,53,66,78,63,52,66,80,63,52,68,383,164,78,271,1900,1160,585,1270,2090,1350,757,1470,659,371,241,487,212,162,128,172,151,114,95,129,150,105,83,122,122,91,73,100,102,74,60,82,null,null,0.77931258167834894,0.87275990234037992,0.79520324421821886,0.79704779144695947]
[null,null,null,"QJUL0.5",null,1040,0.89800000000000002,667.69705301551483,null,null,609,"Northwest",131,6080000,"Sun River near Augusta, Montana","06080000 Sun River near Augusta, Montana","1905–22, 1924–25","--",164.18899999999999,"--","--","--","--","--","--","--","--",281,195,134,224,356,185,132,239,1180,473,239,742,3730,2330,1370,2650,5240,3050,1700,3660,1680,979,569,1270,612,392,264,452,443,316,243,344,386,316,208,305,414,283,175,310,300,227,146,231,null,null,0.77563199442972663,0.91669932886744476,0.76673414740638524,0.81554721477489289]
[null,null,null,"QJUL0.8",null,686,0.85199999999999998,450.53514536706479,null,null,95.1,"Northwest",133,6081500,"Willow Creek near Augusta, Montana","06081500 Willow Creek near Augusta, Montana","1905–25",1.2330000000000001,4.6349999999999998,41,26,10,36,15,8.6999999999999993,5.0999999999999996,12,25,16,6.8,19,21,13,5.5,16,35,20,11,24,79,48,22,67,124,58,22,99,56,26,9.5,39,29,14,3,18,20,10,4.7,13,22,14,7.6,15,18,13,9.1999999999999993,14,14,9.3000000000000007,5.3,11,null,null,0.76902786828532133,0.8454946586828026,0.832739759746013,0.78304239564918021]
[null,null,null,"QJULMEAN",null,1260,0.92700000000000005,797.44651091056255,null,null,165,"Northwest",134,6084500,"Elk Creek at Augusta, Montana","06084500 Elk Creek at Augusta, Montana","1905–08, 1910–19, 1921–24","--",4.3559999999999999,"--","--","--","--","--","--","--","--","--","--","--","--","--","--","--","--",97,58,33,69,386,178,55,262,552,238,86,385,167,68,26,105,67,34,12,45,61,31,9,34,68,42,23,48,"--","--","--","--","--","--","--","--",null,null,0.75954115946724543,0.75766259238950906,0.8723993453525094,0.84351331438941124]
[null,null,null,"QAUG0.2",null,726,0.85099999999999998,477.04076632161605,null,null,355,"Upper Yellowstone-Central Mountain",143,6090500,"Belt Creek near Monarch, Montana","06090500 Belt Creek near Monarch, Montana","1951–82",5.3849999999999998,36.149000000000001,340,213,86,192,39,28,18,29,42,30,18,31,47,30,19,36,190,77,36,127,991,559,292,697,1270,638,303,819,318,179,103,226,125,82,58,91,87,62,44,74,83,56,38,68,63,45,31,50,47,33,20,35,null,null,0.79002806463471287,0.81379831001976155,0.85223278170823225,0.88353989637721742]
[null,null,null,"QAUG0.5",null,556,0.83799999999999997,367.68824487489934,null,null,320,"Northwest",149,6092000,"Two Medicine River near Browning, Montana","06092000 Two Medicine River near Browning, Montana","1910–11, 1913–24, 1951–77",2.9660000000000002,9.3989999999999991,1130,707,284,361,110,66,36,79,114,72,45,88,177,92,42,135,764,345,152,475,1860,1250,808,1400,2200,1170,473,1450,599,271,112,383,139,69,27,91,142,65,24,101,205,92,40,131,171,84,47,112,142,71,32,92,null,null,0.81307445939314316,0.89221585675063642,0.82302953487943487,0.93356591086923635]
[null,null,null,"QAUG0.8",null,449,0.748,310.4127460091982,null,null,126,"Northwest",150,6092500,"Badger Creek near Browning, Montana","06092500 Badger Creek near Browning, Montana","1951–73",36.076000000000001,93.884,544,348,153,229,103,85,61,83,104,90,70,92,109,89,73,96,233,136,94,179,923,601,349,651,1090,649,373,753,369,245,181,287,189,154,125,158,147,123,105,128,157,122,109,132,136,113,87,112,122,97,69,95,null,null,0.77918122497840547,0.7704340241324501,0.86082907110129747,0.85561712591153627]
[null,null,null,"QAUGMEAN",null,595,0.83199999999999996,394.64608884557896,null,null,121,"Northwest",158,6098500,"Cut Bank Creek near Browning, Montana","06098500 Cut Bank Creek near Browning, Montana","1920, 1922, 1991–2007, 2009",9.4960000000000004,16.102,196,91,40,123,41,28,21,34,42,27,19,37,70,43,24,59,196,106,58,133,577,335,196,399,685,415,255,475,256,141,75,172,85,49,23,55,59,35,19,39,75,43,28,56,81,58,34,69,48,33,24,41,null,null,0.79561602566080469,0.77176046809423915,0.88642448528123807,0.97509157232683097]
[null,null,null,"QSEP0.2",null,568,0.84399999999999997,374.51343882166941,null,null,110,"Northwest",178,6102500,"Teton River below South Fork, near Choteau, Montana","06102500 Teton River below South Fork, near Choteau, Montana","1948–54, 1998–2001, 2004–8","--",57.679000000000002,"--","--","--","--","--","--","--","--","--","--","--","--","--","--","--","--",95,66,49,78,457,245,130,312,630,333,210,447,302,147,99,208,133,97,73,106,98,79,63,82,87,73,58,75,"--","--","--","--","--","--","--","--",null,null,0.81036596787255089,0.77148606277352094,0.87898121178458877,1.0372360101602156]
[null,null,null,"QSEP0.5",null,460,0.79500000000000004,310.72649286134634,null,null,49.9,"Upper Yellowstone-Central Mountain",190,6109800,"South Fork Judith River near Utica, Montana","06109800 South Fork Judith River near Utica, Montana","1959–79",2.0150000000000001,4.97,34,21,9.1,23,4.8,3.8,3,3.9,4.5,3.9,3.4,4,5.5,4,3.2,5.0999999999999996,31,12,5.8,21,159,79,38,104,103,53,24,73,32,20,12,23,15,11,7.4,12,10,8.1999999999999993,5.7,8.4,8.1999999999999993,6.6,5.0999999999999996,6.8,6.4,5.4,3.9,5.3,5.4,4.4000000000000004,3.5,4.4000000000000004,null,null,0.82019830296110563,0.8178547614944589,0.87423921726987652,1.1062682372147135]
[null,null,null,"QSEP0.8",null,382,0.76700000000000002,261.6282303077229,null,null,312,"Upper Yellowstone-Central Mountain",192,6110000,"Judith River near Utica, Montana","06110000 Judith River near Utica, Montana","1920–29, 1934–75",0.40100000000000002,4.7450000000000001,70,39,16,57,4.7,3.1,1.8,3.3,3.2,2.1,1.2,2.2999999999999998,3.6,2.2000000000000002,0.89,2.5,27,9.6999999999999993,3.9,25,321,154,47,193,419,228,98,271,131,66,26,85,44,23,11,29,25,14,6.9,17,19,11,5.0999999999999996,13,13,8.9,4.7,10,8.3000000000000007,5.5,3.2,6.3,null,null,0.79785572735165511,0.78366634079045494,0.89001034604049512,0.99942402855095469]
[null,null,null,"QSEPMEAN",null,477,0.83299999999999996,316.22405432764691,null,null,340,"Upper Yellowstone-Central Mountain",193,6111000,"Ross Fork Creek near Hobson, Montana","06111000 Ross Fork Creek near Hobson, Montana","1946–53, 1955–62","--",0,52,28,4.9000000000000004,14,3,1.6,0.87,2.1,6.5,3,1.1000000000000001,4.9000000000000004,73,27,11,63,61,25,10,49,55,35,14,27,38,23,8.6,24,6.3,2.9,0.74,3.9,1.7,0.5,0,1.1000000000000001,0.77,9.0444444444444452E-3,0,0.44,2,0.65,0,0.97,3.3,1.8,0.81,2.1,3.3,2.1,1.4,2.7,null,null,0.80713755633155493,0.79432063181860157,0.91663260502719002,0.95281551293381705]
[null,null,null,"QOCT0.2",null,529,0.872,344.01228624447793,null,null,116.08,"Upper Yellowstone-Central Mountain",197,6114500,"Wolf Creek near Stanford, Montana","06114500 Wolf Creek near Stanford, Montana","1950–53, 1955–58, 1960–62","--",1.32,"--","--","--","--","--","--","--","--","--","--","--","--",3.8,2.4,1.2,2.4,5.0999999999999996,3.1,1.3,3.3,5.3,4,1.8,4.5,17,11,4.7,25,9.5,6.6,2.4,6.9,7.7,4.9000000000000004,2.2000000000000002,5,6.3,3.9,1.7,4,5.8,4.0999999999999996,1.5,3.7,4.9000000000000004,3.3,1.4,3.2,4.0999999999999996,2.2000000000000002,1.4,2.7,null,null,0.80980753370769931,0.80165775392819494,0.91652179626360175,1.0164290050048717]
[null,null,null,"QOCT0.5",null,425,0.85199999999999998,279.12162796064507,null,null,37.299999999999997,"Upper Yellowstone-Central Mountain",205,6115500,"North Fork Musselshell River near Delpine, Montana","06115500 North Fork Musselshell River near Delpine, Montana","1940–78",2.5569999999999999,3.4740000000000002,17,8.5,4.2,12,7.1,5.5,4.4000000000000004,5.7,7.6,5.7,4.3,6.3,11,6.1,3.5,9.1999999999999993,26,15,8.6,19,40,24,12,27,43,28,14,29,20,13,7.5,14,13,8.6999999999999993,4.9000000000000004,9,10,7.3,4,7.4,9.4,6.7,4.0999999999999996,7,8.9,7.2,5.6,7.4,7.6,6.2,4.7,6.4,null,null,0.82431149117590652,0.83191815435624261,0.90167313853257824,1.0963704576349089]
[null,null,null,"QOCT0.8",null,360,0.82299999999999995,239.84030245911833,null,null,268,"Upper Yellowstone-Central Mountain",209,6118500,"South Fork Musselshell River above Martinsdale, Montana","06118500 South Fork Musselshell River above Martinsdale, Montana","1942–79",1.389,4.2910000000000004,153,96,38,91,23,18,10,18,25,18,12,20,45,22,12,35,169,84,39,112,515,269,134,334,556,308,118,365,121,58,22,80,39,19,9.8000000000000007,25,33,19,8.9,23,40,28,16,31,35,26,18,28,29,21,10,22,null,null,0.8104159081780048,0.79143245317513611,0.91722426172305149,0.97711321171702115]
[null,null,null,"QOCTMEAN",null,442,0.86099999999999999,289.0001070772019,null,null,1108,"Upper Yellowstone-Central Mountain",212,6120500,"Musselshell River at Harlowton, Montana","06120500 Musselshell River at Harlowton, Montana","1909–32, 1934–55",0,0,170,79,26,137,74,44,26,50,73,50,24,54,151,72,36,128,327,161,70,218,746,352,102,459,876,395,101,535,221,87,25,145,90,35,4.5,54,84,42,3.6,53,116,65,21,72,117,74,38,79,93,53,28,64]
[null,null,null,"QNOV0.2",null,442,0.88600000000000001,285.45664437585452,null,null,79.099999999999994,"Upper Yellowstone-Central Mountain",217,6121000,"American Fork near Harlowton, Montana","06121000 American Fork near Harlowton, Montana","1908, 1911, 1913, 1924–32","--",0,"--","--","--","--","--","--","--","--","--","--","--","--","--","--","--","--",6.6,4.0999999999999996,2,5.9,88,18,5.5,46,166,44,11,93,11,1.9,0,8.8000000000000007,2.5,0,0,1.6,3.6,0.36,0,1.7,5.9,3.6,1.4,4.0999999999999996,"--","--","--","--","--","--","--","--"]
[null,null,null,"QNOV0.5",null,364,0.879,235.89539764282441,null,null,54.6,"Upper Yellowstone-Central Mountain",218,6121500,"Lebo Creek near Harlowton, Montana","06121500 Lebo Creek near Harlowton, Montana","1909–11, 1913, 1924–31","--",1.431,"--","--","--","--","--","--","--","--","--","--","--","--","--","--","--","--",22,16,8.6,16,26,15,4.8,18,28,8.1,2.2999999999999998,16,11,4.9000000000000004,2.1,7.6,14,7.1,2.8,8.4,19,13,3.8,12,20,16,9.5,15,"--","--","--","--","--","--","--","--"]
[null,null,null,"QNOV0.8",null,298,0.874,193.60025175689526,null,null,171,"Upper Yellowstone-Central Mountain",219,6122000,"American Fork below Lebo Creek, near Harlowton, Montana","06122000 American Fork below Lebo Creek, near Harlowton, Montana","1946–67",0.25600000000000001,1.468,43,27,11,31,17,13,7.8,13,21,15,9.1999999999999993,17,27,18,10,23,32,20,13,23,112,42,13,70,204,75,25,130,39,19,7.5,30,16,8.1,3.9,10,16,8.5,3.9,12,20,11,4.7,13,20,14,8.3000000000000007,15,19,13,8.8000000000000007,15]
[null,null,null,"QNOVMEAN",null,371,0.89,239.13026267632185,null,null,69.099999999999994,"Northwest",268,6132200,"South Fork Milk River near Babb, Montana","06132200 South Fork Milk River near Babb, Montana","1961–2007, 2009","--",2.7469999999999999,"--","--","--","--","--","--","--","--","--","--","--","--",38,17,7.5,31,89,49,25,63,122,60,31,82,175,109,43,86,53,27,10,35,26,14,4.5,17,21,11,4.7,14,23,15,8.1999999999999993,17,"--","--","--","--","--","--","--","--"]
[null,null,null,"QDEC0.2",null,362,0.91700000000000004,230.24103379064974,null,null,60.8,"Northwest",272,6133500,"North Fork Milk River above St. Mary Canal, near Browning, Montana","06133500 North Fork Milk River above St. Mary Canal, near Browning, Montana","1929, 1931, 1933, 1936–37, 1939–46, 1950, 1952–53, 1956, 1961, 1965–2009","--",6.45,"--","--","--","--","--","--","--","--","--","--","--","--",31,21,10,23,49,32,15,36,46,30,13,33,39,25,12,30,26,15,7.3,19,23,13,7.7,16,25,14,6.3,17,24,15,10,17,"--","--","--","--","--","--","--","--"]
[null,null,null,"QDEC0.5",null,303,0.91700000000000004,192.71556143250518,null,null,198,"Upper Yellowstone-Central Mountain",423,6191000,"Gardner River near Mammoth, Yellowstone National Park, Wyoming","06191000 Gardner River near Mammoth, Yellowstone National Park, Wyoming","1939–72, 1984–2009",71.063999999999993,104.46,249,127,78,213,106,96,84,96,100,92,84,93,102,93,84,94,171,114,93,141,735,447,256,511,976,642,395,695,394,251,172,296,191,152,124,159,159,132,113,135,144,123,107,126,127,110,96,111,114,101,88,101]
[null,null,null,"QDEC0.8",null,255,0.90200000000000002,163.39134393027524,null,null,2616,"Upper Yellowstone-Central Mountain",424,6191500,"Yellowstone River at Corwin Springs, Montana","06191500 Yellowstone River at Corwin Springs, Montana","1911–32, 1934–2009",500.92599999999999,1104.489,4670,1410,768,3140,1010,800,646,822,1000,807,646,823,1050,885,728,893,1890,1270,967,1570,9270,5390,2760,6250,15000,10700,7370,11500,9210,6020,3840,6690,4080,2920,2100,3120,2380,1870,1460,1920,1820,1440,1160,1500,1400,1160,928,1180,1130,933,755,941]
[null,null,null,"QDECMEAN",null,309,0.91700000000000004,196.53171116384192,null,null,90.9,"Upper Yellowstone-Central Mountain",426,6193000,"Shields River near Wilsall, Montana","06193000 Shields River near Wilsall, Montana","1935–57",4.9180000000000001,7.81,79,40,17,63,15,11,7.5,11,15,10,7.7,11,14,11,7.9,12,94,31,13,61,320,175,94,221,360,197,105,242,98,42,26,63,27,18,13,21,21,14,9.1999999999999993,16,23,17,12,19,21,15,11,16,17,13,9.5,14]
[null,null,null,null,null,null,null,null,null,null,539,"Upper Yellowstone-Central Mountain",427,6193500,"Shields River at Clyde Park, Montana","06193500 Shields River at Clyde Park, Montana","1921–23, 1929–32, 1934–67",7.5910000000000002,10.776999999999999,230,89,37,164,57,42,33,46,69,45,26,57,121,79,37,103,374,185,102,252,684,410,218,485,779,440,183,507,213,94,37,133,67,37,15,47,78,44,20,54,91,61,40,70,84,64,46,66,68,48,34,53]
[null,null,null,null,null,null,null,null,null,null,58.1,"Upper Yellowstone-Central Mountain",428,6194000,"Brackett Creek near Clyde Park, Montana","06194000 Brackett Creek near Clyde Park, Montana","1921–23, 1934–35, 1938–57",1.996,4.5259999999999998,43,16,6.7,30,9.3000000000000007,6.1,4.3,7.1,9,6.2,4,7.2,12,8.1,4.0999999999999996,11,68,31,14,46,146,87,53,102,112,65,35,77,41,24,12,28,16,9.1999999999999993,5.6,11,13,9.6,6.2,9.8000000000000007,13,9.8000000000000007,7.4,11,12,8.8000000000000007,6.2,9.8000000000000007,11,6.7,5,8.4]
[null,null,null,null,null,null,null,null,null,null,75.3,"Upper Yellowstone-Central Mountain",430,6197000,"Big Timber Creek near Big Timber, Montana","06197000 Big Timber Creek near Big Timber, Montana","1912–16, 1918–23","--",12.481,"--","--","--","--","--","--","--","--","--","--","--","--","--","--","--","--",66,43,25,48,234,116,67,145,407,278,176,310,258,149,76,176,77,47,29,56,44,32,21,35,43,29,17,31,33,26,19,25,"--","--","--","--"]
[null,null,null,null,null,null,null,null,null,null,225,"Upper Yellowstone-Central Mountain",431,6197500,"Boulder River near Contact, Montana","06197500 Boulder River near Contact, Montana","1910–15, 1951–69, 1971–74, 1982–83",39.901000000000003,84.617999999999995,484,153,72,375,70,62,53,63,64,57,51,58,61,55,49,55,116,77,50,101,1040,518,198,679,2670,1800,1130,1930,1420,825,489,994,380,235,168,277,190,145,117,158,175,127,90,133,114,91,73,94,87,70,60,73]
[null,null,null,null,null,null,null,null,null,null,525,"Upper Yellowstone-Central Mountain",432,6200000,"Boulder River at Big Timber, Montana","06200000 Boulder River at Big Timber, Montana","1947–53, 1955–2009",38.484999999999999,60.268000000000001,608,227,97,554,163,130,98,134,150,124,99,126,144,123,105,127,258,172,121,212,1810,874,375,1150,3740,2480,1540,2710,1870,947,383,1240,364,177,91,235,269,155,77,182,282,203,141,214,232,185,147,189,188,154,112,152]
[null,null,null,null,null,null,null,null,null,null,60.4,"Upper Yellowstone-Central Mountain",433,6200500,"Sweet Grass Creek above Melville, Montana","06200500 Sweet Grass Creek above Melville, Montana","1919–21, 1937–69",4.5759999999999996,21.913,121,41,17,86,18,13,9.4,14,14,12,8.1999999999999993,12,13,10,7.4,11,23,17,9.8000000000000007,17,301,131,36,178,523,343,217,385,284,176,109,204,98,65,48,74,55,41,29,44,54,33,24,41,39,28,19,29,25,18,12,18]
[null,null,null,null,null,null,null,null,null,null,147,"Upper Yellowstone-Central Mountain",434,6201000,"Sweet Grass Creek below Melville, Montana","06201000 Sweet Grass Creek below Melville, Montana","1908–10, 1913, 1916, 1918, 1921–24, 1937–42, 1946–52","--",14.756,117,48,21,89,36,27,20,28,30,21,17,24,39,25,15,30,53,35,23,44,280,122,45,174,502,315,168,361,267,130,59,170,78,48,22,57,66,40,23,47,88,64,35,66,70,55,30,52,55,42,27,41]
[null,null,null,null,null,null,null,null,null,null,192,"Upper Yellowstone-Central Mountain",440,6202510,"Stillwater River above Nye Creek, near Nye, Montana","06202510 Stillwater River above Nye Creek, near Nye, Montana","1980–91",30.71,81.003,471,154,72,373,68,54,44,56,61,52,43,52,58,49,42,51,185,90,51,138,1210,628,205,781,2650,1660,950,1810,1410,666,406,912,364,283,199,294,204,160,119,169,149,121,84,127,106,81,62,88,78,63,47,63]
[null,null,null,null,null,null,null,null,null,null,396,"Upper Yellowstone-Central Mountain",442,6204500,"Rosebud Creek near Absarokee, Montana","06204500 Rosebud Creek near Absarokee, Montana","1935–69",74.739000000000004,170.749,582,242,116,405,180,146,118,149,170,143,116,149,207,151,116,165,271,192,131,212,722,427,256,526,1630,1050,709,1200,1410,961,648,1060,611,431,292,464,391,296,220,310,292,240,190,246,233,202,167,200,198,166,133,166]
[null,null,null,null,null,null,null,null,null,null,976,"Upper Yellowstone-Central Mountain",443,6205000,"Stillwater River near Absarokee, Montana","06205000 Stillwater River near Absarokee, Montana","1911–13, 1935–98, 2000–9",139.702,330.45800000000003,1280,448,212,932,333,275,216,280,312,263,213,268,346,255,199,283,520,353,257,408,2290,1180,640,1510,4720,3150,2040,3440,3180,2060,1230,2310,1190,785,539,879,769,567,401,601,623,497,391,514,475,407,334,404,378,318,249,317]
[null,null,null,null,null,null,null,null,null,null,1152,"Upper Yellowstone-Central Mountain",445,6207500,"Clarks Fork Yellowstone River near Belfry, Montana","06207500 Clarks Fork Yellowstone River near Belfry, Montana","1922–23, 1926–32, 1934–2009",71.978999999999999,110.354,1260,362,163,928,282,235,195,241,263,231,196,233,256,221,187,232,544,300,215,424,3250,1620,671,2070,5650,3670,2360,4080,3230,1850,952,2180,878,497,275,598,433,257,153,303,380,245,150,271,369,285,210,293,321,264,212,267]
[null,null,null,null,null,null,null,null,null,null,28.1,"Upper Yellowstone-Central Mountain",447,6207800,"Bluewater Creek near Bridger, Montana","06207800 Bluewater Creek near Bridger, Montana","1960–70","--",23.341999999999999,30,28,26,28,31,30,27,29,31,29,27,29,31,29,28,29,31,29,28,29,30,28,27,28,29,27,25,28,29,25,24,26,28,26,25,26,30,27,26,28,30,28,27,28,31,29,27,29,31,29,27,29]
[null,null,null,null,null,null,null,null,null,null,105,"Upper Yellowstone-Central Mountain",450,6209500,"Rock Creek near Red Lodge, Montana","06209500 Rock Creek near Red Lodge, Montana","1932, 1934–82, 1985–86, 2000–9",19.864999999999998,57.823999999999998,273,84,41,168,39,34,28,33,34,31,25,30,33,28,24,29,44,35,27,39,332,147,62,217,797,513,330,577,625,435,309,482,311,237,183,253,176,135,102,140,98,75,62,80,64,53,44,54,47,40,33,41]
[null,null,null,null,null,null,null,null,null,null,51.1,"Upper Yellowstone-Central Mountain",451,6210000,"West Fork Rock Creek below Basin Creek, near Red Lodge, Montana","06210000 West Fork Rock Creek below Basin Creek, near Red Lodge, Montana","1938–56","--",27.545000000000002,"--","--","--","--","--","--","--","--","--","--","--","--","--","--","--","--","--","--","--","--",172,88,46,120,377,255,163,277,325,220,164,246,148,108,82,118,79,63,48,64,46,37,30,40,"--","--","--","--","--","--","--","--"]
[null,null,null,null,null,null,null,null,null,null,142,"Upper Yellowstone-Central Mountain",453,6211000,"Red Lodge Creek above Cooney Reservoir, near Boyd, Montana","06211000 Red Lodge Creek above Cooney Reservoir, near Boyd, Montana","1937–42, 1944–48, 1950–2008","--",12.093,"--","--","--","--","--","--","--","--","--","--","--","--","--","--","--","--",114,59,33,74,223,113,45,153,278,158,70,185,129,71,34,88,55,32,19,39,66,41,22,46,60,44,29,47,44,32,23,33,"--","--","--","--"]
[null,null,null,null,null,null,null,null,null,null,49.2,"Upper Yellowstone-Central Mountain",454,6211500,"Willow Creek near Boyd, Montana","06211500 Willow Creek near Boyd, Montana","1937–2004, 2006–8","--",15.526,"--","--","--","--","--","--","--","--","--","--","--","--","--","--","--","--",47,26,15,33,70,33,13,47,77,48,20,55,71,55,36,55,52,38,25,39,47,34,24,36,37,29,23,30,27,22,17,22,"--","--","--","--"]
[null,null,null,null,null,null,null,null,null,null,118,"Upper Yellowstone-Central Mountain",460,6216000,"Pryor Creek at Pryor, Montana","06216000 Pryor Creek at Pryor, Montana","1922–23, 1967–2009",6.306,8.4009999999999998,55,35,16,30,34,26,20,28,34,27,21,29,37,27,22,30,39,27,22,31,68,46,23,51,53,29,15,39,30,18,10,22,28,18,10,19,32,23,15,25,38,29,21,30,36,28,21,30,35,27,20,29]
[null,null,null,null,null,null,null,null,null,null,574,"Upper Yellowstone-Central Mountain",464,6216900,"Pryor Creek near Huntley, Montana","06216900 Pryor Creek near Huntley, Montana","1979–2000",0.85699999999999998,2.843,78,46,19,63,63,44,30,51,77,52,32,66,128,67,35,103,112,66,44,86,169,70,34,126,107,57,27,74,49,17,5.7,31,37,17,5.5,22,45,30,18,32,62,46,33,50,62,48,34,50,64,46,34,49]
[null,null,null,null,null,null,null,null,null,null,94.4,"Upper Yellowstone-Central Mountain",471,6287500,"Soap Creek near St. Xavier, Montana","06287500 Soap Creek near St. Xavier, Montana","1913, 1939–53, 1968–72",5.7190000000000003,11.71,41,27,11,31,27,19,13,22,39,21,13,31,61,33,18,45,53,36,21,41,56,33,18,48,56,32,18,46,34,24,12,25,26,19,12,19,26,20,13,21,28,23,17,24,27,24,16,22,24,19,14,19]
[null,null,null,null,null,null,null,null,null,null,146,"Upper Yellowstone-Central Mountain",472,6288000,"Rotten Grass Creek near St. Xavier, Montana","06288000 Rotten Grass Creek near St. Xavier, Montana","1913–17, 1919, 1968–72","--",3.1589999999999998,"--","--","--","--","--","--","--","--","--","--","--","--","--","--","--","--","--","--","--","--",69,38,16,54,67,29,11,50,27,17,6.7,22,14,7.9,2.8,8.8000000000000007,12,9.3000000000000007,4.5999999999999996,9.1,14,9.6999999999999993,6.5,11,"--","--","--","--","--","--","--","--"]
[null,null,null,null,null,null,null,null,null,null,123,"Upper Yellowstone-Central Mountain",473,6288200,"Beauvais Creek near St. Xavier, Montana","06288200 Beauvais Creek near St. Xavier, Montana","1967–77","--",4.2590000000000003,28,18,7.4,24,13,7.1,3.1,9.8000000000000007,18,9.5,4.2,16,30,15,8.1999999999999993,23,60,27,12,47,140,34,18,72,64,27,14,45,23,13,6.8,18,13,8.5,4.3,9.8000000000000007,12,7.1,4.5,8.6999999999999993,27,18,8.9,15,26,17,8.1999999999999993,12,8.5,6.1,3.6,6.4]
[null,null,null,null,null,null,null,null,null,null,182,"Upper Yellowstone-Central Mountain",475,6289000,"Little Bighorn River at State line, near Wyola, Montana","06289000 Little Bighorn River at State line, near Wyola, Montana","1939–2009",35.319000000000003,69.231999999999999,177,82,43,148,73,62,52,62,69,61,53,61,69,60,54,61,94,73,60,84,489,272,138,327,752,436,262,509,277,190,129,215,148,117,92,121,115,95,79,97,99,83,71,85,87,73,62,74,79,67,56,67]
[null,null,null,null,null,null,null,null,null,null,113,"Upper Yellowstone-Central Mountain",477,6290000,"Pass Creek near Wyola, Montana","06290000 Pass Creek near Wyola, Montana","1935–56, 1983–2009",0,2.0150000000000001,71,44,18,35,23,15,9.9,17,33,18,9.4,23,53,29,15,38,71,40,23,50,134,73,40,97,136,66,27,87,42,20,7.5,26,20,8.5,3,12,19,10,4.8,12,22,17,10,17,23,17,13,18,21,15,11,16]
[null,null,null,null,null,null,null,null,null,null,426,"Upper Yellowstone-Central Mountain",479,6290500,"Little Bighorn River below Pass Creek, near Wyola, Montana","06290500 Little Bighorn River below Pass Creek, near Wyola, Montana","1939–58, 1960–75, 1977–2004",37.792000000000002,57.816000000000003,232,149,67,202,124,101,79,104,137,102,77,114,161,116,92,139,230,157,110,181,658,393,200,458,946,517,281,626,320,188,106,228,149,107,67,111,139,103,71,107,144,122,97,121,136,118,100,118,125,104,84,106]
[null,null,null,null,null,null,null,null,null,null,163,"Upper Yellowstone-Central Mountain",480,6291000,"Owl Creek near Lodge Grass, Montana","06291000 Owl Creek near Lodge Grass, Montana","1939–45, 1980–92",0.111,0.20699999999999999,15,9.4,3.6,9.9,7.9,5.3,3.1,6,11,6.7,3.2,14,34,12,5,24,23,12,5.8,17,22,12,5.0999999999999996,20,22,14,5.7,16,6.9,3.4,1.1000000000000001,4.7,3.8,1.1000000000000001,0.19,2.1,3.7,1.6,0.26,2.1,5.2,3.3,1.4,3.7,6.5,4,2.1,4.5,8,5.5,3.3,6.3]
[null,null,null,null,null,null,null,null,null,null,83.9,"Upper Yellowstone-Central Mountain",481,6291500,"Lodge Grass Creek above Willow Creek diversion, near Wyola, Montana","06291500 Lodge Grass Creek above Willow Creek diversion, near Wyola, Montana","1939–74, 1983–2009",5.7030000000000003,13.055999999999999,57,25,12,47,20,16,11,16,21,16,11,17,25,18,13,20,42,25,11,31,178,96,48,118,295,161,88,193,85,53,32,62,38,25,17,28,29,21,14,22,26,20,15,21,23,18,14,19,20,16,12,16]
[null,null,null,null,null,null,null,null,null,null,1294,"Upper Yellowstone-Central Mountain",484,6294000,"Little Bighorn River near Hardin, Montana","06294000 Little Bighorn River near Hardin, Montana","1953–2009",11.393000000000001,29.201000000000001,517,323,129,272,170,124,84,136,222,145,98,192,364,207,134,299,392,240,154,302,942,461,190,596,1280,654,295,812,372,171,72,253,168,105,50,115,181,118,57,124,194,150,105,151,184,147,109,149,167,125,94,132]
[null,null,null,null,null,null,null,null,null,null,419,"West",596,12301300,"Tobacco River near Eureka, Montana","12301300 Tobacco River near Eureka, Montana","1959–2009",37.594999999999999,56.110999999999997,415,147,66,263,130,90,63,102,130,97,57,109,191,124,87,156,599,340,186,415,1020,687,471,756,980,700,433,727,443,253,149,298,170,114,71,122,137,102,70,107,139,103,76,112,157,110,81,131,137,96,71,113]
[null,null,null,null,null,null,null,null,null,null,216,"West",605,12301999,"Wolf Creek near Libby, Montana","12301999 Wolf Creek near Libby, Montana","1968–77","--","--",75,33,15,70,19,11,5.7,22,37,14,6.6,27,69,33,16,69,479,136,51,263,463,262,117,296,122,65,37,82,36,22,11,30,14,12,7.4,11,12,9.1999999999999993,6.9,9.1999999999999993,12,10,8.6,11,13,11,8.6,11,15,9.6,7.9,12]
[null,null,null,null,null,null,null,null,null,null,842,"West",607,12302055,"Fisher River near Libby, Montana","12302055 Fisher River near Libby, Montana","1968–2009",57.314,73.902000000000001,735,255,121,468,323,201,99,248,351,224,117,327,758,379,187,570,1740,940,532,1180,1930,1190,731,1380,1160,745,354,799,402,236,142,281,176,128,86,134,140,112,81,114,155,117,93,131,273,161,89,223,283,160,87,234]
[null,null,null,null,null,null,null,null,null,null,23.7,"West",609,12302500,"Granite Creek near Libby, Montana","12302500 Granite Creek near Libby, Montana","1933, 1937–43, 1961–69",5.3710000000000004,6.4589999999999996,115,53,24,71,26,19,13,20,35,17,9.3000000000000007,26,42,23,15,31,153,84,44,116,325,216,135,234,306,210,125,224,104,57,34,72,29,21,12,22,24,13,7.5,18,41,19,8.6,27,46,25,12,33,47,31,15,39]
[null,null,null,null,null,null,null,null,null,null,11.2,"West",611,12303100,"Flower Creek near Libby, Montana","12303100 Flower Creek near Libby, Montana","1961–92",3.8370000000000002,4.9169999999999998,37,13,6.9,26,14,9.8000000000000007,5.7,9.1,12,7.3,4.7,9.3000000000000007,15,9,5.4,11,43,22,12,31,123,73,41,84,125,81,46,88,43,23,13,29,13,9.6,6.8,10,9.8000000000000007,7.7,6.1,8.4,12,8,5.5,9.1,16,8.8000000000000007,5.2,13,14,10,6,10]
[null,null,null,null,null,null,null,null,null,null,204,"West",614,12303500,"Lake Creek at Troy, Montana","12303500 Lake Creek at Troy, Montana","1945–57, 1983–96",76.084000000000003,102.337,649,258,131,428,331,188,113,232,364,203,114,286,451,266,166,305,850,559,312,611,1590,1120,722,1190,1460,966,551,1030,607,352,233,438,255,197,151,206,175,148,123,148,212,143,106,177,358,216,112,270,382,207,124,280]
[null,null,null,null,null,null,null,null,null,null,27.5,"West",615,12304040,"Basin Creek near Yaak, Montana","12304040 Basin Creek near Yaak, Montana","1990–2000","--",6.48,47,16,8.4,32,11,7.2,4.9000000000000004,9.6999999999999993,13,8.1,5.4,12,20,12,7.4,15,83,36,22,53,178,101,64,122,133,72,38,85,43,26,17,30,17,13,8.8000000000000007,14,11,8.8000000000000007,7.1,9.5,12,8.4,6.8,9.4,16,10,6.5,16,17,8.6999999999999993,5.4,16]
[null,null,null,null,null,null,null,null,null,null,792,"West",621,12304500,"Yaak River near Troy, Montana","12304500 Yaak River near Troy, Montana","1956–2009",68.602999999999994,93.623999999999995,1260,376,177,836,386,242,127,291,469,254,134,344,845,421,202,601,2750,1540,821,1900,4780,3070,1950,3450,2830,1580,817,1870,683,394,240,479,250,178,121,190,195,143,103,157,225,158,114,192,414,216,116,312,412,228,118,311]
[null,null,null,null,null,null,null,null,null,null,90.9,"West",624,12323240,"Blacktail Creek at Butte, Montana","12323240 Blacktail Creek at Butte, Montana","1989–2009",4.7539999999999996,5.5410000000000004,17,9.6999999999999993,6.1,13,9.9,8.1,7.2,8.6,12,9.3000000000000007,6.9,10,17,12,8.4,14,23,15,11,18,29,18,11,21,32,16,9.1999999999999993,23,14,8.9,6.8,12,12,8.4,6.2,9.4,11,8.3000000000000007,6.4,8.9,12,9.9,7.5,10,12,9.6,7.7,10,11,8.4,7.2,8.9]
[null,null,null,null,null,null,null,null,null,null,40.9,"West",627,12323500,"German Gulch Creek near Ramsay, Montana","12323500 German Gulch Creek near Ramsay, Montana","1956–69",3.6739999999999999,6.8330000000000002,24,11,5.7,21,7.9,6.4,5.4,6.6,8.1,6.4,5.2,6.8,9.8000000000000007,7.1,5.0999999999999996,8.5,25,14,9.6999999999999993,18,95,56,34,65,112,66,39,76,32,19,13,23,14,11,7.9,11,11,9.3000000000000007,7.6,9.6,12,8.6999999999999993,7.4,9.4,9.9,8,6.7,8.1,9.6,7,5.8,7.5]
[null,null,null,null,null,null,null,null,null,null,343,"West",628,12323600,"Silver Bow Creek at Opportunity, Montana","12323600 Silver Bow Creek at Opportunity, Montana","1988–2009",12.337,13.983000000000001,66,41,22,51,42,30,24,34,57,43,28,45,63,43,32,52,83,56,42,65,127,85,48,98,143,79,40,100,65,33,21,43,39,22,15,28,39,27,21,30,44,34,26,35,46,34,26,35,41,28,23,32]
[null,null,null,null,null,null,null,null,null,null,41.1,"West",633,12324100,"Racetrack Creek below Granite Creek, near Anaconda, Montana","12324100 Racetrack Creek below Granite Creek, near Anaconda, Montana","1958–72",14.489000000000001,23.992000000000001,88,33,16,61,23,20,17,20,23,20,18,20,22,19,17,20,32,23,20,27,162,87,42,103,289,226,155,230,130,98,79,108,88,70,53,71,55,43,33,44,41,29,26,33,30,24,21,25,25,21,17,22]
[null,null,null,null,null,null,null,null,null,null,1001,"West",634,12324200,"Clark Fork at Deer Lodge, Montana","12324200 Clark Fork at Deer Lodge, Montana","1979–2009",25.716000000000001,34.195999999999998,330,218,128,251,267,206,157,217,278,214,167,235,310,234,192,255,336,256,194,272,516,329,191,383,781,379,176,493,354,135,59,209,145,82,41,102,234,143,96,165,299,214,156,230,310,229,179,243,271,207,161,217]
[null,null,null,null,null,null,null,null,null,null,414,"West",636,12324590,"Little Blackfoot River near Garrison, Montana","12324590 Little Blackfoot River near Garrison, Montana","1973–2009",12.986000000000001,18.925000000000001,225,143,61,152,76,58,36,62,93,65,37,81,145,89,63,118,336,171,110,228,711,401,194,481,597,298,131,390,187,105,58,131,85,49,26,60,75,48,29,55,91,68,47,71,89,65,53,71,72,56,36,63]
[null,null,null,null,null,null,null,null,null,null,70.5,"West",642,12330000,"Boulder Creek at Maxville, Montana","12330000 Boulder Creek at Maxville, Montana","1939–2009",5.31,6.9909999999999997,51,29,13,45,22,18,15,19,21,19,15,18,21,18,15,19,35,22,17,28,173,89,45,116,256,155,82,173,82,45,22,58,29,17,11,21,24,16,9.3000000000000007,18,30,22,14,23,28,22,18,24,25,21,16,21]
[null,null,null,null,null,null,null,null,null,null,2516,"West",646,12331800,"Clark Fork near Drummond, Montana","12331800 Clark Fork near Drummond, Montana","1993–2009",122.36,152.53800000000001,885,561,379,694,604,473,365,491,683,533,332,569,784,586,460,669,1040,664,540,803,1600,1050,642,1200,2350,1270,697,1550,1010,484,299,679,506,279,189,355,579,370,249,424,708,561,464,580,709,560,476,585,605,480,402,497]
[null,null,null,null,null,null,null,null,null,null,121,"West",648,12332000,"Middle Fork Rock Creek near Philipsburg, Montana","12332000 Middle Fork Rock Creek near Philipsburg, Montana","1938–2009",14.352,34.484000000000002,149,49,23,118,39,31,24,32,39,32,24,33,43,34,27,36,100,55,36,74,497,274,147,337,673,426,258,474,239,144,87,174,89,65,47,69,62,49,39,52,55,45,37,49,50,40,33,43,43,34,27,36]
[null,null,null,null,null,null,null,null,null,null,889,"West",649,12334510,"Rock Creek near Clinton, Montana","12334510 Rock Creek near Clinton, Montana","1973–2009",73.402000000000001,163.09,657,284,128,517,222,170,124,184,215,177,137,189,299,214,173,244,738,388,247,508,2120,1210,763,1500,2500,1440,777,1680,897,544,340,657,414,284,195,308,330,261,179,261,291,242,192,248,265,216,178,228,232,181,137,196]
[null,null,null,null,null,null,null,null,null,null,482,"Northwest",651,12335000,"Blackfoot River near Helmville, Montana","12335000 Blackfoot River near Helmville, Montana","1941–53",71.613,128.96199999999999,430,193,104,352,139,121,95,119,138,119,95,121,142,116,100,125,358,174,113,271,1530,798,298,970,1790,1130,605,1260,676,415,267,500,298,222,168,235,206,171,144,173,191,161,123,159,178,150,124,149,155,134,103,132]
[null,null,null,null,null,null,null,null,null,null,119,"West",653,12335500,"Nevada Creek above reservoir, near Helmville, Montana","12335500 Nevada Creek above reservoir, near Helmville, Montana","1939–2009",3.0939999999999999,4.9329999999999998,46,30,13,35,19,12,6,12,25,16,7.6,16,44,21,11,34,92,47,20,66,171,84,37,110,136,65,27,88,36,23,12,27,20,12,7.3,14,14,9.1,6,10,18,13,8.6,14,18,14,10,15,17,12,5.7,12]
[null,null,null,null,null,null,null,null,null,null,310,"West",654,12338300,"North Fork Blackfoot River above Dry Gulch, near Ovando, Montana","12338300 North Fork Blackfoot River above Dry Gulch, near Ovando, Montana","1998–2009",73.515000000000001,131.53800000000001,481,175,108,369,122,102,92,109,115,93,84,101,129,100,82,113,538,232,129,354,1710,1060,724,1300,1650,1060,720,1190,512,349,268,418,253,213,183,219,197,170,155,174,176,151,137,155,176,138,110,159,147,117,102,127]
[null,null,null,null,null,null,null,null,null,null,1270,"West",655,12338500,"Blackfoot River near Ovando, Montana","12338500 Blackfoot River near Ovando, Montana","1941–63",154.40899999999999,306.28199999999998,1060,454,236,855,329,269,219,274,328,267,223,287,361,295,239,341,1060,545,316,721,3790,2110,973,2460,4150,2780,1560,3000,1540,941,623,1140,651,488,390,526,463,383,325,397,449,365,309,395,439,355,297,377,388,301,252,324]
[null,null,null,null,null,null,null,null,null,null,146,"West",659,12338690,"Monture Creek near Ovando, Montana","12338690 Monture Creek near Ovando, Montana","1974–83","--","--",269,74,40,192,64,36,30,47,62,37,30,44,70,50,30,56,331,130,66,211,984,586,328,668,1090,670,401,746,335,193,112,247,103,81,64,83,67,56,43,55,51,45,39,46,46,41,37,46,42,38,33,45]
[null,null,null,null,null,null,null,null,null,null,346,"West",661,12339450,"Clearwater River near Clearwater, Montana","12339450 Clearwater River near Clearwater, Montana","1975–92",25.152999999999999,31.472999999999999,449,109,52,281,114,79,62,92,114,76,59,86,194,123,68,160,1030,529,200,648,1410,904,612,1010,1030,703,344,701,364,182,91,233,111,70,40,76,85,54,36,65,102,71,52,80,140,80,62,100,123,80,67,105]
[null,null,null,null,null,null,null,null,null,null,2287,"West",663,12340000,"Blackfoot River near Bonner, Montana","12340000 Blackfoot River near Bonner, Montana","1900–01, 1903–05, 1940–2009",285.18599999999998,472.31799999999998,2150,740,393,1560,672,529,414,555,680,530,414,595,966,647,498,786,3060,1580,907,2060,7040,4180,2730,4850,6650,4340,2470,4710,2380,1460,930,1730,1010,782,565,804,791,655,494,654,734,616,494,643,759,605,504,652,711,547,440,603]
[null,null,null,null,null,null,null,null,null,null,380,"West",669,12343400,"East Fork Bitterroot River near Conner, Montana","12343400 East Fork Bitterroot River near Conner, Montana","1956–72, 2001–4",41.182000000000002,76.344999999999999,336,126,64,281,101,79,65,84,102,80,69,89,142,95,76,112,342,206,133,257,1380,793,486,940,1570,1010,541,1080,398,244,168,293,160,119,95,127,136,107,87,113,134,106,86,113,121,100,81,102,108,85,63,89]
[null,null,null,null,null,null,null,null,null,null,87.5,"West",675,12346500,"Skalkaho Creek near Hamilton, Montana","12346500 Skalkaho Creek near Hamilton, Montana","1949–53, 1958–79, 2001–3",16.516999999999999,31.675999999999998,114,42,24,91,31,25,21,26,28,25,21,25,29,25,21,26,73,39,27,52,367,187,96,232,490,386,214,373,190,121,84,147,83,63,50,67,56,45,37,47,47,39,32,41,41,34,29,35,34,28,24,29]
[null,null,null,null,null,null,null,null,null,null,25.9,"West",676,12347500,"Blodgett Creek near Corvallis, Montana","12347500 Blodgett Creek near Corvallis, Montana","1947–69",2.3679999999999999,3.7080000000000002,109,24,10,70,22,11,7.2,15,20,13,7.7,15,21,15,9.6,18,112,50,27,75,360,241,127,254,362,258,168,269,143,70,35,91,29,20,10,21,23,11,5.6,17,41,17,6.5,27,40,18,9.4,26,32,17,8.1,22]
[null,null,null,null,null,null,null,null,null,null,27.4,"West",678,12350000,"Bear Creek near Victor, Montana","12350000 Bear Creek near Victor, Montana","1938–54, 1958–59",1.4350000000000001,2.3370000000000002,101,25,10,66,17,12,6.6,13,16,11,6.8,12,17,12,9.1999999999999993,16,123,60,25,81,363,228,120,252,344,217,134,243,130,56,24,84,18,10,5.9,13,14,6.4,2.9,11,34,14,6.5,22,33,15,7.8,22,31,13,6.1,19]
[null,null,null,null,null,null,null,null,null,null,28.9,"West",681,12350500,"Kootenai Creek near Stevensville, Montana","12350500 Kootenai Creek near Stevensville, Montana","1949–53, 1958–63","--","--",124,28,12,79,17,12,8.6,13,26,13,8.8000000000000007,19,22,18,12,19,126,61,31,84,360,209,120,246,413,287,186,309,184,99,51,125,34,19,11,24,24,13,7.7,18,61,27,11,40,51,24,12,33,32,15,9.9,21]
[null,null,null,null,null,null,null,null,null,null,73.5,"West",682,12351000,"Burnt Fork Bitterroot River near Stevensville, Montana","12351000 Burnt Fork Bitterroot River near Stevensville, Montana","1920, 1939–62",7.1829999999999998,15.085000000000001,60,22,9.8000000000000007,48,19,17,14,17,20,16,13,16,19,16,13,17,63,31,18,42,214,108,62,141,251,166,95,180,87,50,35,66,37,29,21,30,25,22,18,22,25,20,17,22,26,20,17,22,24,19,16,20]
[null,null,null,null,null,null,null,null,null,null,2342,"West",683,12351200,"Bitterroot River near Florence, Montana","12351200 Bitterroot River near Florence, Montana","1958–65, 2003–9",397.22800000000001,443.71,2750,944,523,2130,1050,706,584,807,1070,774,654,883,1180,838,701,1000,2800,1890,1160,2220,9060,5160,3160,6270,10900,7600,4260,7780,2870,1400,690,1960,887,620,516,715,1120,735,554,918,1190,868,636,1040,1380,942,628,1120,1180,811,619,937]
[null,null,null,null,null,null,null,null,null,null,250,"West",685,12352000,"Lolo Creek above Sleeman Creek, near Lolo, Montana","12352000 Lolo Creek above Sleeman Creek, near Lolo, Montana","1951–60","--","--","--","--","--","--",119,60,46,77,108,70,53,91,128,88,57,101,535,302,134,372,1070,816,516,838,864,638,395,652,321,175,87,211,72,48,24,50,59,39,18,43,"--","--","--","--",134,74,40,89,120,65,45,87]
[null,null,null,null,null,null,null,null,null,null,170,"West",690,12353280,"Ninemile Creek near Huson, Montana","12353280 Ninemile Creek near Huson, Montana","1974–83","--","--",195,56,29,132,60,42,24,54,59,34,25,48,146,84,36,109,435,224,95,271,677,458,257,479,504,296,170,339,144,95,61,104,53,39,28,42,40,34,25,33,35,31,26,31,36,31,27,32,53,31,25,43]
[null,null,null,null,null,null,null,null,null,null,304,"West",695,12354000,"St. Regis River near St. Regis, Montana","12354000 St. Regis River near St. Regis, Montana","1911–14, 1959–75, 2002–9",64.313999999999993,80.762,850,282,137,541,343,231,119,259,368,204,135,277,574,312,183,421,1620,1050,601,1190,2890,1810,1180,2090,2160,1200,585,1420,497,291,191,378,184,146,108,150,141,112,91,117,154,113,93,132,252,142,89,199,287,145,81,205]
[null,null,null,null,null,null,null,null,null,null,429,"West",698,12355000,"Flathead River at Flathead, British Columbia","12355000 Flathead River at Flathead, British Columbia","1929–39, 1941–95, 2000–9",85.245000000000005,167.53,1200,414,199,889,248,158,120,192,216,154,114,174,236,178,120,208,1390,552,228,896,4990,3100,1830,3460,4470,2660,1500,3020,1330,769,480,949,478,343,251,376,347,254,195,289,405,241,158,329,476,259,144,348,294,197,143,236]
[null,null,null,null,null,null,null,null,null,null,1556,"Northwest",700,12355500,"North Fork Flathead River near Columbia Falls, Montana","12355500 North Fork Flathead River near Columbia Falls, Montana","1911–17, 1931–32, 1934–2009",327.83800000000002,667.26400000000001,4550,1710,787,2960,982,659,476,775,876,646,486,737,1160,767,504,922,4910,2490,1150,3250,13400,8820,5680,9710,13800,9270,5620,9970,5520,3350,2100,3990,2070,1460,1080,1600,1410,1030,823,1150,1450,957,749,1160,1530,1020,519,1230,1130,771,564,912]
[null,null,null,null,null,null,null,null,null,null,509,"Northwest",704,12357000,"Middle Fork Flathead River at Essex, Montana","12357000 Middle Fork Flathead River at Essex, Montana","1940–53, 1956–64",84.692999999999998,152.934,1480,897,386,1090,287,195,127,223,303,197,128,238,318,209,150,251,1970,896,394,1320,6130,4080,2360,4350,5640,3240,1730,3790,1460,744,447,1040,410,304,227,326,285,225,189,244,500,243,165,357,492,277,155,355,493,248,151,333]
[null,null,null,null,null,null,null,null,null,null,1125,"Northwest",708,12358500,"Middle Fork Flathead River near West Glacier, Montana","12358500 Middle Fork Flathead River near West Glacier, Montana","1940–2000, 2005–9",279.291,469.90800000000002,4640,2380,1050,2890,954,615,358,736,901,578,370,720,1130,688,413,893,4750,2390,1180,3190,13700,8750,5400,9630,13900,9340,5930,10000,5640,3270,1950,3910,1760,1250,882,1350,1170,809,613,934,1450,803,512,1070,1760,949,481,1230,1240,725,389,938]
[null,null,null,null,null,null,null,null,null,null,1159,"Northwest",711,12359800,"South Fork Flathead River above Twin Creek, near Hungry Horse, Montana","12359800 South Fork Flathead River above Twin Creek, near Hungry Horse, Montana","1965–82, 1985–2005, 2007–8",178.88200000000001,287.66000000000003,3460,925,443,2310,610,370,216,479,628,380,227,520,729,473,301,588,3890,1830,853,2490,11100,6760,4010,7710,11800,7290,4380,8190,3900,2000,1120,2630,1000,690,481,759,652,456,338,559,715,469,302,573,975,529,296,706,614,409,255,514]
[null,null,null,null,null,null,null,null,null,null,47.2,"Northwest",712,12360000,"Twin Creek near Hungry Horse, Montana","12360000 Twin Creek near Hungry Horse, Montana","1949–56, 1965–67","--","--",177,52,23,124,35,20,13,23,32,21,15,27,38,27,14,31,323,152,58,205,766,482,318,545,592,355,192,385,127,65,38,87,29,22,16,23,19,13,9.9,18,47,24,10,31,49,31,12,35,44,27,14,36]
[null,null,null,null,null,null,null,null,null,null,71.099999999999994,"Northwest",713,12361000,"Sullivan Creek near Hungry Horse, Montana","12361000 Sullivan Creek near Hungry Horse, Montana","1949–56, 1960–76",17.725999999999999,24.779,338,101,46,225,88,48,26,64,86,47,28,69,93,54,37,75,403,199,97,272,1180,770,477,837,1130,725,454,797,282,153,91,197,75,54,39,60,68,40,27,59,129,54,29,89,143,75,35,96,109,62,29,80]
[null,null,null,null,null,null,null,null,null,null,27.9,"Northwest",714,12361500,"Graves Creek near Hungry Horse, Montana","12361500 Graves Creek near Hungry Horse, Montana","1949–56, 1965–67","--","--",206,60,26,135,41,27,19,31,35,24,15,31,36,24,19,29,175,82,34,117,643,393,198,429,722,504,331,532,295,146,71,193,51,34,24,41,47,24,16,33,109,40,17,63,97,53,23,60,66,42,21,54]
[null,null,null,null,null,null,null,null,null,null,162,"West",718,12363920,"Stillwater River at Olney, Montana","12363920 Stillwater River at Olney, Montana","1973–82","--","--",228,75,44,148,62,40,32,51,64,42,34,48,76,49,40,59,258,139,78,180,562,396,278,421,600,446,259,473,282,193,109,210,141,98,63,99,86,71,45,70,64,58,43,55,68,54,45,57,64,48,42,53]
[null,null,null,null,null,null,null,null,null,null,558,"West",720,12365000,"Stillwater River near Whitefish, Montana","12365000 Stillwater River near Whitefish, Montana","1931–50, 1973–2006",47.402000000000001,67.275999999999996,539,159,73,355,143,97,72,123,144,102,74,124,215,128,89,163,1010,492,230,660,1590,1050,590,1150,1220,784,430,857,539,318,179,372,241,165,92,174,164,124,76,125,138,109,74,113,153,114,82,127,142,97,74,121]
[null,null,null,null,null,null,null,null,null,null,170,"West",722,12366000,"Whitefish River near Kalispell, Montana","12366000 Whitefish River near Kalispell, Montana","1929–50, 1973–2006",23.332000000000001,28.413,294,104,47,190,94,58,43,72,90,59,42,70,127,84,58,97,329,188,112,227,705,490,357,527,805,598,375,606,392,228,132,272,151,103,64,109,111,78,50,81,92,66,43,70,88,69,47,72,96,59,45,72]
[null,null,null,null,null,null,null,null,null,null,201,"West",724,12367500,"Ashley Creek near Kalispell, Montana","12367500 Ashley Creek near Kalispell, Montana","1931–32, 1934–50, 1973–74",0,0,42,17,4.9000000000000004,34,12,4.0999999999999996,0.71,8,16,2.9,0.23,7.4,26,14,3.1,18,121,34,17,67,178,54,27,109,142,44,26,78,53,26,14,36,22,9.5,1.7,14,14,4.4000000000000004,0.39,7.2,12,4,0.46,6.3,13,5,0.98,7.3,11,3.7,0.45,6]
[null,null,null,null,null,null,null,null,null,null,69.099999999999994,"West",725,12369200,"Swan River near Condon, Montana","12369200 Swan River near Condon, Montana","1973–92",21.591000000000001,29.696000000000002,271,77,39,159,64,45,32,52,59,44,33,49,91,58,37,72,309,176,76,209,552,384,248,414,644,440,318,486,393,236,119,269,145,87,57,100,88,61,41,69,77,52,34,58,89,56,40,69,75,48,38,62]
[null,null,null,null,null,null,null,null,null,null,672,"West",728,12370000,"Swan River near Bigfork, Montana","12370000 Swan River near Bigfork, Montana","1922–2009",272.47000000000003,347.54700000000003,1770,682,370,1130,593,442,357,496,594,436,339,496,826,538,391,637,2080,1300,792,1500,3670,2600,1780,2800,4210,3120,2200,3270,2260,1400,891,1610,891,644,470,687,643,495,380,531,644,500,375,545,713,536,403,595,670,492,382,562]
[null,null,null,null,null,null,null,null,null,null,6.4,"West",731,12371100,"Hell Roaring Creek near Polson, Montana","12371100 Hell Roaring Creek near Polson, Montana","1917–32",2.3439999999999999,3.2320000000000002,7,5,3.7,6.7,5.4,4.5,3.6,4.7,5.4,4.4000000000000004,3.7,4.5,5.2,4,3.3,4.3,9,5.2,3.7,7.2,21,8.6999999999999993,5.0999999999999996,13,24,10,5.0999999999999996,14,9,5.6,4,7.3,7.2,5.6,4.3,5.8,6.5,5.2,4.0999999999999996,5.3,6.5,4.7,3.8,5,6.1,5.0999999999999996,4.2,5.2,6,5,4.2,5.3]
[null,null,null,null,null,null,null,null,null,null,19.600000000000001,"West",733,12374250,"Mill Creek above Bassoo Creek, near Niarada, Montana","12374250 Mill Creek above Bassoo Creek, near Niarada, Montana","1983–2009",1.383,1.72,11,5,2.5,7.9,3.9,2.5,1.5,3.4,4.0999999999999996,2.7,1.7,3.6,8.9,3.9,2.4,6.9,29,12,6.5,20,34,19,12,26,21,12,6.5,15,7.1,4.5,3,5.4,3.8,2.8,2.1,3,2.9,2.4,1.9,2.4,2.9,2.4,2,2.5,3.8,2.7,1.9,3.4,3.7,2.6,1.8,3.4]
[null,null,null,null,null,null,null,null,null,null,12.4,"West",738,12377150,"Mission Creek above reservoir, near St. Ignatius, Montana","12377150 Mission Creek above reservoir, near St. Ignatius, Montana","1983–2009",6.62,15.506,76,22,11,48,12,10,8.6999999999999993,11,11,8.9,7.7,9.1999999999999993,13,9.9,8.3000000000000007,10,34,18,10,24,153,83,36,101,229,158,115,174,155,102,64,113,60,43,30,48,37,27,20,30,32,24,17,25,25,18,14,20,16,13,10,13]
[null,null,null,null,null,null,null,null,null,null,52,"West",739,12378000,"Mission Creek near St. Ignatius, Montana","12378000 Mission Creek near St. Ignatius, Montana","1907–17","--",28.875,"--","--","--","--","--","--","--","--",17,13,11,14,16,14,11,14,37,21,14,29,133,77,36,88,311,228,152,273,284,202,118,204,110,83,57,88,73,53,39,55,51,45,34,44,44,32,26,34,31,25,18,24]
[null,null,null,null,null,null,null,null,null,null,57.6,"West",740,12381400,"South Fork Jocko River near Arlee, Montana","12381400 South Fork Jocko River near Arlee, Montana","1983–2009",3.7559999999999998,16.067,83,30,13,58,17,11,7.6,13,15,11,7.4,11,21,14,9,17,90,40,18,56,281,171,105,201,284,180,113,201,99,71,49,78,47,38,28,38,32,26,20,27,25,20,17,21,22,17,13,19,19,13,8.9,15]
[null,null,null,null,null,null,null,null,null,null,6.86,"West",741,12383500,"Big Knife Creek near Arlee , Montana","12383500 Big Knife Creek near Arlee , Montana","1911, 1913, 1915, 1983–2009",2.9239999999999999,6.66,14,7.6,4.9000000000000004,10,5.9,5,4.2,5,5.0999999999999996,4.4000000000000004,3.9,4.5,5.2,4.3,3.8,4.5,8,5.3,4.2,6.1,23,13,8,16,37,27,18,28,25,18,14,20,15,12,11,13,12,10,8.4,10,9.4,8.1999999999999993,6.9,8.1,7.8,6.9,5.7,6.8,6.8,5.7,4.9000000000000004,5.8]
[null,null,null,null,null,null,null,null,null,null,16,"West",742,12387450,"Valley Creek near Arlee, Montana","12387450 Valley Creek near Arlee, Montana","1983–2008","--",6.6429999999999998,"--","--","--","--","--","--","--","--","--","--","--","--","--","--","--","--",19,11,7.5,14,43,27,20,32,38,24,15,28,17,13,9.6,14,12,9.9,7.6,10,10,9,7,8.9,9.5,8.3000000000000007,6.7,8.3000000000000007,"--","--","--","--","--","--","--","--"]
[null,null,null,null,null,null,null,null,null,null,383,"West",743,12388200,"Jocko River at Dixon, Montana","12388200 Jocko River at Dixon, Montana","1990–2009",87.664000000000001,138.89500000000001,251,182,112,232,158,129,115,138,153,124,111,134,171,136,119,150,298,184,142,225,632,339,216,438,868,489,264,581,324,205,159,259,199,172,143,174,205,185,153,183,208,183,155,184,204,174,147,181,181,149,129,158]
[null,null,null,null,null,null,null,null,null,null,23.3,"West",744,12388400,"Revais Creek below West Fork, near Dixon, Montana","12388400 Revais Creek below West Fork, near Dixon, Montana","1983–2009",3.15,4.2919999999999998,23,10,5.4,18,6.8,4.8,3.8,5.5,6.3,4.7,3.8,5.6,9.8000000000000007,5.8,4.3,8.1,34,16,7.8,22,95,54,34,69,81,47,26,55,20,14,10,16,9.4,7.7,6.3,7.9,7.5,6,4.8,6.2,7.5,5.7,4.5999999999999996,6.2,8.1,5.9,4.7,6.7,7.2,5.3,3.9,6.5]
[null,null,null,null,null,null,null,null,null,null,638,"West",748,12389500,"Thompson River near Thompson Falls, Montana","12389500 Thompson River near Thompson Falls, Montana","1911, 1956–2009",90.599000000000004,135.08199999999999,604,231,122,433,268,164,102,202,304,180,108,242,428,269,180,345,1120,622,358,774,1790,1150,706,1310,1420,902,474,996,523,360,240,396,289,231,166,233,231,191,143,190,207,175,138,178,232,174,136,195,244,173,130,201]
[null,null,null,null,null,null,null,null,null,null,182,"West",749,12390700,"Prospect Creek at Thompson Falls, Montana","12390700 Prospect Creek at Thompson Falls, Montana","1956–2009",30.553000000000001,39.33,369,154,75,234,186,124,63,117,199,122,62,154,300,165,90,220,690,405,230,485,1120,697,448,794,789,462,225,526,200,133,97,158,99,82,64,82,73,63,48,61,62,51,40,53,134,93,52,79,144,87,49,110]
[null,null,null,null,null,null,null,null,null,null,141,"West",755,12391550,"Bull River near Noxon, Montana","12391550 Bull River near Noxon, Montana","1973–82","--","--",610,210,101,389,300,171,92,261,275,171,104,246,380,256,187,300,736,435,272,531,1470,1010,697,1080,1430,893,535,1030,598,322,183,396,205,148,106,155,140,117,93,118,120,102,88,103,198,120,92,157,369,189,93,282]